{"text_format":"2","workbook":"xlsx","n_sheets":18,"sheets":["Barbie tábla","Törzsadat","Páncél","Pajzs","Sisak","Csizma","Kesztyű","Köpeny","Nadrág","Vállvédő","Öv","Övcsat","Gyűrű","Fülbevaló","Karkötő","Nyaklánc","Ékszer","Ügyesség bónusz"],"not_rendered":{"charts":0,"images":0,"macros":0,"external_links":0,"defined_names":16,"comments":0,"pivot_tables":0},"unopened":[],"bounds":{"document_bytes":16777216,"sheet_cells":100000,"run_cost":"one","rows_first":2000,"rows_last":500,"rows_between":2000,"halvings":0,"cell_chars":16384,"cell_head_chars":4096},"cells_cut":0,"cells_raw":0,"read":"whole","date_system":"1900"}

{"sheet":"Barbie tábla","index":0,"n_rows":98,"n_cols":56,"rows_kept":98,"cut":false,"hidden":false,"merged":[]}
[{"$nulls":14},13,14,15,16,17,18,19,20,21,22,23,24,25,26,27,28,29,30,31,32,33,34,35,36,37,38,39,40,41,42,43,44,45,46,47,48,49,50,51,52,53,54]
[null,"Tulajdonság","Alap","Növekmény","Összesen",null,"Slot",{"$nulls":7},"Erő","IQ","Ügyesség","Egészség","Szerencse","Max ÉP","ÉP regeneráció","ÉP regeneráció %","Max VP","VP regeneráció","VP regeneráció %","Max Pszi","Pszi regeneráció","Max TU","Támadás","Lőfegyver támadás","Közelharci támadás szám","Lőfegyver támadás szám","Védő","Sebződés csökkenés %","Sebződés csökkenés","Sebzés","Lőfegyver sebzés","Ököl sebzés","VP sebzés %","TP %","Kincskeresés %","Tárgymentő","Teológia","Taumaturgia","Lopás","Felderítés","Szerencsejáték","Rejtőzködés","Zene","Szörnyismeret","Gyógyítás","Csapdaészlelés","Mászás","Zárnyitás","Harcművészet","Vadászat"]
[15,"Erő",null,{"$f":"INDIRECT(ADDRESS(98,A3))","v":0},{"$f":"C3+D3","v":0},null,"Páncél",{"$nulls":7},{"$f":"IF(ISERROR(VLOOKUP($H3,Törzsadat!$C:$BD,13,0)),0,VLOOKUP($H3,Törzsadat!$C:$BD,O$1,0))","v":0},{"$f":"IF(ISERROR(VLOOKUP($H3,Törzsadat!$C:$BD,13,0)),0,VLOOKUP($H3,Törzsadat!$C:$BD,P$1,0))","v":0},{"$f":"IF(ISERROR(VLOOKUP($H3,Törzsadat!$C:$BD,13,0)),0,VLOOKUP($H3,Törzsadat!$C:$BD,Q$1,0))","v":0},{"$f":"IF(ISERROR(VLOOKUP($H3,Törzsadat!$C:$BD,13,0)),0,VLOOKUP($H3,Törzsadat!$C:$BD,R$1,0))","v":0},{"$f":"IF(ISERROR(VLOOKUP($H3,Törzsadat!$C:$BD,13,0)),0,VLOOKUP($H3,Törzsadat!$C:$BD,S$1,0))","v":0},{"$f":"IF(ISERROR(VLOOKUP($H3,Törzsadat!$C:$BD,13,0)),0,VLOOKUP($H3,Törzsadat!$C:$BD,T$1,0))","v":0},{"$f":"IF(ISERROR(VLOOKUP($H3,Törzsadat!$C:$BD,13,0)),0,VLOOKUP($H3,Törzsadat!$C:$BD,U$1,0))","v":0},{"$f":"IF(ISERROR(VLOOKUP($H3,Törzsadat!$C:$BD,13,0)),0,VLOOKUP($H3,Törzsadat!$C:$BD,V$1,0))","v":0},{"$f":"IF(ISERROR(VLOOKUP($H3,Törzsadat!$C:$BD,13,0)),0,VLOOKUP($H3,Törzsadat!$C:$BD,W$1,0))","v":0},{"$f":"IF(ISERROR(VLOOKUP($H3,Törzsadat!$C:$BD,13,0)),0,VLOOKUP($H3,Törzsadat!$C:$BD,X$1,0))","v":0},{"$f":"IF(ISERROR(VLOOKUP($H3,Törzsadat!$C:$BD,13,0)),0,VLOOKUP($H3,Törzsadat!$C:$BD,Y$1,0))","v":0},{"$f":"IF(ISERROR(VLOOKUP($H3,Törzsadat!$C:$BD,13,0)),0,VLOOKUP($H3,Törzsadat!$C:$BD,Z$1,0))","v":0},{"$f":"IF(ISERROR(VLOOKUP($H3,Törzsadat!$C:$BD,13,0)),0,VLOOKUP($H3,Törzsadat!$C:$BD,AA$1,0))","v":0},{"$f":"IF(ISERROR(VLOOKUP($H3,Törzsadat!$C:$BD,13,0)),0,VLOOKUP($H3,Törzsadat!$C:$BD,AB$1,0))","v":0},{"$f":"IF(ISERROR(VLOOKUP($H3,Törzsadat!$C:$BD,13,0)),0,VLOOKUP($H3,Törzsadat!$C:$BD,AC$1,0))","v":0},{"$f":"IF(ISERROR(VLOOKUP($H3,Törzsadat!$C:$BD,13,0)),0,VLOOKUP($H3,Törzsadat!$C:$BD,AD$1,0))","v":0},{"$f":"IF(ISERROR(VLOOKUP($H3,Törzsadat!$C:$BD,13,0)),0,VLOOKUP($H3,Törzsadat!$C:$BD,AE$1,0))","v":0},{"$f":"IF(ISERROR(VLOOKUP($H3,Törzsadat!$C:$BD,13,0)),0,VLOOKUP($H3,Törzsadat!$C:$BD,AF$1,0))","v":0},{"$f":"IF(ISERROR(VLOOKUP($H3,Törzsadat!$C:$BD,13,0)),0,VLOOKUP($H3,Törzsadat!$C:$BD,AG$1,0))","v":0},{"$f":"IF(ISERROR(VLOOKUP($H3,Törzsadat!$C:$BD,13,0)),0,VLOOKUP($H3,Törzsadat!$C:$BD,AH$1,0))","v":0},{"$f":"IF(ISERROR(VLOOKUP($H3,Törzsadat!$C:$BD,13,0)),0,VLOOKUP($H3,Törzsadat!$C:$BD,AI$1,0))","v":0},{"$f":"IF(ISERROR(VLOOKUP($H3,Törzsadat!$C:$BD,13,0)),0,VLOOKUP($H3,Törzsadat!$C:$BD,AJ$1,0))","v":0},{"$f":"IF(ISERROR(VLOOKUP($H3,Törzsadat!$C:$BD,13,0)),0,VLOOKUP($H3,Törzsadat!$C:$BD,AK$1,0))","v":0},{"$f":"IF(ISERROR(VLOOKUP($H3,Törzsadat!$C:$BD,13,0)),0,VLOOKUP($H3,Törzsadat!$C:$BD,AL$1,0))","v":0},{"$f":"IF(ISERROR(VLOOKUP($H3,Törzsadat!$C:$BD,13,0)),0,VLOOKUP($H3,Törzsadat!$C:$BD,AM$1,0))","v":0},{"$f":"IF(ISERROR(VLOOKUP($H3,Törzsadat!$C:$BD,13,0)),0,VLOOKUP($H3,Törzsadat!$C:$BD,AN$1,0))","v":0},{"$f":"IF(ISERROR(VLOOKUP($H3,Törzsadat!$C:$BD,13,0)),0,VLOOKUP($H3,Törzsadat!$C:$BD,AO$1,0))","v":0},{"$f":"IF(ISERROR(VLOOKUP($H3,Törzsadat!$C:$BD,13,0)),0,VLOOKUP($H3,Törzsadat!$C:$BD,AP$1,0))","v":0},{"$f":"IF(ISERROR(VLOOKUP($H3,Törzsadat!$C:$BD,13,0)),0,VLOOKUP($H3,Törzsadat!$C:$BD,AQ$1,0))","v":0},{"$f":"IF(ISERROR(VLOOKUP($H3,Törzsadat!$C:$BD,13,0)),0,VLOOKUP($H3,Törzsadat!$C:$BD,AR$1,0))","v":0},{"$f":"IF(ISERROR(VLOOKUP($H3,Törzsadat!$C:$BD,13,0)),0,VLOOKUP($H3,Törzsadat!$C:$BD,AS$1,0))","v":0},{"$f":"IF(ISERROR(VLOOKUP($H3,Törzsadat!$C:$BD,13,0)),0,VLOOKUP($H3,Törzsadat!$C:$BD,AT$1,0))","v":0},{"$f":"IF(ISERROR(VLOOKUP($H3,Törzsadat!$C:$BD,13,0)),0,VLOOKUP($H3,Törzsadat!$C:$BD,AU$1,0))","v":0},{"$f":"IF(ISERROR(VLOOKUP($H3,Törzsadat!$C:$BD,13,0)),0,VLOOKUP($H3,Törzsadat!$C:$BD,AV$1,0))","v":0},{"$f":"IF(ISERROR(VLOOKUP($H3,Törzsadat!$C:$BD,13,0)),0,VLOOKUP($H3,Törzsadat!$C:$BD,AW$1,0))","v":0},{"$f":"IF(ISERROR(VLOOKUP($H3,Törzsadat!$C:$BD,13,0)),0,VLOOKUP($H3,Törzsadat!$C:$BD,AX$1,0))","v":0},{"$f":"IF(ISERROR(VLOOKUP($H3,Törzsadat!$C:$BD,13,0)),0,VLOOKUP($H3,Törzsadat!$C:$BD,AY$1,0))","v":0},{"$f":"IF(ISERROR(VLOOKUP($H3,Törzsadat!$C:$BD,13,0)),0,VLOOKUP($H3,Törzsadat!$C:$BD,AZ$1,0))","v":0},{"$f":"IF(ISERROR(VLOOKUP($H3,Törzsadat!$C:$BD,13,0)),0,VLOOKUP($H3,Törzsadat!$C:$BD,BA$1,0))","v":0},{"$f":"IF(ISERROR(VLOOKUP($H3,Törzsadat!$C:$BD,13,0)),0,VLOOKUP($H3,Törzsadat!$C:$BD,BB$1,0))","v":0},{"$f":"IF(ISERROR(VLOOKUP($H3,Törzsadat!$C:$BD,13,0)),0,VLOOKUP($H3,Törzsadat!$C:$BD,BC$1,0))","v":0},{"$f":"IF(ISERROR(VLOOKUP($H3,Törzsadat!$C:$BD,13,0)),0,VLOOKUP($H3,Törzsadat!$C:$BD,BD$1,0))","v":0}]
[16,"IQ",null,{"$f":"INDIRECT(ADDRESS(98,A4))","v":0},0,null,"Páncél 2",{"$nulls":7},{"$f":"IF(ISERROR(VLOOKUP($H4,Törzsadat!$C:$BD,13,0)),0,VLOOKUP($H4,Törzsadat!$C:$BD,O$1,0))","v":0},{"$f":"IF(ISERROR(VLOOKUP($H4,Törzsadat!$C:$BD,13,0)),0,VLOOKUP($H4,Törzsadat!$C:$BD,P$1,0))","v":0},{"$f":"IF(ISERROR(VLOOKUP($H4,Törzsadat!$C:$BD,13,0)),0,VLOOKUP($H4,Törzsadat!$C:$BD,Q$1,0))","v":0},{"$f":"IF(ISERROR(VLOOKUP($H4,Törzsadat!$C:$BD,13,0)),0,VLOOKUP($H4,Törzsadat!$C:$BD,R$1,0))","v":0},{"$f":"IF(ISERROR(VLOOKUP($H4,Törzsadat!$C:$BD,13,0)),0,VLOOKUP($H4,Törzsadat!$C:$BD,S$1,0))","v":0},{"$f":"IF(ISERROR(VLOOKUP($H4,Törzsadat!$C:$BD,13,0)),0,VLOOKUP($H4,Törzsadat!$C:$BD,T$1,0))","v":0},{"$f":"IF(ISERROR(VLOOKUP($H4,Törzsadat!$C:$BD,13,0)),0,VLOOKUP($H4,Törzsadat!$C:$BD,U$1,0))","v":0},{"$f":"IF(ISERROR(VLOOKUP($H4,Törzsadat!$C:$BD,13,0)),0,VLOOKUP($H4,Törzsadat!$C:$BD,V$1,0))","v":0},{"$f":"IF(ISERROR(VLOOKUP($H4,Törzsadat!$C:$BD,13,0)),0,VLOOKUP($H4,Törzsadat!$C:$BD,W$1,0))","v":0},{"$f":"IF(ISERROR(VLOOKUP($H4,Törzsadat!$C:$BD,13,0)),0,VLOOKUP($H4,Törzsadat!$C:$BD,X$1,0))","v":0},{"$f":"IF(ISERROR(VLOOKUP($H4,Törzsadat!$C:$BD,13,0)),0,VLOOKUP($H4,Törzsadat!$C:$BD,Y$1,0))","v":0},{"$f":"IF(ISERROR(VLOOKUP($H4,Törzsadat!$C:$BD,13,0)),0,VLOOKUP($H4,Törzsadat!$C:$BD,Z$1,0))","v":0},{"$f":"IF(ISERROR(VLOOKUP($H4,Törzsadat!$C:$BD,13,0)),0,VLOOKUP($H4,Törzsadat!$C:$BD,AA$1,0))","v":0},{"$f":"IF(ISERROR(VLOOKUP($H4,Törzsadat!$C:$BD,13,0)),0,VLOOKUP($H4,Törzsadat!$C:$BD,AB$1,0))","v":0},{"$f":"IF(ISERROR(VLOOKUP($H4,Törzsadat!$C:$BD,13,0)),0,VLOOKUP($H4,Törzsadat!$C:$BD,AC$1,0))","v":0},{"$f":"IF(ISERROR(VLOOKUP($H4,Törzsadat!$C:$BD,13,0)),0,VLOOKUP($H4,Törzsadat!$C:$BD,AD$1,0))","v":0},{"$f":"IF(ISERROR(VLOOKUP($H4,Törzsadat!$C:$BD,13,0)),0,VLOOKUP($H4,Törzsadat!$C:$BD,AE$1,0))","v":0},{"$f":"IF(ISERROR(VLOOKUP($H4,Törzsadat!$C:$BD,13,0)),0,VLOOKUP($H4,Törzsadat!$C:$BD,AF$1,0))","v":0},{"$f":"IF(ISERROR(VLOOKUP($H4,Törzsadat!$C:$BD,13,0)),0,VLOOKUP($H4,Törzsadat!$C:$BD,AG$1,0))","v":0},{"$f":"IF(ISERROR(VLOOKUP($H4,Törzsadat!$C:$BD,13,0)),0,VLOOKUP($H4,Törzsadat!$C:$BD,AH$1,0))","v":0},{"$f":"IF(ISERROR(VLOOKUP($H4,Törzsadat!$C:$BD,13,0)),0,VLOOKUP($H4,Törzsadat!$C:$BD,AI$1,0))","v":0},{"$f":"IF(ISERROR(VLOOKUP($H4,Törzsadat!$C:$BD,13,0)),0,VLOOKUP($H4,Törzsadat!$C:$BD,AJ$1,0))","v":0},{"$f":"IF(ISERROR(VLOOKUP($H4,Törzsadat!$C:$BD,13,0)),0,VLOOKUP($H4,Törzsadat!$C:$BD,AK$1,0))","v":0},{"$f":"IF(ISERROR(VLOOKUP($H4,Törzsadat!$C:$BD,13,0)),0,VLOOKUP($H4,Törzsadat!$C:$BD,AL$1,0))","v":0},{"$f":"IF(ISERROR(VLOOKUP($H4,Törzsadat!$C:$BD,13,0)),0,VLOOKUP($H4,Törzsadat!$C:$BD,AM$1,0))","v":0},{"$f":"IF(ISERROR(VLOOKUP($H4,Törzsadat!$C:$BD,13,0)),0,VLOOKUP($H4,Törzsadat!$C:$BD,AN$1,0))","v":0},{"$f":"IF(ISERROR(VLOOKUP($H4,Törzsadat!$C:$BD,13,0)),0,VLOOKUP($H4,Törzsadat!$C:$BD,AO$1,0))","v":0},{"$f":"IF(ISERROR(VLOOKUP($H4,Törzsadat!$C:$BD,13,0)),0,VLOOKUP($H4,Törzsadat!$C:$BD,AP$1,0))","v":0},{"$f":"IF(ISERROR(VLOOKUP($H4,Törzsadat!$C:$BD,13,0)),0,VLOOKUP($H4,Törzsadat!$C:$BD,AQ$1,0))","v":0},{"$f":"IF(ISERROR(VLOOKUP($H4,Törzsadat!$C:$BD,13,0)),0,VLOOKUP($H4,Törzsadat!$C:$BD,AR$1,0))","v":0},{"$f":"IF(ISERROR(VLOOKUP($H4,Törzsadat!$C:$BD,13,0)),0,VLOOKUP($H4,Törzsadat!$C:$BD,AS$1,0))","v":0},{"$f":"IF(ISERROR(VLOOKUP($H4,Törzsadat!$C:$BD,13,0)),0,VLOOKUP($H4,Törzsadat!$C:$BD,AT$1,0))","v":0},{"$f":"IF(ISERROR(VLOOKUP($H4,Törzsadat!$C:$BD,13,0)),0,VLOOKUP($H4,Törzsadat!$C:$BD,AU$1,0))","v":0},{"$f":"IF(ISERROR(VLOOKUP($H4,Törzsadat!$C:$BD,13,0)),0,VLOOKUP($H4,Törzsadat!$C:$BD,AV$1,0))","v":0},{"$f":"IF(ISERROR(VLOOKUP($H4,Törzsadat!$C:$BD,13,0)),0,VLOOKUP($H4,Törzsadat!$C:$BD,AW$1,0))","v":0},{"$f":"IF(ISERROR(VLOOKUP($H4,Törzsadat!$C:$BD,13,0)),0,VLOOKUP($H4,Törzsadat!$C:$BD,AX$1,0))","v":0},{"$f":"IF(ISERROR(VLOOKUP($H4,Törzsadat!$C:$BD,13,0)),0,VLOOKUP($H4,Törzsadat!$C:$BD,AY$1,0))","v":0},{"$f":"IF(ISERROR(VLOOKUP($H4,Törzsadat!$C:$BD,13,0)),0,VLOOKUP($H4,Törzsadat!$C:$BD,AZ$1,0))","v":0},{"$f":"IF(ISERROR(VLOOKUP($H4,Törzsadat!$C:$BD,13,0)),0,VLOOKUP($H4,Törzsadat!$C:$BD,BA$1,0))","v":0},{"$f":"IF(ISERROR(VLOOKUP($H4,Törzsadat!$C:$BD,13,0)),0,VLOOKUP($H4,Törzsadat!$C:$BD,BB$1,0))","v":0},{"$f":"IF(ISERROR(VLOOKUP($H4,Törzsadat!$C:$BD,13,0)),0,VLOOKUP($H4,Törzsadat!$C:$BD,BC$1,0))","v":0},{"$f":"IF(ISERROR(VLOOKUP($H4,Törzsadat!$C:$BD,13,0)),0,VLOOKUP($H4,Törzsadat!$C:$BD,BD$1,0))","v":0}]
[17,"Ügyesség",null,0,0,null,"Páncél 3",{"$nulls":7},{"$f":"IF(ISERROR(VLOOKUP($H5,Törzsadat!$C:$BD,13,0)),0,VLOOKUP($H5,Törzsadat!$C:$BD,O$1,0))","v":0},{"$f":"IF(ISERROR(VLOOKUP($H5,Törzsadat!$C:$BD,13,0)),0,VLOOKUP($H5,Törzsadat!$C:$BD,P$1,0))","v":0},{"$f":"IF(ISERROR(VLOOKUP($H5,Törzsadat!$C:$BD,13,0)),0,VLOOKUP($H5,Törzsadat!$C:$BD,Q$1,0))","v":0},{"$f":"IF(ISERROR(VLOOKUP($H5,Törzsadat!$C:$BD,13,0)),0,VLOOKUP($H5,Törzsadat!$C:$BD,R$1,0))","v":0},{"$f":"IF(ISERROR(VLOOKUP($H5,Törzsadat!$C:$BD,13,0)),0,VLOOKUP($H5,Törzsadat!$C:$BD,S$1,0))","v":0},{"$f":"IF(ISERROR(VLOOKUP($H5,Törzsadat!$C:$BD,13,0)),0,VLOOKUP($H5,Törzsadat!$C:$BD,T$1,0))","v":0},{"$f":"IF(ISERROR(VLOOKUP($H5,Törzsadat!$C:$BD,13,0)),0,VLOOKUP($H5,Törzsadat!$C:$BD,U$1,0))","v":0},{"$f":"IF(ISERROR(VLOOKUP($H5,Törzsadat!$C:$BD,13,0)),0,VLOOKUP($H5,Törzsadat!$C:$BD,V$1,0))","v":0},{"$f":"IF(ISERROR(VLOOKUP($H5,Törzsadat!$C:$BD,13,0)),0,VLOOKUP($H5,Törzsadat!$C:$BD,W$1,0))","v":0},{"$f":"IF(ISERROR(VLOOKUP($H5,Törzsadat!$C:$BD,13,0)),0,VLOOKUP($H5,Törzsadat!$C:$BD,X$1,0))","v":0},{"$f":"IF(ISERROR(VLOOKUP($H5,Törzsadat!$C:$BD,13,0)),0,VLOOKUP($H5,Törzsadat!$C:$BD,Y$1,0))","v":0},{"$f":"IF(ISERROR(VLOOKUP($H5,Törzsadat!$C:$BD,13,0)),0,VLOOKUP($H5,Törzsadat!$C:$BD,Z$1,0))","v":0},{"$f":"IF(ISERROR(VLOOKUP($H5,Törzsadat!$C:$BD,13,0)),0,VLOOKUP($H5,Törzsadat!$C:$BD,AA$1,0))","v":0},{"$f":"IF(ISERROR(VLOOKUP($H5,Törzsadat!$C:$BD,13,0)),0,VLOOKUP($H5,Törzsadat!$C:$BD,AB$1,0))","v":0},{"$f":"IF(ISERROR(VLOOKUP($H5,Törzsadat!$C:$BD,13,0)),0,VLOOKUP($H5,Törzsadat!$C:$BD,AC$1,0))","v":0},{"$f":"IF(ISERROR(VLOOKUP($H5,Törzsadat!$C:$BD,13,0)),0,VLOOKUP($H5,Törzsadat!$C:$BD,AD$1,0))","v":0},{"$f":"IF(ISERROR(VLOOKUP($H5,Törzsadat!$C:$BD,13,0)),0,VLOOKUP($H5,Törzsadat!$C:$BD,AE$1,0))","v":0},{"$f":"IF(ISERROR(VLOOKUP($H5,Törzsadat!$C:$BD,13,0)),0,VLOOKUP($H5,Törzsadat!$C:$BD,AF$1,0))","v":0},{"$f":"IF(ISERROR(VLOOKUP($H5,Törzsadat!$C:$BD,13,0)),0,VLOOKUP($H5,Törzsadat!$C:$BD,AG$1,0))","v":0},{"$f":"IF(ISERROR(VLOOKUP($H5,Törzsadat!$C:$BD,13,0)),0,VLOOKUP($H5,Törzsadat!$C:$BD,AH$1,0))","v":0},{"$f":"IF(ISERROR(VLOOKUP($H5,Törzsadat!$C:$BD,13,0)),0,VLOOKUP($H5,Törzsadat!$C:$BD,AI$1,0))","v":0},{"$f":"IF(ISERROR(VLOOKUP($H5,Törzsadat!$C:$BD,13,0)),0,VLOOKUP($H5,Törzsadat!$C:$BD,AJ$1,0))","v":0},{"$f":"IF(ISERROR(VLOOKUP($H5,Törzsadat!$C:$BD,13,0)),0,VLOOKUP($H5,Törzsadat!$C:$BD,AK$1,0))","v":0},{"$f":"IF(ISERROR(VLOOKUP($H5,Törzsadat!$C:$BD,13,0)),0,VLOOKUP($H5,Törzsadat!$C:$BD,AL$1,0))","v":0},{"$f":"IF(ISERROR(VLOOKUP($H5,Törzsadat!$C:$BD,13,0)),0,VLOOKUP($H5,Törzsadat!$C:$BD,AM$1,0))","v":0},{"$f":"IF(ISERROR(VLOOKUP($H5,Törzsadat!$C:$BD,13,0)),0,VLOOKUP($H5,Törzsadat!$C:$BD,AN$1,0))","v":0},{"$f":"IF(ISERROR(VLOOKUP($H5,Törzsadat!$C:$BD,13,0)),0,VLOOKUP($H5,Törzsadat!$C:$BD,AO$1,0))","v":0},{"$f":"IF(ISERROR(VLOOKUP($H5,Törzsadat!$C:$BD,13,0)),0,VLOOKUP($H5,Törzsadat!$C:$BD,AP$1,0))","v":0},{"$f":"IF(ISERROR(VLOOKUP($H5,Törzsadat!$C:$BD,13,0)),0,VLOOKUP($H5,Törzsadat!$C:$BD,AQ$1,0))","v":0},{"$f":"IF(ISERROR(VLOOKUP($H5,Törzsadat!$C:$BD,13,0)),0,VLOOKUP($H5,Törzsadat!$C:$BD,AR$1,0))","v":0},{"$f":"IF(ISERROR(VLOOKUP($H5,Törzsadat!$C:$BD,13,0)),0,VLOOKUP($H5,Törzsadat!$C:$BD,AS$1,0))","v":0},{"$f":"IF(ISERROR(VLOOKUP($H5,Törzsadat!$C:$BD,13,0)),0,VLOOKUP($H5,Törzsadat!$C:$BD,AT$1,0))","v":0},{"$f":"IF(ISERROR(VLOOKUP($H5,Törzsadat!$C:$BD,13,0)),0,VLOOKUP($H5,Törzsadat!$C:$BD,AU$1,0))","v":0},{"$f":"IF(ISERROR(VLOOKUP($H5,Törzsadat!$C:$BD,13,0)),0,VLOOKUP($H5,Törzsadat!$C:$BD,AV$1,0))","v":0},{"$f":"IF(ISERROR(VLOOKUP($H5,Törzsadat!$C:$BD,13,0)),0,VLOOKUP($H5,Törzsadat!$C:$BD,AW$1,0))","v":0},{"$f":"IF(ISERROR(VLOOKUP($H5,Törzsadat!$C:$BD,13,0)),0,VLOOKUP($H5,Törzsadat!$C:$BD,AX$1,0))","v":0},{"$f":"IF(ISERROR(VLOOKUP($H5,Törzsadat!$C:$BD,13,0)),0,VLOOKUP($H5,Törzsadat!$C:$BD,AY$1,0))","v":0},{"$f":"IF(ISERROR(VLOOKUP($H5,Törzsadat!$C:$BD,13,0)),0,VLOOKUP($H5,Törzsadat!$C:$BD,AZ$1,0))","v":0},{"$f":"IF(ISERROR(VLOOKUP($H5,Törzsadat!$C:$BD,13,0)),0,VLOOKUP($H5,Törzsadat!$C:$BD,BA$1,0))","v":0},{"$f":"IF(ISERROR(VLOOKUP($H5,Törzsadat!$C:$BD,13,0)),0,VLOOKUP($H5,Törzsadat!$C:$BD,BB$1,0))","v":0},{"$f":"IF(ISERROR(VLOOKUP($H5,Törzsadat!$C:$BD,13,0)),0,VLOOKUP($H5,Törzsadat!$C:$BD,BC$1,0))","v":0},{"$f":"IF(ISERROR(VLOOKUP($H5,Törzsadat!$C:$BD,13,0)),0,VLOOKUP($H5,Törzsadat!$C:$BD,BD$1,0))","v":0}]
[18,"Egészség",null,0,0,null,"Páncél 4",{"$nulls":7},{"$f":"IF(ISERROR(VLOOKUP($H6,Törzsadat!$C:$BD,13,0)),0,VLOOKUP($H6,Törzsadat!$C:$BD,O$1,0))","v":0},{"$f":"IF(ISERROR(VLOOKUP($H6,Törzsadat!$C:$BD,13,0)),0,VLOOKUP($H6,Törzsadat!$C:$BD,P$1,0))","v":0},{"$f":"IF(ISERROR(VLOOKUP($H6,Törzsadat!$C:$BD,13,0)),0,VLOOKUP($H6,Törzsadat!$C:$BD,Q$1,0))","v":0},{"$f":"IF(ISERROR(VLOOKUP($H6,Törzsadat!$C:$BD,13,0)),0,VLOOKUP($H6,Törzsadat!$C:$BD,R$1,0))","v":0},{"$f":"IF(ISERROR(VLOOKUP($H6,Törzsadat!$C:$BD,13,0)),0,VLOOKUP($H6,Törzsadat!$C:$BD,S$1,0))","v":0},{"$f":"IF(ISERROR(VLOOKUP($H6,Törzsadat!$C:$BD,13,0)),0,VLOOKUP($H6,Törzsadat!$C:$BD,T$1,0))","v":0},{"$f":"IF(ISERROR(VLOOKUP($H6,Törzsadat!$C:$BD,13,0)),0,VLOOKUP($H6,Törzsadat!$C:$BD,U$1,0))","v":0},{"$f":"IF(ISERROR(VLOOKUP($H6,Törzsadat!$C:$BD,13,0)),0,VLOOKUP($H6,Törzsadat!$C:$BD,V$1,0))","v":0},{"$f":"IF(ISERROR(VLOOKUP($H6,Törzsadat!$C:$BD,13,0)),0,VLOOKUP($H6,Törzsadat!$C:$BD,W$1,0))","v":0},{"$f":"IF(ISERROR(VLOOKUP($H6,Törzsadat!$C:$BD,13,0)),0,VLOOKUP($H6,Törzsadat!$C:$BD,X$1,0))","v":0},{"$f":"IF(ISERROR(VLOOKUP($H6,Törzsadat!$C:$BD,13,0)),0,VLOOKUP($H6,Törzsadat!$C:$BD,Y$1,0))","v":0},{"$f":"IF(ISERROR(VLOOKUP($H6,Törzsadat!$C:$BD,13,0)),0,VLOOKUP($H6,Törzsadat!$C:$BD,Z$1,0))","v":0},{"$f":"IF(ISERROR(VLOOKUP($H6,Törzsadat!$C:$BD,13,0)),0,VLOOKUP($H6,Törzsadat!$C:$BD,AA$1,0))","v":0},{"$f":"IF(ISERROR(VLOOKUP($H6,Törzsadat!$C:$BD,13,0)),0,VLOOKUP($H6,Törzsadat!$C:$BD,AB$1,0))","v":0},{"$f":"IF(ISERROR(VLOOKUP($H6,Törzsadat!$C:$BD,13,0)),0,VLOOKUP($H6,Törzsadat!$C:$BD,AC$1,0))","v":0},{"$f":"IF(ISERROR(VLOOKUP($H6,Törzsadat!$C:$BD,13,0)),0,VLOOKUP($H6,Törzsadat!$C:$BD,AD$1,0))","v":0},{"$f":"IF(ISERROR(VLOOKUP($H6,Törzsadat!$C:$BD,13,0)),0,VLOOKUP($H6,Törzsadat!$C:$BD,AE$1,0))","v":0},{"$f":"IF(ISERROR(VLOOKUP($H6,Törzsadat!$C:$BD,13,0)),0,VLOOKUP($H6,Törzsadat!$C:$BD,AF$1,0))","v":0},{"$f":"IF(ISERROR(VLOOKUP($H6,Törzsadat!$C:$BD,13,0)),0,VLOOKUP($H6,Törzsadat!$C:$BD,AG$1,0))","v":0},{"$f":"IF(ISERROR(VLOOKUP($H6,Törzsadat!$C:$BD,13,0)),0,VLOOKUP($H6,Törzsadat!$C:$BD,AH$1,0))","v":0},{"$f":"IF(ISERROR(VLOOKUP($H6,Törzsadat!$C:$BD,13,0)),0,VLOOKUP($H6,Törzsadat!$C:$BD,AI$1,0))","v":0},{"$f":"IF(ISERROR(VLOOKUP($H6,Törzsadat!$C:$BD,13,0)),0,VLOOKUP($H6,Törzsadat!$C:$BD,AJ$1,0))","v":0},{"$f":"IF(ISERROR(VLOOKUP($H6,Törzsadat!$C:$BD,13,0)),0,VLOOKUP($H6,Törzsadat!$C:$BD,AK$1,0))","v":0},{"$f":"IF(ISERROR(VLOOKUP($H6,Törzsadat!$C:$BD,13,0)),0,VLOOKUP($H6,Törzsadat!$C:$BD,AL$1,0))","v":0},{"$f":"IF(ISERROR(VLOOKUP($H6,Törzsadat!$C:$BD,13,0)),0,VLOOKUP($H6,Törzsadat!$C:$BD,AM$1,0))","v":0},{"$f":"IF(ISERROR(VLOOKUP($H6,Törzsadat!$C:$BD,13,0)),0,VLOOKUP($H6,Törzsadat!$C:$BD,AN$1,0))","v":0},{"$f":"IF(ISERROR(VLOOKUP($H6,Törzsadat!$C:$BD,13,0)),0,VLOOKUP($H6,Törzsadat!$C:$BD,AO$1,0))","v":0},{"$f":"IF(ISERROR(VLOOKUP($H6,Törzsadat!$C:$BD,13,0)),0,VLOOKUP($H6,Törzsadat!$C:$BD,AP$1,0))","v":0},{"$f":"IF(ISERROR(VLOOKUP($H6,Törzsadat!$C:$BD,13,0)),0,VLOOKUP($H6,Törzsadat!$C:$BD,AQ$1,0))","v":0},{"$f":"IF(ISERROR(VLOOKUP($H6,Törzsadat!$C:$BD,13,0)),0,VLOOKUP($H6,Törzsadat!$C:$BD,AR$1,0))","v":0},{"$f":"IF(ISERROR(VLOOKUP($H6,Törzsadat!$C:$BD,13,0)),0,VLOOKUP($H6,Törzsadat!$C:$BD,AS$1,0))","v":0},{"$f":"IF(ISERROR(VLOOKUP($H6,Törzsadat!$C:$BD,13,0)),0,VLOOKUP($H6,Törzsadat!$C:$BD,AT$1,0))","v":0},{"$f":"IF(ISERROR(VLOOKUP($H6,Törzsadat!$C:$BD,13,0)),0,VLOOKUP($H6,Törzsadat!$C:$BD,AU$1,0))","v":0},{"$f":"IF(ISERROR(VLOOKUP($H6,Törzsadat!$C:$BD,13,0)),0,VLOOKUP($H6,Törzsadat!$C:$BD,AV$1,0))","v":0},{"$f":"IF(ISERROR(VLOOKUP($H6,Törzsadat!$C:$BD,13,0)),0,VLOOKUP($H6,Törzsadat!$C:$BD,AW$1,0))","v":0},{"$f":"IF(ISERROR(VLOOKUP($H6,Törzsadat!$C:$BD,13,0)),0,VLOOKUP($H6,Törzsadat!$C:$BD,AX$1,0))","v":0},{"$f":"IF(ISERROR(VLOOKUP($H6,Törzsadat!$C:$BD,13,0)),0,VLOOKUP($H6,Törzsadat!$C:$BD,AY$1,0))","v":0},{"$f":"IF(ISERROR(VLOOKUP($H6,Törzsadat!$C:$BD,13,0)),0,VLOOKUP($H6,Törzsadat!$C:$BD,AZ$1,0))","v":0},{"$f":"IF(ISERROR(VLOOKUP($H6,Törzsadat!$C:$BD,13,0)),0,VLOOKUP($H6,Törzsadat!$C:$BD,BA$1,0))","v":0},{"$f":"IF(ISERROR(VLOOKUP($H6,Törzsadat!$C:$BD,13,0)),0,VLOOKUP($H6,Törzsadat!$C:$BD,BB$1,0))","v":0},{"$f":"IF(ISERROR(VLOOKUP($H6,Törzsadat!$C:$BD,13,0)),0,VLOOKUP($H6,Törzsadat!$C:$BD,BC$1,0))","v":0},{"$f":"IF(ISERROR(VLOOKUP($H6,Törzsadat!$C:$BD,13,0)),0,VLOOKUP($H6,Törzsadat!$C:$BD,BD$1,0))","v":0}]
[19,"Szerencse",null,0,0,null,"Pajzs",{"$nulls":7},{"$f":"IF(ISERROR(VLOOKUP($H7,Törzsadat!$C:$BD,13,0)),0,VLOOKUP($H7,Törzsadat!$C:$BD,O$1,0))","v":0},{"$f":"IF(ISERROR(VLOOKUP($H7,Törzsadat!$C:$BD,13,0)),0,VLOOKUP($H7,Törzsadat!$C:$BD,P$1,0))","v":0},{"$f":"IF(ISERROR(VLOOKUP($H7,Törzsadat!$C:$BD,13,0)),0,VLOOKUP($H7,Törzsadat!$C:$BD,Q$1,0))","v":0},{"$f":"IF(ISERROR(VLOOKUP($H7,Törzsadat!$C:$BD,13,0)),0,VLOOKUP($H7,Törzsadat!$C:$BD,R$1,0))","v":0},{"$f":"IF(ISERROR(VLOOKUP($H7,Törzsadat!$C:$BD,13,0)),0,VLOOKUP($H7,Törzsadat!$C:$BD,S$1,0))","v":0},{"$f":"IF(ISERROR(VLOOKUP($H7,Törzsadat!$C:$BD,13,0)),0,VLOOKUP($H7,Törzsadat!$C:$BD,T$1,0))","v":0},{"$f":"IF(ISERROR(VLOOKUP($H7,Törzsadat!$C:$BD,13,0)),0,VLOOKUP($H7,Törzsadat!$C:$BD,U$1,0))","v":0},{"$f":"IF(ISERROR(VLOOKUP($H7,Törzsadat!$C:$BD,13,0)),0,VLOOKUP($H7,Törzsadat!$C:$BD,V$1,0))","v":0},{"$f":"IF(ISERROR(VLOOKUP($H7,Törzsadat!$C:$BD,13,0)),0,VLOOKUP($H7,Törzsadat!$C:$BD,W$1,0))","v":0},{"$f":"IF(ISERROR(VLOOKUP($H7,Törzsadat!$C:$BD,13,0)),0,VLOOKUP($H7,Törzsadat!$C:$BD,X$1,0))","v":0},{"$f":"IF(ISERROR(VLOOKUP($H7,Törzsadat!$C:$BD,13,0)),0,VLOOKUP($H7,Törzsadat!$C:$BD,Y$1,0))","v":0},{"$f":"IF(ISERROR(VLOOKUP($H7,Törzsadat!$C:$BD,13,0)),0,VLOOKUP($H7,Törzsadat!$C:$BD,Z$1,0))","v":0},{"$f":"IF(ISERROR(VLOOKUP($H7,Törzsadat!$C:$BD,13,0)),0,VLOOKUP($H7,Törzsadat!$C:$BD,AA$1,0))","v":0},{"$f":"IF(ISERROR(VLOOKUP($H7,Törzsadat!$C:$BD,13,0)),0,VLOOKUP($H7,Törzsadat!$C:$BD,AB$1,0))","v":0},{"$f":"IF(ISERROR(VLOOKUP($H7,Törzsadat!$C:$BD,13,0)),0,VLOOKUP($H7,Törzsadat!$C:$BD,AC$1,0))","v":0},{"$f":"IF(ISERROR(VLOOKUP($H7,Törzsadat!$C:$BD,13,0)),0,VLOOKUP($H7,Törzsadat!$C:$BD,AD$1,0))","v":0},{"$f":"IF(ISERROR(VLOOKUP($H7,Törzsadat!$C:$BD,13,0)),0,VLOOKUP($H7,Törzsadat!$C:$BD,AE$1,0))","v":0},{"$f":"IF(ISERROR(VLOOKUP($H7,Törzsadat!$C:$BD,13,0)),0,VLOOKUP($H7,Törzsadat!$C:$BD,AF$1,0))","v":0},{"$f":"IF(ISERROR(VLOOKUP($H7,Törzsadat!$C:$BD,13,0)),0,VLOOKUP($H7,Törzsadat!$C:$BD,AG$1,0))","v":0},{"$f":"IF(ISERROR(VLOOKUP($H7,Törzsadat!$C:$BD,13,0)),0,VLOOKUP($H7,Törzsadat!$C:$BD,AH$1,0))","v":0},{"$f":"IF(ISERROR(VLOOKUP($H7,Törzsadat!$C:$BD,13,0)),0,VLOOKUP($H7,Törzsadat!$C:$BD,AI$1,0))","v":0},{"$f":"IF(ISERROR(VLOOKUP($H7,Törzsadat!$C:$BD,13,0)),0,VLOOKUP($H7,Törzsadat!$C:$BD,AJ$1,0))","v":0},{"$f":"IF(ISERROR(VLOOKUP($H7,Törzsadat!$C:$BD,13,0)),0,VLOOKUP($H7,Törzsadat!$C:$BD,AK$1,0))","v":0},{"$f":"IF(ISERROR(VLOOKUP($H7,Törzsadat!$C:$BD,13,0)),0,VLOOKUP($H7,Törzsadat!$C:$BD,AL$1,0))","v":0},{"$f":"IF(ISERROR(VLOOKUP($H7,Törzsadat!$C:$BD,13,0)),0,VLOOKUP($H7,Törzsadat!$C:$BD,AM$1,0))","v":0},{"$f":"IF(ISERROR(VLOOKUP($H7,Törzsadat!$C:$BD,13,0)),0,VLOOKUP($H7,Törzsadat!$C:$BD,AN$1,0))","v":0},{"$f":"IF(ISERROR(VLOOKUP($H7,Törzsadat!$C:$BD,13,0)),0,VLOOKUP($H7,Törzsadat!$C:$BD,AO$1,0))","v":0},{"$f":"IF(ISERROR(VLOOKUP($H7,Törzsadat!$C:$BD,13,0)),0,VLOOKUP($H7,Törzsadat!$C:$BD,AP$1,0))","v":0},{"$f":"IF(ISERROR(VLOOKUP($H7,Törzsadat!$C:$BD,13,0)),0,VLOOKUP($H7,Törzsadat!$C:$BD,AQ$1,0))","v":0},{"$f":"IF(ISERROR(VLOOKUP($H7,Törzsadat!$C:$BD,13,0)),0,VLOOKUP($H7,Törzsadat!$C:$BD,AR$1,0))","v":0},{"$f":"IF(ISERROR(VLOOKUP($H7,Törzsadat!$C:$BD,13,0)),0,VLOOKUP($H7,Törzsadat!$C:$BD,AS$1,0))","v":0},{"$f":"IF(ISERROR(VLOOKUP($H7,Törzsadat!$C:$BD,13,0)),0,VLOOKUP($H7,Törzsadat!$C:$BD,AT$1,0))","v":0},{"$f":"IF(ISERROR(VLOOKUP($H7,Törzsadat!$C:$BD,13,0)),0,VLOOKUP($H7,Törzsadat!$C:$BD,AU$1,0))","v":0},{"$f":"IF(ISERROR(VLOOKUP($H7,Törzsadat!$C:$BD,13,0)),0,VLOOKUP($H7,Törzsadat!$C:$BD,AV$1,0))","v":0},{"$f":"IF(ISERROR(VLOOKUP($H7,Törzsadat!$C:$BD,13,0)),0,VLOOKUP($H7,Törzsadat!$C:$BD,AW$1,0))","v":0},{"$f":"IF(ISERROR(VLOOKUP($H7,Törzsadat!$C:$BD,13,0)),0,VLOOKUP($H7,Törzsadat!$C:$BD,AX$1,0))","v":0},{"$f":"IF(ISERROR(VLOOKUP($H7,Törzsadat!$C:$BD,13,0)),0,VLOOKUP($H7,Törzsadat!$C:$BD,AY$1,0))","v":0},{"$f":"IF(ISERROR(VLOOKUP($H7,Törzsadat!$C:$BD,13,0)),0,VLOOKUP($H7,Törzsadat!$C:$BD,AZ$1,0))","v":0},{"$f":"IF(ISERROR(VLOOKUP($H7,Törzsadat!$C:$BD,13,0)),0,VLOOKUP($H7,Törzsadat!$C:$BD,BA$1,0))","v":0},{"$f":"IF(ISERROR(VLOOKUP($H7,Törzsadat!$C:$BD,13,0)),0,VLOOKUP($H7,Törzsadat!$C:$BD,BB$1,0))","v":0},{"$f":"IF(ISERROR(VLOOKUP($H7,Törzsadat!$C:$BD,13,0)),0,VLOOKUP($H7,Törzsadat!$C:$BD,BC$1,0))","v":0},{"$f":"IF(ISERROR(VLOOKUP($H7,Törzsadat!$C:$BD,13,0)),0,VLOOKUP($H7,Törzsadat!$C:$BD,BD$1,0))","v":0}]
[20,"Max ÉP",null,0,0,null,"Sisak",{"$nulls":7},{"$f":"IF(ISERROR(VLOOKUP($H8,Törzsadat!$C:$BD,13,0)),0,VLOOKUP($H8,Törzsadat!$C:$BD,O$1,0))","v":0},{"$f":"IF(ISERROR(VLOOKUP($H8,Törzsadat!$C:$BD,13,0)),0,VLOOKUP($H8,Törzsadat!$C:$BD,P$1,0))","v":0},{"$f":"IF(ISERROR(VLOOKUP($H8,Törzsadat!$C:$BD,13,0)),0,VLOOKUP($H8,Törzsadat!$C:$BD,Q$1,0))","v":0},{"$f":"IF(ISERROR(VLOOKUP($H8,Törzsadat!$C:$BD,13,0)),0,VLOOKUP($H8,Törzsadat!$C:$BD,R$1,0))","v":0},{"$f":"IF(ISERROR(VLOOKUP($H8,Törzsadat!$C:$BD,13,0)),0,VLOOKUP($H8,Törzsadat!$C:$BD,S$1,0))","v":0},{"$f":"IF(ISERROR(VLOOKUP($H8,Törzsadat!$C:$BD,13,0)),0,VLOOKUP($H8,Törzsadat!$C:$BD,T$1,0))","v":0},{"$f":"IF(ISERROR(VLOOKUP($H8,Törzsadat!$C:$BD,13,0)),0,VLOOKUP($H8,Törzsadat!$C:$BD,U$1,0))","v":0},{"$f":"IF(ISERROR(VLOOKUP($H8,Törzsadat!$C:$BD,13,0)),0,VLOOKUP($H8,Törzsadat!$C:$BD,V$1,0))","v":0},{"$f":"IF(ISERROR(VLOOKUP($H8,Törzsadat!$C:$BD,13,0)),0,VLOOKUP($H8,Törzsadat!$C:$BD,W$1,0))","v":0},{"$f":"IF(ISERROR(VLOOKUP($H8,Törzsadat!$C:$BD,13,0)),0,VLOOKUP($H8,Törzsadat!$C:$BD,X$1,0))","v":0},{"$f":"IF(ISERROR(VLOOKUP($H8,Törzsadat!$C:$BD,13,0)),0,VLOOKUP($H8,Törzsadat!$C:$BD,Y$1,0))","v":0},{"$f":"IF(ISERROR(VLOOKUP($H8,Törzsadat!$C:$BD,13,0)),0,VLOOKUP($H8,Törzsadat!$C:$BD,Z$1,0))","v":0},{"$f":"IF(ISERROR(VLOOKUP($H8,Törzsadat!$C:$BD,13,0)),0,VLOOKUP($H8,Törzsadat!$C:$BD,AA$1,0))","v":0},{"$f":"IF(ISERROR(VLOOKUP($H8,Törzsadat!$C:$BD,13,0)),0,VLOOKUP($H8,Törzsadat!$C:$BD,AB$1,0))","v":0},{"$f":"IF(ISERROR(VLOOKUP($H8,Törzsadat!$C:$BD,13,0)),0,VLOOKUP($H8,Törzsadat!$C:$BD,AC$1,0))","v":0},{"$f":"IF(ISERROR(VLOOKUP($H8,Törzsadat!$C:$BD,13,0)),0,VLOOKUP($H8,Törzsadat!$C:$BD,AD$1,0))","v":0},{"$f":"IF(ISERROR(VLOOKUP($H8,Törzsadat!$C:$BD,13,0)),0,VLOOKUP($H8,Törzsadat!$C:$BD,AE$1,0))","v":0},{"$f":"IF(ISERROR(VLOOKUP($H8,Törzsadat!$C:$BD,13,0)),0,VLOOKUP($H8,Törzsadat!$C:$BD,AF$1,0))","v":0},{"$f":"IF(ISERROR(VLOOKUP($H8,Törzsadat!$C:$BD,13,0)),0,VLOOKUP($H8,Törzsadat!$C:$BD,AG$1,0))","v":0},{"$f":"IF(ISERROR(VLOOKUP($H8,Törzsadat!$C:$BD,13,0)),0,VLOOKUP($H8,Törzsadat!$C:$BD,AH$1,0))","v":0},{"$f":"IF(ISERROR(VLOOKUP($H8,Törzsadat!$C:$BD,13,0)),0,VLOOKUP($H8,Törzsadat!$C:$BD,AI$1,0))","v":0},{"$f":"IF(ISERROR(VLOOKUP($H8,Törzsadat!$C:$BD,13,0)),0,VLOOKUP($H8,Törzsadat!$C:$BD,AJ$1,0))","v":0},{"$f":"IF(ISERROR(VLOOKUP($H8,Törzsadat!$C:$BD,13,0)),0,VLOOKUP($H8,Törzsadat!$C:$BD,AK$1,0))","v":0},{"$f":"IF(ISERROR(VLOOKUP($H8,Törzsadat!$C:$BD,13,0)),0,VLOOKUP($H8,Törzsadat!$C:$BD,AL$1,0))","v":0},{"$f":"IF(ISERROR(VLOOKUP($H8,Törzsadat!$C:$BD,13,0)),0,VLOOKUP($H8,Törzsadat!$C:$BD,AM$1,0))","v":0},{"$f":"IF(ISERROR(VLOOKUP($H8,Törzsadat!$C:$BD,13,0)),0,VLOOKUP($H8,Törzsadat!$C:$BD,AN$1,0))","v":0},{"$f":"IF(ISERROR(VLOOKUP($H8,Törzsadat!$C:$BD,13,0)),0,VLOOKUP($H8,Törzsadat!$C:$BD,AO$1,0))","v":0},{"$f":"IF(ISERROR(VLOOKUP($H8,Törzsadat!$C:$BD,13,0)),0,VLOOKUP($H8,Törzsadat!$C:$BD,AP$1,0))","v":0},{"$f":"IF(ISERROR(VLOOKUP($H8,Törzsadat!$C:$BD,13,0)),0,VLOOKUP($H8,Törzsadat!$C:$BD,AQ$1,0))","v":0},{"$f":"IF(ISERROR(VLOOKUP($H8,Törzsadat!$C:$BD,13,0)),0,VLOOKUP($H8,Törzsadat!$C:$BD,AR$1,0))","v":0},{"$f":"IF(ISERROR(VLOOKUP($H8,Törzsadat!$C:$BD,13,0)),0,VLOOKUP($H8,Törzsadat!$C:$BD,AS$1,0))","v":0},{"$f":"IF(ISERROR(VLOOKUP($H8,Törzsadat!$C:$BD,13,0)),0,VLOOKUP($H8,Törzsadat!$C:$BD,AT$1,0))","v":0},{"$f":"IF(ISERROR(VLOOKUP($H8,Törzsadat!$C:$BD,13,0)),0,VLOOKUP($H8,Törzsadat!$C:$BD,AU$1,0))","v":0},{"$f":"IF(ISERROR(VLOOKUP($H8,Törzsadat!$C:$BD,13,0)),0,VLOOKUP($H8,Törzsadat!$C:$BD,AV$1,0))","v":0},{"$f":"IF(ISERROR(VLOOKUP($H8,Törzsadat!$C:$BD,13,0)),0,VLOOKUP($H8,Törzsadat!$C:$BD,AW$1,0))","v":0},{"$f":"IF(ISERROR(VLOOKUP($H8,Törzsadat!$C:$BD,13,0)),0,VLOOKUP($H8,Törzsadat!$C:$BD,AX$1,0))","v":0},{"$f":"IF(ISERROR(VLOOKUP($H8,Törzsadat!$C:$BD,13,0)),0,VLOOKUP($H8,Törzsadat!$C:$BD,AY$1,0))","v":0},{"$f":"IF(ISERROR(VLOOKUP($H8,Törzsadat!$C:$BD,13,0)),0,VLOOKUP($H8,Törzsadat!$C:$BD,AZ$1,0))","v":0},{"$f":"IF(ISERROR(VLOOKUP($H8,Törzsadat!$C:$BD,13,0)),0,VLOOKUP($H8,Törzsadat!$C:$BD,BA$1,0))","v":0},{"$f":"IF(ISERROR(VLOOKUP($H8,Törzsadat!$C:$BD,13,0)),0,VLOOKUP($H8,Törzsadat!$C:$BD,BB$1,0))","v":0},{"$f":"IF(ISERROR(VLOOKUP($H8,Törzsadat!$C:$BD,13,0)),0,VLOOKUP($H8,Törzsadat!$C:$BD,BC$1,0))","v":0},{"$f":"IF(ISERROR(VLOOKUP($H8,Törzsadat!$C:$BD,13,0)),0,VLOOKUP($H8,Törzsadat!$C:$BD,BD$1,0))","v":0}]
[21,"ÉP regeneráció",null,0,0,null,"Sisak 2",{"$nulls":7},{"$f":"IF(ISERROR(VLOOKUP($H9,Törzsadat!$C:$BD,13,0)),0,VLOOKUP($H9,Törzsadat!$C:$BD,O$1,0))","v":0},{"$f":"IF(ISERROR(VLOOKUP($H9,Törzsadat!$C:$BD,13,0)),0,VLOOKUP($H9,Törzsadat!$C:$BD,P$1,0))","v":0},{"$f":"IF(ISERROR(VLOOKUP($H9,Törzsadat!$C:$BD,13,0)),0,VLOOKUP($H9,Törzsadat!$C:$BD,Q$1,0))","v":0},{"$f":"IF(ISERROR(VLOOKUP($H9,Törzsadat!$C:$BD,13,0)),0,VLOOKUP($H9,Törzsadat!$C:$BD,R$1,0))","v":0},{"$f":"IF(ISERROR(VLOOKUP($H9,Törzsadat!$C:$BD,13,0)),0,VLOOKUP($H9,Törzsadat!$C:$BD,S$1,0))","v":0},{"$f":"IF(ISERROR(VLOOKUP($H9,Törzsadat!$C:$BD,13,0)),0,VLOOKUP($H9,Törzsadat!$C:$BD,T$1,0))","v":0},{"$f":"IF(ISERROR(VLOOKUP($H9,Törzsadat!$C:$BD,13,0)),0,VLOOKUP($H9,Törzsadat!$C:$BD,U$1,0))","v":0},{"$f":"IF(ISERROR(VLOOKUP($H9,Törzsadat!$C:$BD,13,0)),0,VLOOKUP($H9,Törzsadat!$C:$BD,V$1,0))","v":0},{"$f":"IF(ISERROR(VLOOKUP($H9,Törzsadat!$C:$BD,13,0)),0,VLOOKUP($H9,Törzsadat!$C:$BD,W$1,0))","v":0},{"$f":"IF(ISERROR(VLOOKUP($H9,Törzsadat!$C:$BD,13,0)),0,VLOOKUP($H9,Törzsadat!$C:$BD,X$1,0))","v":0},{"$f":"IF(ISERROR(VLOOKUP($H9,Törzsadat!$C:$BD,13,0)),0,VLOOKUP($H9,Törzsadat!$C:$BD,Y$1,0))","v":0},{"$f":"IF(ISERROR(VLOOKUP($H9,Törzsadat!$C:$BD,13,0)),0,VLOOKUP($H9,Törzsadat!$C:$BD,Z$1,0))","v":0},{"$f":"IF(ISERROR(VLOOKUP($H9,Törzsadat!$C:$BD,13,0)),0,VLOOKUP($H9,Törzsadat!$C:$BD,AA$1,0))","v":0},{"$f":"IF(ISERROR(VLOOKUP($H9,Törzsadat!$C:$BD,13,0)),0,VLOOKUP($H9,Törzsadat!$C:$BD,AB$1,0))","v":0},{"$f":"IF(ISERROR(VLOOKUP($H9,Törzsadat!$C:$BD,13,0)),0,VLOOKUP($H9,Törzsadat!$C:$BD,AC$1,0))","v":0},{"$f":"IF(ISERROR(VLOOKUP($H9,Törzsadat!$C:$BD,13,0)),0,VLOOKUP($H9,Törzsadat!$C:$BD,AD$1,0))","v":0},{"$f":"IF(ISERROR(VLOOKUP($H9,Törzsadat!$C:$BD,13,0)),0,VLOOKUP($H9,Törzsadat!$C:$BD,AE$1,0))","v":0},{"$f":"IF(ISERROR(VLOOKUP($H9,Törzsadat!$C:$BD,13,0)),0,VLOOKUP($H9,Törzsadat!$C:$BD,AF$1,0))","v":0},{"$f":"IF(ISERROR(VLOOKUP($H9,Törzsadat!$C:$BD,13,0)),0,VLOOKUP($H9,Törzsadat!$C:$BD,AG$1,0))","v":0},{"$f":"IF(ISERROR(VLOOKUP($H9,Törzsadat!$C:$BD,13,0)),0,VLOOKUP($H9,Törzsadat!$C:$BD,AH$1,0))","v":0},{"$f":"IF(ISERROR(VLOOKUP($H9,Törzsadat!$C:$BD,13,0)),0,VLOOKUP($H9,Törzsadat!$C:$BD,AI$1,0))","v":0},{"$f":"IF(ISERROR(VLOOKUP($H9,Törzsadat!$C:$BD,13,0)),0,VLOOKUP($H9,Törzsadat!$C:$BD,AJ$1,0))","v":0},{"$f":"IF(ISERROR(VLOOKUP($H9,Törzsadat!$C:$BD,13,0)),0,VLOOKUP($H9,Törzsadat!$C:$BD,AK$1,0))","v":0},{"$f":"IF(ISERROR(VLOOKUP($H9,Törzsadat!$C:$BD,13,0)),0,VLOOKUP($H9,Törzsadat!$C:$BD,AL$1,0))","v":0},{"$f":"IF(ISERROR(VLOOKUP($H9,Törzsadat!$C:$BD,13,0)),0,VLOOKUP($H9,Törzsadat!$C:$BD,AM$1,0))","v":0},{"$f":"IF(ISERROR(VLOOKUP($H9,Törzsadat!$C:$BD,13,0)),0,VLOOKUP($H9,Törzsadat!$C:$BD,AN$1,0))","v":0},{"$f":"IF(ISERROR(VLOOKUP($H9,Törzsadat!$C:$BD,13,0)),0,VLOOKUP($H9,Törzsadat!$C:$BD,AO$1,0))","v":0},{"$f":"IF(ISERROR(VLOOKUP($H9,Törzsadat!$C:$BD,13,0)),0,VLOOKUP($H9,Törzsadat!$C:$BD,AP$1,0))","v":0},{"$f":"IF(ISERROR(VLOOKUP($H9,Törzsadat!$C:$BD,13,0)),0,VLOOKUP($H9,Törzsadat!$C:$BD,AQ$1,0))","v":0},{"$f":"IF(ISERROR(VLOOKUP($H9,Törzsadat!$C:$BD,13,0)),0,VLOOKUP($H9,Törzsadat!$C:$BD,AR$1,0))","v":0},{"$f":"IF(ISERROR(VLOOKUP($H9,Törzsadat!$C:$BD,13,0)),0,VLOOKUP($H9,Törzsadat!$C:$BD,AS$1,0))","v":0},{"$f":"IF(ISERROR(VLOOKUP($H9,Törzsadat!$C:$BD,13,0)),0,VLOOKUP($H9,Törzsadat!$C:$BD,AT$1,0))","v":0},{"$f":"IF(ISERROR(VLOOKUP($H9,Törzsadat!$C:$BD,13,0)),0,VLOOKUP($H9,Törzsadat!$C:$BD,AU$1,0))","v":0},{"$f":"IF(ISERROR(VLOOKUP($H9,Törzsadat!$C:$BD,13,0)),0,VLOOKUP($H9,Törzsadat!$C:$BD,AV$1,0))","v":0},{"$f":"IF(ISERROR(VLOOKUP($H9,Törzsadat!$C:$BD,13,0)),0,VLOOKUP($H9,Törzsadat!$C:$BD,AW$1,0))","v":0},{"$f":"IF(ISERROR(VLOOKUP($H9,Törzsadat!$C:$BD,13,0)),0,VLOOKUP($H9,Törzsadat!$C:$BD,AX$1,0))","v":0},{"$f":"IF(ISERROR(VLOOKUP($H9,Törzsadat!$C:$BD,13,0)),0,VLOOKUP($H9,Törzsadat!$C:$BD,AY$1,0))","v":0},{"$f":"IF(ISERROR(VLOOKUP($H9,Törzsadat!$C:$BD,13,0)),0,VLOOKUP($H9,Törzsadat!$C:$BD,AZ$1,0))","v":0},{"$f":"IF(ISERROR(VLOOKUP($H9,Törzsadat!$C:$BD,13,0)),0,VLOOKUP($H9,Törzsadat!$C:$BD,BA$1,0))","v":0},{"$f":"IF(ISERROR(VLOOKUP($H9,Törzsadat!$C:$BD,13,0)),0,VLOOKUP($H9,Törzsadat!$C:$BD,BB$1,0))","v":0},{"$f":"IF(ISERROR(VLOOKUP($H9,Törzsadat!$C:$BD,13,0)),0,VLOOKUP($H9,Törzsadat!$C:$BD,BC$1,0))","v":0},{"$f":"IF(ISERROR(VLOOKUP($H9,Törzsadat!$C:$BD,13,0)),0,VLOOKUP($H9,Törzsadat!$C:$BD,BD$1,0))","v":0}]
[22,"ÉP regeneráció %",null,0,{"$f":"C10+D10","v":0},null,"Sisak 3",{"$nulls":7},{"$f":"IF(ISERROR(VLOOKUP($H10,Törzsadat!$C:$BD,13,0)),0,VLOOKUP($H10,Törzsadat!$C:$BD,O$1,0))","v":0},{"$f":"IF(ISERROR(VLOOKUP($H10,Törzsadat!$C:$BD,13,0)),0,VLOOKUP($H10,Törzsadat!$C:$BD,P$1,0))","v":0},{"$f":"IF(ISERROR(VLOOKUP($H10,Törzsadat!$C:$BD,13,0)),0,VLOOKUP($H10,Törzsadat!$C:$BD,Q$1,0))","v":0},{"$f":"IF(ISERROR(VLOOKUP($H10,Törzsadat!$C:$BD,13,0)),0,VLOOKUP($H10,Törzsadat!$C:$BD,R$1,0))","v":0},{"$f":"IF(ISERROR(VLOOKUP($H10,Törzsadat!$C:$BD,13,0)),0,VLOOKUP($H10,Törzsadat!$C:$BD,S$1,0))","v":0},{"$f":"IF(ISERROR(VLOOKUP($H10,Törzsadat!$C:$BD,13,0)),0,VLOOKUP($H10,Törzsadat!$C:$BD,T$1,0))","v":0},{"$f":"IF(ISERROR(VLOOKUP($H10,Törzsadat!$C:$BD,13,0)),0,VLOOKUP($H10,Törzsadat!$C:$BD,U$1,0))","v":0},{"$f":"IF(ISERROR(VLOOKUP($H10,Törzsadat!$C:$BD,13,0)),0,VLOOKUP($H10,Törzsadat!$C:$BD,V$1,0))","v":0},{"$f":"IF(ISERROR(VLOOKUP($H10,Törzsadat!$C:$BD,13,0)),0,VLOOKUP($H10,Törzsadat!$C:$BD,W$1,0))","v":0},{"$f":"IF(ISERROR(VLOOKUP($H10,Törzsadat!$C:$BD,13,0)),0,VLOOKUP($H10,Törzsadat!$C:$BD,X$1,0))","v":0},{"$f":"IF(ISERROR(VLOOKUP($H10,Törzsadat!$C:$BD,13,0)),0,VLOOKUP($H10,Törzsadat!$C:$BD,Y$1,0))","v":0},{"$f":"IF(ISERROR(VLOOKUP($H10,Törzsadat!$C:$BD,13,0)),0,VLOOKUP($H10,Törzsadat!$C:$BD,Z$1,0))","v":0},{"$f":"IF(ISERROR(VLOOKUP($H10,Törzsadat!$C:$BD,13,0)),0,VLOOKUP($H10,Törzsadat!$C:$BD,AA$1,0))","v":0},{"$f":"IF(ISERROR(VLOOKUP($H10,Törzsadat!$C:$BD,13,0)),0,VLOOKUP($H10,Törzsadat!$C:$BD,AB$1,0))","v":0},{"$f":"IF(ISERROR(VLOOKUP($H10,Törzsadat!$C:$BD,13,0)),0,VLOOKUP($H10,Törzsadat!$C:$BD,AC$1,0))","v":0},{"$f":"IF(ISERROR(VLOOKUP($H10,Törzsadat!$C:$BD,13,0)),0,VLOOKUP($H10,Törzsadat!$C:$BD,AD$1,0))","v":0},{"$f":"IF(ISERROR(VLOOKUP($H10,Törzsadat!$C:$BD,13,0)),0,VLOOKUP($H10,Törzsadat!$C:$BD,AE$1,0))","v":0},{"$f":"IF(ISERROR(VLOOKUP($H10,Törzsadat!$C:$BD,13,0)),0,VLOOKUP($H10,Törzsadat!$C:$BD,AF$1,0))","v":0},{"$f":"IF(ISERROR(VLOOKUP($H10,Törzsadat!$C:$BD,13,0)),0,VLOOKUP($H10,Törzsadat!$C:$BD,AG$1,0))","v":0},{"$f":"IF(ISERROR(VLOOKUP($H10,Törzsadat!$C:$BD,13,0)),0,VLOOKUP($H10,Törzsadat!$C:$BD,AH$1,0))","v":0},{"$f":"IF(ISERROR(VLOOKUP($H10,Törzsadat!$C:$BD,13,0)),0,VLOOKUP($H10,Törzsadat!$C:$BD,AI$1,0))","v":0},{"$f":"IF(ISERROR(VLOOKUP($H10,Törzsadat!$C:$BD,13,0)),0,VLOOKUP($H10,Törzsadat!$C:$BD,AJ$1,0))","v":0},{"$f":"IF(ISERROR(VLOOKUP($H10,Törzsadat!$C:$BD,13,0)),0,VLOOKUP($H10,Törzsadat!$C:$BD,AK$1,0))","v":0},{"$f":"IF(ISERROR(VLOOKUP($H10,Törzsadat!$C:$BD,13,0)),0,VLOOKUP($H10,Törzsadat!$C:$BD,AL$1,0))","v":0},{"$f":"IF(ISERROR(VLOOKUP($H10,Törzsadat!$C:$BD,13,0)),0,VLOOKUP($H10,Törzsadat!$C:$BD,AM$1,0))","v":0},{"$f":"IF(ISERROR(VLOOKUP($H10,Törzsadat!$C:$BD,13,0)),0,VLOOKUP($H10,Törzsadat!$C:$BD,AN$1,0))","v":0},{"$f":"IF(ISERROR(VLOOKUP($H10,Törzsadat!$C:$BD,13,0)),0,VLOOKUP($H10,Törzsadat!$C:$BD,AO$1,0))","v":0},{"$f":"IF(ISERROR(VLOOKUP($H10,Törzsadat!$C:$BD,13,0)),0,VLOOKUP($H10,Törzsadat!$C:$BD,AP$1,0))","v":0},{"$f":"IF(ISERROR(VLOOKUP($H10,Törzsadat!$C:$BD,13,0)),0,VLOOKUP($H10,Törzsadat!$C:$BD,AQ$1,0))","v":0},{"$f":"IF(ISERROR(VLOOKUP($H10,Törzsadat!$C:$BD,13,0)),0,VLOOKUP($H10,Törzsadat!$C:$BD,AR$1,0))","v":0},{"$f":"IF(ISERROR(VLOOKUP($H10,Törzsadat!$C:$BD,13,0)),0,VLOOKUP($H10,Törzsadat!$C:$BD,AS$1,0))","v":0},{"$f":"IF(ISERROR(VLOOKUP($H10,Törzsadat!$C:$BD,13,0)),0,VLOOKUP($H10,Törzsadat!$C:$BD,AT$1,0))","v":0},{"$f":"IF(ISERROR(VLOOKUP($H10,Törzsadat!$C:$BD,13,0)),0,VLOOKUP($H10,Törzsadat!$C:$BD,AU$1,0))","v":0},{"$f":"IF(ISERROR(VLOOKUP($H10,Törzsadat!$C:$BD,13,0)),0,VLOOKUP($H10,Törzsadat!$C:$BD,AV$1,0))","v":0},{"$f":"IF(ISERROR(VLOOKUP($H10,Törzsadat!$C:$BD,13,0)),0,VLOOKUP($H10,Törzsadat!$C:$BD,AW$1,0))","v":0},{"$f":"IF(ISERROR(VLOOKUP($H10,Törzsadat!$C:$BD,13,0)),0,VLOOKUP($H10,Törzsadat!$C:$BD,AX$1,0))","v":0},{"$f":"IF(ISERROR(VLOOKUP($H10,Törzsadat!$C:$BD,13,0)),0,VLOOKUP($H10,Törzsadat!$C:$BD,AY$1,0))","v":0},{"$f":"IF(ISERROR(VLOOKUP($H10,Törzsadat!$C:$BD,13,0)),0,VLOOKUP($H10,Törzsadat!$C:$BD,AZ$1,0))","v":0},{"$f":"IF(ISERROR(VLOOKUP($H10,Törzsadat!$C:$BD,13,0)),0,VLOOKUP($H10,Törzsadat!$C:$BD,BA$1,0))","v":0},{"$f":"IF(ISERROR(VLOOKUP($H10,Törzsadat!$C:$BD,13,0)),0,VLOOKUP($H10,Törzsadat!$C:$BD,BB$1,0))","v":0},{"$f":"IF(ISERROR(VLOOKUP($H10,Törzsadat!$C:$BD,13,0)),0,VLOOKUP($H10,Törzsadat!$C:$BD,BC$1,0))","v":0},{"$f":"IF(ISERROR(VLOOKUP($H10,Törzsadat!$C:$BD,13,0)),0,VLOOKUP($H10,Törzsadat!$C:$BD,BD$1,0))","v":0}]
[23,"Max VP",null,0,{"$f":"C11+D11","v":0},null,"Sisak 4",{"$nulls":7},{"$f":"IF(ISERROR(VLOOKUP($H11,Törzsadat!$C:$BD,13,0)),0,VLOOKUP($H11,Törzsadat!$C:$BD,O$1,0))","v":0},{"$f":"IF(ISERROR(VLOOKUP($H11,Törzsadat!$C:$BD,13,0)),0,VLOOKUP($H11,Törzsadat!$C:$BD,P$1,0))","v":0},{"$f":"IF(ISERROR(VLOOKUP($H11,Törzsadat!$C:$BD,13,0)),0,VLOOKUP($H11,Törzsadat!$C:$BD,Q$1,0))","v":0},{"$f":"IF(ISERROR(VLOOKUP($H11,Törzsadat!$C:$BD,13,0)),0,VLOOKUP($H11,Törzsadat!$C:$BD,R$1,0))","v":0},{"$f":"IF(ISERROR(VLOOKUP($H11,Törzsadat!$C:$BD,13,0)),0,VLOOKUP($H11,Törzsadat!$C:$BD,S$1,0))","v":0},{"$f":"IF(ISERROR(VLOOKUP($H11,Törzsadat!$C:$BD,13,0)),0,VLOOKUP($H11,Törzsadat!$C:$BD,T$1,0))","v":0},{"$f":"IF(ISERROR(VLOOKUP($H11,Törzsadat!$C:$BD,13,0)),0,VLOOKUP($H11,Törzsadat!$C:$BD,U$1,0))","v":0},{"$f":"IF(ISERROR(VLOOKUP($H11,Törzsadat!$C:$BD,13,0)),0,VLOOKUP($H11,Törzsadat!$C:$BD,V$1,0))","v":0},{"$f":"IF(ISERROR(VLOOKUP($H11,Törzsadat!$C:$BD,13,0)),0,VLOOKUP($H11,Törzsadat!$C:$BD,W$1,0))","v":0},{"$f":"IF(ISERROR(VLOOKUP($H11,Törzsadat!$C:$BD,13,0)),0,VLOOKUP($H11,Törzsadat!$C:$BD,X$1,0))","v":0},{"$f":"IF(ISERROR(VLOOKUP($H11,Törzsadat!$C:$BD,13,0)),0,VLOOKUP($H11,Törzsadat!$C:$BD,Y$1,0))","v":0},{"$f":"IF(ISERROR(VLOOKUP($H11,Törzsadat!$C:$BD,13,0)),0,VLOOKUP($H11,Törzsadat!$C:$BD,Z$1,0))","v":0},{"$f":"IF(ISERROR(VLOOKUP($H11,Törzsadat!$C:$BD,13,0)),0,VLOOKUP($H11,Törzsadat!$C:$BD,AA$1,0))","v":0},{"$f":"IF(ISERROR(VLOOKUP($H11,Törzsadat!$C:$BD,13,0)),0,VLOOKUP($H11,Törzsadat!$C:$BD,AB$1,0))","v":0},{"$f":"IF(ISERROR(VLOOKUP($H11,Törzsadat!$C:$BD,13,0)),0,VLOOKUP($H11,Törzsadat!$C:$BD,AC$1,0))","v":0},{"$f":"IF(ISERROR(VLOOKUP($H11,Törzsadat!$C:$BD,13,0)),0,VLOOKUP($H11,Törzsadat!$C:$BD,AD$1,0))","v":0},{"$f":"IF(ISERROR(VLOOKUP($H11,Törzsadat!$C:$BD,13,0)),0,VLOOKUP($H11,Törzsadat!$C:$BD,AE$1,0))","v":0},{"$f":"IF(ISERROR(VLOOKUP($H11,Törzsadat!$C:$BD,13,0)),0,VLOOKUP($H11,Törzsadat!$C:$BD,AF$1,0))","v":0},{"$f":"IF(ISERROR(VLOOKUP($H11,Törzsadat!$C:$BD,13,0)),0,VLOOKUP($H11,Törzsadat!$C:$BD,AG$1,0))","v":0},{"$f":"IF(ISERROR(VLOOKUP($H11,Törzsadat!$C:$BD,13,0)),0,VLOOKUP($H11,Törzsadat!$C:$BD,AH$1,0))","v":0},{"$f":"IF(ISERROR(VLOOKUP($H11,Törzsadat!$C:$BD,13,0)),0,VLOOKUP($H11,Törzsadat!$C:$BD,AI$1,0))","v":0},{"$f":"IF(ISERROR(VLOOKUP($H11,Törzsadat!$C:$BD,13,0)),0,VLOOKUP($H11,Törzsadat!$C:$BD,AJ$1,0))","v":0},{"$f":"IF(ISERROR(VLOOKUP($H11,Törzsadat!$C:$BD,13,0)),0,VLOOKUP($H11,Törzsadat!$C:$BD,AK$1,0))","v":0},{"$f":"IF(ISERROR(VLOOKUP($H11,Törzsadat!$C:$BD,13,0)),0,VLOOKUP($H11,Törzsadat!$C:$BD,AL$1,0))","v":0},{"$f":"IF(ISERROR(VLOOKUP($H11,Törzsadat!$C:$BD,13,0)),0,VLOOKUP($H11,Törzsadat!$C:$BD,AM$1,0))","v":0},{"$f":"IF(ISERROR(VLOOKUP($H11,Törzsadat!$C:$BD,13,0)),0,VLOOKUP($H11,Törzsadat!$C:$BD,AN$1,0))","v":0},{"$f":"IF(ISERROR(VLOOKUP($H11,Törzsadat!$C:$BD,13,0)),0,VLOOKUP($H11,Törzsadat!$C:$BD,AO$1,0))","v":0},{"$f":"IF(ISERROR(VLOOKUP($H11,Törzsadat!$C:$BD,13,0)),0,VLOOKUP($H11,Törzsadat!$C:$BD,AP$1,0))","v":0},{"$f":"IF(ISERROR(VLOOKUP($H11,Törzsadat!$C:$BD,13,0)),0,VLOOKUP($H11,Törzsadat!$C:$BD,AQ$1,0))","v":0},{"$f":"IF(ISERROR(VLOOKUP($H11,Törzsadat!$C:$BD,13,0)),0,VLOOKUP($H11,Törzsadat!$C:$BD,AR$1,0))","v":0},{"$f":"IF(ISERROR(VLOOKUP($H11,Törzsadat!$C:$BD,13,0)),0,VLOOKUP($H11,Törzsadat!$C:$BD,AS$1,0))","v":0},{"$f":"IF(ISERROR(VLOOKUP($H11,Törzsadat!$C:$BD,13,0)),0,VLOOKUP($H11,Törzsadat!$C:$BD,AT$1,0))","v":0},{"$f":"IF(ISERROR(VLOOKUP($H11,Törzsadat!$C:$BD,13,0)),0,VLOOKUP($H11,Törzsadat!$C:$BD,AU$1,0))","v":0},{"$f":"IF(ISERROR(VLOOKUP($H11,Törzsadat!$C:$BD,13,0)),0,VLOOKUP($H11,Törzsadat!$C:$BD,AV$1,0))","v":0},{"$f":"IF(ISERROR(VLOOKUP($H11,Törzsadat!$C:$BD,13,0)),0,VLOOKUP($H11,Törzsadat!$C:$BD,AW$1,0))","v":0},{"$f":"IF(ISERROR(VLOOKUP($H11,Törzsadat!$C:$BD,13,0)),0,VLOOKUP($H11,Törzsadat!$C:$BD,AX$1,0))","v":0},{"$f":"IF(ISERROR(VLOOKUP($H11,Törzsadat!$C:$BD,13,0)),0,VLOOKUP($H11,Törzsadat!$C:$BD,AY$1,0))","v":0},{"$f":"IF(ISERROR(VLOOKUP($H11,Törzsadat!$C:$BD,13,0)),0,VLOOKUP($H11,Törzsadat!$C:$BD,AZ$1,0))","v":0},{"$f":"IF(ISERROR(VLOOKUP($H11,Törzsadat!$C:$BD,13,0)),0,VLOOKUP($H11,Törzsadat!$C:$BD,BA$1,0))","v":0},{"$f":"IF(ISERROR(VLOOKUP($H11,Törzsadat!$C:$BD,13,0)),0,VLOOKUP($H11,Törzsadat!$C:$BD,BB$1,0))","v":0},{"$f":"IF(ISERROR(VLOOKUP($H11,Törzsadat!$C:$BD,13,0)),0,VLOOKUP($H11,Törzsadat!$C:$BD,BC$1,0))","v":0},{"$f":"IF(ISERROR(VLOOKUP($H11,Törzsadat!$C:$BD,13,0)),0,VLOOKUP($H11,Törzsadat!$C:$BD,BD$1,0))","v":0}]
[24,"VP regeneráció",null,0,0,null,"Sisak 5",{"$nulls":7},{"$f":"IF(ISERROR(VLOOKUP($H12,Törzsadat!$C:$BD,13,0)),0,VLOOKUP($H12,Törzsadat!$C:$BD,O$1,0))","v":0},{"$f":"IF(ISERROR(VLOOKUP($H12,Törzsadat!$C:$BD,13,0)),0,VLOOKUP($H12,Törzsadat!$C:$BD,P$1,0))","v":0},{"$f":"IF(ISERROR(VLOOKUP($H12,Törzsadat!$C:$BD,13,0)),0,VLOOKUP($H12,Törzsadat!$C:$BD,Q$1,0))","v":0},{"$f":"IF(ISERROR(VLOOKUP($H12,Törzsadat!$C:$BD,13,0)),0,VLOOKUP($H12,Törzsadat!$C:$BD,R$1,0))","v":0},{"$f":"IF(ISERROR(VLOOKUP($H12,Törzsadat!$C:$BD,13,0)),0,VLOOKUP($H12,Törzsadat!$C:$BD,S$1,0))","v":0},{"$f":"IF(ISERROR(VLOOKUP($H12,Törzsadat!$C:$BD,13,0)),0,VLOOKUP($H12,Törzsadat!$C:$BD,T$1,0))","v":0},{"$f":"IF(ISERROR(VLOOKUP($H12,Törzsadat!$C:$BD,13,0)),0,VLOOKUP($H12,Törzsadat!$C:$BD,U$1,0))","v":0},{"$f":"IF(ISERROR(VLOOKUP($H12,Törzsadat!$C:$BD,13,0)),0,VLOOKUP($H12,Törzsadat!$C:$BD,V$1,0))","v":0},{"$f":"IF(ISERROR(VLOOKUP($H12,Törzsadat!$C:$BD,13,0)),0,VLOOKUP($H12,Törzsadat!$C:$BD,W$1,0))","v":0},{"$f":"IF(ISERROR(VLOOKUP($H12,Törzsadat!$C:$BD,13,0)),0,VLOOKUP($H12,Törzsadat!$C:$BD,X$1,0))","v":0},{"$f":"IF(ISERROR(VLOOKUP($H12,Törzsadat!$C:$BD,13,0)),0,VLOOKUP($H12,Törzsadat!$C:$BD,Y$1,0))","v":0},{"$f":"IF(ISERROR(VLOOKUP($H12,Törzsadat!$C:$BD,13,0)),0,VLOOKUP($H12,Törzsadat!$C:$BD,Z$1,0))","v":0},{"$f":"IF(ISERROR(VLOOKUP($H12,Törzsadat!$C:$BD,13,0)),0,VLOOKUP($H12,Törzsadat!$C:$BD,AA$1,0))","v":0},{"$f":"IF(ISERROR(VLOOKUP($H12,Törzsadat!$C:$BD,13,0)),0,VLOOKUP($H12,Törzsadat!$C:$BD,AB$1,0))","v":0},{"$f":"IF(ISERROR(VLOOKUP($H12,Törzsadat!$C:$BD,13,0)),0,VLOOKUP($H12,Törzsadat!$C:$BD,AC$1,0))","v":0},{"$f":"IF(ISERROR(VLOOKUP($H12,Törzsadat!$C:$BD,13,0)),0,VLOOKUP($H12,Törzsadat!$C:$BD,AD$1,0))","v":0},{"$f":"IF(ISERROR(VLOOKUP($H12,Törzsadat!$C:$BD,13,0)),0,VLOOKUP($H12,Törzsadat!$C:$BD,AE$1,0))","v":0},{"$f":"IF(ISERROR(VLOOKUP($H12,Törzsadat!$C:$BD,13,0)),0,VLOOKUP($H12,Törzsadat!$C:$BD,AF$1,0))","v":0},{"$f":"IF(ISERROR(VLOOKUP($H12,Törzsadat!$C:$BD,13,0)),0,VLOOKUP($H12,Törzsadat!$C:$BD,AG$1,0))","v":0},{"$f":"IF(ISERROR(VLOOKUP($H12,Törzsadat!$C:$BD,13,0)),0,VLOOKUP($H12,Törzsadat!$C:$BD,AH$1,0))","v":0},{"$f":"IF(ISERROR(VLOOKUP($H12,Törzsadat!$C:$BD,13,0)),0,VLOOKUP($H12,Törzsadat!$C:$BD,AI$1,0))","v":0},{"$f":"IF(ISERROR(VLOOKUP($H12,Törzsadat!$C:$BD,13,0)),0,VLOOKUP($H12,Törzsadat!$C:$BD,AJ$1,0))","v":0},{"$f":"IF(ISERROR(VLOOKUP($H12,Törzsadat!$C:$BD,13,0)),0,VLOOKUP($H12,Törzsadat!$C:$BD,AK$1,0))","v":0},{"$f":"IF(ISERROR(VLOOKUP($H12,Törzsadat!$C:$BD,13,0)),0,VLOOKUP($H12,Törzsadat!$C:$BD,AL$1,0))","v":0},{"$f":"IF(ISERROR(VLOOKUP($H12,Törzsadat!$C:$BD,13,0)),0,VLOOKUP($H12,Törzsadat!$C:$BD,AM$1,0))","v":0},{"$f":"IF(ISERROR(VLOOKUP($H12,Törzsadat!$C:$BD,13,0)),0,VLOOKUP($H12,Törzsadat!$C:$BD,AN$1,0))","v":0},{"$f":"IF(ISERROR(VLOOKUP($H12,Törzsadat!$C:$BD,13,0)),0,VLOOKUP($H12,Törzsadat!$C:$BD,AO$1,0))","v":0},{"$f":"IF(ISERROR(VLOOKUP($H12,Törzsadat!$C:$BD,13,0)),0,VLOOKUP($H12,Törzsadat!$C:$BD,AP$1,0))","v":0},{"$f":"IF(ISERROR(VLOOKUP($H12,Törzsadat!$C:$BD,13,0)),0,VLOOKUP($H12,Törzsadat!$C:$BD,AQ$1,0))","v":0},{"$f":"IF(ISERROR(VLOOKUP($H12,Törzsadat!$C:$BD,13,0)),0,VLOOKUP($H12,Törzsadat!$C:$BD,AR$1,0))","v":0},{"$f":"IF(ISERROR(VLOOKUP($H12,Törzsadat!$C:$BD,13,0)),0,VLOOKUP($H12,Törzsadat!$C:$BD,AS$1,0))","v":0},{"$f":"IF(ISERROR(VLOOKUP($H12,Törzsadat!$C:$BD,13,0)),0,VLOOKUP($H12,Törzsadat!$C:$BD,AT$1,0))","v":0},{"$f":"IF(ISERROR(VLOOKUP($H12,Törzsadat!$C:$BD,13,0)),0,VLOOKUP($H12,Törzsadat!$C:$BD,AU$1,0))","v":0},{"$f":"IF(ISERROR(VLOOKUP($H12,Törzsadat!$C:$BD,13,0)),0,VLOOKUP($H12,Törzsadat!$C:$BD,AV$1,0))","v":0},{"$f":"IF(ISERROR(VLOOKUP($H12,Törzsadat!$C:$BD,13,0)),0,VLOOKUP($H12,Törzsadat!$C:$BD,AW$1,0))","v":0},{"$f":"IF(ISERROR(VLOOKUP($H12,Törzsadat!$C:$BD,13,0)),0,VLOOKUP($H12,Törzsadat!$C:$BD,AX$1,0))","v":0},{"$f":"IF(ISERROR(VLOOKUP($H12,Törzsadat!$C:$BD,13,0)),0,VLOOKUP($H12,Törzsadat!$C:$BD,AY$1,0))","v":0},{"$f":"IF(ISERROR(VLOOKUP($H12,Törzsadat!$C:$BD,13,0)),0,VLOOKUP($H12,Törzsadat!$C:$BD,AZ$1,0))","v":0},{"$f":"IF(ISERROR(VLOOKUP($H12,Törzsadat!$C:$BD,13,0)),0,VLOOKUP($H12,Törzsadat!$C:$BD,BA$1,0))","v":0},{"$f":"IF(ISERROR(VLOOKUP($H12,Törzsadat!$C:$BD,13,0)),0,VLOOKUP($H12,Törzsadat!$C:$BD,BB$1,0))","v":0},{"$f":"IF(ISERROR(VLOOKUP($H12,Törzsadat!$C:$BD,13,0)),0,VLOOKUP($H12,Törzsadat!$C:$BD,BC$1,0))","v":0},{"$f":"IF(ISERROR(VLOOKUP($H12,Törzsadat!$C:$BD,13,0)),0,VLOOKUP($H12,Törzsadat!$C:$BD,BD$1,0))","v":0}]
[25,"VP regeneráció %",null,0,0,null,"Sisak 6",{"$nulls":7},{"$f":"IF(ISERROR(VLOOKUP($H13,Törzsadat!$C:$BD,13,0)),0,VLOOKUP($H13,Törzsadat!$C:$BD,O$1,0))","v":0},{"$f":"IF(ISERROR(VLOOKUP($H13,Törzsadat!$C:$BD,13,0)),0,VLOOKUP($H13,Törzsadat!$C:$BD,P$1,0))","v":0},{"$f":"IF(ISERROR(VLOOKUP($H13,Törzsadat!$C:$BD,13,0)),0,VLOOKUP($H13,Törzsadat!$C:$BD,Q$1,0))","v":0},{"$f":"IF(ISERROR(VLOOKUP($H13,Törzsadat!$C:$BD,13,0)),0,VLOOKUP($H13,Törzsadat!$C:$BD,R$1,0))","v":0},{"$f":"IF(ISERROR(VLOOKUP($H13,Törzsadat!$C:$BD,13,0)),0,VLOOKUP($H13,Törzsadat!$C:$BD,S$1,0))","v":0},{"$f":"IF(ISERROR(VLOOKUP($H13,Törzsadat!$C:$BD,13,0)),0,VLOOKUP($H13,Törzsadat!$C:$BD,T$1,0))","v":0},{"$f":"IF(ISERROR(VLOOKUP($H13,Törzsadat!$C:$BD,13,0)),0,VLOOKUP($H13,Törzsadat!$C:$BD,U$1,0))","v":0},{"$f":"IF(ISERROR(VLOOKUP($H13,Törzsadat!$C:$BD,13,0)),0,VLOOKUP($H13,Törzsadat!$C:$BD,V$1,0))","v":0},{"$f":"IF(ISERROR(VLOOKUP($H13,Törzsadat!$C:$BD,13,0)),0,VLOOKUP($H13,Törzsadat!$C:$BD,W$1,0))","v":0},{"$f":"IF(ISERROR(VLOOKUP($H13,Törzsadat!$C:$BD,13,0)),0,VLOOKUP($H13,Törzsadat!$C:$BD,X$1,0))","v":0},{"$f":"IF(ISERROR(VLOOKUP($H13,Törzsadat!$C:$BD,13,0)),0,VLOOKUP($H13,Törzsadat!$C:$BD,Y$1,0))","v":0},{"$f":"IF(ISERROR(VLOOKUP($H13,Törzsadat!$C:$BD,13,0)),0,VLOOKUP($H13,Törzsadat!$C:$BD,Z$1,0))","v":0},{"$f":"IF(ISERROR(VLOOKUP($H13,Törzsadat!$C:$BD,13,0)),0,VLOOKUP($H13,Törzsadat!$C:$BD,AA$1,0))","v":0},{"$f":"IF(ISERROR(VLOOKUP($H13,Törzsadat!$C:$BD,13,0)),0,VLOOKUP($H13,Törzsadat!$C:$BD,AB$1,0))","v":0},{"$f":"IF(ISERROR(VLOOKUP($H13,Törzsadat!$C:$BD,13,0)),0,VLOOKUP($H13,Törzsadat!$C:$BD,AC$1,0))","v":0},{"$f":"IF(ISERROR(VLOOKUP($H13,Törzsadat!$C:$BD,13,0)),0,VLOOKUP($H13,Törzsadat!$C:$BD,AD$1,0))","v":0},{"$f":"IF(ISERROR(VLOOKUP($H13,Törzsadat!$C:$BD,13,0)),0,VLOOKUP($H13,Törzsadat!$C:$BD,AE$1,0))","v":0},{"$f":"IF(ISERROR(VLOOKUP($H13,Törzsadat!$C:$BD,13,0)),0,VLOOKUP($H13,Törzsadat!$C:$BD,AF$1,0))","v":0},{"$f":"IF(ISERROR(VLOOKUP($H13,Törzsadat!$C:$BD,13,0)),0,VLOOKUP($H13,Törzsadat!$C:$BD,AG$1,0))","v":0},{"$f":"IF(ISERROR(VLOOKUP($H13,Törzsadat!$C:$BD,13,0)),0,VLOOKUP($H13,Törzsadat!$C:$BD,AH$1,0))","v":0},{"$f":"IF(ISERROR(VLOOKUP($H13,Törzsadat!$C:$BD,13,0)),0,VLOOKUP($H13,Törzsadat!$C:$BD,AI$1,0))","v":0},{"$f":"IF(ISERROR(VLOOKUP($H13,Törzsadat!$C:$BD,13,0)),0,VLOOKUP($H13,Törzsadat!$C:$BD,AJ$1,0))","v":0},{"$f":"IF(ISERROR(VLOOKUP($H13,Törzsadat!$C:$BD,13,0)),0,VLOOKUP($H13,Törzsadat!$C:$BD,AK$1,0))","v":0},{"$f":"IF(ISERROR(VLOOKUP($H13,Törzsadat!$C:$BD,13,0)),0,VLOOKUP($H13,Törzsadat!$C:$BD,AL$1,0))","v":0},{"$f":"IF(ISERROR(VLOOKUP($H13,Törzsadat!$C:$BD,13,0)),0,VLOOKUP($H13,Törzsadat!$C:$BD,AM$1,0))","v":0},{"$f":"IF(ISERROR(VLOOKUP($H13,Törzsadat!$C:$BD,13,0)),0,VLOOKUP($H13,Törzsadat!$C:$BD,AN$1,0))","v":0},{"$f":"IF(ISERROR(VLOOKUP($H13,Törzsadat!$C:$BD,13,0)),0,VLOOKUP($H13,Törzsadat!$C:$BD,AO$1,0))","v":0},{"$f":"IF(ISERROR(VLOOKUP($H13,Törzsadat!$C:$BD,13,0)),0,VLOOKUP($H13,Törzsadat!$C:$BD,AP$1,0))","v":0},{"$f":"IF(ISERROR(VLOOKUP($H13,Törzsadat!$C:$BD,13,0)),0,VLOOKUP($H13,Törzsadat!$C:$BD,AQ$1,0))","v":0},{"$f":"IF(ISERROR(VLOOKUP($H13,Törzsadat!$C:$BD,13,0)),0,VLOOKUP($H13,Törzsadat!$C:$BD,AR$1,0))","v":0},{"$f":"IF(ISERROR(VLOOKUP($H13,Törzsadat!$C:$BD,13,0)),0,VLOOKUP($H13,Törzsadat!$C:$BD,AS$1,0))","v":0},{"$f":"IF(ISERROR(VLOOKUP($H13,Törzsadat!$C:$BD,13,0)),0,VLOOKUP($H13,Törzsadat!$C:$BD,AT$1,0))","v":0},{"$f":"IF(ISERROR(VLOOKUP($H13,Törzsadat!$C:$BD,13,0)),0,VLOOKUP($H13,Törzsadat!$C:$BD,AU$1,0))","v":0},{"$f":"IF(ISERROR(VLOOKUP($H13,Törzsadat!$C:$BD,13,0)),0,VLOOKUP($H13,Törzsadat!$C:$BD,AV$1,0))","v":0},{"$f":"IF(ISERROR(VLOOKUP($H13,Törzsadat!$C:$BD,13,0)),0,VLOOKUP($H13,Törzsadat!$C:$BD,AW$1,0))","v":0},{"$f":"IF(ISERROR(VLOOKUP($H13,Törzsadat!$C:$BD,13,0)),0,VLOOKUP($H13,Törzsadat!$C:$BD,AX$1,0))","v":0},{"$f":"IF(ISERROR(VLOOKUP($H13,Törzsadat!$C:$BD,13,0)),0,VLOOKUP($H13,Törzsadat!$C:$BD,AY$1,0))","v":0},{"$f":"IF(ISERROR(VLOOKUP($H13,Törzsadat!$C:$BD,13,0)),0,VLOOKUP($H13,Törzsadat!$C:$BD,AZ$1,0))","v":0},{"$f":"IF(ISERROR(VLOOKUP($H13,Törzsadat!$C:$BD,13,0)),0,VLOOKUP($H13,Törzsadat!$C:$BD,BA$1,0))","v":0},{"$f":"IF(ISERROR(VLOOKUP($H13,Törzsadat!$C:$BD,13,0)),0,VLOOKUP($H13,Törzsadat!$C:$BD,BB$1,0))","v":0},{"$f":"IF(ISERROR(VLOOKUP($H13,Törzsadat!$C:$BD,13,0)),0,VLOOKUP($H13,Törzsadat!$C:$BD,BC$1,0))","v":0},{"$f":"IF(ISERROR(VLOOKUP($H13,Törzsadat!$C:$BD,13,0)),0,VLOOKUP($H13,Törzsadat!$C:$BD,BD$1,0))","v":0}]
[26,"Max Pszi",null,0,0,null,"Sisak 7",{"$nulls":7},{"$f":"IF(ISERROR(VLOOKUP($H14,Törzsadat!$C:$BD,13,0)),0,VLOOKUP($H14,Törzsadat!$C:$BD,O$1,0))","v":0},{"$f":"IF(ISERROR(VLOOKUP($H14,Törzsadat!$C:$BD,13,0)),0,VLOOKUP($H14,Törzsadat!$C:$BD,P$1,0))","v":0},{"$f":"IF(ISERROR(VLOOKUP($H14,Törzsadat!$C:$BD,13,0)),0,VLOOKUP($H14,Törzsadat!$C:$BD,Q$1,0))","v":0},{"$f":"IF(ISERROR(VLOOKUP($H14,Törzsadat!$C:$BD,13,0)),0,VLOOKUP($H14,Törzsadat!$C:$BD,R$1,0))","v":0},{"$f":"IF(ISERROR(VLOOKUP($H14,Törzsadat!$C:$BD,13,0)),0,VLOOKUP($H14,Törzsadat!$C:$BD,S$1,0))","v":0},{"$f":"IF(ISERROR(VLOOKUP($H14,Törzsadat!$C:$BD,13,0)),0,VLOOKUP($H14,Törzsadat!$C:$BD,T$1,0))","v":0},{"$f":"IF(ISERROR(VLOOKUP($H14,Törzsadat!$C:$BD,13,0)),0,VLOOKUP($H14,Törzsadat!$C:$BD,U$1,0))","v":0},{"$f":"IF(ISERROR(VLOOKUP($H14,Törzsadat!$C:$BD,13,0)),0,VLOOKUP($H14,Törzsadat!$C:$BD,V$1,0))","v":0},{"$f":"IF(ISERROR(VLOOKUP($H14,Törzsadat!$C:$BD,13,0)),0,VLOOKUP($H14,Törzsadat!$C:$BD,W$1,0))","v":0},{"$f":"IF(ISERROR(VLOOKUP($H14,Törzsadat!$C:$BD,13,0)),0,VLOOKUP($H14,Törzsadat!$C:$BD,X$1,0))","v":0},{"$f":"IF(ISERROR(VLOOKUP($H14,Törzsadat!$C:$BD,13,0)),0,VLOOKUP($H14,Törzsadat!$C:$BD,Y$1,0))","v":0},{"$f":"IF(ISERROR(VLOOKUP($H14,Törzsadat!$C:$BD,13,0)),0,VLOOKUP($H14,Törzsadat!$C:$BD,Z$1,0))","v":0},{"$f":"IF(ISERROR(VLOOKUP($H14,Törzsadat!$C:$BD,13,0)),0,VLOOKUP($H14,Törzsadat!$C:$BD,AA$1,0))","v":0},{"$f":"IF(ISERROR(VLOOKUP($H14,Törzsadat!$C:$BD,13,0)),0,VLOOKUP($H14,Törzsadat!$C:$BD,AB$1,0))","v":0},{"$f":"IF(ISERROR(VLOOKUP($H14,Törzsadat!$C:$BD,13,0)),0,VLOOKUP($H14,Törzsadat!$C:$BD,AC$1,0))","v":0},{"$f":"IF(ISERROR(VLOOKUP($H14,Törzsadat!$C:$BD,13,0)),0,VLOOKUP($H14,Törzsadat!$C:$BD,AD$1,0))","v":0},{"$f":"IF(ISERROR(VLOOKUP($H14,Törzsadat!$C:$BD,13,0)),0,VLOOKUP($H14,Törzsadat!$C:$BD,AE$1,0))","v":0},{"$f":"IF(ISERROR(VLOOKUP($H14,Törzsadat!$C:$BD,13,0)),0,VLOOKUP($H14,Törzsadat!$C:$BD,AF$1,0))","v":0},{"$f":"IF(ISERROR(VLOOKUP($H14,Törzsadat!$C:$BD,13,0)),0,VLOOKUP($H14,Törzsadat!$C:$BD,AG$1,0))","v":0},{"$f":"IF(ISERROR(VLOOKUP($H14,Törzsadat!$C:$BD,13,0)),0,VLOOKUP($H14,Törzsadat!$C:$BD,AH$1,0))","v":0},{"$f":"IF(ISERROR(VLOOKUP($H14,Törzsadat!$C:$BD,13,0)),0,VLOOKUP($H14,Törzsadat!$C:$BD,AI$1,0))","v":0},{"$f":"IF(ISERROR(VLOOKUP($H14,Törzsadat!$C:$BD,13,0)),0,VLOOKUP($H14,Törzsadat!$C:$BD,AJ$1,0))","v":0},{"$f":"IF(ISERROR(VLOOKUP($H14,Törzsadat!$C:$BD,13,0)),0,VLOOKUP($H14,Törzsadat!$C:$BD,AK$1,0))","v":0},{"$f":"IF(ISERROR(VLOOKUP($H14,Törzsadat!$C:$BD,13,0)),0,VLOOKUP($H14,Törzsadat!$C:$BD,AL$1,0))","v":0},{"$f":"IF(ISERROR(VLOOKUP($H14,Törzsadat!$C:$BD,13,0)),0,VLOOKUP($H14,Törzsadat!$C:$BD,AM$1,0))","v":0},{"$f":"IF(ISERROR(VLOOKUP($H14,Törzsadat!$C:$BD,13,0)),0,VLOOKUP($H14,Törzsadat!$C:$BD,AN$1,0))","v":0},{"$f":"IF(ISERROR(VLOOKUP($H14,Törzsadat!$C:$BD,13,0)),0,VLOOKUP($H14,Törzsadat!$C:$BD,AO$1,0))","v":0},{"$f":"IF(ISERROR(VLOOKUP($H14,Törzsadat!$C:$BD,13,0)),0,VLOOKUP($H14,Törzsadat!$C:$BD,AP$1,0))","v":0},{"$f":"IF(ISERROR(VLOOKUP($H14,Törzsadat!$C:$BD,13,0)),0,VLOOKUP($H14,Törzsadat!$C:$BD,AQ$1,0))","v":0},{"$f":"IF(ISERROR(VLOOKUP($H14,Törzsadat!$C:$BD,13,0)),0,VLOOKUP($H14,Törzsadat!$C:$BD,AR$1,0))","v":0},{"$f":"IF(ISERROR(VLOOKUP($H14,Törzsadat!$C:$BD,13,0)),0,VLOOKUP($H14,Törzsadat!$C:$BD,AS$1,0))","v":0},{"$f":"IF(ISERROR(VLOOKUP($H14,Törzsadat!$C:$BD,13,0)),0,VLOOKUP($H14,Törzsadat!$C:$BD,AT$1,0))","v":0},{"$f":"IF(ISERROR(VLOOKUP($H14,Törzsadat!$C:$BD,13,0)),0,VLOOKUP($H14,Törzsadat!$C:$BD,AU$1,0))","v":0},{"$f":"IF(ISERROR(VLOOKUP($H14,Törzsadat!$C:$BD,13,0)),0,VLOOKUP($H14,Törzsadat!$C:$BD,AV$1,0))","v":0},{"$f":"IF(ISERROR(VLOOKUP($H14,Törzsadat!$C:$BD,13,0)),0,VLOOKUP($H14,Törzsadat!$C:$BD,AW$1,0))","v":0},{"$f":"IF(ISERROR(VLOOKUP($H14,Törzsadat!$C:$BD,13,0)),0,VLOOKUP($H14,Törzsadat!$C:$BD,AX$1,0))","v":0},{"$f":"IF(ISERROR(VLOOKUP($H14,Törzsadat!$C:$BD,13,0)),0,VLOOKUP($H14,Törzsadat!$C:$BD,AY$1,0))","v":0},{"$f":"IF(ISERROR(VLOOKUP($H14,Törzsadat!$C:$BD,13,0)),0,VLOOKUP($H14,Törzsadat!$C:$BD,AZ$1,0))","v":0},{"$f":"IF(ISERROR(VLOOKUP($H14,Törzsadat!$C:$BD,13,0)),0,VLOOKUP($H14,Törzsadat!$C:$BD,BA$1,0))","v":0},{"$f":"IF(ISERROR(VLOOKUP($H14,Törzsadat!$C:$BD,13,0)),0,VLOOKUP($H14,Törzsadat!$C:$BD,BB$1,0))","v":0},{"$f":"IF(ISERROR(VLOOKUP($H14,Törzsadat!$C:$BD,13,0)),0,VLOOKUP($H14,Törzsadat!$C:$BD,BC$1,0))","v":0},{"$f":"IF(ISERROR(VLOOKUP($H14,Törzsadat!$C:$BD,13,0)),0,VLOOKUP($H14,Törzsadat!$C:$BD,BD$1,0))","v":0}]
[27,"Pszi regeneráció",null,0,0,null,"Kesztyű",{"$nulls":7},{"$f":"IF(ISERROR(VLOOKUP($H15,Törzsadat!$C:$BD,13,0)),0,VLOOKUP($H15,Törzsadat!$C:$BD,O$1,0))","v":0},{"$f":"IF(ISERROR(VLOOKUP($H15,Törzsadat!$C:$BD,13,0)),0,VLOOKUP($H15,Törzsadat!$C:$BD,P$1,0))","v":0},{"$f":"IF(ISERROR(VLOOKUP($H15,Törzsadat!$C:$BD,13,0)),0,VLOOKUP($H15,Törzsadat!$C:$BD,Q$1,0))","v":0},{"$f":"IF(ISERROR(VLOOKUP($H15,Törzsadat!$C:$BD,13,0)),0,VLOOKUP($H15,Törzsadat!$C:$BD,R$1,0))","v":0},{"$f":"IF(ISERROR(VLOOKUP($H15,Törzsadat!$C:$BD,13,0)),0,VLOOKUP($H15,Törzsadat!$C:$BD,S$1,0))","v":0},{"$f":"IF(ISERROR(VLOOKUP($H15,Törzsadat!$C:$BD,13,0)),0,VLOOKUP($H15,Törzsadat!$C:$BD,T$1,0))","v":0},{"$f":"IF(ISERROR(VLOOKUP($H15,Törzsadat!$C:$BD,13,0)),0,VLOOKUP($H15,Törzsadat!$C:$BD,U$1,0))","v":0},{"$f":"IF(ISERROR(VLOOKUP($H15,Törzsadat!$C:$BD,13,0)),0,VLOOKUP($H15,Törzsadat!$C:$BD,V$1,0))","v":0},{"$f":"IF(ISERROR(VLOOKUP($H15,Törzsadat!$C:$BD,13,0)),0,VLOOKUP($H15,Törzsadat!$C:$BD,W$1,0))","v":0},{"$f":"IF(ISERROR(VLOOKUP($H15,Törzsadat!$C:$BD,13,0)),0,VLOOKUP($H15,Törzsadat!$C:$BD,X$1,0))","v":0},{"$f":"IF(ISERROR(VLOOKUP($H15,Törzsadat!$C:$BD,13,0)),0,VLOOKUP($H15,Törzsadat!$C:$BD,Y$1,0))","v":0},{"$f":"IF(ISERROR(VLOOKUP($H15,Törzsadat!$C:$BD,13,0)),0,VLOOKUP($H15,Törzsadat!$C:$BD,Z$1,0))","v":0},{"$f":"IF(ISERROR(VLOOKUP($H15,Törzsadat!$C:$BD,13,0)),0,VLOOKUP($H15,Törzsadat!$C:$BD,AA$1,0))","v":0},{"$f":"IF(ISERROR(VLOOKUP($H15,Törzsadat!$C:$BD,13,0)),0,VLOOKUP($H15,Törzsadat!$C:$BD,AB$1,0))","v":0},{"$f":"IF(ISERROR(VLOOKUP($H15,Törzsadat!$C:$BD,13,0)),0,VLOOKUP($H15,Törzsadat!$C:$BD,AC$1,0))","v":0},{"$f":"IF(ISERROR(VLOOKUP($H15,Törzsadat!$C:$BD,13,0)),0,VLOOKUP($H15,Törzsadat!$C:$BD,AD$1,0))","v":0},{"$f":"IF(ISERROR(VLOOKUP($H15,Törzsadat!$C:$BD,13,0)),0,VLOOKUP($H15,Törzsadat!$C:$BD,AE$1,0))","v":0},{"$f":"IF(ISERROR(VLOOKUP($H15,Törzsadat!$C:$BD,13,0)),0,VLOOKUP($H15,Törzsadat!$C:$BD,AF$1,0))","v":0},{"$f":"IF(ISERROR(VLOOKUP($H15,Törzsadat!$C:$BD,13,0)),0,VLOOKUP($H15,Törzsadat!$C:$BD,AG$1,0))","v":0},{"$f":"IF(ISERROR(VLOOKUP($H15,Törzsadat!$C:$BD,13,0)),0,VLOOKUP($H15,Törzsadat!$C:$BD,AH$1,0))","v":0},{"$f":"IF(ISERROR(VLOOKUP($H15,Törzsadat!$C:$BD,13,0)),0,VLOOKUP($H15,Törzsadat!$C:$BD,AI$1,0))","v":0},{"$f":"IF(ISERROR(VLOOKUP($H15,Törzsadat!$C:$BD,13,0)),0,VLOOKUP($H15,Törzsadat!$C:$BD,AJ$1,0))","v":0},{"$f":"IF(ISERROR(VLOOKUP($H15,Törzsadat!$C:$BD,13,0)),0,VLOOKUP($H15,Törzsadat!$C:$BD,AK$1,0))","v":0},{"$f":"IF(ISERROR(VLOOKUP($H15,Törzsadat!$C:$BD,13,0)),0,VLOOKUP($H15,Törzsadat!$C:$BD,AL$1,0))","v":0},{"$f":"IF(ISERROR(VLOOKUP($H15,Törzsadat!$C:$BD,13,0)),0,VLOOKUP($H15,Törzsadat!$C:$BD,AM$1,0))","v":0},{"$f":"IF(ISERROR(VLOOKUP($H15,Törzsadat!$C:$BD,13,0)),0,VLOOKUP($H15,Törzsadat!$C:$BD,AN$1,0))","v":0},{"$f":"IF(ISERROR(VLOOKUP($H15,Törzsadat!$C:$BD,13,0)),0,VLOOKUP($H15,Törzsadat!$C:$BD,AO$1,0))","v":0},{"$f":"IF(ISERROR(VLOOKUP($H15,Törzsadat!$C:$BD,13,0)),0,VLOOKUP($H15,Törzsadat!$C:$BD,AP$1,0))","v":0},{"$f":"IF(ISERROR(VLOOKUP($H15,Törzsadat!$C:$BD,13,0)),0,VLOOKUP($H15,Törzsadat!$C:$BD,AQ$1,0))","v":0},{"$f":"IF(ISERROR(VLOOKUP($H15,Törzsadat!$C:$BD,13,0)),0,VLOOKUP($H15,Törzsadat!$C:$BD,AR$1,0))","v":0},{"$f":"IF(ISERROR(VLOOKUP($H15,Törzsadat!$C:$BD,13,0)),0,VLOOKUP($H15,Törzsadat!$C:$BD,AS$1,0))","v":0},{"$f":"IF(ISERROR(VLOOKUP($H15,Törzsadat!$C:$BD,13,0)),0,VLOOKUP($H15,Törzsadat!$C:$BD,AT$1,0))","v":0},{"$f":"IF(ISERROR(VLOOKUP($H15,Törzsadat!$C:$BD,13,0)),0,VLOOKUP($H15,Törzsadat!$C:$BD,AU$1,0))","v":0},{"$f":"IF(ISERROR(VLOOKUP($H15,Törzsadat!$C:$BD,13,0)),0,VLOOKUP($H15,Törzsadat!$C:$BD,AV$1,0))","v":0},{"$f":"IF(ISERROR(VLOOKUP($H15,Törzsadat!$C:$BD,13,0)),0,VLOOKUP($H15,Törzsadat!$C:$BD,AW$1,0))","v":0},{"$f":"IF(ISERROR(VLOOKUP($H15,Törzsadat!$C:$BD,13,0)),0,VLOOKUP($H15,Törzsadat!$C:$BD,AX$1,0))","v":0},{"$f":"IF(ISERROR(VLOOKUP($H15,Törzsadat!$C:$BD,13,0)),0,VLOOKUP($H15,Törzsadat!$C:$BD,AY$1,0))","v":0},{"$f":"IF(ISERROR(VLOOKUP($H15,Törzsadat!$C:$BD,13,0)),0,VLOOKUP($H15,Törzsadat!$C:$BD,AZ$1,0))","v":0},{"$f":"IF(ISERROR(VLOOKUP($H15,Törzsadat!$C:$BD,13,0)),0,VLOOKUP($H15,Törzsadat!$C:$BD,BA$1,0))","v":0},{"$f":"IF(ISERROR(VLOOKUP($H15,Törzsadat!$C:$BD,13,0)),0,VLOOKUP($H15,Törzsadat!$C:$BD,BB$1,0))","v":0},{"$f":"IF(ISERROR(VLOOKUP($H15,Törzsadat!$C:$BD,13,0)),0,VLOOKUP($H15,Törzsadat!$C:$BD,BC$1,0))","v":0},{"$f":"IF(ISERROR(VLOOKUP($H15,Törzsadat!$C:$BD,13,0)),0,VLOOKUP($H15,Törzsadat!$C:$BD,BD$1,0))","v":0}]
[28,"Max TU",null,0,0,null,"Kesztyű 2",{"$nulls":7},{"$f":"IF(ISERROR(VLOOKUP($H16,Törzsadat!$C:$BD,13,0)),0,VLOOKUP($H16,Törzsadat!$C:$BD,O$1,0))","v":0},{"$f":"IF(ISERROR(VLOOKUP($H16,Törzsadat!$C:$BD,13,0)),0,VLOOKUP($H16,Törzsadat!$C:$BD,P$1,0))","v":0},{"$f":"IF(ISERROR(VLOOKUP($H16,Törzsadat!$C:$BD,13,0)),0,VLOOKUP($H16,Törzsadat!$C:$BD,Q$1,0))","v":0},{"$f":"IF(ISERROR(VLOOKUP($H16,Törzsadat!$C:$BD,13,0)),0,VLOOKUP($H16,Törzsadat!$C:$BD,R$1,0))","v":0},{"$f":"IF(ISERROR(VLOOKUP($H16,Törzsadat!$C:$BD,13,0)),0,VLOOKUP($H16,Törzsadat!$C:$BD,S$1,0))","v":0},{"$f":"IF(ISERROR(VLOOKUP($H16,Törzsadat!$C:$BD,13,0)),0,VLOOKUP($H16,Törzsadat!$C:$BD,T$1,0))","v":0},{"$f":"IF(ISERROR(VLOOKUP($H16,Törzsadat!$C:$BD,13,0)),0,VLOOKUP($H16,Törzsadat!$C:$BD,U$1,0))","v":0},{"$f":"IF(ISERROR(VLOOKUP($H16,Törzsadat!$C:$BD,13,0)),0,VLOOKUP($H16,Törzsadat!$C:$BD,V$1,0))","v":0},{"$f":"IF(ISERROR(VLOOKUP($H16,Törzsadat!$C:$BD,13,0)),0,VLOOKUP($H16,Törzsadat!$C:$BD,W$1,0))","v":0},{"$f":"IF(ISERROR(VLOOKUP($H16,Törzsadat!$C:$BD,13,0)),0,VLOOKUP($H16,Törzsadat!$C:$BD,X$1,0))","v":0},{"$f":"IF(ISERROR(VLOOKUP($H16,Törzsadat!$C:$BD,13,0)),0,VLOOKUP($H16,Törzsadat!$C:$BD,Y$1,0))","v":0},{"$f":"IF(ISERROR(VLOOKUP($H16,Törzsadat!$C:$BD,13,0)),0,VLOOKUP($H16,Törzsadat!$C:$BD,Z$1,0))","v":0},{"$f":"IF(ISERROR(VLOOKUP($H16,Törzsadat!$C:$BD,13,0)),0,VLOOKUP($H16,Törzsadat!$C:$BD,AA$1,0))","v":0},{"$f":"IF(ISERROR(VLOOKUP($H16,Törzsadat!$C:$BD,13,0)),0,VLOOKUP($H16,Törzsadat!$C:$BD,AB$1,0))","v":0},{"$f":"IF(ISERROR(VLOOKUP($H16,Törzsadat!$C:$BD,13,0)),0,VLOOKUP($H16,Törzsadat!$C:$BD,AC$1,0))","v":0},{"$f":"IF(ISERROR(VLOOKUP($H16,Törzsadat!$C:$BD,13,0)),0,VLOOKUP($H16,Törzsadat!$C:$BD,AD$1,0))","v":0},{"$f":"IF(ISERROR(VLOOKUP($H16,Törzsadat!$C:$BD,13,0)),0,VLOOKUP($H16,Törzsadat!$C:$BD,AE$1,0))","v":0},{"$f":"IF(ISERROR(VLOOKUP($H16,Törzsadat!$C:$BD,13,0)),0,VLOOKUP($H16,Törzsadat!$C:$BD,AF$1,0))","v":0},{"$f":"IF(ISERROR(VLOOKUP($H16,Törzsadat!$C:$BD,13,0)),0,VLOOKUP($H16,Törzsadat!$C:$BD,AG$1,0))","v":0},{"$f":"IF(ISERROR(VLOOKUP($H16,Törzsadat!$C:$BD,13,0)),0,VLOOKUP($H16,Törzsadat!$C:$BD,AH$1,0))","v":0},{"$f":"IF(ISERROR(VLOOKUP($H16,Törzsadat!$C:$BD,13,0)),0,VLOOKUP($H16,Törzsadat!$C:$BD,AI$1,0))","v":0},{"$f":"IF(ISERROR(VLOOKUP($H16,Törzsadat!$C:$BD,13,0)),0,VLOOKUP($H16,Törzsadat!$C:$BD,AJ$1,0))","v":0},{"$f":"IF(ISERROR(VLOOKUP($H16,Törzsadat!$C:$BD,13,0)),0,VLOOKUP($H16,Törzsadat!$C:$BD,AK$1,0))","v":0},{"$f":"IF(ISERROR(VLOOKUP($H16,Törzsadat!$C:$BD,13,0)),0,VLOOKUP($H16,Törzsadat!$C:$BD,AL$1,0))","v":0},{"$f":"IF(ISERROR(VLOOKUP($H16,Törzsadat!$C:$BD,13,0)),0,VLOOKUP($H16,Törzsadat!$C:$BD,AM$1,0))","v":0},{"$f":"IF(ISERROR(VLOOKUP($H16,Törzsadat!$C:$BD,13,0)),0,VLOOKUP($H16,Törzsadat!$C:$BD,AN$1,0))","v":0},{"$f":"IF(ISERROR(VLOOKUP($H16,Törzsadat!$C:$BD,13,0)),0,VLOOKUP($H16,Törzsadat!$C:$BD,AO$1,0))","v":0},{"$f":"IF(ISERROR(VLOOKUP($H16,Törzsadat!$C:$BD,13,0)),0,VLOOKUP($H16,Törzsadat!$C:$BD,AP$1,0))","v":0},{"$f":"IF(ISERROR(VLOOKUP($H16,Törzsadat!$C:$BD,13,0)),0,VLOOKUP($H16,Törzsadat!$C:$BD,AQ$1,0))","v":0},{"$f":"IF(ISERROR(VLOOKUP($H16,Törzsadat!$C:$BD,13,0)),0,VLOOKUP($H16,Törzsadat!$C:$BD,AR$1,0))","v":0},{"$f":"IF(ISERROR(VLOOKUP($H16,Törzsadat!$C:$BD,13,0)),0,VLOOKUP($H16,Törzsadat!$C:$BD,AS$1,0))","v":0},{"$f":"IF(ISERROR(VLOOKUP($H16,Törzsadat!$C:$BD,13,0)),0,VLOOKUP($H16,Törzsadat!$C:$BD,AT$1,0))","v":0},{"$f":"IF(ISERROR(VLOOKUP($H16,Törzsadat!$C:$BD,13,0)),0,VLOOKUP($H16,Törzsadat!$C:$BD,AU$1,0))","v":0},{"$f":"IF(ISERROR(VLOOKUP($H16,Törzsadat!$C:$BD,13,0)),0,VLOOKUP($H16,Törzsadat!$C:$BD,AV$1,0))","v":0},{"$f":"IF(ISERROR(VLOOKUP($H16,Törzsadat!$C:$BD,13,0)),0,VLOOKUP($H16,Törzsadat!$C:$BD,AW$1,0))","v":0},{"$f":"IF(ISERROR(VLOOKUP($H16,Törzsadat!$C:$BD,13,0)),0,VLOOKUP($H16,Törzsadat!$C:$BD,AX$1,0))","v":0},{"$f":"IF(ISERROR(VLOOKUP($H16,Törzsadat!$C:$BD,13,0)),0,VLOOKUP($H16,Törzsadat!$C:$BD,AY$1,0))","v":0},{"$f":"IF(ISERROR(VLOOKUP($H16,Törzsadat!$C:$BD,13,0)),0,VLOOKUP($H16,Törzsadat!$C:$BD,AZ$1,0))","v":0},{"$f":"IF(ISERROR(VLOOKUP($H16,Törzsadat!$C:$BD,13,0)),0,VLOOKUP($H16,Törzsadat!$C:$BD,BA$1,0))","v":0},{"$f":"IF(ISERROR(VLOOKUP($H16,Törzsadat!$C:$BD,13,0)),0,VLOOKUP($H16,Törzsadat!$C:$BD,BB$1,0))","v":0},{"$f":"IF(ISERROR(VLOOKUP($H16,Törzsadat!$C:$BD,13,0)),0,VLOOKUP($H16,Törzsadat!$C:$BD,BC$1,0))","v":0},{"$f":"IF(ISERROR(VLOOKUP($H16,Törzsadat!$C:$BD,13,0)),0,VLOOKUP($H16,Törzsadat!$C:$BD,BD$1,0))","v":0}]
[29,"Támadás",null,0,0,null,"Csizma",{"$nulls":7},{"$f":"IF(ISERROR(VLOOKUP($H17,Törzsadat!$C:$BD,13,0)),0,VLOOKUP($H17,Törzsadat!$C:$BD,O$1,0))","v":0},{"$f":"IF(ISERROR(VLOOKUP($H17,Törzsadat!$C:$BD,13,0)),0,VLOOKUP($H17,Törzsadat!$C:$BD,P$1,0))","v":0},{"$f":"IF(ISERROR(VLOOKUP($H17,Törzsadat!$C:$BD,13,0)),0,VLOOKUP($H17,Törzsadat!$C:$BD,Q$1,0))","v":0},{"$f":"IF(ISERROR(VLOOKUP($H17,Törzsadat!$C:$BD,13,0)),0,VLOOKUP($H17,Törzsadat!$C:$BD,R$1,0))","v":0},{"$f":"IF(ISERROR(VLOOKUP($H17,Törzsadat!$C:$BD,13,0)),0,VLOOKUP($H17,Törzsadat!$C:$BD,S$1,0))","v":0},{"$f":"IF(ISERROR(VLOOKUP($H17,Törzsadat!$C:$BD,13,0)),0,VLOOKUP($H17,Törzsadat!$C:$BD,T$1,0))","v":0},{"$f":"IF(ISERROR(VLOOKUP($H17,Törzsadat!$C:$BD,13,0)),0,VLOOKUP($H17,Törzsadat!$C:$BD,U$1,0))","v":0},{"$f":"IF(ISERROR(VLOOKUP($H17,Törzsadat!$C:$BD,13,0)),0,VLOOKUP($H17,Törzsadat!$C:$BD,V$1,0))","v":0},{"$f":"IF(ISERROR(VLOOKUP($H17,Törzsadat!$C:$BD,13,0)),0,VLOOKUP($H17,Törzsadat!$C:$BD,W$1,0))","v":0},{"$f":"IF(ISERROR(VLOOKUP($H17,Törzsadat!$C:$BD,13,0)),0,VLOOKUP($H17,Törzsadat!$C:$BD,X$1,0))","v":0},{"$f":"IF(ISERROR(VLOOKUP($H17,Törzsadat!$C:$BD,13,0)),0,VLOOKUP($H17,Törzsadat!$C:$BD,Y$1,0))","v":0},{"$f":"IF(ISERROR(VLOOKUP($H17,Törzsadat!$C:$BD,13,0)),0,VLOOKUP($H17,Törzsadat!$C:$BD,Z$1,0))","v":0},{"$f":"IF(ISERROR(VLOOKUP($H17,Törzsadat!$C:$BD,13,0)),0,VLOOKUP($H17,Törzsadat!$C:$BD,AA$1,0))","v":0},{"$f":"IF(ISERROR(VLOOKUP($H17,Törzsadat!$C:$BD,13,0)),0,VLOOKUP($H17,Törzsadat!$C:$BD,AB$1,0))","v":0},{"$f":"IF(ISERROR(VLOOKUP($H17,Törzsadat!$C:$BD,13,0)),0,VLOOKUP($H17,Törzsadat!$C:$BD,AC$1,0))","v":0},{"$f":"IF(ISERROR(VLOOKUP($H17,Törzsadat!$C:$BD,13,0)),0,VLOOKUP($H17,Törzsadat!$C:$BD,AD$1,0))","v":0},{"$f":"IF(ISERROR(VLOOKUP($H17,Törzsadat!$C:$BD,13,0)),0,VLOOKUP($H17,Törzsadat!$C:$BD,AE$1,0))","v":0},{"$f":"IF(ISERROR(VLOOKUP($H17,Törzsadat!$C:$BD,13,0)),0,VLOOKUP($H17,Törzsadat!$C:$BD,AF$1,0))","v":0},{"$f":"IF(ISERROR(VLOOKUP($H17,Törzsadat!$C:$BD,13,0)),0,VLOOKUP($H17,Törzsadat!$C:$BD,AG$1,0))","v":0},{"$f":"IF(ISERROR(VLOOKUP($H17,Törzsadat!$C:$BD,13,0)),0,VLOOKUP($H17,Törzsadat!$C:$BD,AH$1,0))","v":0},{"$f":"IF(ISERROR(VLOOKUP($H17,Törzsadat!$C:$BD,13,0)),0,VLOOKUP($H17,Törzsadat!$C:$BD,AI$1,0))","v":0},{"$f":"IF(ISERROR(VLOOKUP($H17,Törzsadat!$C:$BD,13,0)),0,VLOOKUP($H17,Törzsadat!$C:$BD,AJ$1,0))","v":0},{"$f":"IF(ISERROR(VLOOKUP($H17,Törzsadat!$C:$BD,13,0)),0,VLOOKUP($H17,Törzsadat!$C:$BD,AK$1,0))","v":0},{"$f":"IF(ISERROR(VLOOKUP($H17,Törzsadat!$C:$BD,13,0)),0,VLOOKUP($H17,Törzsadat!$C:$BD,AL$1,0))","v":0},{"$f":"IF(ISERROR(VLOOKUP($H17,Törzsadat!$C:$BD,13,0)),0,VLOOKUP($H17,Törzsadat!$C:$BD,AM$1,0))","v":0},{"$f":"IF(ISERROR(VLOOKUP($H17,Törzsadat!$C:$BD,13,0)),0,VLOOKUP($H17,Törzsadat!$C:$BD,AN$1,0))","v":0},{"$f":"IF(ISERROR(VLOOKUP($H17,Törzsadat!$C:$BD,13,0)),0,VLOOKUP($H17,Törzsadat!$C:$BD,AO$1,0))","v":0},{"$f":"IF(ISERROR(VLOOKUP($H17,Törzsadat!$C:$BD,13,0)),0,VLOOKUP($H17,Törzsadat!$C:$BD,AP$1,0))","v":0},{"$f":"IF(ISERROR(VLOOKUP($H17,Törzsadat!$C:$BD,13,0)),0,VLOOKUP($H17,Törzsadat!$C:$BD,AQ$1,0))","v":0},{"$f":"IF(ISERROR(VLOOKUP($H17,Törzsadat!$C:$BD,13,0)),0,VLOOKUP($H17,Törzsadat!$C:$BD,AR$1,0))","v":0},{"$f":"IF(ISERROR(VLOOKUP($H17,Törzsadat!$C:$BD,13,0)),0,VLOOKUP($H17,Törzsadat!$C:$BD,AS$1,0))","v":0},{"$f":"IF(ISERROR(VLOOKUP($H17,Törzsadat!$C:$BD,13,0)),0,VLOOKUP($H17,Törzsadat!$C:$BD,AT$1,0))","v":0},{"$f":"IF(ISERROR(VLOOKUP($H17,Törzsadat!$C:$BD,13,0)),0,VLOOKUP($H17,Törzsadat!$C:$BD,AU$1,0))","v":0},{"$f":"IF(ISERROR(VLOOKUP($H17,Törzsadat!$C:$BD,13,0)),0,VLOOKUP($H17,Törzsadat!$C:$BD,AV$1,0))","v":0},{"$f":"IF(ISERROR(VLOOKUP($H17,Törzsadat!$C:$BD,13,0)),0,VLOOKUP($H17,Törzsadat!$C:$BD,AW$1,0))","v":0},{"$f":"IF(ISERROR(VLOOKUP($H17,Törzsadat!$C:$BD,13,0)),0,VLOOKUP($H17,Törzsadat!$C:$BD,AX$1,0))","v":0},{"$f":"IF(ISERROR(VLOOKUP($H17,Törzsadat!$C:$BD,13,0)),0,VLOOKUP($H17,Törzsadat!$C:$BD,AY$1,0))","v":0},{"$f":"IF(ISERROR(VLOOKUP($H17,Törzsadat!$C:$BD,13,0)),0,VLOOKUP($H17,Törzsadat!$C:$BD,AZ$1,0))","v":0},{"$f":"IF(ISERROR(VLOOKUP($H17,Törzsadat!$C:$BD,13,0)),0,VLOOKUP($H17,Törzsadat!$C:$BD,BA$1,0))","v":0},{"$f":"IF(ISERROR(VLOOKUP($H17,Törzsadat!$C:$BD,13,0)),0,VLOOKUP($H17,Törzsadat!$C:$BD,BB$1,0))","v":0},{"$f":"IF(ISERROR(VLOOKUP($H17,Törzsadat!$C:$BD,13,0)),0,VLOOKUP($H17,Törzsadat!$C:$BD,BC$1,0))","v":0},{"$f":"IF(ISERROR(VLOOKUP($H17,Törzsadat!$C:$BD,13,0)),0,VLOOKUP($H17,Törzsadat!$C:$BD,BD$1,0))","v":0}]
[30,"Lőfegyver támadás",null,0,0,null,"Csizma 2",{"$nulls":7},{"$f":"IF(ISERROR(VLOOKUP($H18,Törzsadat!$C:$BD,13,0)),0,VLOOKUP($H18,Törzsadat!$C:$BD,O$1,0))","v":0},{"$f":"IF(ISERROR(VLOOKUP($H18,Törzsadat!$C:$BD,13,0)),0,VLOOKUP($H18,Törzsadat!$C:$BD,P$1,0))","v":0},{"$f":"IF(ISERROR(VLOOKUP($H18,Törzsadat!$C:$BD,13,0)),0,VLOOKUP($H18,Törzsadat!$C:$BD,Q$1,0))","v":0},{"$f":"IF(ISERROR(VLOOKUP($H18,Törzsadat!$C:$BD,13,0)),0,VLOOKUP($H18,Törzsadat!$C:$BD,R$1,0))","v":0},{"$f":"IF(ISERROR(VLOOKUP($H18,Törzsadat!$C:$BD,13,0)),0,VLOOKUP($H18,Törzsadat!$C:$BD,S$1,0))","v":0},{"$f":"IF(ISERROR(VLOOKUP($H18,Törzsadat!$C:$BD,13,0)),0,VLOOKUP($H18,Törzsadat!$C:$BD,T$1,0))","v":0},{"$f":"IF(ISERROR(VLOOKUP($H18,Törzsadat!$C:$BD,13,0)),0,VLOOKUP($H18,Törzsadat!$C:$BD,U$1,0))","v":0},{"$f":"IF(ISERROR(VLOOKUP($H18,Törzsadat!$C:$BD,13,0)),0,VLOOKUP($H18,Törzsadat!$C:$BD,V$1,0))","v":0},{"$f":"IF(ISERROR(VLOOKUP($H18,Törzsadat!$C:$BD,13,0)),0,VLOOKUP($H18,Törzsadat!$C:$BD,W$1,0))","v":0},{"$f":"IF(ISERROR(VLOOKUP($H18,Törzsadat!$C:$BD,13,0)),0,VLOOKUP($H18,Törzsadat!$C:$BD,X$1,0))","v":0},{"$f":"IF(ISERROR(VLOOKUP($H18,Törzsadat!$C:$BD,13,0)),0,VLOOKUP($H18,Törzsadat!$C:$BD,Y$1,0))","v":0},{"$f":"IF(ISERROR(VLOOKUP($H18,Törzsadat!$C:$BD,13,0)),0,VLOOKUP($H18,Törzsadat!$C:$BD,Z$1,0))","v":0},{"$f":"IF(ISERROR(VLOOKUP($H18,Törzsadat!$C:$BD,13,0)),0,VLOOKUP($H18,Törzsadat!$C:$BD,AA$1,0))","v":0},{"$f":"IF(ISERROR(VLOOKUP($H18,Törzsadat!$C:$BD,13,0)),0,VLOOKUP($H18,Törzsadat!$C:$BD,AB$1,0))","v":0},{"$f":"IF(ISERROR(VLOOKUP($H18,Törzsadat!$C:$BD,13,0)),0,VLOOKUP($H18,Törzsadat!$C:$BD,AC$1,0))","v":0},{"$f":"IF(ISERROR(VLOOKUP($H18,Törzsadat!$C:$BD,13,0)),0,VLOOKUP($H18,Törzsadat!$C:$BD,AD$1,0))","v":0},{"$f":"IF(ISERROR(VLOOKUP($H18,Törzsadat!$C:$BD,13,0)),0,VLOOKUP($H18,Törzsadat!$C:$BD,AE$1,0))","v":0},{"$f":"IF(ISERROR(VLOOKUP($H18,Törzsadat!$C:$BD,13,0)),0,VLOOKUP($H18,Törzsadat!$C:$BD,AF$1,0))","v":0},{"$f":"IF(ISERROR(VLOOKUP($H18,Törzsadat!$C:$BD,13,0)),0,VLOOKUP($H18,Törzsadat!$C:$BD,AG$1,0))","v":0},{"$f":"IF(ISERROR(VLOOKUP($H18,Törzsadat!$C:$BD,13,0)),0,VLOOKUP($H18,Törzsadat!$C:$BD,AH$1,0))","v":0},{"$f":"IF(ISERROR(VLOOKUP($H18,Törzsadat!$C:$BD,13,0)),0,VLOOKUP($H18,Törzsadat!$C:$BD,AI$1,0))","v":0},{"$f":"IF(ISERROR(VLOOKUP($H18,Törzsadat!$C:$BD,13,0)),0,VLOOKUP($H18,Törzsadat!$C:$BD,AJ$1,0))","v":0},{"$f":"IF(ISERROR(VLOOKUP($H18,Törzsadat!$C:$BD,13,0)),0,VLOOKUP($H18,Törzsadat!$C:$BD,AK$1,0))","v":0},{"$f":"IF(ISERROR(VLOOKUP($H18,Törzsadat!$C:$BD,13,0)),0,VLOOKUP($H18,Törzsadat!$C:$BD,AL$1,0))","v":0},{"$f":"IF(ISERROR(VLOOKUP($H18,Törzsadat!$C:$BD,13,0)),0,VLOOKUP($H18,Törzsadat!$C:$BD,AM$1,0))","v":0},{"$f":"IF(ISERROR(VLOOKUP($H18,Törzsadat!$C:$BD,13,0)),0,VLOOKUP($H18,Törzsadat!$C:$BD,AN$1,0))","v":0},{"$f":"IF(ISERROR(VLOOKUP($H18,Törzsadat!$C:$BD,13,0)),0,VLOOKUP($H18,Törzsadat!$C:$BD,AO$1,0))","v":0},{"$f":"IF(ISERROR(VLOOKUP($H18,Törzsadat!$C:$BD,13,0)),0,VLOOKUP($H18,Törzsadat!$C:$BD,AP$1,0))","v":0},{"$f":"IF(ISERROR(VLOOKUP($H18,Törzsadat!$C:$BD,13,0)),0,VLOOKUP($H18,Törzsadat!$C:$BD,AQ$1,0))","v":0},{"$f":"IF(ISERROR(VLOOKUP($H18,Törzsadat!$C:$BD,13,0)),0,VLOOKUP($H18,Törzsadat!$C:$BD,AR$1,0))","v":0},{"$f":"IF(ISERROR(VLOOKUP($H18,Törzsadat!$C:$BD,13,0)),0,VLOOKUP($H18,Törzsadat!$C:$BD,AS$1,0))","v":0},{"$f":"IF(ISERROR(VLOOKUP($H18,Törzsadat!$C:$BD,13,0)),0,VLOOKUP($H18,Törzsadat!$C:$BD,AT$1,0))","v":0},{"$f":"IF(ISERROR(VLOOKUP($H18,Törzsadat!$C:$BD,13,0)),0,VLOOKUP($H18,Törzsadat!$C:$BD,AU$1,0))","v":0},{"$f":"IF(ISERROR(VLOOKUP($H18,Törzsadat!$C:$BD,13,0)),0,VLOOKUP($H18,Törzsadat!$C:$BD,AV$1,0))","v":0},{"$f":"IF(ISERROR(VLOOKUP($H18,Törzsadat!$C:$BD,13,0)),0,VLOOKUP($H18,Törzsadat!$C:$BD,AW$1,0))","v":0},{"$f":"IF(ISERROR(VLOOKUP($H18,Törzsadat!$C:$BD,13,0)),0,VLOOKUP($H18,Törzsadat!$C:$BD,AX$1,0))","v":0},{"$f":"IF(ISERROR(VLOOKUP($H18,Törzsadat!$C:$BD,13,0)),0,VLOOKUP($H18,Törzsadat!$C:$BD,AY$1,0))","v":0},{"$f":"IF(ISERROR(VLOOKUP($H18,Törzsadat!$C:$BD,13,0)),0,VLOOKUP($H18,Törzsadat!$C:$BD,AZ$1,0))","v":0},{"$f":"IF(ISERROR(VLOOKUP($H18,Törzsadat!$C:$BD,13,0)),0,VLOOKUP($H18,Törzsadat!$C:$BD,BA$1,0))","v":0},{"$f":"IF(ISERROR(VLOOKUP($H18,Törzsadat!$C:$BD,13,0)),0,VLOOKUP($H18,Törzsadat!$C:$BD,BB$1,0))","v":0},{"$f":"IF(ISERROR(VLOOKUP($H18,Törzsadat!$C:$BD,13,0)),0,VLOOKUP($H18,Törzsadat!$C:$BD,BC$1,0))","v":0},{"$f":"IF(ISERROR(VLOOKUP($H18,Törzsadat!$C:$BD,13,0)),0,VLOOKUP($H18,Törzsadat!$C:$BD,BD$1,0))","v":0}]
[31,"Közelharci támadás szám",null,0,0,null,"Köpeny",{"$nulls":7},{"$f":"IF(ISERROR(VLOOKUP($H19,Törzsadat!$C:$BD,13,0)),0,VLOOKUP($H19,Törzsadat!$C:$BD,O$1,0))","v":0},{"$f":"IF(ISERROR(VLOOKUP($H19,Törzsadat!$C:$BD,13,0)),0,VLOOKUP($H19,Törzsadat!$C:$BD,P$1,0))","v":0},{"$f":"IF(ISERROR(VLOOKUP($H19,Törzsadat!$C:$BD,13,0)),0,VLOOKUP($H19,Törzsadat!$C:$BD,Q$1,0))","v":0},{"$f":"IF(ISERROR(VLOOKUP($H19,Törzsadat!$C:$BD,13,0)),0,VLOOKUP($H19,Törzsadat!$C:$BD,R$1,0))","v":0},{"$f":"IF(ISERROR(VLOOKUP($H19,Törzsadat!$C:$BD,13,0)),0,VLOOKUP($H19,Törzsadat!$C:$BD,S$1,0))","v":0},{"$f":"IF(ISERROR(VLOOKUP($H19,Törzsadat!$C:$BD,13,0)),0,VLOOKUP($H19,Törzsadat!$C:$BD,T$1,0))","v":0},{"$f":"IF(ISERROR(VLOOKUP($H19,Törzsadat!$C:$BD,13,0)),0,VLOOKUP($H19,Törzsadat!$C:$BD,U$1,0))","v":0},{"$f":"IF(ISERROR(VLOOKUP($H19,Törzsadat!$C:$BD,13,0)),0,VLOOKUP($H19,Törzsadat!$C:$BD,V$1,0))","v":0},{"$f":"IF(ISERROR(VLOOKUP($H19,Törzsadat!$C:$BD,13,0)),0,VLOOKUP($H19,Törzsadat!$C:$BD,W$1,0))","v":0},{"$f":"IF(ISERROR(VLOOKUP($H19,Törzsadat!$C:$BD,13,0)),0,VLOOKUP($H19,Törzsadat!$C:$BD,X$1,0))","v":0},{"$f":"IF(ISERROR(VLOOKUP($H19,Törzsadat!$C:$BD,13,0)),0,VLOOKUP($H19,Törzsadat!$C:$BD,Y$1,0))","v":0},{"$f":"IF(ISERROR(VLOOKUP($H19,Törzsadat!$C:$BD,13,0)),0,VLOOKUP($H19,Törzsadat!$C:$BD,Z$1,0))","v":0},{"$f":"IF(ISERROR(VLOOKUP($H19,Törzsadat!$C:$BD,13,0)),0,VLOOKUP($H19,Törzsadat!$C:$BD,AA$1,0))","v":0},{"$f":"IF(ISERROR(VLOOKUP($H19,Törzsadat!$C:$BD,13,0)),0,VLOOKUP($H19,Törzsadat!$C:$BD,AB$1,0))","v":0},{"$f":"IF(ISERROR(VLOOKUP($H19,Törzsadat!$C:$BD,13,0)),0,VLOOKUP($H19,Törzsadat!$C:$BD,AC$1,0))","v":0},{"$f":"IF(ISERROR(VLOOKUP($H19,Törzsadat!$C:$BD,13,0)),0,VLOOKUP($H19,Törzsadat!$C:$BD,AD$1,0))","v":0},{"$f":"IF(ISERROR(VLOOKUP($H19,Törzsadat!$C:$BD,13,0)),0,VLOOKUP($H19,Törzsadat!$C:$BD,AE$1,0))","v":0},{"$f":"IF(ISERROR(VLOOKUP($H19,Törzsadat!$C:$BD,13,0)),0,VLOOKUP($H19,Törzsadat!$C:$BD,AF$1,0))","v":0},{"$f":"IF(ISERROR(VLOOKUP($H19,Törzsadat!$C:$BD,13,0)),0,VLOOKUP($H19,Törzsadat!$C:$BD,AG$1,0))","v":0},{"$f":"IF(ISERROR(VLOOKUP($H19,Törzsadat!$C:$BD,13,0)),0,VLOOKUP($H19,Törzsadat!$C:$BD,AH$1,0))","v":0},{"$f":"IF(ISERROR(VLOOKUP($H19,Törzsadat!$C:$BD,13,0)),0,VLOOKUP($H19,Törzsadat!$C:$BD,AI$1,0))","v":0},{"$f":"IF(ISERROR(VLOOKUP($H19,Törzsadat!$C:$BD,13,0)),0,VLOOKUP($H19,Törzsadat!$C:$BD,AJ$1,0))","v":0},{"$f":"IF(ISERROR(VLOOKUP($H19,Törzsadat!$C:$BD,13,0)),0,VLOOKUP($H19,Törzsadat!$C:$BD,AK$1,0))","v":0},{"$f":"IF(ISERROR(VLOOKUP($H19,Törzsadat!$C:$BD,13,0)),0,VLOOKUP($H19,Törzsadat!$C:$BD,AL$1,0))","v":0},{"$f":"IF(ISERROR(VLOOKUP($H19,Törzsadat!$C:$BD,13,0)),0,VLOOKUP($H19,Törzsadat!$C:$BD,AM$1,0))","v":0},{"$f":"IF(ISERROR(VLOOKUP($H19,Törzsadat!$C:$BD,13,0)),0,VLOOKUP($H19,Törzsadat!$C:$BD,AN$1,0))","v":0},{"$f":"IF(ISERROR(VLOOKUP($H19,Törzsadat!$C:$BD,13,0)),0,VLOOKUP($H19,Törzsadat!$C:$BD,AO$1,0))","v":0},{"$f":"IF(ISERROR(VLOOKUP($H19,Törzsadat!$C:$BD,13,0)),0,VLOOKUP($H19,Törzsadat!$C:$BD,AP$1,0))","v":0},{"$f":"IF(ISERROR(VLOOKUP($H19,Törzsadat!$C:$BD,13,0)),0,VLOOKUP($H19,Törzsadat!$C:$BD,AQ$1,0))","v":0},{"$f":"IF(ISERROR(VLOOKUP($H19,Törzsadat!$C:$BD,13,0)),0,VLOOKUP($H19,Törzsadat!$C:$BD,AR$1,0))","v":0},{"$f":"IF(ISERROR(VLOOKUP($H19,Törzsadat!$C:$BD,13,0)),0,VLOOKUP($H19,Törzsadat!$C:$BD,AS$1,0))","v":0},{"$f":"IF(ISERROR(VLOOKUP($H19,Törzsadat!$C:$BD,13,0)),0,VLOOKUP($H19,Törzsadat!$C:$BD,AT$1,0))","v":0},{"$f":"IF(ISERROR(VLOOKUP($H19,Törzsadat!$C:$BD,13,0)),0,VLOOKUP($H19,Törzsadat!$C:$BD,AU$1,0))","v":0},{"$f":"IF(ISERROR(VLOOKUP($H19,Törzsadat!$C:$BD,13,0)),0,VLOOKUP($H19,Törzsadat!$C:$BD,AV$1,0))","v":0},{"$f":"IF(ISERROR(VLOOKUP($H19,Törzsadat!$C:$BD,13,0)),0,VLOOKUP($H19,Törzsadat!$C:$BD,AW$1,0))","v":0},{"$f":"IF(ISERROR(VLOOKUP($H19,Törzsadat!$C:$BD,13,0)),0,VLOOKUP($H19,Törzsadat!$C:$BD,AX$1,0))","v":0},{"$f":"IF(ISERROR(VLOOKUP($H19,Törzsadat!$C:$BD,13,0)),0,VLOOKUP($H19,Törzsadat!$C:$BD,AY$1,0))","v":0},{"$f":"IF(ISERROR(VLOOKUP($H19,Törzsadat!$C:$BD,13,0)),0,VLOOKUP($H19,Törzsadat!$C:$BD,AZ$1,0))","v":0},{"$f":"IF(ISERROR(VLOOKUP($H19,Törzsadat!$C:$BD,13,0)),0,VLOOKUP($H19,Törzsadat!$C:$BD,BA$1,0))","v":0},{"$f":"IF(ISERROR(VLOOKUP($H19,Törzsadat!$C:$BD,13,0)),0,VLOOKUP($H19,Törzsadat!$C:$BD,BB$1,0))","v":0},{"$f":"IF(ISERROR(VLOOKUP($H19,Törzsadat!$C:$BD,13,0)),0,VLOOKUP($H19,Törzsadat!$C:$BD,BC$1,0))","v":0},{"$f":"IF(ISERROR(VLOOKUP($H19,Törzsadat!$C:$BD,13,0)),0,VLOOKUP($H19,Törzsadat!$C:$BD,BD$1,0))","v":0}]
[32,"Lőfegyver támadás szám",null,0,0,null,"Köpeny 2",{"$nulls":7},{"$f":"IF(ISERROR(VLOOKUP($H20,Törzsadat!$C:$BD,13,0)),0,VLOOKUP($H20,Törzsadat!$C:$BD,O$1,0))","v":0},{"$f":"IF(ISERROR(VLOOKUP($H20,Törzsadat!$C:$BD,13,0)),0,VLOOKUP($H20,Törzsadat!$C:$BD,P$1,0))","v":0},{"$f":"IF(ISERROR(VLOOKUP($H20,Törzsadat!$C:$BD,13,0)),0,VLOOKUP($H20,Törzsadat!$C:$BD,Q$1,0))","v":0},{"$f":"IF(ISERROR(VLOOKUP($H20,Törzsadat!$C:$BD,13,0)),0,VLOOKUP($H20,Törzsadat!$C:$BD,R$1,0))","v":0},{"$f":"IF(ISERROR(VLOOKUP($H20,Törzsadat!$C:$BD,13,0)),0,VLOOKUP($H20,Törzsadat!$C:$BD,S$1,0))","v":0},{"$f":"IF(ISERROR(VLOOKUP($H20,Törzsadat!$C:$BD,13,0)),0,VLOOKUP($H20,Törzsadat!$C:$BD,T$1,0))","v":0},{"$f":"IF(ISERROR(VLOOKUP($H20,Törzsadat!$C:$BD,13,0)),0,VLOOKUP($H20,Törzsadat!$C:$BD,U$1,0))","v":0},{"$f":"IF(ISERROR(VLOOKUP($H20,Törzsadat!$C:$BD,13,0)),0,VLOOKUP($H20,Törzsadat!$C:$BD,V$1,0))","v":0},{"$f":"IF(ISERROR(VLOOKUP($H20,Törzsadat!$C:$BD,13,0)),0,VLOOKUP($H20,Törzsadat!$C:$BD,W$1,0))","v":0},{"$f":"IF(ISERROR(VLOOKUP($H20,Törzsadat!$C:$BD,13,0)),0,VLOOKUP($H20,Törzsadat!$C:$BD,X$1,0))","v":0},{"$f":"IF(ISERROR(VLOOKUP($H20,Törzsadat!$C:$BD,13,0)),0,VLOOKUP($H20,Törzsadat!$C:$BD,Y$1,0))","v":0},{"$f":"IF(ISERROR(VLOOKUP($H20,Törzsadat!$C:$BD,13,0)),0,VLOOKUP($H20,Törzsadat!$C:$BD,Z$1,0))","v":0},{"$f":"IF(ISERROR(VLOOKUP($H20,Törzsadat!$C:$BD,13,0)),0,VLOOKUP($H20,Törzsadat!$C:$BD,AA$1,0))","v":0},{"$f":"IF(ISERROR(VLOOKUP($H20,Törzsadat!$C:$BD,13,0)),0,VLOOKUP($H20,Törzsadat!$C:$BD,AB$1,0))","v":0},{"$f":"IF(ISERROR(VLOOKUP($H20,Törzsadat!$C:$BD,13,0)),0,VLOOKUP($H20,Törzsadat!$C:$BD,AC$1,0))","v":0},{"$f":"IF(ISERROR(VLOOKUP($H20,Törzsadat!$C:$BD,13,0)),0,VLOOKUP($H20,Törzsadat!$C:$BD,AD$1,0))","v":0},{"$f":"IF(ISERROR(VLOOKUP($H20,Törzsadat!$C:$BD,13,0)),0,VLOOKUP($H20,Törzsadat!$C:$BD,AE$1,0))","v":0},{"$f":"IF(ISERROR(VLOOKUP($H20,Törzsadat!$C:$BD,13,0)),0,VLOOKUP($H20,Törzsadat!$C:$BD,AF$1,0))","v":0},{"$f":"IF(ISERROR(VLOOKUP($H20,Törzsadat!$C:$BD,13,0)),0,VLOOKUP($H20,Törzsadat!$C:$BD,AG$1,0))","v":0},{"$f":"IF(ISERROR(VLOOKUP($H20,Törzsadat!$C:$BD,13,0)),0,VLOOKUP($H20,Törzsadat!$C:$BD,AH$1,0))","v":0},{"$f":"IF(ISERROR(VLOOKUP($H20,Törzsadat!$C:$BD,13,0)),0,VLOOKUP($H20,Törzsadat!$C:$BD,AI$1,0))","v":0},{"$f":"IF(ISERROR(VLOOKUP($H20,Törzsadat!$C:$BD,13,0)),0,VLOOKUP($H20,Törzsadat!$C:$BD,AJ$1,0))","v":0},{"$f":"IF(ISERROR(VLOOKUP($H20,Törzsadat!$C:$BD,13,0)),0,VLOOKUP($H20,Törzsadat!$C:$BD,AK$1,0))","v":0},{"$f":"IF(ISERROR(VLOOKUP($H20,Törzsadat!$C:$BD,13,0)),0,VLOOKUP($H20,Törzsadat!$C:$BD,AL$1,0))","v":0},{"$f":"IF(ISERROR(VLOOKUP($H20,Törzsadat!$C:$BD,13,0)),0,VLOOKUP($H20,Törzsadat!$C:$BD,AM$1,0))","v":0},{"$f":"IF(ISERROR(VLOOKUP($H20,Törzsadat!$C:$BD,13,0)),0,VLOOKUP($H20,Törzsadat!$C:$BD,AN$1,0))","v":0},{"$f":"IF(ISERROR(VLOOKUP($H20,Törzsadat!$C:$BD,13,0)),0,VLOOKUP($H20,Törzsadat!$C:$BD,AO$1,0))","v":0},{"$f":"IF(ISERROR(VLOOKUP($H20,Törzsadat!$C:$BD,13,0)),0,VLOOKUP($H20,Törzsadat!$C:$BD,AP$1,0))","v":0},{"$f":"IF(ISERROR(VLOOKUP($H20,Törzsadat!$C:$BD,13,0)),0,VLOOKUP($H20,Törzsadat!$C:$BD,AQ$1,0))","v":0},{"$f":"IF(ISERROR(VLOOKUP($H20,Törzsadat!$C:$BD,13,0)),0,VLOOKUP($H20,Törzsadat!$C:$BD,AR$1,0))","v":0},{"$f":"IF(ISERROR(VLOOKUP($H20,Törzsadat!$C:$BD,13,0)),0,VLOOKUP($H20,Törzsadat!$C:$BD,AS$1,0))","v":0},{"$f":"IF(ISERROR(VLOOKUP($H20,Törzsadat!$C:$BD,13,0)),0,VLOOKUP($H20,Törzsadat!$C:$BD,AT$1,0))","v":0},{"$f":"IF(ISERROR(VLOOKUP($H20,Törzsadat!$C:$BD,13,0)),0,VLOOKUP($H20,Törzsadat!$C:$BD,AU$1,0))","v":0},{"$f":"IF(ISERROR(VLOOKUP($H20,Törzsadat!$C:$BD,13,0)),0,VLOOKUP($H20,Törzsadat!$C:$BD,AV$1,0))","v":0},{"$f":"IF(ISERROR(VLOOKUP($H20,Törzsadat!$C:$BD,13,0)),0,VLOOKUP($H20,Törzsadat!$C:$BD,AW$1,0))","v":0},{"$f":"IF(ISERROR(VLOOKUP($H20,Törzsadat!$C:$BD,13,0)),0,VLOOKUP($H20,Törzsadat!$C:$BD,AX$1,0))","v":0},{"$f":"IF(ISERROR(VLOOKUP($H20,Törzsadat!$C:$BD,13,0)),0,VLOOKUP($H20,Törzsadat!$C:$BD,AY$1,0))","v":0},{"$f":"IF(ISERROR(VLOOKUP($H20,Törzsadat!$C:$BD,13,0)),0,VLOOKUP($H20,Törzsadat!$C:$BD,AZ$1,0))","v":0},{"$f":"IF(ISERROR(VLOOKUP($H20,Törzsadat!$C:$BD,13,0)),0,VLOOKUP($H20,Törzsadat!$C:$BD,BA$1,0))","v":0},{"$f":"IF(ISERROR(VLOOKUP($H20,Törzsadat!$C:$BD,13,0)),0,VLOOKUP($H20,Törzsadat!$C:$BD,BB$1,0))","v":0},{"$f":"IF(ISERROR(VLOOKUP($H20,Törzsadat!$C:$BD,13,0)),0,VLOOKUP($H20,Törzsadat!$C:$BD,BC$1,0))","v":0},{"$f":"IF(ISERROR(VLOOKUP($H20,Törzsadat!$C:$BD,13,0)),0,VLOOKUP($H20,Törzsadat!$C:$BD,BD$1,0))","v":0}]
[33,"Védő",null,0,0,null,"Köpeny 3",{"$nulls":7},{"$f":"IF(ISERROR(VLOOKUP($H21,Törzsadat!$C:$BD,13,0)),0,VLOOKUP($H21,Törzsadat!$C:$BD,O$1,0))","v":0},{"$f":"IF(ISERROR(VLOOKUP($H21,Törzsadat!$C:$BD,13,0)),0,VLOOKUP($H21,Törzsadat!$C:$BD,P$1,0))","v":0},{"$f":"IF(ISERROR(VLOOKUP($H21,Törzsadat!$C:$BD,13,0)),0,VLOOKUP($H21,Törzsadat!$C:$BD,Q$1,0))","v":0},{"$f":"IF(ISERROR(VLOOKUP($H21,Törzsadat!$C:$BD,13,0)),0,VLOOKUP($H21,Törzsadat!$C:$BD,R$1,0))","v":0},{"$f":"IF(ISERROR(VLOOKUP($H21,Törzsadat!$C:$BD,13,0)),0,VLOOKUP($H21,Törzsadat!$C:$BD,S$1,0))","v":0},{"$f":"IF(ISERROR(VLOOKUP($H21,Törzsadat!$C:$BD,13,0)),0,VLOOKUP($H21,Törzsadat!$C:$BD,T$1,0))","v":0},{"$f":"IF(ISERROR(VLOOKUP($H21,Törzsadat!$C:$BD,13,0)),0,VLOOKUP($H21,Törzsadat!$C:$BD,U$1,0))","v":0},{"$f":"IF(ISERROR(VLOOKUP($H21,Törzsadat!$C:$BD,13,0)),0,VLOOKUP($H21,Törzsadat!$C:$BD,V$1,0))","v":0},{"$f":"IF(ISERROR(VLOOKUP($H21,Törzsadat!$C:$BD,13,0)),0,VLOOKUP($H21,Törzsadat!$C:$BD,W$1,0))","v":0},{"$f":"IF(ISERROR(VLOOKUP($H21,Törzsadat!$C:$BD,13,0)),0,VLOOKUP($H21,Törzsadat!$C:$BD,X$1,0))","v":0},{"$f":"IF(ISERROR(VLOOKUP($H21,Törzsadat!$C:$BD,13,0)),0,VLOOKUP($H21,Törzsadat!$C:$BD,Y$1,0))","v":0},{"$f":"IF(ISERROR(VLOOKUP($H21,Törzsadat!$C:$BD,13,0)),0,VLOOKUP($H21,Törzsadat!$C:$BD,Z$1,0))","v":0},{"$f":"IF(ISERROR(VLOOKUP($H21,Törzsadat!$C:$BD,13,0)),0,VLOOKUP($H21,Törzsadat!$C:$BD,AA$1,0))","v":0},{"$f":"IF(ISERROR(VLOOKUP($H21,Törzsadat!$C:$BD,13,0)),0,VLOOKUP($H21,Törzsadat!$C:$BD,AB$1,0))","v":0},{"$f":"IF(ISERROR(VLOOKUP($H21,Törzsadat!$C:$BD,13,0)),0,VLOOKUP($H21,Törzsadat!$C:$BD,AC$1,0))","v":0},{"$f":"IF(ISERROR(VLOOKUP($H21,Törzsadat!$C:$BD,13,0)),0,VLOOKUP($H21,Törzsadat!$C:$BD,AD$1,0))","v":0},{"$f":"IF(ISERROR(VLOOKUP($H21,Törzsadat!$C:$BD,13,0)),0,VLOOKUP($H21,Törzsadat!$C:$BD,AE$1,0))","v":0},{"$f":"IF(ISERROR(VLOOKUP($H21,Törzsadat!$C:$BD,13,0)),0,VLOOKUP($H21,Törzsadat!$C:$BD,AF$1,0))","v":0},{"$f":"IF(ISERROR(VLOOKUP($H21,Törzsadat!$C:$BD,13,0)),0,VLOOKUP($H21,Törzsadat!$C:$BD,AG$1,0))","v":0},{"$f":"IF(ISERROR(VLOOKUP($H21,Törzsadat!$C:$BD,13,0)),0,VLOOKUP($H21,Törzsadat!$C:$BD,AH$1,0))","v":0},{"$f":"IF(ISERROR(VLOOKUP($H21,Törzsadat!$C:$BD,13,0)),0,VLOOKUP($H21,Törzsadat!$C:$BD,AI$1,0))","v":0},{"$f":"IF(ISERROR(VLOOKUP($H21,Törzsadat!$C:$BD,13,0)),0,VLOOKUP($H21,Törzsadat!$C:$BD,AJ$1,0))","v":0},{"$f":"IF(ISERROR(VLOOKUP($H21,Törzsadat!$C:$BD,13,0)),0,VLOOKUP($H21,Törzsadat!$C:$BD,AK$1,0))","v":0},{"$f":"IF(ISERROR(VLOOKUP($H21,Törzsadat!$C:$BD,13,0)),0,VLOOKUP($H21,Törzsadat!$C:$BD,AL$1,0))","v":0},{"$f":"IF(ISERROR(VLOOKUP($H21,Törzsadat!$C:$BD,13,0)),0,VLOOKUP($H21,Törzsadat!$C:$BD,AM$1,0))","v":0},{"$f":"IF(ISERROR(VLOOKUP($H21,Törzsadat!$C:$BD,13,0)),0,VLOOKUP($H21,Törzsadat!$C:$BD,AN$1,0))","v":0},{"$f":"IF(ISERROR(VLOOKUP($H21,Törzsadat!$C:$BD,13,0)),0,VLOOKUP($H21,Törzsadat!$C:$BD,AO$1,0))","v":0},{"$f":"IF(ISERROR(VLOOKUP($H21,Törzsadat!$C:$BD,13,0)),0,VLOOKUP($H21,Törzsadat!$C:$BD,AP$1,0))","v":0},{"$f":"IF(ISERROR(VLOOKUP($H21,Törzsadat!$C:$BD,13,0)),0,VLOOKUP($H21,Törzsadat!$C:$BD,AQ$1,0))","v":0},{"$f":"IF(ISERROR(VLOOKUP($H21,Törzsadat!$C:$BD,13,0)),0,VLOOKUP($H21,Törzsadat!$C:$BD,AR$1,0))","v":0},{"$f":"IF(ISERROR(VLOOKUP($H21,Törzsadat!$C:$BD,13,0)),0,VLOOKUP($H21,Törzsadat!$C:$BD,AS$1,0))","v":0},{"$f":"IF(ISERROR(VLOOKUP($H21,Törzsadat!$C:$BD,13,0)),0,VLOOKUP($H21,Törzsadat!$C:$BD,AT$1,0))","v":0},{"$f":"IF(ISERROR(VLOOKUP($H21,Törzsadat!$C:$BD,13,0)),0,VLOOKUP($H21,Törzsadat!$C:$BD,AU$1,0))","v":0},{"$f":"IF(ISERROR(VLOOKUP($H21,Törzsadat!$C:$BD,13,0)),0,VLOOKUP($H21,Törzsadat!$C:$BD,AV$1,0))","v":0},{"$f":"IF(ISERROR(VLOOKUP($H21,Törzsadat!$C:$BD,13,0)),0,VLOOKUP($H21,Törzsadat!$C:$BD,AW$1,0))","v":0},{"$f":"IF(ISERROR(VLOOKUP($H21,Törzsadat!$C:$BD,13,0)),0,VLOOKUP($H21,Törzsadat!$C:$BD,AX$1,0))","v":0},{"$f":"IF(ISERROR(VLOOKUP($H21,Törzsadat!$C:$BD,13,0)),0,VLOOKUP($H21,Törzsadat!$C:$BD,AY$1,0))","v":0},{"$f":"IF(ISERROR(VLOOKUP($H21,Törzsadat!$C:$BD,13,0)),0,VLOOKUP($H21,Törzsadat!$C:$BD,AZ$1,0))","v":0},{"$f":"IF(ISERROR(VLOOKUP($H21,Törzsadat!$C:$BD,13,0)),0,VLOOKUP($H21,Törzsadat!$C:$BD,BA$1,0))","v":0},{"$f":"IF(ISERROR(VLOOKUP($H21,Törzsadat!$C:$BD,13,0)),0,VLOOKUP($H21,Törzsadat!$C:$BD,BB$1,0))","v":0},{"$f":"IF(ISERROR(VLOOKUP($H21,Törzsadat!$C:$BD,13,0)),0,VLOOKUP($H21,Törzsadat!$C:$BD,BC$1,0))","v":0},{"$f":"IF(ISERROR(VLOOKUP($H21,Törzsadat!$C:$BD,13,0)),0,VLOOKUP($H21,Törzsadat!$C:$BD,BD$1,0))","v":0}]
[34,"Sebződés csökkenés %",null,0,0,null,"Nadrág",{"$nulls":7},{"$f":"IF(ISERROR(VLOOKUP($H22,Törzsadat!$C:$BD,13,0)),0,VLOOKUP($H22,Törzsadat!$C:$BD,O$1,0))","v":0},{"$f":"IF(ISERROR(VLOOKUP($H22,Törzsadat!$C:$BD,13,0)),0,VLOOKUP($H22,Törzsadat!$C:$BD,P$1,0))","v":0},{"$f":"IF(ISERROR(VLOOKUP($H22,Törzsadat!$C:$BD,13,0)),0,VLOOKUP($H22,Törzsadat!$C:$BD,Q$1,0))","v":0},{"$f":"IF(ISERROR(VLOOKUP($H22,Törzsadat!$C:$BD,13,0)),0,VLOOKUP($H22,Törzsadat!$C:$BD,R$1,0))","v":0},{"$f":"IF(ISERROR(VLOOKUP($H22,Törzsadat!$C:$BD,13,0)),0,VLOOKUP($H22,Törzsadat!$C:$BD,S$1,0))","v":0},{"$f":"IF(ISERROR(VLOOKUP($H22,Törzsadat!$C:$BD,13,0)),0,VLOOKUP($H22,Törzsadat!$C:$BD,T$1,0))","v":0},{"$f":"IF(ISERROR(VLOOKUP($H22,Törzsadat!$C:$BD,13,0)),0,VLOOKUP($H22,Törzsadat!$C:$BD,U$1,0))","v":0},{"$f":"IF(ISERROR(VLOOKUP($H22,Törzsadat!$C:$BD,13,0)),0,VLOOKUP($H22,Törzsadat!$C:$BD,V$1,0))","v":0},{"$f":"IF(ISERROR(VLOOKUP($H22,Törzsadat!$C:$BD,13,0)),0,VLOOKUP($H22,Törzsadat!$C:$BD,W$1,0))","v":0},{"$f":"IF(ISERROR(VLOOKUP($H22,Törzsadat!$C:$BD,13,0)),0,VLOOKUP($H22,Törzsadat!$C:$BD,X$1,0))","v":0},{"$f":"IF(ISERROR(VLOOKUP($H22,Törzsadat!$C:$BD,13,0)),0,VLOOKUP($H22,Törzsadat!$C:$BD,Y$1,0))","v":0},{"$f":"IF(ISERROR(VLOOKUP($H22,Törzsadat!$C:$BD,13,0)),0,VLOOKUP($H22,Törzsadat!$C:$BD,Z$1,0))","v":0},{"$f":"IF(ISERROR(VLOOKUP($H22,Törzsadat!$C:$BD,13,0)),0,VLOOKUP($H22,Törzsadat!$C:$BD,AA$1,0))","v":0},{"$f":"IF(ISERROR(VLOOKUP($H22,Törzsadat!$C:$BD,13,0)),0,VLOOKUP($H22,Törzsadat!$C:$BD,AB$1,0))","v":0},{"$f":"IF(ISERROR(VLOOKUP($H22,Törzsadat!$C:$BD,13,0)),0,VLOOKUP($H22,Törzsadat!$C:$BD,AC$1,0))","v":0},{"$f":"IF(ISERROR(VLOOKUP($H22,Törzsadat!$C:$BD,13,0)),0,VLOOKUP($H22,Törzsadat!$C:$BD,AD$1,0))","v":0},{"$f":"IF(ISERROR(VLOOKUP($H22,Törzsadat!$C:$BD,13,0)),0,VLOOKUP($H22,Törzsadat!$C:$BD,AE$1,0))","v":0},{"$f":"IF(ISERROR(VLOOKUP($H22,Törzsadat!$C:$BD,13,0)),0,VLOOKUP($H22,Törzsadat!$C:$BD,AF$1,0))","v":0},{"$f":"IF(ISERROR(VLOOKUP($H22,Törzsadat!$C:$BD,13,0)),0,VLOOKUP($H22,Törzsadat!$C:$BD,AG$1,0))","v":0},{"$f":"IF(ISERROR(VLOOKUP($H22,Törzsadat!$C:$BD,13,0)),0,VLOOKUP($H22,Törzsadat!$C:$BD,AH$1,0))","v":0},{"$f":"IF(ISERROR(VLOOKUP($H22,Törzsadat!$C:$BD,13,0)),0,VLOOKUP($H22,Törzsadat!$C:$BD,AI$1,0))","v":0},{"$f":"IF(ISERROR(VLOOKUP($H22,Törzsadat!$C:$BD,13,0)),0,VLOOKUP($H22,Törzsadat!$C:$BD,AJ$1,0))","v":0},{"$f":"IF(ISERROR(VLOOKUP($H22,Törzsadat!$C:$BD,13,0)),0,VLOOKUP($H22,Törzsadat!$C:$BD,AK$1,0))","v":0},{"$f":"IF(ISERROR(VLOOKUP($H22,Törzsadat!$C:$BD,13,0)),0,VLOOKUP($H22,Törzsadat!$C:$BD,AL$1,0))","v":0},{"$f":"IF(ISERROR(VLOOKUP($H22,Törzsadat!$C:$BD,13,0)),0,VLOOKUP($H22,Törzsadat!$C:$BD,AM$1,0))","v":0},{"$f":"IF(ISERROR(VLOOKUP($H22,Törzsadat!$C:$BD,13,0)),0,VLOOKUP($H22,Törzsadat!$C:$BD,AN$1,0))","v":0},{"$f":"IF(ISERROR(VLOOKUP($H22,Törzsadat!$C:$BD,13,0)),0,VLOOKUP($H22,Törzsadat!$C:$BD,AO$1,0))","v":0},{"$f":"IF(ISERROR(VLOOKUP($H22,Törzsadat!$C:$BD,13,0)),0,VLOOKUP($H22,Törzsadat!$C:$BD,AP$1,0))","v":0},{"$f":"IF(ISERROR(VLOOKUP($H22,Törzsadat!$C:$BD,13,0)),0,VLOOKUP($H22,Törzsadat!$C:$BD,AQ$1,0))","v":0},{"$f":"IF(ISERROR(VLOOKUP($H22,Törzsadat!$C:$BD,13,0)),0,VLOOKUP($H22,Törzsadat!$C:$BD,AR$1,0))","v":0},{"$f":"IF(ISERROR(VLOOKUP($H22,Törzsadat!$C:$BD,13,0)),0,VLOOKUP($H22,Törzsadat!$C:$BD,AS$1,0))","v":0},{"$f":"IF(ISERROR(VLOOKUP($H22,Törzsadat!$C:$BD,13,0)),0,VLOOKUP($H22,Törzsadat!$C:$BD,AT$1,0))","v":0},{"$f":"IF(ISERROR(VLOOKUP($H22,Törzsadat!$C:$BD,13,0)),0,VLOOKUP($H22,Törzsadat!$C:$BD,AU$1,0))","v":0},{"$f":"IF(ISERROR(VLOOKUP($H22,Törzsadat!$C:$BD,13,0)),0,VLOOKUP($H22,Törzsadat!$C:$BD,AV$1,0))","v":0},{"$f":"IF(ISERROR(VLOOKUP($H22,Törzsadat!$C:$BD,13,0)),0,VLOOKUP($H22,Törzsadat!$C:$BD,AW$1,0))","v":0},{"$f":"IF(ISERROR(VLOOKUP($H22,Törzsadat!$C:$BD,13,0)),0,VLOOKUP($H22,Törzsadat!$C:$BD,AX$1,0))","v":0},{"$f":"IF(ISERROR(VLOOKUP($H22,Törzsadat!$C:$BD,13,0)),0,VLOOKUP($H22,Törzsadat!$C:$BD,AY$1,0))","v":0},{"$f":"IF(ISERROR(VLOOKUP($H22,Törzsadat!$C:$BD,13,0)),0,VLOOKUP($H22,Törzsadat!$C:$BD,AZ$1,0))","v":0},{"$f":"IF(ISERROR(VLOOKUP($H22,Törzsadat!$C:$BD,13,0)),0,VLOOKUP($H22,Törzsadat!$C:$BD,BA$1,0))","v":0},{"$f":"IF(ISERROR(VLOOKUP($H22,Törzsadat!$C:$BD,13,0)),0,VLOOKUP($H22,Törzsadat!$C:$BD,BB$1,0))","v":0},{"$f":"IF(ISERROR(VLOOKUP($H22,Törzsadat!$C:$BD,13,0)),0,VLOOKUP($H22,Törzsadat!$C:$BD,BC$1,0))","v":0},{"$f":"IF(ISERROR(VLOOKUP($H22,Törzsadat!$C:$BD,13,0)),0,VLOOKUP($H22,Törzsadat!$C:$BD,BD$1,0))","v":0}]
[35,"Sebződés csökkenés",null,0,0,null,"Nadrág 2",{"$nulls":7},{"$f":"IF(ISERROR(VLOOKUP($H23,Törzsadat!$C:$BD,13,0)),0,VLOOKUP($H23,Törzsadat!$C:$BD,O$1,0))","v":0},{"$f":"IF(ISERROR(VLOOKUP($H23,Törzsadat!$C:$BD,13,0)),0,VLOOKUP($H23,Törzsadat!$C:$BD,P$1,0))","v":0},{"$f":"IF(ISERROR(VLOOKUP($H23,Törzsadat!$C:$BD,13,0)),0,VLOOKUP($H23,Törzsadat!$C:$BD,Q$1,0))","v":0},{"$f":"IF(ISERROR(VLOOKUP($H23,Törzsadat!$C:$BD,13,0)),0,VLOOKUP($H23,Törzsadat!$C:$BD,R$1,0))","v":0},{"$f":"IF(ISERROR(VLOOKUP($H23,Törzsadat!$C:$BD,13,0)),0,VLOOKUP($H23,Törzsadat!$C:$BD,S$1,0))","v":0},{"$f":"IF(ISERROR(VLOOKUP($H23,Törzsadat!$C:$BD,13,0)),0,VLOOKUP($H23,Törzsadat!$C:$BD,T$1,0))","v":0},{"$f":"IF(ISERROR(VLOOKUP($H23,Törzsadat!$C:$BD,13,0)),0,VLOOKUP($H23,Törzsadat!$C:$BD,U$1,0))","v":0},{"$f":"IF(ISERROR(VLOOKUP($H23,Törzsadat!$C:$BD,13,0)),0,VLOOKUP($H23,Törzsadat!$C:$BD,V$1,0))","v":0},{"$f":"IF(ISERROR(VLOOKUP($H23,Törzsadat!$C:$BD,13,0)),0,VLOOKUP($H23,Törzsadat!$C:$BD,W$1,0))","v":0},{"$f":"IF(ISERROR(VLOOKUP($H23,Törzsadat!$C:$BD,13,0)),0,VLOOKUP($H23,Törzsadat!$C:$BD,X$1,0))","v":0},{"$f":"IF(ISERROR(VLOOKUP($H23,Törzsadat!$C:$BD,13,0)),0,VLOOKUP($H23,Törzsadat!$C:$BD,Y$1,0))","v":0},{"$f":"IF(ISERROR(VLOOKUP($H23,Törzsadat!$C:$BD,13,0)),0,VLOOKUP($H23,Törzsadat!$C:$BD,Z$1,0))","v":0},{"$f":"IF(ISERROR(VLOOKUP($H23,Törzsadat!$C:$BD,13,0)),0,VLOOKUP($H23,Törzsadat!$C:$BD,AA$1,0))","v":0},{"$f":"IF(ISERROR(VLOOKUP($H23,Törzsadat!$C:$BD,13,0)),0,VLOOKUP($H23,Törzsadat!$C:$BD,AB$1,0))","v":0},{"$f":"IF(ISERROR(VLOOKUP($H23,Törzsadat!$C:$BD,13,0)),0,VLOOKUP($H23,Törzsadat!$C:$BD,AC$1,0))","v":0},{"$f":"IF(ISERROR(VLOOKUP($H23,Törzsadat!$C:$BD,13,0)),0,VLOOKUP($H23,Törzsadat!$C:$BD,AD$1,0))","v":0},{"$f":"IF(ISERROR(VLOOKUP($H23,Törzsadat!$C:$BD,13,0)),0,VLOOKUP($H23,Törzsadat!$C:$BD,AE$1,0))","v":0},{"$f":"IF(ISERROR(VLOOKUP($H23,Törzsadat!$C:$BD,13,0)),0,VLOOKUP($H23,Törzsadat!$C:$BD,AF$1,0))","v":0},{"$f":"IF(ISERROR(VLOOKUP($H23,Törzsadat!$C:$BD,13,0)),0,VLOOKUP($H23,Törzsadat!$C:$BD,AG$1,0))","v":0},{"$f":"IF(ISERROR(VLOOKUP($H23,Törzsadat!$C:$BD,13,0)),0,VLOOKUP($H23,Törzsadat!$C:$BD,AH$1,0))","v":0},{"$f":"IF(ISERROR(VLOOKUP($H23,Törzsadat!$C:$BD,13,0)),0,VLOOKUP($H23,Törzsadat!$C:$BD,AI$1,0))","v":0},{"$f":"IF(ISERROR(VLOOKUP($H23,Törzsadat!$C:$BD,13,0)),0,VLOOKUP($H23,Törzsadat!$C:$BD,AJ$1,0))","v":0},{"$f":"IF(ISERROR(VLOOKUP($H23,Törzsadat!$C:$BD,13,0)),0,VLOOKUP($H23,Törzsadat!$C:$BD,AK$1,0))","v":0},{"$f":"IF(ISERROR(VLOOKUP($H23,Törzsadat!$C:$BD,13,0)),0,VLOOKUP($H23,Törzsadat!$C:$BD,AL$1,0))","v":0},{"$f":"IF(ISERROR(VLOOKUP($H23,Törzsadat!$C:$BD,13,0)),0,VLOOKUP($H23,Törzsadat!$C:$BD,AM$1,0))","v":0},{"$f":"IF(ISERROR(VLOOKUP($H23,Törzsadat!$C:$BD,13,0)),0,VLOOKUP($H23,Törzsadat!$C:$BD,AN$1,0))","v":0},{"$f":"IF(ISERROR(VLOOKUP($H23,Törzsadat!$C:$BD,13,0)),0,VLOOKUP($H23,Törzsadat!$C:$BD,AO$1,0))","v":0},{"$f":"IF(ISERROR(VLOOKUP($H23,Törzsadat!$C:$BD,13,0)),0,VLOOKUP($H23,Törzsadat!$C:$BD,AP$1,0))","v":0},{"$f":"IF(ISERROR(VLOOKUP($H23,Törzsadat!$C:$BD,13,0)),0,VLOOKUP($H23,Törzsadat!$C:$BD,AQ$1,0))","v":0},{"$f":"IF(ISERROR(VLOOKUP($H23,Törzsadat!$C:$BD,13,0)),0,VLOOKUP($H23,Törzsadat!$C:$BD,AR$1,0))","v":0},{"$f":"IF(ISERROR(VLOOKUP($H23,Törzsadat!$C:$BD,13,0)),0,VLOOKUP($H23,Törzsadat!$C:$BD,AS$1,0))","v":0},{"$f":"IF(ISERROR(VLOOKUP($H23,Törzsadat!$C:$BD,13,0)),0,VLOOKUP($H23,Törzsadat!$C:$BD,AT$1,0))","v":0},{"$f":"IF(ISERROR(VLOOKUP($H23,Törzsadat!$C:$BD,13,0)),0,VLOOKUP($H23,Törzsadat!$C:$BD,AU$1,0))","v":0},{"$f":"IF(ISERROR(VLOOKUP($H23,Törzsadat!$C:$BD,13,0)),0,VLOOKUP($H23,Törzsadat!$C:$BD,AV$1,0))","v":0},{"$f":"IF(ISERROR(VLOOKUP($H23,Törzsadat!$C:$BD,13,0)),0,VLOOKUP($H23,Törzsadat!$C:$BD,AW$1,0))","v":0},{"$f":"IF(ISERROR(VLOOKUP($H23,Törzsadat!$C:$BD,13,0)),0,VLOOKUP($H23,Törzsadat!$C:$BD,AX$1,0))","v":0},{"$f":"IF(ISERROR(VLOOKUP($H23,Törzsadat!$C:$BD,13,0)),0,VLOOKUP($H23,Törzsadat!$C:$BD,AY$1,0))","v":0},{"$f":"IF(ISERROR(VLOOKUP($H23,Törzsadat!$C:$BD,13,0)),0,VLOOKUP($H23,Törzsadat!$C:$BD,AZ$1,0))","v":0},{"$f":"IF(ISERROR(VLOOKUP($H23,Törzsadat!$C:$BD,13,0)),0,VLOOKUP($H23,Törzsadat!$C:$BD,BA$1,0))","v":0},{"$f":"IF(ISERROR(VLOOKUP($H23,Törzsadat!$C:$BD,13,0)),0,VLOOKUP($H23,Törzsadat!$C:$BD,BB$1,0))","v":0},{"$f":"IF(ISERROR(VLOOKUP($H23,Törzsadat!$C:$BD,13,0)),0,VLOOKUP($H23,Törzsadat!$C:$BD,BC$1,0))","v":0},{"$f":"IF(ISERROR(VLOOKUP($H23,Törzsadat!$C:$BD,13,0)),0,VLOOKUP($H23,Törzsadat!$C:$BD,BD$1,0))","v":0}]
[36,"Sebzés",null,0,0,null,"Vállvédő",{"$nulls":7},{"$f":"IF(ISERROR(VLOOKUP($H24,Törzsadat!$C:$BD,13,0)),0,VLOOKUP($H24,Törzsadat!$C:$BD,O$1,0))","v":0},{"$f":"IF(ISERROR(VLOOKUP($H24,Törzsadat!$C:$BD,13,0)),0,VLOOKUP($H24,Törzsadat!$C:$BD,P$1,0))","v":0},{"$f":"IF(ISERROR(VLOOKUP($H24,Törzsadat!$C:$BD,13,0)),0,VLOOKUP($H24,Törzsadat!$C:$BD,Q$1,0))","v":0},{"$f":"IF(ISERROR(VLOOKUP($H24,Törzsadat!$C:$BD,13,0)),0,VLOOKUP($H24,Törzsadat!$C:$BD,R$1,0))","v":0},{"$f":"IF(ISERROR(VLOOKUP($H24,Törzsadat!$C:$BD,13,0)),0,VLOOKUP($H24,Törzsadat!$C:$BD,S$1,0))","v":0},{"$f":"IF(ISERROR(VLOOKUP($H24,Törzsadat!$C:$BD,13,0)),0,VLOOKUP($H24,Törzsadat!$C:$BD,T$1,0))","v":0},{"$f":"IF(ISERROR(VLOOKUP($H24,Törzsadat!$C:$BD,13,0)),0,VLOOKUP($H24,Törzsadat!$C:$BD,U$1,0))","v":0},{"$f":"IF(ISERROR(VLOOKUP($H24,Törzsadat!$C:$BD,13,0)),0,VLOOKUP($H24,Törzsadat!$C:$BD,V$1,0))","v":0},{"$f":"IF(ISERROR(VLOOKUP($H24,Törzsadat!$C:$BD,13,0)),0,VLOOKUP($H24,Törzsadat!$C:$BD,W$1,0))","v":0},{"$f":"IF(ISERROR(VLOOKUP($H24,Törzsadat!$C:$BD,13,0)),0,VLOOKUP($H24,Törzsadat!$C:$BD,X$1,0))","v":0},{"$f":"IF(ISERROR(VLOOKUP($H24,Törzsadat!$C:$BD,13,0)),0,VLOOKUP($H24,Törzsadat!$C:$BD,Y$1,0))","v":0},{"$f":"IF(ISERROR(VLOOKUP($H24,Törzsadat!$C:$BD,13,0)),0,VLOOKUP($H24,Törzsadat!$C:$BD,Z$1,0))","v":0},{"$f":"IF(ISERROR(VLOOKUP($H24,Törzsadat!$C:$BD,13,0)),0,VLOOKUP($H24,Törzsadat!$C:$BD,AA$1,0))","v":0},{"$f":"IF(ISERROR(VLOOKUP($H24,Törzsadat!$C:$BD,13,0)),0,VLOOKUP($H24,Törzsadat!$C:$BD,AB$1,0))","v":0},{"$f":"IF(ISERROR(VLOOKUP($H24,Törzsadat!$C:$BD,13,0)),0,VLOOKUP($H24,Törzsadat!$C:$BD,AC$1,0))","v":0},{"$f":"IF(ISERROR(VLOOKUP($H24,Törzsadat!$C:$BD,13,0)),0,VLOOKUP($H24,Törzsadat!$C:$BD,AD$1,0))","v":0},{"$f":"IF(ISERROR(VLOOKUP($H24,Törzsadat!$C:$BD,13,0)),0,VLOOKUP($H24,Törzsadat!$C:$BD,AE$1,0))","v":0},{"$f":"IF(ISERROR(VLOOKUP($H24,Törzsadat!$C:$BD,13,0)),0,VLOOKUP($H24,Törzsadat!$C:$BD,AF$1,0))","v":0},{"$f":"IF(ISERROR(VLOOKUP($H24,Törzsadat!$C:$BD,13,0)),0,VLOOKUP($H24,Törzsadat!$C:$BD,AG$1,0))","v":0},{"$f":"IF(ISERROR(VLOOKUP($H24,Törzsadat!$C:$BD,13,0)),0,VLOOKUP($H24,Törzsadat!$C:$BD,AH$1,0))","v":0},{"$f":"IF(ISERROR(VLOOKUP($H24,Törzsadat!$C:$BD,13,0)),0,VLOOKUP($H24,Törzsadat!$C:$BD,AI$1,0))","v":0},{"$f":"IF(ISERROR(VLOOKUP($H24,Törzsadat!$C:$BD,13,0)),0,VLOOKUP($H24,Törzsadat!$C:$BD,AJ$1,0))","v":0},{"$f":"IF(ISERROR(VLOOKUP($H24,Törzsadat!$C:$BD,13,0)),0,VLOOKUP($H24,Törzsadat!$C:$BD,AK$1,0))","v":0},{"$f":"IF(ISERROR(VLOOKUP($H24,Törzsadat!$C:$BD,13,0)),0,VLOOKUP($H24,Törzsadat!$C:$BD,AL$1,0))","v":0},{"$f":"IF(ISERROR(VLOOKUP($H24,Törzsadat!$C:$BD,13,0)),0,VLOOKUP($H24,Törzsadat!$C:$BD,AM$1,0))","v":0},{"$f":"IF(ISERROR(VLOOKUP($H24,Törzsadat!$C:$BD,13,0)),0,VLOOKUP($H24,Törzsadat!$C:$BD,AN$1,0))","v":0},{"$f":"IF(ISERROR(VLOOKUP($H24,Törzsadat!$C:$BD,13,0)),0,VLOOKUP($H24,Törzsadat!$C:$BD,AO$1,0))","v":0},{"$f":"IF(ISERROR(VLOOKUP($H24,Törzsadat!$C:$BD,13,0)),0,VLOOKUP($H24,Törzsadat!$C:$BD,AP$1,0))","v":0},{"$f":"IF(ISERROR(VLOOKUP($H24,Törzsadat!$C:$BD,13,0)),0,VLOOKUP($H24,Törzsadat!$C:$BD,AQ$1,0))","v":0},{"$f":"IF(ISERROR(VLOOKUP($H24,Törzsadat!$C:$BD,13,0)),0,VLOOKUP($H24,Törzsadat!$C:$BD,AR$1,0))","v":0},{"$f":"IF(ISERROR(VLOOKUP($H24,Törzsadat!$C:$BD,13,0)),0,VLOOKUP($H24,Törzsadat!$C:$BD,AS$1,0))","v":0},{"$f":"IF(ISERROR(VLOOKUP($H24,Törzsadat!$C:$BD,13,0)),0,VLOOKUP($H24,Törzsadat!$C:$BD,AT$1,0))","v":0},{"$f":"IF(ISERROR(VLOOKUP($H24,Törzsadat!$C:$BD,13,0)),0,VLOOKUP($H24,Törzsadat!$C:$BD,AU$1,0))","v":0},{"$f":"IF(ISERROR(VLOOKUP($H24,Törzsadat!$C:$BD,13,0)),0,VLOOKUP($H24,Törzsadat!$C:$BD,AV$1,0))","v":0},{"$f":"IF(ISERROR(VLOOKUP($H24,Törzsadat!$C:$BD,13,0)),0,VLOOKUP($H24,Törzsadat!$C:$BD,AW$1,0))","v":0},{"$f":"IF(ISERROR(VLOOKUP($H24,Törzsadat!$C:$BD,13,0)),0,VLOOKUP($H24,Törzsadat!$C:$BD,AX$1,0))","v":0},{"$f":"IF(ISERROR(VLOOKUP($H24,Törzsadat!$C:$BD,13,0)),0,VLOOKUP($H24,Törzsadat!$C:$BD,AY$1,0))","v":0},{"$f":"IF(ISERROR(VLOOKUP($H24,Törzsadat!$C:$BD,13,0)),0,VLOOKUP($H24,Törzsadat!$C:$BD,AZ$1,0))","v":0},{"$f":"IF(ISERROR(VLOOKUP($H24,Törzsadat!$C:$BD,13,0)),0,VLOOKUP($H24,Törzsadat!$C:$BD,BA$1,0))","v":0},{"$f":"IF(ISERROR(VLOOKUP($H24,Törzsadat!$C:$BD,13,0)),0,VLOOKUP($H24,Törzsadat!$C:$BD,BB$1,0))","v":0},{"$f":"IF(ISERROR(VLOOKUP($H24,Törzsadat!$C:$BD,13,0)),0,VLOOKUP($H24,Törzsadat!$C:$BD,BC$1,0))","v":0},{"$f":"IF(ISERROR(VLOOKUP($H24,Törzsadat!$C:$BD,13,0)),0,VLOOKUP($H24,Törzsadat!$C:$BD,BD$1,0))","v":0}]
[37,"Lőfegyver sebzés",null,0,0,null,"Vállvédő 2",{"$nulls":7},{"$f":"IF(ISERROR(VLOOKUP($H25,Törzsadat!$C:$BD,13,0)),0,VLOOKUP($H25,Törzsadat!$C:$BD,O$1,0))","v":0},{"$f":"IF(ISERROR(VLOOKUP($H25,Törzsadat!$C:$BD,13,0)),0,VLOOKUP($H25,Törzsadat!$C:$BD,P$1,0))","v":0},{"$f":"IF(ISERROR(VLOOKUP($H25,Törzsadat!$C:$BD,13,0)),0,VLOOKUP($H25,Törzsadat!$C:$BD,Q$1,0))","v":0},{"$f":"IF(ISERROR(VLOOKUP($H25,Törzsadat!$C:$BD,13,0)),0,VLOOKUP($H25,Törzsadat!$C:$BD,R$1,0))","v":0},{"$f":"IF(ISERROR(VLOOKUP($H25,Törzsadat!$C:$BD,13,0)),0,VLOOKUP($H25,Törzsadat!$C:$BD,S$1,0))","v":0},{"$f":"IF(ISERROR(VLOOKUP($H25,Törzsadat!$C:$BD,13,0)),0,VLOOKUP($H25,Törzsadat!$C:$BD,T$1,0))","v":0},{"$f":"IF(ISERROR(VLOOKUP($H25,Törzsadat!$C:$BD,13,0)),0,VLOOKUP($H25,Törzsadat!$C:$BD,U$1,0))","v":0},{"$f":"IF(ISERROR(VLOOKUP($H25,Törzsadat!$C:$BD,13,0)),0,VLOOKUP($H25,Törzsadat!$C:$BD,V$1,0))","v":0},{"$f":"IF(ISERROR(VLOOKUP($H25,Törzsadat!$C:$BD,13,0)),0,VLOOKUP($H25,Törzsadat!$C:$BD,W$1,0))","v":0},{"$f":"IF(ISERROR(VLOOKUP($H25,Törzsadat!$C:$BD,13,0)),0,VLOOKUP($H25,Törzsadat!$C:$BD,X$1,0))","v":0},{"$f":"IF(ISERROR(VLOOKUP($H25,Törzsadat!$C:$BD,13,0)),0,VLOOKUP($H25,Törzsadat!$C:$BD,Y$1,0))","v":0},{"$f":"IF(ISERROR(VLOOKUP($H25,Törzsadat!$C:$BD,13,0)),0,VLOOKUP($H25,Törzsadat!$C:$BD,Z$1,0))","v":0},{"$f":"IF(ISERROR(VLOOKUP($H25,Törzsadat!$C:$BD,13,0)),0,VLOOKUP($H25,Törzsadat!$C:$BD,AA$1,0))","v":0},{"$f":"IF(ISERROR(VLOOKUP($H25,Törzsadat!$C:$BD,13,0)),0,VLOOKUP($H25,Törzsadat!$C:$BD,AB$1,0))","v":0},{"$f":"IF(ISERROR(VLOOKUP($H25,Törzsadat!$C:$BD,13,0)),0,VLOOKUP($H25,Törzsadat!$C:$BD,AC$1,0))","v":0},{"$f":"IF(ISERROR(VLOOKUP($H25,Törzsadat!$C:$BD,13,0)),0,VLOOKUP($H25,Törzsadat!$C:$BD,AD$1,0))","v":0},{"$f":"IF(ISERROR(VLOOKUP($H25,Törzsadat!$C:$BD,13,0)),0,VLOOKUP($H25,Törzsadat!$C:$BD,AE$1,0))","v":0},{"$f":"IF(ISERROR(VLOOKUP($H25,Törzsadat!$C:$BD,13,0)),0,VLOOKUP($H25,Törzsadat!$C:$BD,AF$1,0))","v":0},{"$f":"IF(ISERROR(VLOOKUP($H25,Törzsadat!$C:$BD,13,0)),0,VLOOKUP($H25,Törzsadat!$C:$BD,AG$1,0))","v":0},{"$f":"IF(ISERROR(VLOOKUP($H25,Törzsadat!$C:$BD,13,0)),0,VLOOKUP($H25,Törzsadat!$C:$BD,AH$1,0))","v":0},{"$f":"IF(ISERROR(VLOOKUP($H25,Törzsadat!$C:$BD,13,0)),0,VLOOKUP($H25,Törzsadat!$C:$BD,AI$1,0))","v":0},{"$f":"IF(ISERROR(VLOOKUP($H25,Törzsadat!$C:$BD,13,0)),0,VLOOKUP($H25,Törzsadat!$C:$BD,AJ$1,0))","v":0},{"$f":"IF(ISERROR(VLOOKUP($H25,Törzsadat!$C:$BD,13,0)),0,VLOOKUP($H25,Törzsadat!$C:$BD,AK$1,0))","v":0},{"$f":"IF(ISERROR(VLOOKUP($H25,Törzsadat!$C:$BD,13,0)),0,VLOOKUP($H25,Törzsadat!$C:$BD,AL$1,0))","v":0},{"$f":"IF(ISERROR(VLOOKUP($H25,Törzsadat!$C:$BD,13,0)),0,VLOOKUP($H25,Törzsadat!$C:$BD,AM$1,0))","v":0},{"$f":"IF(ISERROR(VLOOKUP($H25,Törzsadat!$C:$BD,13,0)),0,VLOOKUP($H25,Törzsadat!$C:$BD,AN$1,0))","v":0},{"$f":"IF(ISERROR(VLOOKUP($H25,Törzsadat!$C:$BD,13,0)),0,VLOOKUP($H25,Törzsadat!$C:$BD,AO$1,0))","v":0},{"$f":"IF(ISERROR(VLOOKUP($H25,Törzsadat!$C:$BD,13,0)),0,VLOOKUP($H25,Törzsadat!$C:$BD,AP$1,0))","v":0},{"$f":"IF(ISERROR(VLOOKUP($H25,Törzsadat!$C:$BD,13,0)),0,VLOOKUP($H25,Törzsadat!$C:$BD,AQ$1,0))","v":0},{"$f":"IF(ISERROR(VLOOKUP($H25,Törzsadat!$C:$BD,13,0)),0,VLOOKUP($H25,Törzsadat!$C:$BD,AR$1,0))","v":0},{"$f":"IF(ISERROR(VLOOKUP($H25,Törzsadat!$C:$BD,13,0)),0,VLOOKUP($H25,Törzsadat!$C:$BD,AS$1,0))","v":0},{"$f":"IF(ISERROR(VLOOKUP($H25,Törzsadat!$C:$BD,13,0)),0,VLOOKUP($H25,Törzsadat!$C:$BD,AT$1,0))","v":0},{"$f":"IF(ISERROR(VLOOKUP($H25,Törzsadat!$C:$BD,13,0)),0,VLOOKUP($H25,Törzsadat!$C:$BD,AU$1,0))","v":0},{"$f":"IF(ISERROR(VLOOKUP($H25,Törzsadat!$C:$BD,13,0)),0,VLOOKUP($H25,Törzsadat!$C:$BD,AV$1,0))","v":0},{"$f":"IF(ISERROR(VLOOKUP($H25,Törzsadat!$C:$BD,13,0)),0,VLOOKUP($H25,Törzsadat!$C:$BD,AW$1,0))","v":0},{"$f":"IF(ISERROR(VLOOKUP($H25,Törzsadat!$C:$BD,13,0)),0,VLOOKUP($H25,Törzsadat!$C:$BD,AX$1,0))","v":0},{"$f":"IF(ISERROR(VLOOKUP($H25,Törzsadat!$C:$BD,13,0)),0,VLOOKUP($H25,Törzsadat!$C:$BD,AY$1,0))","v":0},{"$f":"IF(ISERROR(VLOOKUP($H25,Törzsadat!$C:$BD,13,0)),0,VLOOKUP($H25,Törzsadat!$C:$BD,AZ$1,0))","v":0},{"$f":"IF(ISERROR(VLOOKUP($H25,Törzsadat!$C:$BD,13,0)),0,VLOOKUP($H25,Törzsadat!$C:$BD,BA$1,0))","v":0},{"$f":"IF(ISERROR(VLOOKUP($H25,Törzsadat!$C:$BD,13,0)),0,VLOOKUP($H25,Törzsadat!$C:$BD,BB$1,0))","v":0},{"$f":"IF(ISERROR(VLOOKUP($H25,Törzsadat!$C:$BD,13,0)),0,VLOOKUP($H25,Törzsadat!$C:$BD,BC$1,0))","v":0},{"$f":"IF(ISERROR(VLOOKUP($H25,Törzsadat!$C:$BD,13,0)),0,VLOOKUP($H25,Törzsadat!$C:$BD,BD$1,0))","v":0}]
[38,"Ököl sebzés",null,0,0,null,"Vállvédő 3",{"$nulls":7},{"$f":"IF(ISERROR(VLOOKUP($H26,Törzsadat!$C:$BD,13,0)),0,VLOOKUP($H26,Törzsadat!$C:$BD,O$1,0))","v":0},{"$f":"IF(ISERROR(VLOOKUP($H26,Törzsadat!$C:$BD,13,0)),0,VLOOKUP($H26,Törzsadat!$C:$BD,P$1,0))","v":0},{"$f":"IF(ISERROR(VLOOKUP($H26,Törzsadat!$C:$BD,13,0)),0,VLOOKUP($H26,Törzsadat!$C:$BD,Q$1,0))","v":0},{"$f":"IF(ISERROR(VLOOKUP($H26,Törzsadat!$C:$BD,13,0)),0,VLOOKUP($H26,Törzsadat!$C:$BD,R$1,0))","v":0},{"$f":"IF(ISERROR(VLOOKUP($H26,Törzsadat!$C:$BD,13,0)),0,VLOOKUP($H26,Törzsadat!$C:$BD,S$1,0))","v":0},{"$f":"IF(ISERROR(VLOOKUP($H26,Törzsadat!$C:$BD,13,0)),0,VLOOKUP($H26,Törzsadat!$C:$BD,T$1,0))","v":0},{"$f":"IF(ISERROR(VLOOKUP($H26,Törzsadat!$C:$BD,13,0)),0,VLOOKUP($H26,Törzsadat!$C:$BD,U$1,0))","v":0},{"$f":"IF(ISERROR(VLOOKUP($H26,Törzsadat!$C:$BD,13,0)),0,VLOOKUP($H26,Törzsadat!$C:$BD,V$1,0))","v":0},{"$f":"IF(ISERROR(VLOOKUP($H26,Törzsadat!$C:$BD,13,0)),0,VLOOKUP($H26,Törzsadat!$C:$BD,W$1,0))","v":0},{"$f":"IF(ISERROR(VLOOKUP($H26,Törzsadat!$C:$BD,13,0)),0,VLOOKUP($H26,Törzsadat!$C:$BD,X$1,0))","v":0},{"$f":"IF(ISERROR(VLOOKUP($H26,Törzsadat!$C:$BD,13,0)),0,VLOOKUP($H26,Törzsadat!$C:$BD,Y$1,0))","v":0},{"$f":"IF(ISERROR(VLOOKUP($H26,Törzsadat!$C:$BD,13,0)),0,VLOOKUP($H26,Törzsadat!$C:$BD,Z$1,0))","v":0},{"$f":"IF(ISERROR(VLOOKUP($H26,Törzsadat!$C:$BD,13,0)),0,VLOOKUP($H26,Törzsadat!$C:$BD,AA$1,0))","v":0},{"$f":"IF(ISERROR(VLOOKUP($H26,Törzsadat!$C:$BD,13,0)),0,VLOOKUP($H26,Törzsadat!$C:$BD,AB$1,0))","v":0},{"$f":"IF(ISERROR(VLOOKUP($H26,Törzsadat!$C:$BD,13,0)),0,VLOOKUP($H26,Törzsadat!$C:$BD,AC$1,0))","v":0},{"$f":"IF(ISERROR(VLOOKUP($H26,Törzsadat!$C:$BD,13,0)),0,VLOOKUP($H26,Törzsadat!$C:$BD,AD$1,0))","v":0},{"$f":"IF(ISERROR(VLOOKUP($H26,Törzsadat!$C:$BD,13,0)),0,VLOOKUP($H26,Törzsadat!$C:$BD,AE$1,0))","v":0},{"$f":"IF(ISERROR(VLOOKUP($H26,Törzsadat!$C:$BD,13,0)),0,VLOOKUP($H26,Törzsadat!$C:$BD,AF$1,0))","v":0},{"$f":"IF(ISERROR(VLOOKUP($H26,Törzsadat!$C:$BD,13,0)),0,VLOOKUP($H26,Törzsadat!$C:$BD,AG$1,0))","v":0},{"$f":"IF(ISERROR(VLOOKUP($H26,Törzsadat!$C:$BD,13,0)),0,VLOOKUP($H26,Törzsadat!$C:$BD,AH$1,0))","v":0},{"$f":"IF(ISERROR(VLOOKUP($H26,Törzsadat!$C:$BD,13,0)),0,VLOOKUP($H26,Törzsadat!$C:$BD,AI$1,0))","v":0},{"$f":"IF(ISERROR(VLOOKUP($H26,Törzsadat!$C:$BD,13,0)),0,VLOOKUP($H26,Törzsadat!$C:$BD,AJ$1,0))","v":0},{"$f":"IF(ISERROR(VLOOKUP($H26,Törzsadat!$C:$BD,13,0)),0,VLOOKUP($H26,Törzsadat!$C:$BD,AK$1,0))","v":0},{"$f":"IF(ISERROR(VLOOKUP($H26,Törzsadat!$C:$BD,13,0)),0,VLOOKUP($H26,Törzsadat!$C:$BD,AL$1,0))","v":0},{"$f":"IF(ISERROR(VLOOKUP($H26,Törzsadat!$C:$BD,13,0)),0,VLOOKUP($H26,Törzsadat!$C:$BD,AM$1,0))","v":0},{"$f":"IF(ISERROR(VLOOKUP($H26,Törzsadat!$C:$BD,13,0)),0,VLOOKUP($H26,Törzsadat!$C:$BD,AN$1,0))","v":0},{"$f":"IF(ISERROR(VLOOKUP($H26,Törzsadat!$C:$BD,13,0)),0,VLOOKUP($H26,Törzsadat!$C:$BD,AO$1,0))","v":0},{"$f":"IF(ISERROR(VLOOKUP($H26,Törzsadat!$C:$BD,13,0)),0,VLOOKUP($H26,Törzsadat!$C:$BD,AP$1,0))","v":0},{"$f":"IF(ISERROR(VLOOKUP($H26,Törzsadat!$C:$BD,13,0)),0,VLOOKUP($H26,Törzsadat!$C:$BD,AQ$1,0))","v":0},{"$f":"IF(ISERROR(VLOOKUP($H26,Törzsadat!$C:$BD,13,0)),0,VLOOKUP($H26,Törzsadat!$C:$BD,AR$1,0))","v":0},{"$f":"IF(ISERROR(VLOOKUP($H26,Törzsadat!$C:$BD,13,0)),0,VLOOKUP($H26,Törzsadat!$C:$BD,AS$1,0))","v":0},{"$f":"IF(ISERROR(VLOOKUP($H26,Törzsadat!$C:$BD,13,0)),0,VLOOKUP($H26,Törzsadat!$C:$BD,AT$1,0))","v":0},{"$f":"IF(ISERROR(VLOOKUP($H26,Törzsadat!$C:$BD,13,0)),0,VLOOKUP($H26,Törzsadat!$C:$BD,AU$1,0))","v":0},{"$f":"IF(ISERROR(VLOOKUP($H26,Törzsadat!$C:$BD,13,0)),0,VLOOKUP($H26,Törzsadat!$C:$BD,AV$1,0))","v":0},{"$f":"IF(ISERROR(VLOOKUP($H26,Törzsadat!$C:$BD,13,0)),0,VLOOKUP($H26,Törzsadat!$C:$BD,AW$1,0))","v":0},{"$f":"IF(ISERROR(VLOOKUP($H26,Törzsadat!$C:$BD,13,0)),0,VLOOKUP($H26,Törzsadat!$C:$BD,AX$1,0))","v":0},{"$f":"IF(ISERROR(VLOOKUP($H26,Törzsadat!$C:$BD,13,0)),0,VLOOKUP($H26,Törzsadat!$C:$BD,AY$1,0))","v":0},{"$f":"IF(ISERROR(VLOOKUP($H26,Törzsadat!$C:$BD,13,0)),0,VLOOKUP($H26,Törzsadat!$C:$BD,AZ$1,0))","v":0},{"$f":"IF(ISERROR(VLOOKUP($H26,Törzsadat!$C:$BD,13,0)),0,VLOOKUP($H26,Törzsadat!$C:$BD,BA$1,0))","v":0},{"$f":"IF(ISERROR(VLOOKUP($H26,Törzsadat!$C:$BD,13,0)),0,VLOOKUP($H26,Törzsadat!$C:$BD,BB$1,0))","v":0},{"$f":"IF(ISERROR(VLOOKUP($H26,Törzsadat!$C:$BD,13,0)),0,VLOOKUP($H26,Törzsadat!$C:$BD,BC$1,0))","v":0},{"$f":"IF(ISERROR(VLOOKUP($H26,Törzsadat!$C:$BD,13,0)),0,VLOOKUP($H26,Törzsadat!$C:$BD,BD$1,0))","v":0}]
[39,"VP sebzés %",null,0,0,null,"Öv",{"$nulls":7},{"$f":"IF(ISERROR(VLOOKUP($H27,Törzsadat!$C:$BD,13,0)),0,VLOOKUP($H27,Törzsadat!$C:$BD,O$1,0))","v":0},{"$f":"IF(ISERROR(VLOOKUP($H27,Törzsadat!$C:$BD,13,0)),0,VLOOKUP($H27,Törzsadat!$C:$BD,P$1,0))","v":0},{"$f":"IF(ISERROR(VLOOKUP($H27,Törzsadat!$C:$BD,13,0)),0,VLOOKUP($H27,Törzsadat!$C:$BD,Q$1,0))","v":0},{"$f":"IF(ISERROR(VLOOKUP($H27,Törzsadat!$C:$BD,13,0)),0,VLOOKUP($H27,Törzsadat!$C:$BD,R$1,0))","v":0},{"$f":"IF(ISERROR(VLOOKUP($H27,Törzsadat!$C:$BD,13,0)),0,VLOOKUP($H27,Törzsadat!$C:$BD,S$1,0))","v":0},{"$f":"IF(ISERROR(VLOOKUP($H27,Törzsadat!$C:$BD,13,0)),0,VLOOKUP($H27,Törzsadat!$C:$BD,T$1,0))","v":0},{"$f":"IF(ISERROR(VLOOKUP($H27,Törzsadat!$C:$BD,13,0)),0,VLOOKUP($H27,Törzsadat!$C:$BD,U$1,0))","v":0},{"$f":"IF(ISERROR(VLOOKUP($H27,Törzsadat!$C:$BD,13,0)),0,VLOOKUP($H27,Törzsadat!$C:$BD,V$1,0))","v":0},{"$f":"IF(ISERROR(VLOOKUP($H27,Törzsadat!$C:$BD,13,0)),0,VLOOKUP($H27,Törzsadat!$C:$BD,W$1,0))","v":0},{"$f":"IF(ISERROR(VLOOKUP($H27,Törzsadat!$C:$BD,13,0)),0,VLOOKUP($H27,Törzsadat!$C:$BD,X$1,0))","v":0},{"$f":"IF(ISERROR(VLOOKUP($H27,Törzsadat!$C:$BD,13,0)),0,VLOOKUP($H27,Törzsadat!$C:$BD,Y$1,0))","v":0},{"$f":"IF(ISERROR(VLOOKUP($H27,Törzsadat!$C:$BD,13,0)),0,VLOOKUP($H27,Törzsadat!$C:$BD,Z$1,0))","v":0},{"$f":"IF(ISERROR(VLOOKUP($H27,Törzsadat!$C:$BD,13,0)),0,VLOOKUP($H27,Törzsadat!$C:$BD,AA$1,0))","v":0},{"$f":"IF(ISERROR(VLOOKUP($H27,Törzsadat!$C:$BD,13,0)),0,VLOOKUP($H27,Törzsadat!$C:$BD,AB$1,0))","v":0},{"$f":"IF(ISERROR(VLOOKUP($H27,Törzsadat!$C:$BD,13,0)),0,VLOOKUP($H27,Törzsadat!$C:$BD,AC$1,0))","v":0},{"$f":"IF(ISERROR(VLOOKUP($H27,Törzsadat!$C:$BD,13,0)),0,VLOOKUP($H27,Törzsadat!$C:$BD,AD$1,0))","v":0},{"$f":"IF(ISERROR(VLOOKUP($H27,Törzsadat!$C:$BD,13,0)),0,VLOOKUP($H27,Törzsadat!$C:$BD,AE$1,0))","v":0},{"$f":"IF(ISERROR(VLOOKUP($H27,Törzsadat!$C:$BD,13,0)),0,VLOOKUP($H27,Törzsadat!$C:$BD,AF$1,0))","v":0},{"$f":"IF(ISERROR(VLOOKUP($H27,Törzsadat!$C:$BD,13,0)),0,VLOOKUP($H27,Törzsadat!$C:$BD,AG$1,0))","v":0},{"$f":"IF(ISERROR(VLOOKUP($H27,Törzsadat!$C:$BD,13,0)),0,VLOOKUP($H27,Törzsadat!$C:$BD,AH$1,0))","v":0},{"$f":"IF(ISERROR(VLOOKUP($H27,Törzsadat!$C:$BD,13,0)),0,VLOOKUP($H27,Törzsadat!$C:$BD,AI$1,0))","v":0},{"$f":"IF(ISERROR(VLOOKUP($H27,Törzsadat!$C:$BD,13,0)),0,VLOOKUP($H27,Törzsadat!$C:$BD,AJ$1,0))","v":0},{"$f":"IF(ISERROR(VLOOKUP($H27,Törzsadat!$C:$BD,13,0)),0,VLOOKUP($H27,Törzsadat!$C:$BD,AK$1,0))","v":0},{"$f":"IF(ISERROR(VLOOKUP($H27,Törzsadat!$C:$BD,13,0)),0,VLOOKUP($H27,Törzsadat!$C:$BD,AL$1,0))","v":0},{"$f":"IF(ISERROR(VLOOKUP($H27,Törzsadat!$C:$BD,13,0)),0,VLOOKUP($H27,Törzsadat!$C:$BD,AM$1,0))","v":0},{"$f":"IF(ISERROR(VLOOKUP($H27,Törzsadat!$C:$BD,13,0)),0,VLOOKUP($H27,Törzsadat!$C:$BD,AN$1,0))","v":0},{"$f":"IF(ISERROR(VLOOKUP($H27,Törzsadat!$C:$BD,13,0)),0,VLOOKUP($H27,Törzsadat!$C:$BD,AO$1,0))","v":0},{"$f":"IF(ISERROR(VLOOKUP($H27,Törzsadat!$C:$BD,13,0)),0,VLOOKUP($H27,Törzsadat!$C:$BD,AP$1,0))","v":0},{"$f":"IF(ISERROR(VLOOKUP($H27,Törzsadat!$C:$BD,13,0)),0,VLOOKUP($H27,Törzsadat!$C:$BD,AQ$1,0))","v":0},{"$f":"IF(ISERROR(VLOOKUP($H27,Törzsadat!$C:$BD,13,0)),0,VLOOKUP($H27,Törzsadat!$C:$BD,AR$1,0))","v":0},{"$f":"IF(ISERROR(VLOOKUP($H27,Törzsadat!$C:$BD,13,0)),0,VLOOKUP($H27,Törzsadat!$C:$BD,AS$1,0))","v":0},{"$f":"IF(ISERROR(VLOOKUP($H27,Törzsadat!$C:$BD,13,0)),0,VLOOKUP($H27,Törzsadat!$C:$BD,AT$1,0))","v":0},{"$f":"IF(ISERROR(VLOOKUP($H27,Törzsadat!$C:$BD,13,0)),0,VLOOKUP($H27,Törzsadat!$C:$BD,AU$1,0))","v":0},{"$f":"IF(ISERROR(VLOOKUP($H27,Törzsadat!$C:$BD,13,0)),0,VLOOKUP($H27,Törzsadat!$C:$BD,AV$1,0))","v":0},{"$f":"IF(ISERROR(VLOOKUP($H27,Törzsadat!$C:$BD,13,0)),0,VLOOKUP($H27,Törzsadat!$C:$BD,AW$1,0))","v":0},{"$f":"IF(ISERROR(VLOOKUP($H27,Törzsadat!$C:$BD,13,0)),0,VLOOKUP($H27,Törzsadat!$C:$BD,AX$1,0))","v":0},{"$f":"IF(ISERROR(VLOOKUP($H27,Törzsadat!$C:$BD,13,0)),0,VLOOKUP($H27,Törzsadat!$C:$BD,AY$1,0))","v":0},{"$f":"IF(ISERROR(VLOOKUP($H27,Törzsadat!$C:$BD,13,0)),0,VLOOKUP($H27,Törzsadat!$C:$BD,AZ$1,0))","v":0},{"$f":"IF(ISERROR(VLOOKUP($H27,Törzsadat!$C:$BD,13,0)),0,VLOOKUP($H27,Törzsadat!$C:$BD,BA$1,0))","v":0},{"$f":"IF(ISERROR(VLOOKUP($H27,Törzsadat!$C:$BD,13,0)),0,VLOOKUP($H27,Törzsadat!$C:$BD,BB$1,0))","v":0},{"$f":"IF(ISERROR(VLOOKUP($H27,Törzsadat!$C:$BD,13,0)),0,VLOOKUP($H27,Törzsadat!$C:$BD,BC$1,0))","v":0},{"$f":"IF(ISERROR(VLOOKUP($H27,Törzsadat!$C:$BD,13,0)),0,VLOOKUP($H27,Törzsadat!$C:$BD,BD$1,0))","v":0}]
[40,"TP %",null,0,0,null,"Öv 2",{"$nulls":7},{"$f":"IF(ISERROR(VLOOKUP($H28,Törzsadat!$C:$BD,13,0)),0,VLOOKUP($H28,Törzsadat!$C:$BD,O$1,0))","v":0},{"$f":"IF(ISERROR(VLOOKUP($H28,Törzsadat!$C:$BD,13,0)),0,VLOOKUP($H28,Törzsadat!$C:$BD,P$1,0))","v":0},{"$f":"IF(ISERROR(VLOOKUP($H28,Törzsadat!$C:$BD,13,0)),0,VLOOKUP($H28,Törzsadat!$C:$BD,Q$1,0))","v":0},{"$f":"IF(ISERROR(VLOOKUP($H28,Törzsadat!$C:$BD,13,0)),0,VLOOKUP($H28,Törzsadat!$C:$BD,R$1,0))","v":0},{"$f":"IF(ISERROR(VLOOKUP($H28,Törzsadat!$C:$BD,13,0)),0,VLOOKUP($H28,Törzsadat!$C:$BD,S$1,0))","v":0},{"$f":"IF(ISERROR(VLOOKUP($H28,Törzsadat!$C:$BD,13,0)),0,VLOOKUP($H28,Törzsadat!$C:$BD,T$1,0))","v":0},{"$f":"IF(ISERROR(VLOOKUP($H28,Törzsadat!$C:$BD,13,0)),0,VLOOKUP($H28,Törzsadat!$C:$BD,U$1,0))","v":0},{"$f":"IF(ISERROR(VLOOKUP($H28,Törzsadat!$C:$BD,13,0)),0,VLOOKUP($H28,Törzsadat!$C:$BD,V$1,0))","v":0},{"$f":"IF(ISERROR(VLOOKUP($H28,Törzsadat!$C:$BD,13,0)),0,VLOOKUP($H28,Törzsadat!$C:$BD,W$1,0))","v":0},{"$f":"IF(ISERROR(VLOOKUP($H28,Törzsadat!$C:$BD,13,0)),0,VLOOKUP($H28,Törzsadat!$C:$BD,X$1,0))","v":0},{"$f":"IF(ISERROR(VLOOKUP($H28,Törzsadat!$C:$BD,13,0)),0,VLOOKUP($H28,Törzsadat!$C:$BD,Y$1,0))","v":0},{"$f":"IF(ISERROR(VLOOKUP($H28,Törzsadat!$C:$BD,13,0)),0,VLOOKUP($H28,Törzsadat!$C:$BD,Z$1,0))","v":0},{"$f":"IF(ISERROR(VLOOKUP($H28,Törzsadat!$C:$BD,13,0)),0,VLOOKUP($H28,Törzsadat!$C:$BD,AA$1,0))","v":0},{"$f":"IF(ISERROR(VLOOKUP($H28,Törzsadat!$C:$BD,13,0)),0,VLOOKUP($H28,Törzsadat!$C:$BD,AB$1,0))","v":0},{"$f":"IF(ISERROR(VLOOKUP($H28,Törzsadat!$C:$BD,13,0)),0,VLOOKUP($H28,Törzsadat!$C:$BD,AC$1,0))","v":0},{"$f":"IF(ISERROR(VLOOKUP($H28,Törzsadat!$C:$BD,13,0)),0,VLOOKUP($H28,Törzsadat!$C:$BD,AD$1,0))","v":0},{"$f":"IF(ISERROR(VLOOKUP($H28,Törzsadat!$C:$BD,13,0)),0,VLOOKUP($H28,Törzsadat!$C:$BD,AE$1,0))","v":0},{"$f":"IF(ISERROR(VLOOKUP($H28,Törzsadat!$C:$BD,13,0)),0,VLOOKUP($H28,Törzsadat!$C:$BD,AF$1,0))","v":0},{"$f":"IF(ISERROR(VLOOKUP($H28,Törzsadat!$C:$BD,13,0)),0,VLOOKUP($H28,Törzsadat!$C:$BD,AG$1,0))","v":0},{"$f":"IF(ISERROR(VLOOKUP($H28,Törzsadat!$C:$BD,13,0)),0,VLOOKUP($H28,Törzsadat!$C:$BD,AH$1,0))","v":0},{"$f":"IF(ISERROR(VLOOKUP($H28,Törzsadat!$C:$BD,13,0)),0,VLOOKUP($H28,Törzsadat!$C:$BD,AI$1,0))","v":0},{"$f":"IF(ISERROR(VLOOKUP($H28,Törzsadat!$C:$BD,13,0)),0,VLOOKUP($H28,Törzsadat!$C:$BD,AJ$1,0))","v":0},{"$f":"IF(ISERROR(VLOOKUP($H28,Törzsadat!$C:$BD,13,0)),0,VLOOKUP($H28,Törzsadat!$C:$BD,AK$1,0))","v":0},{"$f":"IF(ISERROR(VLOOKUP($H28,Törzsadat!$C:$BD,13,0)),0,VLOOKUP($H28,Törzsadat!$C:$BD,AL$1,0))","v":0},{"$f":"IF(ISERROR(VLOOKUP($H28,Törzsadat!$C:$BD,13,0)),0,VLOOKUP($H28,Törzsadat!$C:$BD,AM$1,0))","v":0},{"$f":"IF(ISERROR(VLOOKUP($H28,Törzsadat!$C:$BD,13,0)),0,VLOOKUP($H28,Törzsadat!$C:$BD,AN$1,0))","v":0},{"$f":"IF(ISERROR(VLOOKUP($H28,Törzsadat!$C:$BD,13,0)),0,VLOOKUP($H28,Törzsadat!$C:$BD,AO$1,0))","v":0},{"$f":"IF(ISERROR(VLOOKUP($H28,Törzsadat!$C:$BD,13,0)),0,VLOOKUP($H28,Törzsadat!$C:$BD,AP$1,0))","v":0},{"$f":"IF(ISERROR(VLOOKUP($H28,Törzsadat!$C:$BD,13,0)),0,VLOOKUP($H28,Törzsadat!$C:$BD,AQ$1,0))","v":0},{"$f":"IF(ISERROR(VLOOKUP($H28,Törzsadat!$C:$BD,13,0)),0,VLOOKUP($H28,Törzsadat!$C:$BD,AR$1,0))","v":0},{"$f":"IF(ISERROR(VLOOKUP($H28,Törzsadat!$C:$BD,13,0)),0,VLOOKUP($H28,Törzsadat!$C:$BD,AS$1,0))","v":0},{"$f":"IF(ISERROR(VLOOKUP($H28,Törzsadat!$C:$BD,13,0)),0,VLOOKUP($H28,Törzsadat!$C:$BD,AT$1,0))","v":0},{"$f":"IF(ISERROR(VLOOKUP($H28,Törzsadat!$C:$BD,13,0)),0,VLOOKUP($H28,Törzsadat!$C:$BD,AU$1,0))","v":0},{"$f":"IF(ISERROR(VLOOKUP($H28,Törzsadat!$C:$BD,13,0)),0,VLOOKUP($H28,Törzsadat!$C:$BD,AV$1,0))","v":0},{"$f":"IF(ISERROR(VLOOKUP($H28,Törzsadat!$C:$BD,13,0)),0,VLOOKUP($H28,Törzsadat!$C:$BD,AW$1,0))","v":0},{"$f":"IF(ISERROR(VLOOKUP($H28,Törzsadat!$C:$BD,13,0)),0,VLOOKUP($H28,Törzsadat!$C:$BD,AX$1,0))","v":0},{"$f":"IF(ISERROR(VLOOKUP($H28,Törzsadat!$C:$BD,13,0)),0,VLOOKUP($H28,Törzsadat!$C:$BD,AY$1,0))","v":0},{"$f":"IF(ISERROR(VLOOKUP($H28,Törzsadat!$C:$BD,13,0)),0,VLOOKUP($H28,Törzsadat!$C:$BD,AZ$1,0))","v":0},{"$f":"IF(ISERROR(VLOOKUP($H28,Törzsadat!$C:$BD,13,0)),0,VLOOKUP($H28,Törzsadat!$C:$BD,BA$1,0))","v":0},{"$f":"IF(ISERROR(VLOOKUP($H28,Törzsadat!$C:$BD,13,0)),0,VLOOKUP($H28,Törzsadat!$C:$BD,BB$1,0))","v":0},{"$f":"IF(ISERROR(VLOOKUP($H28,Törzsadat!$C:$BD,13,0)),0,VLOOKUP($H28,Törzsadat!$C:$BD,BC$1,0))","v":0},{"$f":"IF(ISERROR(VLOOKUP($H28,Törzsadat!$C:$BD,13,0)),0,VLOOKUP($H28,Törzsadat!$C:$BD,BD$1,0))","v":0}]
[41,"Kincskeresés %",null,0,0,null,"Öv 3",{"$nulls":7},{"$f":"IF(ISERROR(VLOOKUP($H29,Törzsadat!$C:$BD,13,0)),0,VLOOKUP($H29,Törzsadat!$C:$BD,O$1,0))","v":0},{"$f":"IF(ISERROR(VLOOKUP($H29,Törzsadat!$C:$BD,13,0)),0,VLOOKUP($H29,Törzsadat!$C:$BD,P$1,0))","v":0},{"$f":"IF(ISERROR(VLOOKUP($H29,Törzsadat!$C:$BD,13,0)),0,VLOOKUP($H29,Törzsadat!$C:$BD,Q$1,0))","v":0},{"$f":"IF(ISERROR(VLOOKUP($H29,Törzsadat!$C:$BD,13,0)),0,VLOOKUP($H29,Törzsadat!$C:$BD,R$1,0))","v":0},{"$f":"IF(ISERROR(VLOOKUP($H29,Törzsadat!$C:$BD,13,0)),0,VLOOKUP($H29,Törzsadat!$C:$BD,S$1,0))","v":0},{"$f":"IF(ISERROR(VLOOKUP($H29,Törzsadat!$C:$BD,13,0)),0,VLOOKUP($H29,Törzsadat!$C:$BD,T$1,0))","v":0},{"$f":"IF(ISERROR(VLOOKUP($H29,Törzsadat!$C:$BD,13,0)),0,VLOOKUP($H29,Törzsadat!$C:$BD,U$1,0))","v":0},{"$f":"IF(ISERROR(VLOOKUP($H29,Törzsadat!$C:$BD,13,0)),0,VLOOKUP($H29,Törzsadat!$C:$BD,V$1,0))","v":0},{"$f":"IF(ISERROR(VLOOKUP($H29,Törzsadat!$C:$BD,13,0)),0,VLOOKUP($H29,Törzsadat!$C:$BD,W$1,0))","v":0},{"$f":"IF(ISERROR(VLOOKUP($H29,Törzsadat!$C:$BD,13,0)),0,VLOOKUP($H29,Törzsadat!$C:$BD,X$1,0))","v":0},{"$f":"IF(ISERROR(VLOOKUP($H29,Törzsadat!$C:$BD,13,0)),0,VLOOKUP($H29,Törzsadat!$C:$BD,Y$1,0))","v":0},{"$f":"IF(ISERROR(VLOOKUP($H29,Törzsadat!$C:$BD,13,0)),0,VLOOKUP($H29,Törzsadat!$C:$BD,Z$1,0))","v":0},{"$f":"IF(ISERROR(VLOOKUP($H29,Törzsadat!$C:$BD,13,0)),0,VLOOKUP($H29,Törzsadat!$C:$BD,AA$1,0))","v":0},{"$f":"IF(ISERROR(VLOOKUP($H29,Törzsadat!$C:$BD,13,0)),0,VLOOKUP($H29,Törzsadat!$C:$BD,AB$1,0))","v":0},{"$f":"IF(ISERROR(VLOOKUP($H29,Törzsadat!$C:$BD,13,0)),0,VLOOKUP($H29,Törzsadat!$C:$BD,AC$1,0))","v":0},{"$f":"IF(ISERROR(VLOOKUP($H29,Törzsadat!$C:$BD,13,0)),0,VLOOKUP($H29,Törzsadat!$C:$BD,AD$1,0))","v":0},{"$f":"IF(ISERROR(VLOOKUP($H29,Törzsadat!$C:$BD,13,0)),0,VLOOKUP($H29,Törzsadat!$C:$BD,AE$1,0))","v":0},{"$f":"IF(ISERROR(VLOOKUP($H29,Törzsadat!$C:$BD,13,0)),0,VLOOKUP($H29,Törzsadat!$C:$BD,AF$1,0))","v":0},{"$f":"IF(ISERROR(VLOOKUP($H29,Törzsadat!$C:$BD,13,0)),0,VLOOKUP($H29,Törzsadat!$C:$BD,AG$1,0))","v":0},{"$f":"IF(ISERROR(VLOOKUP($H29,Törzsadat!$C:$BD,13,0)),0,VLOOKUP($H29,Törzsadat!$C:$BD,AH$1,0))","v":0},{"$f":"IF(ISERROR(VLOOKUP($H29,Törzsadat!$C:$BD,13,0)),0,VLOOKUP($H29,Törzsadat!$C:$BD,AI$1,0))","v":0},{"$f":"IF(ISERROR(VLOOKUP($H29,Törzsadat!$C:$BD,13,0)),0,VLOOKUP($H29,Törzsadat!$C:$BD,AJ$1,0))","v":0},{"$f":"IF(ISERROR(VLOOKUP($H29,Törzsadat!$C:$BD,13,0)),0,VLOOKUP($H29,Törzsadat!$C:$BD,AK$1,0))","v":0},{"$f":"IF(ISERROR(VLOOKUP($H29,Törzsadat!$C:$BD,13,0)),0,VLOOKUP($H29,Törzsadat!$C:$BD,AL$1,0))","v":0},{"$f":"IF(ISERROR(VLOOKUP($H29,Törzsadat!$C:$BD,13,0)),0,VLOOKUP($H29,Törzsadat!$C:$BD,AM$1,0))","v":0},{"$f":"IF(ISERROR(VLOOKUP($H29,Törzsadat!$C:$BD,13,0)),0,VLOOKUP($H29,Törzsadat!$C:$BD,AN$1,0))","v":0},{"$f":"IF(ISERROR(VLOOKUP($H29,Törzsadat!$C:$BD,13,0)),0,VLOOKUP($H29,Törzsadat!$C:$BD,AO$1,0))","v":0},{"$f":"IF(ISERROR(VLOOKUP($H29,Törzsadat!$C:$BD,13,0)),0,VLOOKUP($H29,Törzsadat!$C:$BD,AP$1,0))","v":0},{"$f":"IF(ISERROR(VLOOKUP($H29,Törzsadat!$C:$BD,13,0)),0,VLOOKUP($H29,Törzsadat!$C:$BD,AQ$1,0))","v":0},{"$f":"IF(ISERROR(VLOOKUP($H29,Törzsadat!$C:$BD,13,0)),0,VLOOKUP($H29,Törzsadat!$C:$BD,AR$1,0))","v":0},{"$f":"IF(ISERROR(VLOOKUP($H29,Törzsadat!$C:$BD,13,0)),0,VLOOKUP($H29,Törzsadat!$C:$BD,AS$1,0))","v":0},{"$f":"IF(ISERROR(VLOOKUP($H29,Törzsadat!$C:$BD,13,0)),0,VLOOKUP($H29,Törzsadat!$C:$BD,AT$1,0))","v":0},{"$f":"IF(ISERROR(VLOOKUP($H29,Törzsadat!$C:$BD,13,0)),0,VLOOKUP($H29,Törzsadat!$C:$BD,AU$1,0))","v":0},{"$f":"IF(ISERROR(VLOOKUP($H29,Törzsadat!$C:$BD,13,0)),0,VLOOKUP($H29,Törzsadat!$C:$BD,AV$1,0))","v":0},{"$f":"IF(ISERROR(VLOOKUP($H29,Törzsadat!$C:$BD,13,0)),0,VLOOKUP($H29,Törzsadat!$C:$BD,AW$1,0))","v":0},{"$f":"IF(ISERROR(VLOOKUP($H29,Törzsadat!$C:$BD,13,0)),0,VLOOKUP($H29,Törzsadat!$C:$BD,AX$1,0))","v":0},{"$f":"IF(ISERROR(VLOOKUP($H29,Törzsadat!$C:$BD,13,0)),0,VLOOKUP($H29,Törzsadat!$C:$BD,AY$1,0))","v":0},{"$f":"IF(ISERROR(VLOOKUP($H29,Törzsadat!$C:$BD,13,0)),0,VLOOKUP($H29,Törzsadat!$C:$BD,AZ$1,0))","v":0},{"$f":"IF(ISERROR(VLOOKUP($H29,Törzsadat!$C:$BD,13,0)),0,VLOOKUP($H29,Törzsadat!$C:$BD,BA$1,0))","v":0},{"$f":"IF(ISERROR(VLOOKUP($H29,Törzsadat!$C:$BD,13,0)),0,VLOOKUP($H29,Törzsadat!$C:$BD,BB$1,0))","v":0},{"$f":"IF(ISERROR(VLOOKUP($H29,Törzsadat!$C:$BD,13,0)),0,VLOOKUP($H29,Törzsadat!$C:$BD,BC$1,0))","v":0},{"$f":"IF(ISERROR(VLOOKUP($H29,Törzsadat!$C:$BD,13,0)),0,VLOOKUP($H29,Törzsadat!$C:$BD,BD$1,0))","v":0}]
[42,"Tárgymentő",null,0,0,null,"Övcsat",{"$nulls":7},{"$f":"IF(ISERROR(VLOOKUP($H30,Törzsadat!$C:$BD,13,0)),0,VLOOKUP($H30,Törzsadat!$C:$BD,O$1,0))","v":0},{"$f":"IF(ISERROR(VLOOKUP($H30,Törzsadat!$C:$BD,13,0)),0,VLOOKUP($H30,Törzsadat!$C:$BD,P$1,0))","v":0},{"$f":"IF(ISERROR(VLOOKUP($H30,Törzsadat!$C:$BD,13,0)),0,VLOOKUP($H30,Törzsadat!$C:$BD,Q$1,0))","v":0},{"$f":"IF(ISERROR(VLOOKUP($H30,Törzsadat!$C:$BD,13,0)),0,VLOOKUP($H30,Törzsadat!$C:$BD,R$1,0))","v":0},{"$f":"IF(ISERROR(VLOOKUP($H30,Törzsadat!$C:$BD,13,0)),0,VLOOKUP($H30,Törzsadat!$C:$BD,S$1,0))","v":0},{"$f":"IF(ISERROR(VLOOKUP($H30,Törzsadat!$C:$BD,13,0)),0,VLOOKUP($H30,Törzsadat!$C:$BD,T$1,0))","v":0},{"$f":"IF(ISERROR(VLOOKUP($H30,Törzsadat!$C:$BD,13,0)),0,VLOOKUP($H30,Törzsadat!$C:$BD,U$1,0))","v":0},{"$f":"IF(ISERROR(VLOOKUP($H30,Törzsadat!$C:$BD,13,0)),0,VLOOKUP($H30,Törzsadat!$C:$BD,V$1,0))","v":0},{"$f":"IF(ISERROR(VLOOKUP($H30,Törzsadat!$C:$BD,13,0)),0,VLOOKUP($H30,Törzsadat!$C:$BD,W$1,0))","v":0},{"$f":"IF(ISERROR(VLOOKUP($H30,Törzsadat!$C:$BD,13,0)),0,VLOOKUP($H30,Törzsadat!$C:$BD,X$1,0))","v":0},{"$f":"IF(ISERROR(VLOOKUP($H30,Törzsadat!$C:$BD,13,0)),0,VLOOKUP($H30,Törzsadat!$C:$BD,Y$1,0))","v":0},{"$f":"IF(ISERROR(VLOOKUP($H30,Törzsadat!$C:$BD,13,0)),0,VLOOKUP($H30,Törzsadat!$C:$BD,Z$1,0))","v":0},{"$f":"IF(ISERROR(VLOOKUP($H30,Törzsadat!$C:$BD,13,0)),0,VLOOKUP($H30,Törzsadat!$C:$BD,AA$1,0))","v":0},{"$f":"IF(ISERROR(VLOOKUP($H30,Törzsadat!$C:$BD,13,0)),0,VLOOKUP($H30,Törzsadat!$C:$BD,AB$1,0))","v":0},{"$f":"IF(ISERROR(VLOOKUP($H30,Törzsadat!$C:$BD,13,0)),0,VLOOKUP($H30,Törzsadat!$C:$BD,AC$1,0))","v":0},{"$f":"IF(ISERROR(VLOOKUP($H30,Törzsadat!$C:$BD,13,0)),0,VLOOKUP($H30,Törzsadat!$C:$BD,AD$1,0))","v":0},{"$f":"IF(ISERROR(VLOOKUP($H30,Törzsadat!$C:$BD,13,0)),0,VLOOKUP($H30,Törzsadat!$C:$BD,AE$1,0))","v":0},{"$f":"IF(ISERROR(VLOOKUP($H30,Törzsadat!$C:$BD,13,0)),0,VLOOKUP($H30,Törzsadat!$C:$BD,AF$1,0))","v":0},{"$f":"IF(ISERROR(VLOOKUP($H30,Törzsadat!$C:$BD,13,0)),0,VLOOKUP($H30,Törzsadat!$C:$BD,AG$1,0))","v":0},{"$f":"IF(ISERROR(VLOOKUP($H30,Törzsadat!$C:$BD,13,0)),0,VLOOKUP($H30,Törzsadat!$C:$BD,AH$1,0))","v":0},{"$f":"IF(ISERROR(VLOOKUP($H30,Törzsadat!$C:$BD,13,0)),0,VLOOKUP($H30,Törzsadat!$C:$BD,AI$1,0))","v":0},{"$f":"IF(ISERROR(VLOOKUP($H30,Törzsadat!$C:$BD,13,0)),0,VLOOKUP($H30,Törzsadat!$C:$BD,AJ$1,0))","v":0},{"$f":"IF(ISERROR(VLOOKUP($H30,Törzsadat!$C:$BD,13,0)),0,VLOOKUP($H30,Törzsadat!$C:$BD,AK$1,0))","v":0},{"$f":"IF(ISERROR(VLOOKUP($H30,Törzsadat!$C:$BD,13,0)),0,VLOOKUP($H30,Törzsadat!$C:$BD,AL$1,0))","v":0},{"$f":"IF(ISERROR(VLOOKUP($H30,Törzsadat!$C:$BD,13,0)),0,VLOOKUP($H30,Törzsadat!$C:$BD,AM$1,0))","v":0},{"$f":"IF(ISERROR(VLOOKUP($H30,Törzsadat!$C:$BD,13,0)),0,VLOOKUP($H30,Törzsadat!$C:$BD,AN$1,0))","v":0},{"$f":"IF(ISERROR(VLOOKUP($H30,Törzsadat!$C:$BD,13,0)),0,VLOOKUP($H30,Törzsadat!$C:$BD,AO$1,0))","v":0},{"$f":"IF(ISERROR(VLOOKUP($H30,Törzsadat!$C:$BD,13,0)),0,VLOOKUP($H30,Törzsadat!$C:$BD,AP$1,0))","v":0},{"$f":"IF(ISERROR(VLOOKUP($H30,Törzsadat!$C:$BD,13,0)),0,VLOOKUP($H30,Törzsadat!$C:$BD,AQ$1,0))","v":0},{"$f":"IF(ISERROR(VLOOKUP($H30,Törzsadat!$C:$BD,13,0)),0,VLOOKUP($H30,Törzsadat!$C:$BD,AR$1,0))","v":0},{"$f":"IF(ISERROR(VLOOKUP($H30,Törzsadat!$C:$BD,13,0)),0,VLOOKUP($H30,Törzsadat!$C:$BD,AS$1,0))","v":0},{"$f":"IF(ISERROR(VLOOKUP($H30,Törzsadat!$C:$BD,13,0)),0,VLOOKUP($H30,Törzsadat!$C:$BD,AT$1,0))","v":0},{"$f":"IF(ISERROR(VLOOKUP($H30,Törzsadat!$C:$BD,13,0)),0,VLOOKUP($H30,Törzsadat!$C:$BD,AU$1,0))","v":0},{"$f":"IF(ISERROR(VLOOKUP($H30,Törzsadat!$C:$BD,13,0)),0,VLOOKUP($H30,Törzsadat!$C:$BD,AV$1,0))","v":0},{"$f":"IF(ISERROR(VLOOKUP($H30,Törzsadat!$C:$BD,13,0)),0,VLOOKUP($H30,Törzsadat!$C:$BD,AW$1,0))","v":0},{"$f":"IF(ISERROR(VLOOKUP($H30,Törzsadat!$C:$BD,13,0)),0,VLOOKUP($H30,Törzsadat!$C:$BD,AX$1,0))","v":0},{"$f":"IF(ISERROR(VLOOKUP($H30,Törzsadat!$C:$BD,13,0)),0,VLOOKUP($H30,Törzsadat!$C:$BD,AY$1,0))","v":0},{"$f":"IF(ISERROR(VLOOKUP($H30,Törzsadat!$C:$BD,13,0)),0,VLOOKUP($H30,Törzsadat!$C:$BD,AZ$1,0))","v":0},{"$f":"IF(ISERROR(VLOOKUP($H30,Törzsadat!$C:$BD,13,0)),0,VLOOKUP($H30,Törzsadat!$C:$BD,BA$1,0))","v":0},{"$f":"IF(ISERROR(VLOOKUP($H30,Törzsadat!$C:$BD,13,0)),0,VLOOKUP($H30,Törzsadat!$C:$BD,BB$1,0))","v":0},{"$f":"IF(ISERROR(VLOOKUP($H30,Törzsadat!$C:$BD,13,0)),0,VLOOKUP($H30,Törzsadat!$C:$BD,BC$1,0))","v":0},{"$f":"IF(ISERROR(VLOOKUP($H30,Törzsadat!$C:$BD,13,0)),0,VLOOKUP($H30,Törzsadat!$C:$BD,BD$1,0))","v":0}]
[43,"Teológia",null,0,0,null,"Övcsat 2",{"$nulls":7},{"$f":"IF(ISERROR(VLOOKUP($H31,Törzsadat!$C:$BD,13,0)),0,VLOOKUP($H31,Törzsadat!$C:$BD,O$1,0))","v":0},{"$f":"IF(ISERROR(VLOOKUP($H31,Törzsadat!$C:$BD,13,0)),0,VLOOKUP($H31,Törzsadat!$C:$BD,P$1,0))","v":0},{"$f":"IF(ISERROR(VLOOKUP($H31,Törzsadat!$C:$BD,13,0)),0,VLOOKUP($H31,Törzsadat!$C:$BD,Q$1,0))","v":0},{"$f":"IF(ISERROR(VLOOKUP($H31,Törzsadat!$C:$BD,13,0)),0,VLOOKUP($H31,Törzsadat!$C:$BD,R$1,0))","v":0},{"$f":"IF(ISERROR(VLOOKUP($H31,Törzsadat!$C:$BD,13,0)),0,VLOOKUP($H31,Törzsadat!$C:$BD,S$1,0))","v":0},{"$f":"IF(ISERROR(VLOOKUP($H31,Törzsadat!$C:$BD,13,0)),0,VLOOKUP($H31,Törzsadat!$C:$BD,T$1,0))","v":0},{"$f":"IF(ISERROR(VLOOKUP($H31,Törzsadat!$C:$BD,13,0)),0,VLOOKUP($H31,Törzsadat!$C:$BD,U$1,0))","v":0},{"$f":"IF(ISERROR(VLOOKUP($H31,Törzsadat!$C:$BD,13,0)),0,VLOOKUP($H31,Törzsadat!$C:$BD,V$1,0))","v":0},{"$f":"IF(ISERROR(VLOOKUP($H31,Törzsadat!$C:$BD,13,0)),0,VLOOKUP($H31,Törzsadat!$C:$BD,W$1,0))","v":0},{"$f":"IF(ISERROR(VLOOKUP($H31,Törzsadat!$C:$BD,13,0)),0,VLOOKUP($H31,Törzsadat!$C:$BD,X$1,0))","v":0},{"$f":"IF(ISERROR(VLOOKUP($H31,Törzsadat!$C:$BD,13,0)),0,VLOOKUP($H31,Törzsadat!$C:$BD,Y$1,0))","v":0},{"$f":"IF(ISERROR(VLOOKUP($H31,Törzsadat!$C:$BD,13,0)),0,VLOOKUP($H31,Törzsadat!$C:$BD,Z$1,0))","v":0},{"$f":"IF(ISERROR(VLOOKUP($H31,Törzsadat!$C:$BD,13,0)),0,VLOOKUP($H31,Törzsadat!$C:$BD,AA$1,0))","v":0},{"$f":"IF(ISERROR(VLOOKUP($H31,Törzsadat!$C:$BD,13,0)),0,VLOOKUP($H31,Törzsadat!$C:$BD,AB$1,0))","v":0},{"$f":"IF(ISERROR(VLOOKUP($H31,Törzsadat!$C:$BD,13,0)),0,VLOOKUP($H31,Törzsadat!$C:$BD,AC$1,0))","v":0},{"$f":"IF(ISERROR(VLOOKUP($H31,Törzsadat!$C:$BD,13,0)),0,VLOOKUP($H31,Törzsadat!$C:$BD,AD$1,0))","v":0},{"$f":"IF(ISERROR(VLOOKUP($H31,Törzsadat!$C:$BD,13,0)),0,VLOOKUP($H31,Törzsadat!$C:$BD,AE$1,0))","v":0},{"$f":"IF(ISERROR(VLOOKUP($H31,Törzsadat!$C:$BD,13,0)),0,VLOOKUP($H31,Törzsadat!$C:$BD,AF$1,0))","v":0},{"$f":"IF(ISERROR(VLOOKUP($H31,Törzsadat!$C:$BD,13,0)),0,VLOOKUP($H31,Törzsadat!$C:$BD,AG$1,0))","v":0},{"$f":"IF(ISERROR(VLOOKUP($H31,Törzsadat!$C:$BD,13,0)),0,VLOOKUP($H31,Törzsadat!$C:$BD,AH$1,0))","v":0},{"$f":"IF(ISERROR(VLOOKUP($H31,Törzsadat!$C:$BD,13,0)),0,VLOOKUP($H31,Törzsadat!$C:$BD,AI$1,0))","v":0},{"$f":"IF(ISERROR(VLOOKUP($H31,Törzsadat!$C:$BD,13,0)),0,VLOOKUP($H31,Törzsadat!$C:$BD,AJ$1,0))","v":0},{"$f":"IF(ISERROR(VLOOKUP($H31,Törzsadat!$C:$BD,13,0)),0,VLOOKUP($H31,Törzsadat!$C:$BD,AK$1,0))","v":0},{"$f":"IF(ISERROR(VLOOKUP($H31,Törzsadat!$C:$BD,13,0)),0,VLOOKUP($H31,Törzsadat!$C:$BD,AL$1,0))","v":0},{"$f":"IF(ISERROR(VLOOKUP($H31,Törzsadat!$C:$BD,13,0)),0,VLOOKUP($H31,Törzsadat!$C:$BD,AM$1,0))","v":0},{"$f":"IF(ISERROR(VLOOKUP($H31,Törzsadat!$C:$BD,13,0)),0,VLOOKUP($H31,Törzsadat!$C:$BD,AN$1,0))","v":0},{"$f":"IF(ISERROR(VLOOKUP($H31,Törzsadat!$C:$BD,13,0)),0,VLOOKUP($H31,Törzsadat!$C:$BD,AO$1,0))","v":0},{"$f":"IF(ISERROR(VLOOKUP($H31,Törzsadat!$C:$BD,13,0)),0,VLOOKUP($H31,Törzsadat!$C:$BD,AP$1,0))","v":0},{"$f":"IF(ISERROR(VLOOKUP($H31,Törzsadat!$C:$BD,13,0)),0,VLOOKUP($H31,Törzsadat!$C:$BD,AQ$1,0))","v":0},{"$f":"IF(ISERROR(VLOOKUP($H31,Törzsadat!$C:$BD,13,0)),0,VLOOKUP($H31,Törzsadat!$C:$BD,AR$1,0))","v":0},{"$f":"IF(ISERROR(VLOOKUP($H31,Törzsadat!$C:$BD,13,0)),0,VLOOKUP($H31,Törzsadat!$C:$BD,AS$1,0))","v":0},{"$f":"IF(ISERROR(VLOOKUP($H31,Törzsadat!$C:$BD,13,0)),0,VLOOKUP($H31,Törzsadat!$C:$BD,AT$1,0))","v":0},{"$f":"IF(ISERROR(VLOOKUP($H31,Törzsadat!$C:$BD,13,0)),0,VLOOKUP($H31,Törzsadat!$C:$BD,AU$1,0))","v":0},{"$f":"IF(ISERROR(VLOOKUP($H31,Törzsadat!$C:$BD,13,0)),0,VLOOKUP($H31,Törzsadat!$C:$BD,AV$1,0))","v":0},{"$f":"IF(ISERROR(VLOOKUP($H31,Törzsadat!$C:$BD,13,0)),0,VLOOKUP($H31,Törzsadat!$C:$BD,AW$1,0))","v":0},{"$f":"IF(ISERROR(VLOOKUP($H31,Törzsadat!$C:$BD,13,0)),0,VLOOKUP($H31,Törzsadat!$C:$BD,AX$1,0))","v":0},{"$f":"IF(ISERROR(VLOOKUP($H31,Törzsadat!$C:$BD,13,0)),0,VLOOKUP($H31,Törzsadat!$C:$BD,AY$1,0))","v":0},{"$f":"IF(ISERROR(VLOOKUP($H31,Törzsadat!$C:$BD,13,0)),0,VLOOKUP($H31,Törzsadat!$C:$BD,AZ$1,0))","v":0},{"$f":"IF(ISERROR(VLOOKUP($H31,Törzsadat!$C:$BD,13,0)),0,VLOOKUP($H31,Törzsadat!$C:$BD,BA$1,0))","v":0},{"$f":"IF(ISERROR(VLOOKUP($H31,Törzsadat!$C:$BD,13,0)),0,VLOOKUP($H31,Törzsadat!$C:$BD,BB$1,0))","v":0},{"$f":"IF(ISERROR(VLOOKUP($H31,Törzsadat!$C:$BD,13,0)),0,VLOOKUP($H31,Törzsadat!$C:$BD,BC$1,0))","v":0},{"$f":"IF(ISERROR(VLOOKUP($H31,Törzsadat!$C:$BD,13,0)),0,VLOOKUP($H31,Törzsadat!$C:$BD,BD$1,0))","v":0}]
[44,"Taumaturgia",null,0,0,null,"Övcsat 3",{"$nulls":7},{"$f":"IF(ISERROR(VLOOKUP($H32,Törzsadat!$C:$BD,13,0)),0,VLOOKUP($H32,Törzsadat!$C:$BD,O$1,0))","v":0},{"$f":"IF(ISERROR(VLOOKUP($H32,Törzsadat!$C:$BD,13,0)),0,VLOOKUP($H32,Törzsadat!$C:$BD,P$1,0))","v":0},{"$f":"IF(ISERROR(VLOOKUP($H32,Törzsadat!$C:$BD,13,0)),0,VLOOKUP($H32,Törzsadat!$C:$BD,Q$1,0))","v":0},{"$f":"IF(ISERROR(VLOOKUP($H32,Törzsadat!$C:$BD,13,0)),0,VLOOKUP($H32,Törzsadat!$C:$BD,R$1,0))","v":0},{"$f":"IF(ISERROR(VLOOKUP($H32,Törzsadat!$C:$BD,13,0)),0,VLOOKUP($H32,Törzsadat!$C:$BD,S$1,0))","v":0},{"$f":"IF(ISERROR(VLOOKUP($H32,Törzsadat!$C:$BD,13,0)),0,VLOOKUP($H32,Törzsadat!$C:$BD,T$1,0))","v":0},{"$f":"IF(ISERROR(VLOOKUP($H32,Törzsadat!$C:$BD,13,0)),0,VLOOKUP($H32,Törzsadat!$C:$BD,U$1,0))","v":0},{"$f":"IF(ISERROR(VLOOKUP($H32,Törzsadat!$C:$BD,13,0)),0,VLOOKUP($H32,Törzsadat!$C:$BD,V$1,0))","v":0},{"$f":"IF(ISERROR(VLOOKUP($H32,Törzsadat!$C:$BD,13,0)),0,VLOOKUP($H32,Törzsadat!$C:$BD,W$1,0))","v":0},{"$f":"IF(ISERROR(VLOOKUP($H32,Törzsadat!$C:$BD,13,0)),0,VLOOKUP($H32,Törzsadat!$C:$BD,X$1,0))","v":0},{"$f":"IF(ISERROR(VLOOKUP($H32,Törzsadat!$C:$BD,13,0)),0,VLOOKUP($H32,Törzsadat!$C:$BD,Y$1,0))","v":0},{"$f":"IF(ISERROR(VLOOKUP($H32,Törzsadat!$C:$BD,13,0)),0,VLOOKUP($H32,Törzsadat!$C:$BD,Z$1,0))","v":0},{"$f":"IF(ISERROR(VLOOKUP($H32,Törzsadat!$C:$BD,13,0)),0,VLOOKUP($H32,Törzsadat!$C:$BD,AA$1,0))","v":0},{"$f":"IF(ISERROR(VLOOKUP($H32,Törzsadat!$C:$BD,13,0)),0,VLOOKUP($H32,Törzsadat!$C:$BD,AB$1,0))","v":0},{"$f":"IF(ISERROR(VLOOKUP($H32,Törzsadat!$C:$BD,13,0)),0,VLOOKUP($H32,Törzsadat!$C:$BD,AC$1,0))","v":0},{"$f":"IF(ISERROR(VLOOKUP($H32,Törzsadat!$C:$BD,13,0)),0,VLOOKUP($H32,Törzsadat!$C:$BD,AD$1,0))","v":0},{"$f":"IF(ISERROR(VLOOKUP($H32,Törzsadat!$C:$BD,13,0)),0,VLOOKUP($H32,Törzsadat!$C:$BD,AE$1,0))","v":0},{"$f":"IF(ISERROR(VLOOKUP($H32,Törzsadat!$C:$BD,13,0)),0,VLOOKUP($H32,Törzsadat!$C:$BD,AF$1,0))","v":0},{"$f":"IF(ISERROR(VLOOKUP($H32,Törzsadat!$C:$BD,13,0)),0,VLOOKUP($H32,Törzsadat!$C:$BD,AG$1,0))","v":0},{"$f":"IF(ISERROR(VLOOKUP($H32,Törzsadat!$C:$BD,13,0)),0,VLOOKUP($H32,Törzsadat!$C:$BD,AH$1,0))","v":0},{"$f":"IF(ISERROR(VLOOKUP($H32,Törzsadat!$C:$BD,13,0)),0,VLOOKUP($H32,Törzsadat!$C:$BD,AI$1,0))","v":0},{"$f":"IF(ISERROR(VLOOKUP($H32,Törzsadat!$C:$BD,13,0)),0,VLOOKUP($H32,Törzsadat!$C:$BD,AJ$1,0))","v":0},{"$f":"IF(ISERROR(VLOOKUP($H32,Törzsadat!$C:$BD,13,0)),0,VLOOKUP($H32,Törzsadat!$C:$BD,AK$1,0))","v":0},{"$f":"IF(ISERROR(VLOOKUP($H32,Törzsadat!$C:$BD,13,0)),0,VLOOKUP($H32,Törzsadat!$C:$BD,AL$1,0))","v":0},{"$f":"IF(ISERROR(VLOOKUP($H32,Törzsadat!$C:$BD,13,0)),0,VLOOKUP($H32,Törzsadat!$C:$BD,AM$1,0))","v":0},{"$f":"IF(ISERROR(VLOOKUP($H32,Törzsadat!$C:$BD,13,0)),0,VLOOKUP($H32,Törzsadat!$C:$BD,AN$1,0))","v":0},{"$f":"IF(ISERROR(VLOOKUP($H32,Törzsadat!$C:$BD,13,0)),0,VLOOKUP($H32,Törzsadat!$C:$BD,AO$1,0))","v":0},{"$f":"IF(ISERROR(VLOOKUP($H32,Törzsadat!$C:$BD,13,0)),0,VLOOKUP($H32,Törzsadat!$C:$BD,AP$1,0))","v":0},{"$f":"IF(ISERROR(VLOOKUP($H32,Törzsadat!$C:$BD,13,0)),0,VLOOKUP($H32,Törzsadat!$C:$BD,AQ$1,0))","v":0},{"$f":"IF(ISERROR(VLOOKUP($H32,Törzsadat!$C:$BD,13,0)),0,VLOOKUP($H32,Törzsadat!$C:$BD,AR$1,0))","v":0},{"$f":"IF(ISERROR(VLOOKUP($H32,Törzsadat!$C:$BD,13,0)),0,VLOOKUP($H32,Törzsadat!$C:$BD,AS$1,0))","v":0},{"$f":"IF(ISERROR(VLOOKUP($H32,Törzsadat!$C:$BD,13,0)),0,VLOOKUP($H32,Törzsadat!$C:$BD,AT$1,0))","v":0},{"$f":"IF(ISERROR(VLOOKUP($H32,Törzsadat!$C:$BD,13,0)),0,VLOOKUP($H32,Törzsadat!$C:$BD,AU$1,0))","v":0},{"$f":"IF(ISERROR(VLOOKUP($H32,Törzsadat!$C:$BD,13,0)),0,VLOOKUP($H32,Törzsadat!$C:$BD,AV$1,0))","v":0},{"$f":"IF(ISERROR(VLOOKUP($H32,Törzsadat!$C:$BD,13,0)),0,VLOOKUP($H32,Törzsadat!$C:$BD,AW$1,0))","v":0},{"$f":"IF(ISERROR(VLOOKUP($H32,Törzsadat!$C:$BD,13,0)),0,VLOOKUP($H32,Törzsadat!$C:$BD,AX$1,0))","v":0},{"$f":"IF(ISERROR(VLOOKUP($H32,Törzsadat!$C:$BD,13,0)),0,VLOOKUP($H32,Törzsadat!$C:$BD,AY$1,0))","v":0},{"$f":"IF(ISERROR(VLOOKUP($H32,Törzsadat!$C:$BD,13,0)),0,VLOOKUP($H32,Törzsadat!$C:$BD,AZ$1,0))","v":0},{"$f":"IF(ISERROR(VLOOKUP($H32,Törzsadat!$C:$BD,13,0)),0,VLOOKUP($H32,Törzsadat!$C:$BD,BA$1,0))","v":0},{"$f":"IF(ISERROR(VLOOKUP($H32,Törzsadat!$C:$BD,13,0)),0,VLOOKUP($H32,Törzsadat!$C:$BD,BB$1,0))","v":0},{"$f":"IF(ISERROR(VLOOKUP($H32,Törzsadat!$C:$BD,13,0)),0,VLOOKUP($H32,Törzsadat!$C:$BD,BC$1,0))","v":0},{"$f":"IF(ISERROR(VLOOKUP($H32,Törzsadat!$C:$BD,13,0)),0,VLOOKUP($H32,Törzsadat!$C:$BD,BD$1,0))","v":0}]
[45,"Lopás",null,0,0,null,"Fülbevaló 1",{"$nulls":7},{"$f":"IF(ISERROR(VLOOKUP($H33,Törzsadat!$C:$BD,13,0)),0,VLOOKUP($H33,Törzsadat!$C:$BD,O$1,0))","v":0},{"$f":"IF(ISERROR(VLOOKUP($H33,Törzsadat!$C:$BD,13,0)),0,VLOOKUP($H33,Törzsadat!$C:$BD,P$1,0))","v":0},{"$f":"IF(ISERROR(VLOOKUP($H33,Törzsadat!$C:$BD,13,0)),0,VLOOKUP($H33,Törzsadat!$C:$BD,Q$1,0))","v":0},{"$f":"IF(ISERROR(VLOOKUP($H33,Törzsadat!$C:$BD,13,0)),0,VLOOKUP($H33,Törzsadat!$C:$BD,R$1,0))","v":0},{"$f":"IF(ISERROR(VLOOKUP($H33,Törzsadat!$C:$BD,13,0)),0,VLOOKUP($H33,Törzsadat!$C:$BD,S$1,0))","v":0},{"$f":"IF(ISERROR(VLOOKUP($H33,Törzsadat!$C:$BD,13,0)),0,VLOOKUP($H33,Törzsadat!$C:$BD,T$1,0))","v":0},{"$f":"IF(ISERROR(VLOOKUP($H33,Törzsadat!$C:$BD,13,0)),0,VLOOKUP($H33,Törzsadat!$C:$BD,U$1,0))","v":0},{"$f":"IF(ISERROR(VLOOKUP($H33,Törzsadat!$C:$BD,13,0)),0,VLOOKUP($H33,Törzsadat!$C:$BD,V$1,0))","v":0},{"$f":"IF(ISERROR(VLOOKUP($H33,Törzsadat!$C:$BD,13,0)),0,VLOOKUP($H33,Törzsadat!$C:$BD,W$1,0))","v":0},{"$f":"IF(ISERROR(VLOOKUP($H33,Törzsadat!$C:$BD,13,0)),0,VLOOKUP($H33,Törzsadat!$C:$BD,X$1,0))","v":0},{"$f":"IF(ISERROR(VLOOKUP($H33,Törzsadat!$C:$BD,13,0)),0,VLOOKUP($H33,Törzsadat!$C:$BD,Y$1,0))","v":0},{"$f":"IF(ISERROR(VLOOKUP($H33,Törzsadat!$C:$BD,13,0)),0,VLOOKUP($H33,Törzsadat!$C:$BD,Z$1,0))","v":0},{"$f":"IF(ISERROR(VLOOKUP($H33,Törzsadat!$C:$BD,13,0)),0,VLOOKUP($H33,Törzsadat!$C:$BD,AA$1,0))","v":0},{"$f":"IF(ISERROR(VLOOKUP($H33,Törzsadat!$C:$BD,13,0)),0,VLOOKUP($H33,Törzsadat!$C:$BD,AB$1,0))","v":0},{"$f":"IF(ISERROR(VLOOKUP($H33,Törzsadat!$C:$BD,13,0)),0,VLOOKUP($H33,Törzsadat!$C:$BD,AC$1,0))","v":0},{"$f":"IF(ISERROR(VLOOKUP($H33,Törzsadat!$C:$BD,13,0)),0,VLOOKUP($H33,Törzsadat!$C:$BD,AD$1,0))","v":0},{"$f":"IF(ISERROR(VLOOKUP($H33,Törzsadat!$C:$BD,13,0)),0,VLOOKUP($H33,Törzsadat!$C:$BD,AE$1,0))","v":0},{"$f":"IF(ISERROR(VLOOKUP($H33,Törzsadat!$C:$BD,13,0)),0,VLOOKUP($H33,Törzsadat!$C:$BD,AF$1,0))","v":0},{"$f":"IF(ISERROR(VLOOKUP($H33,Törzsadat!$C:$BD,13,0)),0,VLOOKUP($H33,Törzsadat!$C:$BD,AG$1,0))","v":0},{"$f":"IF(ISERROR(VLOOKUP($H33,Törzsadat!$C:$BD,13,0)),0,VLOOKUP($H33,Törzsadat!$C:$BD,AH$1,0))","v":0},{"$f":"IF(ISERROR(VLOOKUP($H33,Törzsadat!$C:$BD,13,0)),0,VLOOKUP($H33,Törzsadat!$C:$BD,AI$1,0))","v":0},{"$f":"IF(ISERROR(VLOOKUP($H33,Törzsadat!$C:$BD,13,0)),0,VLOOKUP($H33,Törzsadat!$C:$BD,AJ$1,0))","v":0},{"$f":"IF(ISERROR(VLOOKUP($H33,Törzsadat!$C:$BD,13,0)),0,VLOOKUP($H33,Törzsadat!$C:$BD,AK$1,0))","v":0},{"$f":"IF(ISERROR(VLOOKUP($H33,Törzsadat!$C:$BD,13,0)),0,VLOOKUP($H33,Törzsadat!$C:$BD,AL$1,0))","v":0},{"$f":"IF(ISERROR(VLOOKUP($H33,Törzsadat!$C:$BD,13,0)),0,VLOOKUP($H33,Törzsadat!$C:$BD,AM$1,0))","v":0},{"$f":"IF(ISERROR(VLOOKUP($H33,Törzsadat!$C:$BD,13,0)),0,VLOOKUP($H33,Törzsadat!$C:$BD,AN$1,0))","v":0},{"$f":"IF(ISERROR(VLOOKUP($H33,Törzsadat!$C:$BD,13,0)),0,VLOOKUP($H33,Törzsadat!$C:$BD,AO$1,0))","v":0},{"$f":"IF(ISERROR(VLOOKUP($H33,Törzsadat!$C:$BD,13,0)),0,VLOOKUP($H33,Törzsadat!$C:$BD,AP$1,0))","v":0},{"$f":"IF(ISERROR(VLOOKUP($H33,Törzsadat!$C:$BD,13,0)),0,VLOOKUP($H33,Törzsadat!$C:$BD,AQ$1,0))","v":0},{"$f":"IF(ISERROR(VLOOKUP($H33,Törzsadat!$C:$BD,13,0)),0,VLOOKUP($H33,Törzsadat!$C:$BD,AR$1,0))","v":0},{"$f":"IF(ISERROR(VLOOKUP($H33,Törzsadat!$C:$BD,13,0)),0,VLOOKUP($H33,Törzsadat!$C:$BD,AS$1,0))","v":0},{"$f":"IF(ISERROR(VLOOKUP($H33,Törzsadat!$C:$BD,13,0)),0,VLOOKUP($H33,Törzsadat!$C:$BD,AT$1,0))","v":0},{"$f":"IF(ISERROR(VLOOKUP($H33,Törzsadat!$C:$BD,13,0)),0,VLOOKUP($H33,Törzsadat!$C:$BD,AU$1,0))","v":0},{"$f":"IF(ISERROR(VLOOKUP($H33,Törzsadat!$C:$BD,13,0)),0,VLOOKUP($H33,Törzsadat!$C:$BD,AV$1,0))","v":0},{"$f":"IF(ISERROR(VLOOKUP($H33,Törzsadat!$C:$BD,13,0)),0,VLOOKUP($H33,Törzsadat!$C:$BD,AW$1,0))","v":0},{"$f":"IF(ISERROR(VLOOKUP($H33,Törzsadat!$C:$BD,13,0)),0,VLOOKUP($H33,Törzsadat!$C:$BD,AX$1,0))","v":0},{"$f":"IF(ISERROR(VLOOKUP($H33,Törzsadat!$C:$BD,13,0)),0,VLOOKUP($H33,Törzsadat!$C:$BD,AY$1,0))","v":0},{"$f":"IF(ISERROR(VLOOKUP($H33,Törzsadat!$C:$BD,13,0)),0,VLOOKUP($H33,Törzsadat!$C:$BD,AZ$1,0))","v":0},{"$f":"IF(ISERROR(VLOOKUP($H33,Törzsadat!$C:$BD,13,0)),0,VLOOKUP($H33,Törzsadat!$C:$BD,BA$1,0))","v":0},{"$f":"IF(ISERROR(VLOOKUP($H33,Törzsadat!$C:$BD,13,0)),0,VLOOKUP($H33,Törzsadat!$C:$BD,BB$1,0))","v":0},{"$f":"IF(ISERROR(VLOOKUP($H33,Törzsadat!$C:$BD,13,0)),0,VLOOKUP($H33,Törzsadat!$C:$BD,BC$1,0))","v":0},{"$f":"IF(ISERROR(VLOOKUP($H33,Törzsadat!$C:$BD,13,0)),0,VLOOKUP($H33,Törzsadat!$C:$BD,BD$1,0))","v":0}]
[46,"Felderítés",null,0,0,null,"Fülbevaló 2",{"$nulls":7},{"$f":"IF(ISERROR(VLOOKUP($H34,Törzsadat!$C:$BD,13,0)),0,VLOOKUP($H34,Törzsadat!$C:$BD,O$1,0))","v":0},{"$f":"IF(ISERROR(VLOOKUP($H34,Törzsadat!$C:$BD,13,0)),0,VLOOKUP($H34,Törzsadat!$C:$BD,P$1,0))","v":0},{"$f":"IF(ISERROR(VLOOKUP($H34,Törzsadat!$C:$BD,13,0)),0,VLOOKUP($H34,Törzsadat!$C:$BD,Q$1,0))","v":0},{"$f":"IF(ISERROR(VLOOKUP($H34,Törzsadat!$C:$BD,13,0)),0,VLOOKUP($H34,Törzsadat!$C:$BD,R$1,0))","v":0},{"$f":"IF(ISERROR(VLOOKUP($H34,Törzsadat!$C:$BD,13,0)),0,VLOOKUP($H34,Törzsadat!$C:$BD,S$1,0))","v":0},{"$f":"IF(ISERROR(VLOOKUP($H34,Törzsadat!$C:$BD,13,0)),0,VLOOKUP($H34,Törzsadat!$C:$BD,T$1,0))","v":0},{"$f":"IF(ISERROR(VLOOKUP($H34,Törzsadat!$C:$BD,13,0)),0,VLOOKUP($H34,Törzsadat!$C:$BD,U$1,0))","v":0},{"$f":"IF(ISERROR(VLOOKUP($H34,Törzsadat!$C:$BD,13,0)),0,VLOOKUP($H34,Törzsadat!$C:$BD,V$1,0))","v":0},{"$f":"IF(ISERROR(VLOOKUP($H34,Törzsadat!$C:$BD,13,0)),0,VLOOKUP($H34,Törzsadat!$C:$BD,W$1,0))","v":0},{"$f":"IF(ISERROR(VLOOKUP($H34,Törzsadat!$C:$BD,13,0)),0,VLOOKUP($H34,Törzsadat!$C:$BD,X$1,0))","v":0},{"$f":"IF(ISERROR(VLOOKUP($H34,Törzsadat!$C:$BD,13,0)),0,VLOOKUP($H34,Törzsadat!$C:$BD,Y$1,0))","v":0},{"$f":"IF(ISERROR(VLOOKUP($H34,Törzsadat!$C:$BD,13,0)),0,VLOOKUP($H34,Törzsadat!$C:$BD,Z$1,0))","v":0},{"$f":"IF(ISERROR(VLOOKUP($H34,Törzsadat!$C:$BD,13,0)),0,VLOOKUP($H34,Törzsadat!$C:$BD,AA$1,0))","v":0},{"$f":"IF(ISERROR(VLOOKUP($H34,Törzsadat!$C:$BD,13,0)),0,VLOOKUP($H34,Törzsadat!$C:$BD,AB$1,0))","v":0},{"$f":"IF(ISERROR(VLOOKUP($H34,Törzsadat!$C:$BD,13,0)),0,VLOOKUP($H34,Törzsadat!$C:$BD,AC$1,0))","v":0},{"$f":"IF(ISERROR(VLOOKUP($H34,Törzsadat!$C:$BD,13,0)),0,VLOOKUP($H34,Törzsadat!$C:$BD,AD$1,0))","v":0},{"$f":"IF(ISERROR(VLOOKUP($H34,Törzsadat!$C:$BD,13,0)),0,VLOOKUP($H34,Törzsadat!$C:$BD,AE$1,0))","v":0},{"$f":"IF(ISERROR(VLOOKUP($H34,Törzsadat!$C:$BD,13,0)),0,VLOOKUP($H34,Törzsadat!$C:$BD,AF$1,0))","v":0},{"$f":"IF(ISERROR(VLOOKUP($H34,Törzsadat!$C:$BD,13,0)),0,VLOOKUP($H34,Törzsadat!$C:$BD,AG$1,0))","v":0},{"$f":"IF(ISERROR(VLOOKUP($H34,Törzsadat!$C:$BD,13,0)),0,VLOOKUP($H34,Törzsadat!$C:$BD,AH$1,0))","v":0},{"$f":"IF(ISERROR(VLOOKUP($H34,Törzsadat!$C:$BD,13,0)),0,VLOOKUP($H34,Törzsadat!$C:$BD,AI$1,0))","v":0},{"$f":"IF(ISERROR(VLOOKUP($H34,Törzsadat!$C:$BD,13,0)),0,VLOOKUP($H34,Törzsadat!$C:$BD,AJ$1,0))","v":0},{"$f":"IF(ISERROR(VLOOKUP($H34,Törzsadat!$C:$BD,13,0)),0,VLOOKUP($H34,Törzsadat!$C:$BD,AK$1,0))","v":0},{"$f":"IF(ISERROR(VLOOKUP($H34,Törzsadat!$C:$BD,13,0)),0,VLOOKUP($H34,Törzsadat!$C:$BD,AL$1,0))","v":0},{"$f":"IF(ISERROR(VLOOKUP($H34,Törzsadat!$C:$BD,13,0)),0,VLOOKUP($H34,Törzsadat!$C:$BD,AM$1,0))","v":0},{"$f":"IF(ISERROR(VLOOKUP($H34,Törzsadat!$C:$BD,13,0)),0,VLOOKUP($H34,Törzsadat!$C:$BD,AN$1,0))","v":0},{"$f":"IF(ISERROR(VLOOKUP($H34,Törzsadat!$C:$BD,13,0)),0,VLOOKUP($H34,Törzsadat!$C:$BD,AO$1,0))","v":0},{"$f":"IF(ISERROR(VLOOKUP($H34,Törzsadat!$C:$BD,13,0)),0,VLOOKUP($H34,Törzsadat!$C:$BD,AP$1,0))","v":0},{"$f":"IF(ISERROR(VLOOKUP($H34,Törzsadat!$C:$BD,13,0)),0,VLOOKUP($H34,Törzsadat!$C:$BD,AQ$1,0))","v":0},{"$f":"IF(ISERROR(VLOOKUP($H34,Törzsadat!$C:$BD,13,0)),0,VLOOKUP($H34,Törzsadat!$C:$BD,AR$1,0))","v":0},{"$f":"IF(ISERROR(VLOOKUP($H34,Törzsadat!$C:$BD,13,0)),0,VLOOKUP($H34,Törzsadat!$C:$BD,AS$1,0))","v":0},{"$f":"IF(ISERROR(VLOOKUP($H34,Törzsadat!$C:$BD,13,0)),0,VLOOKUP($H34,Törzsadat!$C:$BD,AT$1,0))","v":0},{"$f":"IF(ISERROR(VLOOKUP($H34,Törzsadat!$C:$BD,13,0)),0,VLOOKUP($H34,Törzsadat!$C:$BD,AU$1,0))","v":0},{"$f":"IF(ISERROR(VLOOKUP($H34,Törzsadat!$C:$BD,13,0)),0,VLOOKUP($H34,Törzsadat!$C:$BD,AV$1,0))","v":0},{"$f":"IF(ISERROR(VLOOKUP($H34,Törzsadat!$C:$BD,13,0)),0,VLOOKUP($H34,Törzsadat!$C:$BD,AW$1,0))","v":0},{"$f":"IF(ISERROR(VLOOKUP($H34,Törzsadat!$C:$BD,13,0)),0,VLOOKUP($H34,Törzsadat!$C:$BD,AX$1,0))","v":0},{"$f":"IF(ISERROR(VLOOKUP($H34,Törzsadat!$C:$BD,13,0)),0,VLOOKUP($H34,Törzsadat!$C:$BD,AY$1,0))","v":0},{"$f":"IF(ISERROR(VLOOKUP($H34,Törzsadat!$C:$BD,13,0)),0,VLOOKUP($H34,Törzsadat!$C:$BD,AZ$1,0))","v":0},{"$f":"IF(ISERROR(VLOOKUP($H34,Törzsadat!$C:$BD,13,0)),0,VLOOKUP($H34,Törzsadat!$C:$BD,BA$1,0))","v":0},{"$f":"IF(ISERROR(VLOOKUP($H34,Törzsadat!$C:$BD,13,0)),0,VLOOKUP($H34,Törzsadat!$C:$BD,BB$1,0))","v":0},{"$f":"IF(ISERROR(VLOOKUP($H34,Törzsadat!$C:$BD,13,0)),0,VLOOKUP($H34,Törzsadat!$C:$BD,BC$1,0))","v":0},{"$f":"IF(ISERROR(VLOOKUP($H34,Törzsadat!$C:$BD,13,0)),0,VLOOKUP($H34,Törzsadat!$C:$BD,BD$1,0))","v":0}]
[47,"Szerencsejáték",null,0,0,null,"Fülbevaló 3",{"$nulls":7},{"$f":"IF(ISERROR(VLOOKUP($H35,Törzsadat!$C:$BD,13,0)),0,VLOOKUP($H35,Törzsadat!$C:$BD,O$1,0))","v":0},{"$f":"IF(ISERROR(VLOOKUP($H35,Törzsadat!$C:$BD,13,0)),0,VLOOKUP($H35,Törzsadat!$C:$BD,P$1,0))","v":0},{"$f":"IF(ISERROR(VLOOKUP($H35,Törzsadat!$C:$BD,13,0)),0,VLOOKUP($H35,Törzsadat!$C:$BD,Q$1,0))","v":0},{"$f":"IF(ISERROR(VLOOKUP($H35,Törzsadat!$C:$BD,13,0)),0,VLOOKUP($H35,Törzsadat!$C:$BD,R$1,0))","v":0},{"$f":"IF(ISERROR(VLOOKUP($H35,Törzsadat!$C:$BD,13,0)),0,VLOOKUP($H35,Törzsadat!$C:$BD,S$1,0))","v":0},{"$f":"IF(ISERROR(VLOOKUP($H35,Törzsadat!$C:$BD,13,0)),0,VLOOKUP($H35,Törzsadat!$C:$BD,T$1,0))","v":0},{"$f":"IF(ISERROR(VLOOKUP($H35,Törzsadat!$C:$BD,13,0)),0,VLOOKUP($H35,Törzsadat!$C:$BD,U$1,0))","v":0},{"$f":"IF(ISERROR(VLOOKUP($H35,Törzsadat!$C:$BD,13,0)),0,VLOOKUP($H35,Törzsadat!$C:$BD,V$1,0))","v":0},{"$f":"IF(ISERROR(VLOOKUP($H35,Törzsadat!$C:$BD,13,0)),0,VLOOKUP($H35,Törzsadat!$C:$BD,W$1,0))","v":0},{"$f":"IF(ISERROR(VLOOKUP($H35,Törzsadat!$C:$BD,13,0)),0,VLOOKUP($H35,Törzsadat!$C:$BD,X$1,0))","v":0},{"$f":"IF(ISERROR(VLOOKUP($H35,Törzsadat!$C:$BD,13,0)),0,VLOOKUP($H35,Törzsadat!$C:$BD,Y$1,0))","v":0},{"$f":"IF(ISERROR(VLOOKUP($H35,Törzsadat!$C:$BD,13,0)),0,VLOOKUP($H35,Törzsadat!$C:$BD,Z$1,0))","v":0},{"$f":"IF(ISERROR(VLOOKUP($H35,Törzsadat!$C:$BD,13,0)),0,VLOOKUP($H35,Törzsadat!$C:$BD,AA$1,0))","v":0},{"$f":"IF(ISERROR(VLOOKUP($H35,Törzsadat!$C:$BD,13,0)),0,VLOOKUP($H35,Törzsadat!$C:$BD,AB$1,0))","v":0},{"$f":"IF(ISERROR(VLOOKUP($H35,Törzsadat!$C:$BD,13,0)),0,VLOOKUP($H35,Törzsadat!$C:$BD,AC$1,0))","v":0},{"$f":"IF(ISERROR(VLOOKUP($H35,Törzsadat!$C:$BD,13,0)),0,VLOOKUP($H35,Törzsadat!$C:$BD,AD$1,0))","v":0},{"$f":"IF(ISERROR(VLOOKUP($H35,Törzsadat!$C:$BD,13,0)),0,VLOOKUP($H35,Törzsadat!$C:$BD,AE$1,0))","v":0},{"$f":"IF(ISERROR(VLOOKUP($H35,Törzsadat!$C:$BD,13,0)),0,VLOOKUP($H35,Törzsadat!$C:$BD,AF$1,0))","v":0},{"$f":"IF(ISERROR(VLOOKUP($H35,Törzsadat!$C:$BD,13,0)),0,VLOOKUP($H35,Törzsadat!$C:$BD,AG$1,0))","v":0},{"$f":"IF(ISERROR(VLOOKUP($H35,Törzsadat!$C:$BD,13,0)),0,VLOOKUP($H35,Törzsadat!$C:$BD,AH$1,0))","v":0},{"$f":"IF(ISERROR(VLOOKUP($H35,Törzsadat!$C:$BD,13,0)),0,VLOOKUP($H35,Törzsadat!$C:$BD,AI$1,0))","v":0},{"$f":"IF(ISERROR(VLOOKUP($H35,Törzsadat!$C:$BD,13,0)),0,VLOOKUP($H35,Törzsadat!$C:$BD,AJ$1,0))","v":0},{"$f":"IF(ISERROR(VLOOKUP($H35,Törzsadat!$C:$BD,13,0)),0,VLOOKUP($H35,Törzsadat!$C:$BD,AK$1,0))","v":0},{"$f":"IF(ISERROR(VLOOKUP($H35,Törzsadat!$C:$BD,13,0)),0,VLOOKUP($H35,Törzsadat!$C:$BD,AL$1,0))","v":0},{"$f":"IF(ISERROR(VLOOKUP($H35,Törzsadat!$C:$BD,13,0)),0,VLOOKUP($H35,Törzsadat!$C:$BD,AM$1,0))","v":0},{"$f":"IF(ISERROR(VLOOKUP($H35,Törzsadat!$C:$BD,13,0)),0,VLOOKUP($H35,Törzsadat!$C:$BD,AN$1,0))","v":0},{"$f":"IF(ISERROR(VLOOKUP($H35,Törzsadat!$C:$BD,13,0)),0,VLOOKUP($H35,Törzsadat!$C:$BD,AO$1,0))","v":0},{"$f":"IF(ISERROR(VLOOKUP($H35,Törzsadat!$C:$BD,13,0)),0,VLOOKUP($H35,Törzsadat!$C:$BD,AP$1,0))","v":0},{"$f":"IF(ISERROR(VLOOKUP($H35,Törzsadat!$C:$BD,13,0)),0,VLOOKUP($H35,Törzsadat!$C:$BD,AQ$1,0))","v":0},{"$f":"IF(ISERROR(VLOOKUP($H35,Törzsadat!$C:$BD,13,0)),0,VLOOKUP($H35,Törzsadat!$C:$BD,AR$1,0))","v":0},{"$f":"IF(ISERROR(VLOOKUP($H35,Törzsadat!$C:$BD,13,0)),0,VLOOKUP($H35,Törzsadat!$C:$BD,AS$1,0))","v":0},{"$f":"IF(ISERROR(VLOOKUP($H35,Törzsadat!$C:$BD,13,0)),0,VLOOKUP($H35,Törzsadat!$C:$BD,AT$1,0))","v":0},{"$f":"IF(ISERROR(VLOOKUP($H35,Törzsadat!$C:$BD,13,0)),0,VLOOKUP($H35,Törzsadat!$C:$BD,AU$1,0))","v":0},{"$f":"IF(ISERROR(VLOOKUP($H35,Törzsadat!$C:$BD,13,0)),0,VLOOKUP($H35,Törzsadat!$C:$BD,AV$1,0))","v":0},{"$f":"IF(ISERROR(VLOOKUP($H35,Törzsadat!$C:$BD,13,0)),0,VLOOKUP($H35,Törzsadat!$C:$BD,AW$1,0))","v":0},{"$f":"IF(ISERROR(VLOOKUP($H35,Törzsadat!$C:$BD,13,0)),0,VLOOKUP($H35,Törzsadat!$C:$BD,AX$1,0))","v":0},{"$f":"IF(ISERROR(VLOOKUP($H35,Törzsadat!$C:$BD,13,0)),0,VLOOKUP($H35,Törzsadat!$C:$BD,AY$1,0))","v":0},{"$f":"IF(ISERROR(VLOOKUP($H35,Törzsadat!$C:$BD,13,0)),0,VLOOKUP($H35,Törzsadat!$C:$BD,AZ$1,0))","v":0},{"$f":"IF(ISERROR(VLOOKUP($H35,Törzsadat!$C:$BD,13,0)),0,VLOOKUP($H35,Törzsadat!$C:$BD,BA$1,0))","v":0},{"$f":"IF(ISERROR(VLOOKUP($H35,Törzsadat!$C:$BD,13,0)),0,VLOOKUP($H35,Törzsadat!$C:$BD,BB$1,0))","v":0},{"$f":"IF(ISERROR(VLOOKUP($H35,Törzsadat!$C:$BD,13,0)),0,VLOOKUP($H35,Törzsadat!$C:$BD,BC$1,0))","v":0},{"$f":"IF(ISERROR(VLOOKUP($H35,Törzsadat!$C:$BD,13,0)),0,VLOOKUP($H35,Törzsadat!$C:$BD,BD$1,0))","v":0}]
[48,"Rejtőzködés",null,0,0,null,"Fülbevaló 4",{"$nulls":7},{"$f":"IF(ISERROR(VLOOKUP($H36,Törzsadat!$C:$BD,13,0)),0,VLOOKUP($H36,Törzsadat!$C:$BD,O$1,0))","v":0},{"$f":"IF(ISERROR(VLOOKUP($H36,Törzsadat!$C:$BD,13,0)),0,VLOOKUP($H36,Törzsadat!$C:$BD,P$1,0))","v":0},{"$f":"IF(ISERROR(VLOOKUP($H36,Törzsadat!$C:$BD,13,0)),0,VLOOKUP($H36,Törzsadat!$C:$BD,Q$1,0))","v":0},{"$f":"IF(ISERROR(VLOOKUP($H36,Törzsadat!$C:$BD,13,0)),0,VLOOKUP($H36,Törzsadat!$C:$BD,R$1,0))","v":0},{"$f":"IF(ISERROR(VLOOKUP($H36,Törzsadat!$C:$BD,13,0)),0,VLOOKUP($H36,Törzsadat!$C:$BD,S$1,0))","v":0},{"$f":"IF(ISERROR(VLOOKUP($H36,Törzsadat!$C:$BD,13,0)),0,VLOOKUP($H36,Törzsadat!$C:$BD,T$1,0))","v":0},{"$f":"IF(ISERROR(VLOOKUP($H36,Törzsadat!$C:$BD,13,0)),0,VLOOKUP($H36,Törzsadat!$C:$BD,U$1,0))","v":0},{"$f":"IF(ISERROR(VLOOKUP($H36,Törzsadat!$C:$BD,13,0)),0,VLOOKUP($H36,Törzsadat!$C:$BD,V$1,0))","v":0},{"$f":"IF(ISERROR(VLOOKUP($H36,Törzsadat!$C:$BD,13,0)),0,VLOOKUP($H36,Törzsadat!$C:$BD,W$1,0))","v":0},{"$f":"IF(ISERROR(VLOOKUP($H36,Törzsadat!$C:$BD,13,0)),0,VLOOKUP($H36,Törzsadat!$C:$BD,X$1,0))","v":0},{"$f":"IF(ISERROR(VLOOKUP($H36,Törzsadat!$C:$BD,13,0)),0,VLOOKUP($H36,Törzsadat!$C:$BD,Y$1,0))","v":0},{"$f":"IF(ISERROR(VLOOKUP($H36,Törzsadat!$C:$BD,13,0)),0,VLOOKUP($H36,Törzsadat!$C:$BD,Z$1,0))","v":0},{"$f":"IF(ISERROR(VLOOKUP($H36,Törzsadat!$C:$BD,13,0)),0,VLOOKUP($H36,Törzsadat!$C:$BD,AA$1,0))","v":0},{"$f":"IF(ISERROR(VLOOKUP($H36,Törzsadat!$C:$BD,13,0)),0,VLOOKUP($H36,Törzsadat!$C:$BD,AB$1,0))","v":0},{"$f":"IF(ISERROR(VLOOKUP($H36,Törzsadat!$C:$BD,13,0)),0,VLOOKUP($H36,Törzsadat!$C:$BD,AC$1,0))","v":0},{"$f":"IF(ISERROR(VLOOKUP($H36,Törzsadat!$C:$BD,13,0)),0,VLOOKUP($H36,Törzsadat!$C:$BD,AD$1,0))","v":0},{"$f":"IF(ISERROR(VLOOKUP($H36,Törzsadat!$C:$BD,13,0)),0,VLOOKUP($H36,Törzsadat!$C:$BD,AE$1,0))","v":0},{"$f":"IF(ISERROR(VLOOKUP($H36,Törzsadat!$C:$BD,13,0)),0,VLOOKUP($H36,Törzsadat!$C:$BD,AF$1,0))","v":0},{"$f":"IF(ISERROR(VLOOKUP($H36,Törzsadat!$C:$BD,13,0)),0,VLOOKUP($H36,Törzsadat!$C:$BD,AG$1,0))","v":0},{"$f":"IF(ISERROR(VLOOKUP($H36,Törzsadat!$C:$BD,13,0)),0,VLOOKUP($H36,Törzsadat!$C:$BD,AH$1,0))","v":0},{"$f":"IF(ISERROR(VLOOKUP($H36,Törzsadat!$C:$BD,13,0)),0,VLOOKUP($H36,Törzsadat!$C:$BD,AI$1,0))","v":0},{"$f":"IF(ISERROR(VLOOKUP($H36,Törzsadat!$C:$BD,13,0)),0,VLOOKUP($H36,Törzsadat!$C:$BD,AJ$1,0))","v":0},{"$f":"IF(ISERROR(VLOOKUP($H36,Törzsadat!$C:$BD,13,0)),0,VLOOKUP($H36,Törzsadat!$C:$BD,AK$1,0))","v":0},{"$f":"IF(ISERROR(VLOOKUP($H36,Törzsadat!$C:$BD,13,0)),0,VLOOKUP($H36,Törzsadat!$C:$BD,AL$1,0))","v":0},{"$f":"IF(ISERROR(VLOOKUP($H36,Törzsadat!$C:$BD,13,0)),0,VLOOKUP($H36,Törzsadat!$C:$BD,AM$1,0))","v":0},{"$f":"IF(ISERROR(VLOOKUP($H36,Törzsadat!$C:$BD,13,0)),0,VLOOKUP($H36,Törzsadat!$C:$BD,AN$1,0))","v":0},{"$f":"IF(ISERROR(VLOOKUP($H36,Törzsadat!$C:$BD,13,0)),0,VLOOKUP($H36,Törzsadat!$C:$BD,AO$1,0))","v":0},{"$f":"IF(ISERROR(VLOOKUP($H36,Törzsadat!$C:$BD,13,0)),0,VLOOKUP($H36,Törzsadat!$C:$BD,AP$1,0))","v":0},{"$f":"IF(ISERROR(VLOOKUP($H36,Törzsadat!$C:$BD,13,0)),0,VLOOKUP($H36,Törzsadat!$C:$BD,AQ$1,0))","v":0},{"$f":"IF(ISERROR(VLOOKUP($H36,Törzsadat!$C:$BD,13,0)),0,VLOOKUP($H36,Törzsadat!$C:$BD,AR$1,0))","v":0},{"$f":"IF(ISERROR(VLOOKUP($H36,Törzsadat!$C:$BD,13,0)),0,VLOOKUP($H36,Törzsadat!$C:$BD,AS$1,0))","v":0},{"$f":"IF(ISERROR(VLOOKUP($H36,Törzsadat!$C:$BD,13,0)),0,VLOOKUP($H36,Törzsadat!$C:$BD,AT$1,0))","v":0},{"$f":"IF(ISERROR(VLOOKUP($H36,Törzsadat!$C:$BD,13,0)),0,VLOOKUP($H36,Törzsadat!$C:$BD,AU$1,0))","v":0},{"$f":"IF(ISERROR(VLOOKUP($H36,Törzsadat!$C:$BD,13,0)),0,VLOOKUP($H36,Törzsadat!$C:$BD,AV$1,0))","v":0},{"$f":"IF(ISERROR(VLOOKUP($H36,Törzsadat!$C:$BD,13,0)),0,VLOOKUP($H36,Törzsadat!$C:$BD,AW$1,0))","v":0},{"$f":"IF(ISERROR(VLOOKUP($H36,Törzsadat!$C:$BD,13,0)),0,VLOOKUP($H36,Törzsadat!$C:$BD,AX$1,0))","v":0},{"$f":"IF(ISERROR(VLOOKUP($H36,Törzsadat!$C:$BD,13,0)),0,VLOOKUP($H36,Törzsadat!$C:$BD,AY$1,0))","v":0},{"$f":"IF(ISERROR(VLOOKUP($H36,Törzsadat!$C:$BD,13,0)),0,VLOOKUP($H36,Törzsadat!$C:$BD,AZ$1,0))","v":0},{"$f":"IF(ISERROR(VLOOKUP($H36,Törzsadat!$C:$BD,13,0)),0,VLOOKUP($H36,Törzsadat!$C:$BD,BA$1,0))","v":0},{"$f":"IF(ISERROR(VLOOKUP($H36,Törzsadat!$C:$BD,13,0)),0,VLOOKUP($H36,Törzsadat!$C:$BD,BB$1,0))","v":0},{"$f":"IF(ISERROR(VLOOKUP($H36,Törzsadat!$C:$BD,13,0)),0,VLOOKUP($H36,Törzsadat!$C:$BD,BC$1,0))","v":0},{"$f":"IF(ISERROR(VLOOKUP($H36,Törzsadat!$C:$BD,13,0)),0,VLOOKUP($H36,Törzsadat!$C:$BD,BD$1,0))","v":0}]
[49,"Zene",null,0,0,null,"Fülbevaló 5",{"$nulls":7},{"$f":"IF(ISERROR(VLOOKUP($H37,Törzsadat!$C:$BD,13,0)),0,VLOOKUP($H37,Törzsadat!$C:$BD,O$1,0))","v":0},{"$f":"IF(ISERROR(VLOOKUP($H37,Törzsadat!$C:$BD,13,0)),0,VLOOKUP($H37,Törzsadat!$C:$BD,P$1,0))","v":0},{"$f":"IF(ISERROR(VLOOKUP($H37,Törzsadat!$C:$BD,13,0)),0,VLOOKUP($H37,Törzsadat!$C:$BD,Q$1,0))","v":0},{"$f":"IF(ISERROR(VLOOKUP($H37,Törzsadat!$C:$BD,13,0)),0,VLOOKUP($H37,Törzsadat!$C:$BD,R$1,0))","v":0},{"$f":"IF(ISERROR(VLOOKUP($H37,Törzsadat!$C:$BD,13,0)),0,VLOOKUP($H37,Törzsadat!$C:$BD,S$1,0))","v":0},{"$f":"IF(ISERROR(VLOOKUP($H37,Törzsadat!$C:$BD,13,0)),0,VLOOKUP($H37,Törzsadat!$C:$BD,T$1,0))","v":0},{"$f":"IF(ISERROR(VLOOKUP($H37,Törzsadat!$C:$BD,13,0)),0,VLOOKUP($H37,Törzsadat!$C:$BD,U$1,0))","v":0},{"$f":"IF(ISERROR(VLOOKUP($H37,Törzsadat!$C:$BD,13,0)),0,VLOOKUP($H37,Törzsadat!$C:$BD,V$1,0))","v":0},{"$f":"IF(ISERROR(VLOOKUP($H37,Törzsadat!$C:$BD,13,0)),0,VLOOKUP($H37,Törzsadat!$C:$BD,W$1,0))","v":0},{"$f":"IF(ISERROR(VLOOKUP($H37,Törzsadat!$C:$BD,13,0)),0,VLOOKUP($H37,Törzsadat!$C:$BD,X$1,0))","v":0},{"$f":"IF(ISERROR(VLOOKUP($H37,Törzsadat!$C:$BD,13,0)),0,VLOOKUP($H37,Törzsadat!$C:$BD,Y$1,0))","v":0},{"$f":"IF(ISERROR(VLOOKUP($H37,Törzsadat!$C:$BD,13,0)),0,VLOOKUP($H37,Törzsadat!$C:$BD,Z$1,0))","v":0},{"$f":"IF(ISERROR(VLOOKUP($H37,Törzsadat!$C:$BD,13,0)),0,VLOOKUP($H37,Törzsadat!$C:$BD,AA$1,0))","v":0},{"$f":"IF(ISERROR(VLOOKUP($H37,Törzsadat!$C:$BD,13,0)),0,VLOOKUP($H37,Törzsadat!$C:$BD,AB$1,0))","v":0},{"$f":"IF(ISERROR(VLOOKUP($H37,Törzsadat!$C:$BD,13,0)),0,VLOOKUP($H37,Törzsadat!$C:$BD,AC$1,0))","v":0},{"$f":"IF(ISERROR(VLOOKUP($H37,Törzsadat!$C:$BD,13,0)),0,VLOOKUP($H37,Törzsadat!$C:$BD,AD$1,0))","v":0},{"$f":"IF(ISERROR(VLOOKUP($H37,Törzsadat!$C:$BD,13,0)),0,VLOOKUP($H37,Törzsadat!$C:$BD,AE$1,0))","v":0},{"$f":"IF(ISERROR(VLOOKUP($H37,Törzsadat!$C:$BD,13,0)),0,VLOOKUP($H37,Törzsadat!$C:$BD,AF$1,0))","v":0},{"$f":"IF(ISERROR(VLOOKUP($H37,Törzsadat!$C:$BD,13,0)),0,VLOOKUP($H37,Törzsadat!$C:$BD,AG$1,0))","v":0},{"$f":"IF(ISERROR(VLOOKUP($H37,Törzsadat!$C:$BD,13,0)),0,VLOOKUP($H37,Törzsadat!$C:$BD,AH$1,0))","v":0},{"$f":"IF(ISERROR(VLOOKUP($H37,Törzsadat!$C:$BD,13,0)),0,VLOOKUP($H37,Törzsadat!$C:$BD,AI$1,0))","v":0},{"$f":"IF(ISERROR(VLOOKUP($H37,Törzsadat!$C:$BD,13,0)),0,VLOOKUP($H37,Törzsadat!$C:$BD,AJ$1,0))","v":0},{"$f":"IF(ISERROR(VLOOKUP($H37,Törzsadat!$C:$BD,13,0)),0,VLOOKUP($H37,Törzsadat!$C:$BD,AK$1,0))","v":0},{"$f":"IF(ISERROR(VLOOKUP($H37,Törzsadat!$C:$BD,13,0)),0,VLOOKUP($H37,Törzsadat!$C:$BD,AL$1,0))","v":0},{"$f":"IF(ISERROR(VLOOKUP($H37,Törzsadat!$C:$BD,13,0)),0,VLOOKUP($H37,Törzsadat!$C:$BD,AM$1,0))","v":0},{"$f":"IF(ISERROR(VLOOKUP($H37,Törzsadat!$C:$BD,13,0)),0,VLOOKUP($H37,Törzsadat!$C:$BD,AN$1,0))","v":0},{"$f":"IF(ISERROR(VLOOKUP($H37,Törzsadat!$C:$BD,13,0)),0,VLOOKUP($H37,Törzsadat!$C:$BD,AO$1,0))","v":0},{"$f":"IF(ISERROR(VLOOKUP($H37,Törzsadat!$C:$BD,13,0)),0,VLOOKUP($H37,Törzsadat!$C:$BD,AP$1,0))","v":0},{"$f":"IF(ISERROR(VLOOKUP($H37,Törzsadat!$C:$BD,13,0)),0,VLOOKUP($H37,Törzsadat!$C:$BD,AQ$1,0))","v":0},{"$f":"IF(ISERROR(VLOOKUP($H37,Törzsadat!$C:$BD,13,0)),0,VLOOKUP($H37,Törzsadat!$C:$BD,AR$1,0))","v":0},{"$f":"IF(ISERROR(VLOOKUP($H37,Törzsadat!$C:$BD,13,0)),0,VLOOKUP($H37,Törzsadat!$C:$BD,AS$1,0))","v":0},{"$f":"IF(ISERROR(VLOOKUP($H37,Törzsadat!$C:$BD,13,0)),0,VLOOKUP($H37,Törzsadat!$C:$BD,AT$1,0))","v":0},{"$f":"IF(ISERROR(VLOOKUP($H37,Törzsadat!$C:$BD,13,0)),0,VLOOKUP($H37,Törzsadat!$C:$BD,AU$1,0))","v":0},{"$f":"IF(ISERROR(VLOOKUP($H37,Törzsadat!$C:$BD,13,0)),0,VLOOKUP($H37,Törzsadat!$C:$BD,AV$1,0))","v":0},{"$f":"IF(ISERROR(VLOOKUP($H37,Törzsadat!$C:$BD,13,0)),0,VLOOKUP($H37,Törzsadat!$C:$BD,AW$1,0))","v":0},{"$f":"IF(ISERROR(VLOOKUP($H37,Törzsadat!$C:$BD,13,0)),0,VLOOKUP($H37,Törzsadat!$C:$BD,AX$1,0))","v":0},{"$f":"IF(ISERROR(VLOOKUP($H37,Törzsadat!$C:$BD,13,0)),0,VLOOKUP($H37,Törzsadat!$C:$BD,AY$1,0))","v":0},{"$f":"IF(ISERROR(VLOOKUP($H37,Törzsadat!$C:$BD,13,0)),0,VLOOKUP($H37,Törzsadat!$C:$BD,AZ$1,0))","v":0},{"$f":"IF(ISERROR(VLOOKUP($H37,Törzsadat!$C:$BD,13,0)),0,VLOOKUP($H37,Törzsadat!$C:$BD,BA$1,0))","v":0},{"$f":"IF(ISERROR(VLOOKUP($H37,Törzsadat!$C:$BD,13,0)),0,VLOOKUP($H37,Törzsadat!$C:$BD,BB$1,0))","v":0},{"$f":"IF(ISERROR(VLOOKUP($H37,Törzsadat!$C:$BD,13,0)),0,VLOOKUP($H37,Törzsadat!$C:$BD,BC$1,0))","v":0},{"$f":"IF(ISERROR(VLOOKUP($H37,Törzsadat!$C:$BD,13,0)),0,VLOOKUP($H37,Törzsadat!$C:$BD,BD$1,0))","v":0}]
[50,"Szörnyismeret",null,0,0,null,"Gyűrű 1",{"$nulls":7},{"$f":"IF(ISERROR(VLOOKUP($H38,Törzsadat!$C:$BD,13,0)),0,VLOOKUP($H38,Törzsadat!$C:$BD,O$1,0))","v":0},{"$f":"IF(ISERROR(VLOOKUP($H38,Törzsadat!$C:$BD,13,0)),0,VLOOKUP($H38,Törzsadat!$C:$BD,P$1,0))","v":0},{"$f":"IF(ISERROR(VLOOKUP($H38,Törzsadat!$C:$BD,13,0)),0,VLOOKUP($H38,Törzsadat!$C:$BD,Q$1,0))","v":0},{"$f":"IF(ISERROR(VLOOKUP($H38,Törzsadat!$C:$BD,13,0)),0,VLOOKUP($H38,Törzsadat!$C:$BD,R$1,0))","v":0},{"$f":"IF(ISERROR(VLOOKUP($H38,Törzsadat!$C:$BD,13,0)),0,VLOOKUP($H38,Törzsadat!$C:$BD,S$1,0))","v":0},{"$f":"IF(ISERROR(VLOOKUP($H38,Törzsadat!$C:$BD,13,0)),0,VLOOKUP($H38,Törzsadat!$C:$BD,T$1,0))","v":0},{"$f":"IF(ISERROR(VLOOKUP($H38,Törzsadat!$C:$BD,13,0)),0,VLOOKUP($H38,Törzsadat!$C:$BD,U$1,0))","v":0},{"$f":"IF(ISERROR(VLOOKUP($H38,Törzsadat!$C:$BD,13,0)),0,VLOOKUP($H38,Törzsadat!$C:$BD,V$1,0))","v":0},{"$f":"IF(ISERROR(VLOOKUP($H38,Törzsadat!$C:$BD,13,0)),0,VLOOKUP($H38,Törzsadat!$C:$BD,W$1,0))","v":0},{"$f":"IF(ISERROR(VLOOKUP($H38,Törzsadat!$C:$BD,13,0)),0,VLOOKUP($H38,Törzsadat!$C:$BD,X$1,0))","v":0},{"$f":"IF(ISERROR(VLOOKUP($H38,Törzsadat!$C:$BD,13,0)),0,VLOOKUP($H38,Törzsadat!$C:$BD,Y$1,0))","v":0},{"$f":"IF(ISERROR(VLOOKUP($H38,Törzsadat!$C:$BD,13,0)),0,VLOOKUP($H38,Törzsadat!$C:$BD,Z$1,0))","v":0},{"$f":"IF(ISERROR(VLOOKUP($H38,Törzsadat!$C:$BD,13,0)),0,VLOOKUP($H38,Törzsadat!$C:$BD,AA$1,0))","v":0},{"$f":"IF(ISERROR(VLOOKUP($H38,Törzsadat!$C:$BD,13,0)),0,VLOOKUP($H38,Törzsadat!$C:$BD,AB$1,0))","v":0},{"$f":"IF(ISERROR(VLOOKUP($H38,Törzsadat!$C:$BD,13,0)),0,VLOOKUP($H38,Törzsadat!$C:$BD,AC$1,0))","v":0},{"$f":"IF(ISERROR(VLOOKUP($H38,Törzsadat!$C:$BD,13,0)),0,VLOOKUP($H38,Törzsadat!$C:$BD,AD$1,0))","v":0},{"$f":"IF(ISERROR(VLOOKUP($H38,Törzsadat!$C:$BD,13,0)),0,VLOOKUP($H38,Törzsadat!$C:$BD,AE$1,0))","v":0},{"$f":"IF(ISERROR(VLOOKUP($H38,Törzsadat!$C:$BD,13,0)),0,VLOOKUP($H38,Törzsadat!$C:$BD,AF$1,0))","v":0},{"$f":"IF(ISERROR(VLOOKUP($H38,Törzsadat!$C:$BD,13,0)),0,VLOOKUP($H38,Törzsadat!$C:$BD,AG$1,0))","v":0},{"$f":"IF(ISERROR(VLOOKUP($H38,Törzsadat!$C:$BD,13,0)),0,VLOOKUP($H38,Törzsadat!$C:$BD,AH$1,0))","v":0},{"$f":"IF(ISERROR(VLOOKUP($H38,Törzsadat!$C:$BD,13,0)),0,VLOOKUP($H38,Törzsadat!$C:$BD,AI$1,0))","v":0},{"$f":"IF(ISERROR(VLOOKUP($H38,Törzsadat!$C:$BD,13,0)),0,VLOOKUP($H38,Törzsadat!$C:$BD,AJ$1,0))","v":0},{"$f":"IF(ISERROR(VLOOKUP($H38,Törzsadat!$C:$BD,13,0)),0,VLOOKUP($H38,Törzsadat!$C:$BD,AK$1,0))","v":0},{"$f":"IF(ISERROR(VLOOKUP($H38,Törzsadat!$C:$BD,13,0)),0,VLOOKUP($H38,Törzsadat!$C:$BD,AL$1,0))","v":0},{"$f":"IF(ISERROR(VLOOKUP($H38,Törzsadat!$C:$BD,13,0)),0,VLOOKUP($H38,Törzsadat!$C:$BD,AM$1,0))","v":0},{"$f":"IF(ISERROR(VLOOKUP($H38,Törzsadat!$C:$BD,13,0)),0,VLOOKUP($H38,Törzsadat!$C:$BD,AN$1,0))","v":0},{"$f":"IF(ISERROR(VLOOKUP($H38,Törzsadat!$C:$BD,13,0)),0,VLOOKUP($H38,Törzsadat!$C:$BD,AO$1,0))","v":0},{"$f":"IF(ISERROR(VLOOKUP($H38,Törzsadat!$C:$BD,13,0)),0,VLOOKUP($H38,Törzsadat!$C:$BD,AP$1,0))","v":0},{"$f":"IF(ISERROR(VLOOKUP($H38,Törzsadat!$C:$BD,13,0)),0,VLOOKUP($H38,Törzsadat!$C:$BD,AQ$1,0))","v":0},{"$f":"IF(ISERROR(VLOOKUP($H38,Törzsadat!$C:$BD,13,0)),0,VLOOKUP($H38,Törzsadat!$C:$BD,AR$1,0))","v":0},{"$f":"IF(ISERROR(VLOOKUP($H38,Törzsadat!$C:$BD,13,0)),0,VLOOKUP($H38,Törzsadat!$C:$BD,AS$1,0))","v":0},{"$f":"IF(ISERROR(VLOOKUP($H38,Törzsadat!$C:$BD,13,0)),0,VLOOKUP($H38,Törzsadat!$C:$BD,AT$1,0))","v":0},{"$f":"IF(ISERROR(VLOOKUP($H38,Törzsadat!$C:$BD,13,0)),0,VLOOKUP($H38,Törzsadat!$C:$BD,AU$1,0))","v":0},{"$f":"IF(ISERROR(VLOOKUP($H38,Törzsadat!$C:$BD,13,0)),0,VLOOKUP($H38,Törzsadat!$C:$BD,AV$1,0))","v":0},{"$f":"IF(ISERROR(VLOOKUP($H38,Törzsadat!$C:$BD,13,0)),0,VLOOKUP($H38,Törzsadat!$C:$BD,AW$1,0))","v":0},{"$f":"IF(ISERROR(VLOOKUP($H38,Törzsadat!$C:$BD,13,0)),0,VLOOKUP($H38,Törzsadat!$C:$BD,AX$1,0))","v":0},{"$f":"IF(ISERROR(VLOOKUP($H38,Törzsadat!$C:$BD,13,0)),0,VLOOKUP($H38,Törzsadat!$C:$BD,AY$1,0))","v":0},{"$f":"IF(ISERROR(VLOOKUP($H38,Törzsadat!$C:$BD,13,0)),0,VLOOKUP($H38,Törzsadat!$C:$BD,AZ$1,0))","v":0},{"$f":"IF(ISERROR(VLOOKUP($H38,Törzsadat!$C:$BD,13,0)),0,VLOOKUP($H38,Törzsadat!$C:$BD,BA$1,0))","v":0},{"$f":"IF(ISERROR(VLOOKUP($H38,Törzsadat!$C:$BD,13,0)),0,VLOOKUP($H38,Törzsadat!$C:$BD,BB$1,0))","v":0},{"$f":"IF(ISERROR(VLOOKUP($H38,Törzsadat!$C:$BD,13,0)),0,VLOOKUP($H38,Törzsadat!$C:$BD,BC$1,0))","v":0},{"$f":"IF(ISERROR(VLOOKUP($H38,Törzsadat!$C:$BD,13,0)),0,VLOOKUP($H38,Törzsadat!$C:$BD,BD$1,0))","v":0}]
[51,"Gyógyítás",null,0,0,null,"Gyűrű 2",{"$nulls":7},{"$f":"IF(ISERROR(VLOOKUP($H39,Törzsadat!$C:$BD,13,0)),0,VLOOKUP($H39,Törzsadat!$C:$BD,O$1,0))","v":0},{"$f":"IF(ISERROR(VLOOKUP($H39,Törzsadat!$C:$BD,13,0)),0,VLOOKUP($H39,Törzsadat!$C:$BD,P$1,0))","v":0},{"$f":"IF(ISERROR(VLOOKUP($H39,Törzsadat!$C:$BD,13,0)),0,VLOOKUP($H39,Törzsadat!$C:$BD,Q$1,0))","v":0},{"$f":"IF(ISERROR(VLOOKUP($H39,Törzsadat!$C:$BD,13,0)),0,VLOOKUP($H39,Törzsadat!$C:$BD,R$1,0))","v":0},{"$f":"IF(ISERROR(VLOOKUP($H39,Törzsadat!$C:$BD,13,0)),0,VLOOKUP($H39,Törzsadat!$C:$BD,S$1,0))","v":0},{"$f":"IF(ISERROR(VLOOKUP($H39,Törzsadat!$C:$BD,13,0)),0,VLOOKUP($H39,Törzsadat!$C:$BD,T$1,0))","v":0},{"$f":"IF(ISERROR(VLOOKUP($H39,Törzsadat!$C:$BD,13,0)),0,VLOOKUP($H39,Törzsadat!$C:$BD,U$1,0))","v":0},{"$f":"IF(ISERROR(VLOOKUP($H39,Törzsadat!$C:$BD,13,0)),0,VLOOKUP($H39,Törzsadat!$C:$BD,V$1,0))","v":0},{"$f":"IF(ISERROR(VLOOKUP($H39,Törzsadat!$C:$BD,13,0)),0,VLOOKUP($H39,Törzsadat!$C:$BD,W$1,0))","v":0},{"$f":"IF(ISERROR(VLOOKUP($H39,Törzsadat!$C:$BD,13,0)),0,VLOOKUP($H39,Törzsadat!$C:$BD,X$1,0))","v":0},{"$f":"IF(ISERROR(VLOOKUP($H39,Törzsadat!$C:$BD,13,0)),0,VLOOKUP($H39,Törzsadat!$C:$BD,Y$1,0))","v":0},{"$f":"IF(ISERROR(VLOOKUP($H39,Törzsadat!$C:$BD,13,0)),0,VLOOKUP($H39,Törzsadat!$C:$BD,Z$1,0))","v":0},{"$f":"IF(ISERROR(VLOOKUP($H39,Törzsadat!$C:$BD,13,0)),0,VLOOKUP($H39,Törzsadat!$C:$BD,AA$1,0))","v":0},{"$f":"IF(ISERROR(VLOOKUP($H39,Törzsadat!$C:$BD,13,0)),0,VLOOKUP($H39,Törzsadat!$C:$BD,AB$1,0))","v":0},{"$f":"IF(ISERROR(VLOOKUP($H39,Törzsadat!$C:$BD,13,0)),0,VLOOKUP($H39,Törzsadat!$C:$BD,AC$1,0))","v":0},{"$f":"IF(ISERROR(VLOOKUP($H39,Törzsadat!$C:$BD,13,0)),0,VLOOKUP($H39,Törzsadat!$C:$BD,AD$1,0))","v":0},{"$f":"IF(ISERROR(VLOOKUP($H39,Törzsadat!$C:$BD,13,0)),0,VLOOKUP($H39,Törzsadat!$C:$BD,AE$1,0))","v":0},{"$f":"IF(ISERROR(VLOOKUP($H39,Törzsadat!$C:$BD,13,0)),0,VLOOKUP($H39,Törzsadat!$C:$BD,AF$1,0))","v":0},{"$f":"IF(ISERROR(VLOOKUP($H39,Törzsadat!$C:$BD,13,0)),0,VLOOKUP($H39,Törzsadat!$C:$BD,AG$1,0))","v":0},{"$f":"IF(ISERROR(VLOOKUP($H39,Törzsadat!$C:$BD,13,0)),0,VLOOKUP($H39,Törzsadat!$C:$BD,AH$1,0))","v":0},{"$f":"IF(ISERROR(VLOOKUP($H39,Törzsadat!$C:$BD,13,0)),0,VLOOKUP($H39,Törzsadat!$C:$BD,AI$1,0))","v":0},{"$f":"IF(ISERROR(VLOOKUP($H39,Törzsadat!$C:$BD,13,0)),0,VLOOKUP($H39,Törzsadat!$C:$BD,AJ$1,0))","v":0},{"$f":"IF(ISERROR(VLOOKUP($H39,Törzsadat!$C:$BD,13,0)),0,VLOOKUP($H39,Törzsadat!$C:$BD,AK$1,0))","v":0},{"$f":"IF(ISERROR(VLOOKUP($H39,Törzsadat!$C:$BD,13,0)),0,VLOOKUP($H39,Törzsadat!$C:$BD,AL$1,0))","v":0},{"$f":"IF(ISERROR(VLOOKUP($H39,Törzsadat!$C:$BD,13,0)),0,VLOOKUP($H39,Törzsadat!$C:$BD,AM$1,0))","v":0},{"$f":"IF(ISERROR(VLOOKUP($H39,Törzsadat!$C:$BD,13,0)),0,VLOOKUP($H39,Törzsadat!$C:$BD,AN$1,0))","v":0},{"$f":"IF(ISERROR(VLOOKUP($H39,Törzsadat!$C:$BD,13,0)),0,VLOOKUP($H39,Törzsadat!$C:$BD,AO$1,0))","v":0},{"$f":"IF(ISERROR(VLOOKUP($H39,Törzsadat!$C:$BD,13,0)),0,VLOOKUP($H39,Törzsadat!$C:$BD,AP$1,0))","v":0},{"$f":"IF(ISERROR(VLOOKUP($H39,Törzsadat!$C:$BD,13,0)),0,VLOOKUP($H39,Törzsadat!$C:$BD,AQ$1,0))","v":0},{"$f":"IF(ISERROR(VLOOKUP($H39,Törzsadat!$C:$BD,13,0)),0,VLOOKUP($H39,Törzsadat!$C:$BD,AR$1,0))","v":0},{"$f":"IF(ISERROR(VLOOKUP($H39,Törzsadat!$C:$BD,13,0)),0,VLOOKUP($H39,Törzsadat!$C:$BD,AS$1,0))","v":0},{"$f":"IF(ISERROR(VLOOKUP($H39,Törzsadat!$C:$BD,13,0)),0,VLOOKUP($H39,Törzsadat!$C:$BD,AT$1,0))","v":0},{"$f":"IF(ISERROR(VLOOKUP($H39,Törzsadat!$C:$BD,13,0)),0,VLOOKUP($H39,Törzsadat!$C:$BD,AU$1,0))","v":0},{"$f":"IF(ISERROR(VLOOKUP($H39,Törzsadat!$C:$BD,13,0)),0,VLOOKUP($H39,Törzsadat!$C:$BD,AV$1,0))","v":0},{"$f":"IF(ISERROR(VLOOKUP($H39,Törzsadat!$C:$BD,13,0)),0,VLOOKUP($H39,Törzsadat!$C:$BD,AW$1,0))","v":0},{"$f":"IF(ISERROR(VLOOKUP($H39,Törzsadat!$C:$BD,13,0)),0,VLOOKUP($H39,Törzsadat!$C:$BD,AX$1,0))","v":0},{"$f":"IF(ISERROR(VLOOKUP($H39,Törzsadat!$C:$BD,13,0)),0,VLOOKUP($H39,Törzsadat!$C:$BD,AY$1,0))","v":0},{"$f":"IF(ISERROR(VLOOKUP($H39,Törzsadat!$C:$BD,13,0)),0,VLOOKUP($H39,Törzsadat!$C:$BD,AZ$1,0))","v":0},{"$f":"IF(ISERROR(VLOOKUP($H39,Törzsadat!$C:$BD,13,0)),0,VLOOKUP($H39,Törzsadat!$C:$BD,BA$1,0))","v":0},{"$f":"IF(ISERROR(VLOOKUP($H39,Törzsadat!$C:$BD,13,0)),0,VLOOKUP($H39,Törzsadat!$C:$BD,BB$1,0))","v":0},{"$f":"IF(ISERROR(VLOOKUP($H39,Törzsadat!$C:$BD,13,0)),0,VLOOKUP($H39,Törzsadat!$C:$BD,BC$1,0))","v":0},{"$f":"IF(ISERROR(VLOOKUP($H39,Törzsadat!$C:$BD,13,0)),0,VLOOKUP($H39,Törzsadat!$C:$BD,BD$1,0))","v":0}]
[52,"Csapdaészlelés",null,0,0,null,"Gyűrű 3",{"$nulls":7},{"$f":"IF(ISERROR(VLOOKUP($H40,Törzsadat!$C:$BD,13,0)),0,VLOOKUP($H40,Törzsadat!$C:$BD,O$1,0))","v":0},{"$f":"IF(ISERROR(VLOOKUP($H40,Törzsadat!$C:$BD,13,0)),0,VLOOKUP($H40,Törzsadat!$C:$BD,P$1,0))","v":0},{"$f":"IF(ISERROR(VLOOKUP($H40,Törzsadat!$C:$BD,13,0)),0,VLOOKUP($H40,Törzsadat!$C:$BD,Q$1,0))","v":0},{"$f":"IF(ISERROR(VLOOKUP($H40,Törzsadat!$C:$BD,13,0)),0,VLOOKUP($H40,Törzsadat!$C:$BD,R$1,0))","v":0},{"$f":"IF(ISERROR(VLOOKUP($H40,Törzsadat!$C:$BD,13,0)),0,VLOOKUP($H40,Törzsadat!$C:$BD,S$1,0))","v":0},{"$f":"IF(ISERROR(VLOOKUP($H40,Törzsadat!$C:$BD,13,0)),0,VLOOKUP($H40,Törzsadat!$C:$BD,T$1,0))","v":0},{"$f":"IF(ISERROR(VLOOKUP($H40,Törzsadat!$C:$BD,13,0)),0,VLOOKUP($H40,Törzsadat!$C:$BD,U$1,0))","v":0},{"$f":"IF(ISERROR(VLOOKUP($H40,Törzsadat!$C:$BD,13,0)),0,VLOOKUP($H40,Törzsadat!$C:$BD,V$1,0))","v":0},{"$f":"IF(ISERROR(VLOOKUP($H40,Törzsadat!$C:$BD,13,0)),0,VLOOKUP($H40,Törzsadat!$C:$BD,W$1,0))","v":0},{"$f":"IF(ISERROR(VLOOKUP($H40,Törzsadat!$C:$BD,13,0)),0,VLOOKUP($H40,Törzsadat!$C:$BD,X$1,0))","v":0},{"$f":"IF(ISERROR(VLOOKUP($H40,Törzsadat!$C:$BD,13,0)),0,VLOOKUP($H40,Törzsadat!$C:$BD,Y$1,0))","v":0},{"$f":"IF(ISERROR(VLOOKUP($H40,Törzsadat!$C:$BD,13,0)),0,VLOOKUP($H40,Törzsadat!$C:$BD,Z$1,0))","v":0},{"$f":"IF(ISERROR(VLOOKUP($H40,Törzsadat!$C:$BD,13,0)),0,VLOOKUP($H40,Törzsadat!$C:$BD,AA$1,0))","v":0},{"$f":"IF(ISERROR(VLOOKUP($H40,Törzsadat!$C:$BD,13,0)),0,VLOOKUP($H40,Törzsadat!$C:$BD,AB$1,0))","v":0},{"$f":"IF(ISERROR(VLOOKUP($H40,Törzsadat!$C:$BD,13,0)),0,VLOOKUP($H40,Törzsadat!$C:$BD,AC$1,0))","v":0},{"$f":"IF(ISERROR(VLOOKUP($H40,Törzsadat!$C:$BD,13,0)),0,VLOOKUP($H40,Törzsadat!$C:$BD,AD$1,0))","v":0},{"$f":"IF(ISERROR(VLOOKUP($H40,Törzsadat!$C:$BD,13,0)),0,VLOOKUP($H40,Törzsadat!$C:$BD,AE$1,0))","v":0},{"$f":"IF(ISERROR(VLOOKUP($H40,Törzsadat!$C:$BD,13,0)),0,VLOOKUP($H40,Törzsadat!$C:$BD,AF$1,0))","v":0},{"$f":"IF(ISERROR(VLOOKUP($H40,Törzsadat!$C:$BD,13,0)),0,VLOOKUP($H40,Törzsadat!$C:$BD,AG$1,0))","v":0},{"$f":"IF(ISERROR(VLOOKUP($H40,Törzsadat!$C:$BD,13,0)),0,VLOOKUP($H40,Törzsadat!$C:$BD,AH$1,0))","v":0},{"$f":"IF(ISERROR(VLOOKUP($H40,Törzsadat!$C:$BD,13,0)),0,VLOOKUP($H40,Törzsadat!$C:$BD,AI$1,0))","v":0},{"$f":"IF(ISERROR(VLOOKUP($H40,Törzsadat!$C:$BD,13,0)),0,VLOOKUP($H40,Törzsadat!$C:$BD,AJ$1,0))","v":0},{"$f":"IF(ISERROR(VLOOKUP($H40,Törzsadat!$C:$BD,13,0)),0,VLOOKUP($H40,Törzsadat!$C:$BD,AK$1,0))","v":0},{"$f":"IF(ISERROR(VLOOKUP($H40,Törzsadat!$C:$BD,13,0)),0,VLOOKUP($H40,Törzsadat!$C:$BD,AL$1,0))","v":0},{"$f":"IF(ISERROR(VLOOKUP($H40,Törzsadat!$C:$BD,13,0)),0,VLOOKUP($H40,Törzsadat!$C:$BD,AM$1,0))","v":0},{"$f":"IF(ISERROR(VLOOKUP($H40,Törzsadat!$C:$BD,13,0)),0,VLOOKUP($H40,Törzsadat!$C:$BD,AN$1,0))","v":0},{"$f":"IF(ISERROR(VLOOKUP($H40,Törzsadat!$C:$BD,13,0)),0,VLOOKUP($H40,Törzsadat!$C:$BD,AO$1,0))","v":0},{"$f":"IF(ISERROR(VLOOKUP($H40,Törzsadat!$C:$BD,13,0)),0,VLOOKUP($H40,Törzsadat!$C:$BD,AP$1,0))","v":0},{"$f":"IF(ISERROR(VLOOKUP($H40,Törzsadat!$C:$BD,13,0)),0,VLOOKUP($H40,Törzsadat!$C:$BD,AQ$1,0))","v":0},{"$f":"IF(ISERROR(VLOOKUP($H40,Törzsadat!$C:$BD,13,0)),0,VLOOKUP($H40,Törzsadat!$C:$BD,AR$1,0))","v":0},{"$f":"IF(ISERROR(VLOOKUP($H40,Törzsadat!$C:$BD,13,0)),0,VLOOKUP($H40,Törzsadat!$C:$BD,AS$1,0))","v":0},{"$f":"IF(ISERROR(VLOOKUP($H40,Törzsadat!$C:$BD,13,0)),0,VLOOKUP($H40,Törzsadat!$C:$BD,AT$1,0))","v":0},{"$f":"IF(ISERROR(VLOOKUP($H40,Törzsadat!$C:$BD,13,0)),0,VLOOKUP($H40,Törzsadat!$C:$BD,AU$1,0))","v":0},{"$f":"IF(ISERROR(VLOOKUP($H40,Törzsadat!$C:$BD,13,0)),0,VLOOKUP($H40,Törzsadat!$C:$BD,AV$1,0))","v":0},{"$f":"IF(ISERROR(VLOOKUP($H40,Törzsadat!$C:$BD,13,0)),0,VLOOKUP($H40,Törzsadat!$C:$BD,AW$1,0))","v":0},{"$f":"IF(ISERROR(VLOOKUP($H40,Törzsadat!$C:$BD,13,0)),0,VLOOKUP($H40,Törzsadat!$C:$BD,AX$1,0))","v":0},{"$f":"IF(ISERROR(VLOOKUP($H40,Törzsadat!$C:$BD,13,0)),0,VLOOKUP($H40,Törzsadat!$C:$BD,AY$1,0))","v":0},{"$f":"IF(ISERROR(VLOOKUP($H40,Törzsadat!$C:$BD,13,0)),0,VLOOKUP($H40,Törzsadat!$C:$BD,AZ$1,0))","v":0},{"$f":"IF(ISERROR(VLOOKUP($H40,Törzsadat!$C:$BD,13,0)),0,VLOOKUP($H40,Törzsadat!$C:$BD,BA$1,0))","v":0},{"$f":"IF(ISERROR(VLOOKUP($H40,Törzsadat!$C:$BD,13,0)),0,VLOOKUP($H40,Törzsadat!$C:$BD,BB$1,0))","v":0},{"$f":"IF(ISERROR(VLOOKUP($H40,Törzsadat!$C:$BD,13,0)),0,VLOOKUP($H40,Törzsadat!$C:$BD,BC$1,0))","v":0},{"$f":"IF(ISERROR(VLOOKUP($H40,Törzsadat!$C:$BD,13,0)),0,VLOOKUP($H40,Törzsadat!$C:$BD,BD$1,0))","v":0}]
[53,"Mászás",null,0,0,null,"Gyűrű 4",{"$nulls":7},{"$f":"IF(ISERROR(VLOOKUP($H41,Törzsadat!$C:$BD,13,0)),0,VLOOKUP($H41,Törzsadat!$C:$BD,O$1,0))","v":0},{"$f":"IF(ISERROR(VLOOKUP($H41,Törzsadat!$C:$BD,13,0)),0,VLOOKUP($H41,Törzsadat!$C:$BD,P$1,0))","v":0},{"$f":"IF(ISERROR(VLOOKUP($H41,Törzsadat!$C:$BD,13,0)),0,VLOOKUP($H41,Törzsadat!$C:$BD,Q$1,0))","v":0},{"$f":"IF(ISERROR(VLOOKUP($H41,Törzsadat!$C:$BD,13,0)),0,VLOOKUP($H41,Törzsadat!$C:$BD,R$1,0))","v":0},{"$f":"IF(ISERROR(VLOOKUP($H41,Törzsadat!$C:$BD,13,0)),0,VLOOKUP($H41,Törzsadat!$C:$BD,S$1,0))","v":0},{"$f":"IF(ISERROR(VLOOKUP($H41,Törzsadat!$C:$BD,13,0)),0,VLOOKUP($H41,Törzsadat!$C:$BD,T$1,0))","v":0},{"$f":"IF(ISERROR(VLOOKUP($H41,Törzsadat!$C:$BD,13,0)),0,VLOOKUP($H41,Törzsadat!$C:$BD,U$1,0))","v":0},{"$f":"IF(ISERROR(VLOOKUP($H41,Törzsadat!$C:$BD,13,0)),0,VLOOKUP($H41,Törzsadat!$C:$BD,V$1,0))","v":0},{"$f":"IF(ISERROR(VLOOKUP($H41,Törzsadat!$C:$BD,13,0)),0,VLOOKUP($H41,Törzsadat!$C:$BD,W$1,0))","v":0},{"$f":"IF(ISERROR(VLOOKUP($H41,Törzsadat!$C:$BD,13,0)),0,VLOOKUP($H41,Törzsadat!$C:$BD,X$1,0))","v":0},{"$f":"IF(ISERROR(VLOOKUP($H41,Törzsadat!$C:$BD,13,0)),0,VLOOKUP($H41,Törzsadat!$C:$BD,Y$1,0))","v":0},{"$f":"IF(ISERROR(VLOOKUP($H41,Törzsadat!$C:$BD,13,0)),0,VLOOKUP($H41,Törzsadat!$C:$BD,Z$1,0))","v":0},{"$f":"IF(ISERROR(VLOOKUP($H41,Törzsadat!$C:$BD,13,0)),0,VLOOKUP($H41,Törzsadat!$C:$BD,AA$1,0))","v":0},{"$f":"IF(ISERROR(VLOOKUP($H41,Törzsadat!$C:$BD,13,0)),0,VLOOKUP($H41,Törzsadat!$C:$BD,AB$1,0))","v":0},{"$f":"IF(ISERROR(VLOOKUP($H41,Törzsadat!$C:$BD,13,0)),0,VLOOKUP($H41,Törzsadat!$C:$BD,AC$1,0))","v":0},{"$f":"IF(ISERROR(VLOOKUP($H41,Törzsadat!$C:$BD,13,0)),0,VLOOKUP($H41,Törzsadat!$C:$BD,AD$1,0))","v":0},{"$f":"IF(ISERROR(VLOOKUP($H41,Törzsadat!$C:$BD,13,0)),0,VLOOKUP($H41,Törzsadat!$C:$BD,AE$1,0))","v":0},{"$f":"IF(ISERROR(VLOOKUP($H41,Törzsadat!$C:$BD,13,0)),0,VLOOKUP($H41,Törzsadat!$C:$BD,AF$1,0))","v":0},{"$f":"IF(ISERROR(VLOOKUP($H41,Törzsadat!$C:$BD,13,0)),0,VLOOKUP($H41,Törzsadat!$C:$BD,AG$1,0))","v":0},{"$f":"IF(ISERROR(VLOOKUP($H41,Törzsadat!$C:$BD,13,0)),0,VLOOKUP($H41,Törzsadat!$C:$BD,AH$1,0))","v":0},{"$f":"IF(ISERROR(VLOOKUP($H41,Törzsadat!$C:$BD,13,0)),0,VLOOKUP($H41,Törzsadat!$C:$BD,AI$1,0))","v":0},{"$f":"IF(ISERROR(VLOOKUP($H41,Törzsadat!$C:$BD,13,0)),0,VLOOKUP($H41,Törzsadat!$C:$BD,AJ$1,0))","v":0},{"$f":"IF(ISERROR(VLOOKUP($H41,Törzsadat!$C:$BD,13,0)),0,VLOOKUP($H41,Törzsadat!$C:$BD,AK$1,0))","v":0},{"$f":"IF(ISERROR(VLOOKUP($H41,Törzsadat!$C:$BD,13,0)),0,VLOOKUP($H41,Törzsadat!$C:$BD,AL$1,0))","v":0},{"$f":"IF(ISERROR(VLOOKUP($H41,Törzsadat!$C:$BD,13,0)),0,VLOOKUP($H41,Törzsadat!$C:$BD,AM$1,0))","v":0},{"$f":"IF(ISERROR(VLOOKUP($H41,Törzsadat!$C:$BD,13,0)),0,VLOOKUP($H41,Törzsadat!$C:$BD,AN$1,0))","v":0},{"$f":"IF(ISERROR(VLOOKUP($H41,Törzsadat!$C:$BD,13,0)),0,VLOOKUP($H41,Törzsadat!$C:$BD,AO$1,0))","v":0},{"$f":"IF(ISERROR(VLOOKUP($H41,Törzsadat!$C:$BD,13,0)),0,VLOOKUP($H41,Törzsadat!$C:$BD,AP$1,0))","v":0},{"$f":"IF(ISERROR(VLOOKUP($H41,Törzsadat!$C:$BD,13,0)),0,VLOOKUP($H41,Törzsadat!$C:$BD,AQ$1,0))","v":0},{"$f":"IF(ISERROR(VLOOKUP($H41,Törzsadat!$C:$BD,13,0)),0,VLOOKUP($H41,Törzsadat!$C:$BD,AR$1,0))","v":0},{"$f":"IF(ISERROR(VLOOKUP($H41,Törzsadat!$C:$BD,13,0)),0,VLOOKUP($H41,Törzsadat!$C:$BD,AS$1,0))","v":0},{"$f":"IF(ISERROR(VLOOKUP($H41,Törzsadat!$C:$BD,13,0)),0,VLOOKUP($H41,Törzsadat!$C:$BD,AT$1,0))","v":0},{"$f":"IF(ISERROR(VLOOKUP($H41,Törzsadat!$C:$BD,13,0)),0,VLOOKUP($H41,Törzsadat!$C:$BD,AU$1,0))","v":0},{"$f":"IF(ISERROR(VLOOKUP($H41,Törzsadat!$C:$BD,13,0)),0,VLOOKUP($H41,Törzsadat!$C:$BD,AV$1,0))","v":0},{"$f":"IF(ISERROR(VLOOKUP($H41,Törzsadat!$C:$BD,13,0)),0,VLOOKUP($H41,Törzsadat!$C:$BD,AW$1,0))","v":0},{"$f":"IF(ISERROR(VLOOKUP($H41,Törzsadat!$C:$BD,13,0)),0,VLOOKUP($H41,Törzsadat!$C:$BD,AX$1,0))","v":0},{"$f":"IF(ISERROR(VLOOKUP($H41,Törzsadat!$C:$BD,13,0)),0,VLOOKUP($H41,Törzsadat!$C:$BD,AY$1,0))","v":0},{"$f":"IF(ISERROR(VLOOKUP($H41,Törzsadat!$C:$BD,13,0)),0,VLOOKUP($H41,Törzsadat!$C:$BD,AZ$1,0))","v":0},{"$f":"IF(ISERROR(VLOOKUP($H41,Törzsadat!$C:$BD,13,0)),0,VLOOKUP($H41,Törzsadat!$C:$BD,BA$1,0))","v":0},{"$f":"IF(ISERROR(VLOOKUP($H41,Törzsadat!$C:$BD,13,0)),0,VLOOKUP($H41,Törzsadat!$C:$BD,BB$1,0))","v":0},{"$f":"IF(ISERROR(VLOOKUP($H41,Törzsadat!$C:$BD,13,0)),0,VLOOKUP($H41,Törzsadat!$C:$BD,BC$1,0))","v":0},{"$f":"IF(ISERROR(VLOOKUP($H41,Törzsadat!$C:$BD,13,0)),0,VLOOKUP($H41,Törzsadat!$C:$BD,BD$1,0))","v":0}]
[54,"Zárnyitás",null,0,0,null,"Gyűrű 5",{"$nulls":7},{"$f":"IF(ISERROR(VLOOKUP($H42,Törzsadat!$C:$BD,13,0)),0,VLOOKUP($H42,Törzsadat!$C:$BD,O$1,0))","v":0},{"$f":"IF(ISERROR(VLOOKUP($H42,Törzsadat!$C:$BD,13,0)),0,VLOOKUP($H42,Törzsadat!$C:$BD,P$1,0))","v":0},{"$f":"IF(ISERROR(VLOOKUP($H42,Törzsadat!$C:$BD,13,0)),0,VLOOKUP($H42,Törzsadat!$C:$BD,Q$1,0))","v":0},{"$f":"IF(ISERROR(VLOOKUP($H42,Törzsadat!$C:$BD,13,0)),0,VLOOKUP($H42,Törzsadat!$C:$BD,R$1,0))","v":0},{"$f":"IF(ISERROR(VLOOKUP($H42,Törzsadat!$C:$BD,13,0)),0,VLOOKUP($H42,Törzsadat!$C:$BD,S$1,0))","v":0},{"$f":"IF(ISERROR(VLOOKUP($H42,Törzsadat!$C:$BD,13,0)),0,VLOOKUP($H42,Törzsadat!$C:$BD,T$1,0))","v":0},{"$f":"IF(ISERROR(VLOOKUP($H42,Törzsadat!$C:$BD,13,0)),0,VLOOKUP($H42,Törzsadat!$C:$BD,U$1,0))","v":0},{"$f":"IF(ISERROR(VLOOKUP($H42,Törzsadat!$C:$BD,13,0)),0,VLOOKUP($H42,Törzsadat!$C:$BD,V$1,0))","v":0},{"$f":"IF(ISERROR(VLOOKUP($H42,Törzsadat!$C:$BD,13,0)),0,VLOOKUP($H42,Törzsadat!$C:$BD,W$1,0))","v":0},{"$f":"IF(ISERROR(VLOOKUP($H42,Törzsadat!$C:$BD,13,0)),0,VLOOKUP($H42,Törzsadat!$C:$BD,X$1,0))","v":0},{"$f":"IF(ISERROR(VLOOKUP($H42,Törzsadat!$C:$BD,13,0)),0,VLOOKUP($H42,Törzsadat!$C:$BD,Y$1,0))","v":0},{"$f":"IF(ISERROR(VLOOKUP($H42,Törzsadat!$C:$BD,13,0)),0,VLOOKUP($H42,Törzsadat!$C:$BD,Z$1,0))","v":0},{"$f":"IF(ISERROR(VLOOKUP($H42,Törzsadat!$C:$BD,13,0)),0,VLOOKUP($H42,Törzsadat!$C:$BD,AA$1,0))","v":0},{"$f":"IF(ISERROR(VLOOKUP($H42,Törzsadat!$C:$BD,13,0)),0,VLOOKUP($H42,Törzsadat!$C:$BD,AB$1,0))","v":0},{"$f":"IF(ISERROR(VLOOKUP($H42,Törzsadat!$C:$BD,13,0)),0,VLOOKUP($H42,Törzsadat!$C:$BD,AC$1,0))","v":0},{"$f":"IF(ISERROR(VLOOKUP($H42,Törzsadat!$C:$BD,13,0)),0,VLOOKUP($H42,Törzsadat!$C:$BD,AD$1,0))","v":0},{"$f":"IF(ISERROR(VLOOKUP($H42,Törzsadat!$C:$BD,13,0)),0,VLOOKUP($H42,Törzsadat!$C:$BD,AE$1,0))","v":0},{"$f":"IF(ISERROR(VLOOKUP($H42,Törzsadat!$C:$BD,13,0)),0,VLOOKUP($H42,Törzsadat!$C:$BD,AF$1,0))","v":0},{"$f":"IF(ISERROR(VLOOKUP($H42,Törzsadat!$C:$BD,13,0)),0,VLOOKUP($H42,Törzsadat!$C:$BD,AG$1,0))","v":0},{"$f":"IF(ISERROR(VLOOKUP($H42,Törzsadat!$C:$BD,13,0)),0,VLOOKUP($H42,Törzsadat!$C:$BD,AH$1,0))","v":0},{"$f":"IF(ISERROR(VLOOKUP($H42,Törzsadat!$C:$BD,13,0)),0,VLOOKUP($H42,Törzsadat!$C:$BD,AI$1,0))","v":0},{"$f":"IF(ISERROR(VLOOKUP($H42,Törzsadat!$C:$BD,13,0)),0,VLOOKUP($H42,Törzsadat!$C:$BD,AJ$1,0))","v":0},{"$f":"IF(ISERROR(VLOOKUP($H42,Törzsadat!$C:$BD,13,0)),0,VLOOKUP($H42,Törzsadat!$C:$BD,AK$1,0))","v":0},{"$f":"IF(ISERROR(VLOOKUP($H42,Törzsadat!$C:$BD,13,0)),0,VLOOKUP($H42,Törzsadat!$C:$BD,AL$1,0))","v":0},{"$f":"IF(ISERROR(VLOOKUP($H42,Törzsadat!$C:$BD,13,0)),0,VLOOKUP($H42,Törzsadat!$C:$BD,AM$1,0))","v":0},{"$f":"IF(ISERROR(VLOOKUP($H42,Törzsadat!$C:$BD,13,0)),0,VLOOKUP($H42,Törzsadat!$C:$BD,AN$1,0))","v":0},{"$f":"IF(ISERROR(VLOOKUP($H42,Törzsadat!$C:$BD,13,0)),0,VLOOKUP($H42,Törzsadat!$C:$BD,AO$1,0))","v":0},{"$f":"IF(ISERROR(VLOOKUP($H42,Törzsadat!$C:$BD,13,0)),0,VLOOKUP($H42,Törzsadat!$C:$BD,AP$1,0))","v":0},{"$f":"IF(ISERROR(VLOOKUP($H42,Törzsadat!$C:$BD,13,0)),0,VLOOKUP($H42,Törzsadat!$C:$BD,AQ$1,0))","v":0},{"$f":"IF(ISERROR(VLOOKUP($H42,Törzsadat!$C:$BD,13,0)),0,VLOOKUP($H42,Törzsadat!$C:$BD,AR$1,0))","v":0},{"$f":"IF(ISERROR(VLOOKUP($H42,Törzsadat!$C:$BD,13,0)),0,VLOOKUP($H42,Törzsadat!$C:$BD,AS$1,0))","v":0},{"$f":"IF(ISERROR(VLOOKUP($H42,Törzsadat!$C:$BD,13,0)),0,VLOOKUP($H42,Törzsadat!$C:$BD,AT$1,0))","v":0},{"$f":"IF(ISERROR(VLOOKUP($H42,Törzsadat!$C:$BD,13,0)),0,VLOOKUP($H42,Törzsadat!$C:$BD,AU$1,0))","v":0},{"$f":"IF(ISERROR(VLOOKUP($H42,Törzsadat!$C:$BD,13,0)),0,VLOOKUP($H42,Törzsadat!$C:$BD,AV$1,0))","v":0},{"$f":"IF(ISERROR(VLOOKUP($H42,Törzsadat!$C:$BD,13,0)),0,VLOOKUP($H42,Törzsadat!$C:$BD,AW$1,0))","v":0},{"$f":"IF(ISERROR(VLOOKUP($H42,Törzsadat!$C:$BD,13,0)),0,VLOOKUP($H42,Törzsadat!$C:$BD,AX$1,0))","v":0},{"$f":"IF(ISERROR(VLOOKUP($H42,Törzsadat!$C:$BD,13,0)),0,VLOOKUP($H42,Törzsadat!$C:$BD,AY$1,0))","v":0},{"$f":"IF(ISERROR(VLOOKUP($H42,Törzsadat!$C:$BD,13,0)),0,VLOOKUP($H42,Törzsadat!$C:$BD,AZ$1,0))","v":0},{"$f":"IF(ISERROR(VLOOKUP($H42,Törzsadat!$C:$BD,13,0)),0,VLOOKUP($H42,Törzsadat!$C:$BD,BA$1,0))","v":0},{"$f":"IF(ISERROR(VLOOKUP($H42,Törzsadat!$C:$BD,13,0)),0,VLOOKUP($H42,Törzsadat!$C:$BD,BB$1,0))","v":0},{"$f":"IF(ISERROR(VLOOKUP($H42,Törzsadat!$C:$BD,13,0)),0,VLOOKUP($H42,Törzsadat!$C:$BD,BC$1,0))","v":0},{"$f":"IF(ISERROR(VLOOKUP($H42,Törzsadat!$C:$BD,13,0)),0,VLOOKUP($H42,Törzsadat!$C:$BD,BD$1,0))","v":0}]
[55,"Harcművészet",null,0,0,null,"Gyűrű 6",{"$nulls":7},{"$f":"IF(ISERROR(VLOOKUP($H43,Törzsadat!$C:$BD,13,0)),0,VLOOKUP($H43,Törzsadat!$C:$BD,O$1,0))","v":0},{"$f":"IF(ISERROR(VLOOKUP($H43,Törzsadat!$C:$BD,13,0)),0,VLOOKUP($H43,Törzsadat!$C:$BD,P$1,0))","v":0},{"$f":"IF(ISERROR(VLOOKUP($H43,Törzsadat!$C:$BD,13,0)),0,VLOOKUP($H43,Törzsadat!$C:$BD,Q$1,0))","v":0},{"$f":"IF(ISERROR(VLOOKUP($H43,Törzsadat!$C:$BD,13,0)),0,VLOOKUP($H43,Törzsadat!$C:$BD,R$1,0))","v":0},{"$f":"IF(ISERROR(VLOOKUP($H43,Törzsadat!$C:$BD,13,0)),0,VLOOKUP($H43,Törzsadat!$C:$BD,S$1,0))","v":0},{"$f":"IF(ISERROR(VLOOKUP($H43,Törzsadat!$C:$BD,13,0)),0,VLOOKUP($H43,Törzsadat!$C:$BD,T$1,0))","v":0},{"$f":"IF(ISERROR(VLOOKUP($H43,Törzsadat!$C:$BD,13,0)),0,VLOOKUP($H43,Törzsadat!$C:$BD,U$1,0))","v":0},{"$f":"IF(ISERROR(VLOOKUP($H43,Törzsadat!$C:$BD,13,0)),0,VLOOKUP($H43,Törzsadat!$C:$BD,V$1,0))","v":0},{"$f":"IF(ISERROR(VLOOKUP($H43,Törzsadat!$C:$BD,13,0)),0,VLOOKUP($H43,Törzsadat!$C:$BD,W$1,0))","v":0},{"$f":"IF(ISERROR(VLOOKUP($H43,Törzsadat!$C:$BD,13,0)),0,VLOOKUP($H43,Törzsadat!$C:$BD,X$1,0))","v":0},{"$f":"IF(ISERROR(VLOOKUP($H43,Törzsadat!$C:$BD,13,0)),0,VLOOKUP($H43,Törzsadat!$C:$BD,Y$1,0))","v":0},{"$f":"IF(ISERROR(VLOOKUP($H43,Törzsadat!$C:$BD,13,0)),0,VLOOKUP($H43,Törzsadat!$C:$BD,Z$1,0))","v":0},{"$f":"IF(ISERROR(VLOOKUP($H43,Törzsadat!$C:$BD,13,0)),0,VLOOKUP($H43,Törzsadat!$C:$BD,AA$1,0))","v":0},{"$f":"IF(ISERROR(VLOOKUP($H43,Törzsadat!$C:$BD,13,0)),0,VLOOKUP($H43,Törzsadat!$C:$BD,AB$1,0))","v":0},{"$f":"IF(ISERROR(VLOOKUP($H43,Törzsadat!$C:$BD,13,0)),0,VLOOKUP($H43,Törzsadat!$C:$BD,AC$1,0))","v":0},{"$f":"IF(ISERROR(VLOOKUP($H43,Törzsadat!$C:$BD,13,0)),0,VLOOKUP($H43,Törzsadat!$C:$BD,AD$1,0))","v":0},{"$f":"IF(ISERROR(VLOOKUP($H43,Törzsadat!$C:$BD,13,0)),0,VLOOKUP($H43,Törzsadat!$C:$BD,AE$1,0))","v":0},{"$f":"IF(ISERROR(VLOOKUP($H43,Törzsadat!$C:$BD,13,0)),0,VLOOKUP($H43,Törzsadat!$C:$BD,AF$1,0))","v":0},{"$f":"IF(ISERROR(VLOOKUP($H43,Törzsadat!$C:$BD,13,0)),0,VLOOKUP($H43,Törzsadat!$C:$BD,AG$1,0))","v":0},{"$f":"IF(ISERROR(VLOOKUP($H43,Törzsadat!$C:$BD,13,0)),0,VLOOKUP($H43,Törzsadat!$C:$BD,AH$1,0))","v":0},{"$f":"IF(ISERROR(VLOOKUP($H43,Törzsadat!$C:$BD,13,0)),0,VLOOKUP($H43,Törzsadat!$C:$BD,AI$1,0))","v":0},{"$f":"IF(ISERROR(VLOOKUP($H43,Törzsadat!$C:$BD,13,0)),0,VLOOKUP($H43,Törzsadat!$C:$BD,AJ$1,0))","v":0},{"$f":"IF(ISERROR(VLOOKUP($H43,Törzsadat!$C:$BD,13,0)),0,VLOOKUP($H43,Törzsadat!$C:$BD,AK$1,0))","v":0},{"$f":"IF(ISERROR(VLOOKUP($H43,Törzsadat!$C:$BD,13,0)),0,VLOOKUP($H43,Törzsadat!$C:$BD,AL$1,0))","v":0},{"$f":"IF(ISERROR(VLOOKUP($H43,Törzsadat!$C:$BD,13,0)),0,VLOOKUP($H43,Törzsadat!$C:$BD,AM$1,0))","v":0},{"$f":"IF(ISERROR(VLOOKUP($H43,Törzsadat!$C:$BD,13,0)),0,VLOOKUP($H43,Törzsadat!$C:$BD,AN$1,0))","v":0},{"$f":"IF(ISERROR(VLOOKUP($H43,Törzsadat!$C:$BD,13,0)),0,VLOOKUP($H43,Törzsadat!$C:$BD,AO$1,0))","v":0},{"$f":"IF(ISERROR(VLOOKUP($H43,Törzsadat!$C:$BD,13,0)),0,VLOOKUP($H43,Törzsadat!$C:$BD,AP$1,0))","v":0},{"$f":"IF(ISERROR(VLOOKUP($H43,Törzsadat!$C:$BD,13,0)),0,VLOOKUP($H43,Törzsadat!$C:$BD,AQ$1,0))","v":0},{"$f":"IF(ISERROR(VLOOKUP($H43,Törzsadat!$C:$BD,13,0)),0,VLOOKUP($H43,Törzsadat!$C:$BD,AR$1,0))","v":0},{"$f":"IF(ISERROR(VLOOKUP($H43,Törzsadat!$C:$BD,13,0)),0,VLOOKUP($H43,Törzsadat!$C:$BD,AS$1,0))","v":0},{"$f":"IF(ISERROR(VLOOKUP($H43,Törzsadat!$C:$BD,13,0)),0,VLOOKUP($H43,Törzsadat!$C:$BD,AT$1,0))","v":0},{"$f":"IF(ISERROR(VLOOKUP($H43,Törzsadat!$C:$BD,13,0)),0,VLOOKUP($H43,Törzsadat!$C:$BD,AU$1,0))","v":0},{"$f":"IF(ISERROR(VLOOKUP($H43,Törzsadat!$C:$BD,13,0)),0,VLOOKUP($H43,Törzsadat!$C:$BD,AV$1,0))","v":0},{"$f":"IF(ISERROR(VLOOKUP($H43,Törzsadat!$C:$BD,13,0)),0,VLOOKUP($H43,Törzsadat!$C:$BD,AW$1,0))","v":0},{"$f":"IF(ISERROR(VLOOKUP($H43,Törzsadat!$C:$BD,13,0)),0,VLOOKUP($H43,Törzsadat!$C:$BD,AX$1,0))","v":0},{"$f":"IF(ISERROR(VLOOKUP($H43,Törzsadat!$C:$BD,13,0)),0,VLOOKUP($H43,Törzsadat!$C:$BD,AY$1,0))","v":0},{"$f":"IF(ISERROR(VLOOKUP($H43,Törzsadat!$C:$BD,13,0)),0,VLOOKUP($H43,Törzsadat!$C:$BD,AZ$1,0))","v":0},{"$f":"IF(ISERROR(VLOOKUP($H43,Törzsadat!$C:$BD,13,0)),0,VLOOKUP($H43,Törzsadat!$C:$BD,BA$1,0))","v":0},{"$f":"IF(ISERROR(VLOOKUP($H43,Törzsadat!$C:$BD,13,0)),0,VLOOKUP($H43,Törzsadat!$C:$BD,BB$1,0))","v":0},{"$f":"IF(ISERROR(VLOOKUP($H43,Törzsadat!$C:$BD,13,0)),0,VLOOKUP($H43,Törzsadat!$C:$BD,BC$1,0))","v":0},{"$f":"IF(ISERROR(VLOOKUP($H43,Törzsadat!$C:$BD,13,0)),0,VLOOKUP($H43,Törzsadat!$C:$BD,BD$1,0))","v":0}]
[56,"Vadászat",null,0,0,null,"Gyűrű 7",{"$nulls":7},{"$f":"IF(ISERROR(VLOOKUP($H44,Törzsadat!$C:$BD,13,0)),0,VLOOKUP($H44,Törzsadat!$C:$BD,O$1,0))","v":0},{"$f":"IF(ISERROR(VLOOKUP($H44,Törzsadat!$C:$BD,13,0)),0,VLOOKUP($H44,Törzsadat!$C:$BD,P$1,0))","v":0},{"$f":"IF(ISERROR(VLOOKUP($H44,Törzsadat!$C:$BD,13,0)),0,VLOOKUP($H44,Törzsadat!$C:$BD,Q$1,0))","v":0},{"$f":"IF(ISERROR(VLOOKUP($H44,Törzsadat!$C:$BD,13,0)),0,VLOOKUP($H44,Törzsadat!$C:$BD,R$1,0))","v":0},{"$f":"IF(ISERROR(VLOOKUP($H44,Törzsadat!$C:$BD,13,0)),0,VLOOKUP($H44,Törzsadat!$C:$BD,S$1,0))","v":0},{"$f":"IF(ISERROR(VLOOKUP($H44,Törzsadat!$C:$BD,13,0)),0,VLOOKUP($H44,Törzsadat!$C:$BD,T$1,0))","v":0},{"$f":"IF(ISERROR(VLOOKUP($H44,Törzsadat!$C:$BD,13,0)),0,VLOOKUP($H44,Törzsadat!$C:$BD,U$1,0))","v":0},{"$f":"IF(ISERROR(VLOOKUP($H44,Törzsadat!$C:$BD,13,0)),0,VLOOKUP($H44,Törzsadat!$C:$BD,V$1,0))","v":0},{"$f":"IF(ISERROR(VLOOKUP($H44,Törzsadat!$C:$BD,13,0)),0,VLOOKUP($H44,Törzsadat!$C:$BD,W$1,0))","v":0},{"$f":"IF(ISERROR(VLOOKUP($H44,Törzsadat!$C:$BD,13,0)),0,VLOOKUP($H44,Törzsadat!$C:$BD,X$1,0))","v":0},{"$f":"IF(ISERROR(VLOOKUP($H44,Törzsadat!$C:$BD,13,0)),0,VLOOKUP($H44,Törzsadat!$C:$BD,Y$1,0))","v":0},{"$f":"IF(ISERROR(VLOOKUP($H44,Törzsadat!$C:$BD,13,0)),0,VLOOKUP($H44,Törzsadat!$C:$BD,Z$1,0))","v":0},{"$f":"IF(ISERROR(VLOOKUP($H44,Törzsadat!$C:$BD,13,0)),0,VLOOKUP($H44,Törzsadat!$C:$BD,AA$1,0))","v":0},{"$f":"IF(ISERROR(VLOOKUP($H44,Törzsadat!$C:$BD,13,0)),0,VLOOKUP($H44,Törzsadat!$C:$BD,AB$1,0))","v":0},{"$f":"IF(ISERROR(VLOOKUP($H44,Törzsadat!$C:$BD,13,0)),0,VLOOKUP($H44,Törzsadat!$C:$BD,AC$1,0))","v":0},{"$f":"IF(ISERROR(VLOOKUP($H44,Törzsadat!$C:$BD,13,0)),0,VLOOKUP($H44,Törzsadat!$C:$BD,AD$1,0))","v":0},{"$f":"IF(ISERROR(VLOOKUP($H44,Törzsadat!$C:$BD,13,0)),0,VLOOKUP($H44,Törzsadat!$C:$BD,AE$1,0))","v":0},{"$f":"IF(ISERROR(VLOOKUP($H44,Törzsadat!$C:$BD,13,0)),0,VLOOKUP($H44,Törzsadat!$C:$BD,AF$1,0))","v":0},{"$f":"IF(ISERROR(VLOOKUP($H44,Törzsadat!$C:$BD,13,0)),0,VLOOKUP($H44,Törzsadat!$C:$BD,AG$1,0))","v":0},{"$f":"IF(ISERROR(VLOOKUP($H44,Törzsadat!$C:$BD,13,0)),0,VLOOKUP($H44,Törzsadat!$C:$BD,AH$1,0))","v":0},{"$f":"IF(ISERROR(VLOOKUP($H44,Törzsadat!$C:$BD,13,0)),0,VLOOKUP($H44,Törzsadat!$C:$BD,AI$1,0))","v":0},{"$f":"IF(ISERROR(VLOOKUP($H44,Törzsadat!$C:$BD,13,0)),0,VLOOKUP($H44,Törzsadat!$C:$BD,AJ$1,0))","v":0},{"$f":"IF(ISERROR(VLOOKUP($H44,Törzsadat!$C:$BD,13,0)),0,VLOOKUP($H44,Törzsadat!$C:$BD,AK$1,0))","v":0},{"$f":"IF(ISERROR(VLOOKUP($H44,Törzsadat!$C:$BD,13,0)),0,VLOOKUP($H44,Törzsadat!$C:$BD,AL$1,0))","v":0},{"$f":"IF(ISERROR(VLOOKUP($H44,Törzsadat!$C:$BD,13,0)),0,VLOOKUP($H44,Törzsadat!$C:$BD,AM$1,0))","v":0},{"$f":"IF(ISERROR(VLOOKUP($H44,Törzsadat!$C:$BD,13,0)),0,VLOOKUP($H44,Törzsadat!$C:$BD,AN$1,0))","v":0},{"$f":"IF(ISERROR(VLOOKUP($H44,Törzsadat!$C:$BD,13,0)),0,VLOOKUP($H44,Törzsadat!$C:$BD,AO$1,0))","v":0},{"$f":"IF(ISERROR(VLOOKUP($H44,Törzsadat!$C:$BD,13,0)),0,VLOOKUP($H44,Törzsadat!$C:$BD,AP$1,0))","v":0},{"$f":"IF(ISERROR(VLOOKUP($H44,Törzsadat!$C:$BD,13,0)),0,VLOOKUP($H44,Törzsadat!$C:$BD,AQ$1,0))","v":0},{"$f":"IF(ISERROR(VLOOKUP($H44,Törzsadat!$C:$BD,13,0)),0,VLOOKUP($H44,Törzsadat!$C:$BD,AR$1,0))","v":0},{"$f":"IF(ISERROR(VLOOKUP($H44,Törzsadat!$C:$BD,13,0)),0,VLOOKUP($H44,Törzsadat!$C:$BD,AS$1,0))","v":0},{"$f":"IF(ISERROR(VLOOKUP($H44,Törzsadat!$C:$BD,13,0)),0,VLOOKUP($H44,Törzsadat!$C:$BD,AT$1,0))","v":0},{"$f":"IF(ISERROR(VLOOKUP($H44,Törzsadat!$C:$BD,13,0)),0,VLOOKUP($H44,Törzsadat!$C:$BD,AU$1,0))","v":0},{"$f":"IF(ISERROR(VLOOKUP($H44,Törzsadat!$C:$BD,13,0)),0,VLOOKUP($H44,Törzsadat!$C:$BD,AV$1,0))","v":0},{"$f":"IF(ISERROR(VLOOKUP($H44,Törzsadat!$C:$BD,13,0)),0,VLOOKUP($H44,Törzsadat!$C:$BD,AW$1,0))","v":0},{"$f":"IF(ISERROR(VLOOKUP($H44,Törzsadat!$C:$BD,13,0)),0,VLOOKUP($H44,Törzsadat!$C:$BD,AX$1,0))","v":0},{"$f":"IF(ISERROR(VLOOKUP($H44,Törzsadat!$C:$BD,13,0)),0,VLOOKUP($H44,Törzsadat!$C:$BD,AY$1,0))","v":0},{"$f":"IF(ISERROR(VLOOKUP($H44,Törzsadat!$C:$BD,13,0)),0,VLOOKUP($H44,Törzsadat!$C:$BD,AZ$1,0))","v":0},{"$f":"IF(ISERROR(VLOOKUP($H44,Törzsadat!$C:$BD,13,0)),0,VLOOKUP($H44,Törzsadat!$C:$BD,BA$1,0))","v":0},{"$f":"IF(ISERROR(VLOOKUP($H44,Törzsadat!$C:$BD,13,0)),0,VLOOKUP($H44,Törzsadat!$C:$BD,BB$1,0))","v":0},{"$f":"IF(ISERROR(VLOOKUP($H44,Törzsadat!$C:$BD,13,0)),0,VLOOKUP($H44,Törzsadat!$C:$BD,BC$1,0))","v":0},{"$f":"IF(ISERROR(VLOOKUP($H44,Törzsadat!$C:$BD,13,0)),0,VLOOKUP($H44,Törzsadat!$C:$BD,BD$1,0))","v":0}]
[57,{"$nulls":5},"Gyűrű 8",{"$nulls":7},{"$f":"IF(ISERROR(VLOOKUP($H45,Törzsadat!$C:$BD,13,0)),0,VLOOKUP($H45,Törzsadat!$C:$BD,O$1,0))","v":0},{"$f":"IF(ISERROR(VLOOKUP($H45,Törzsadat!$C:$BD,13,0)),0,VLOOKUP($H45,Törzsadat!$C:$BD,P$1,0))","v":0},{"$f":"IF(ISERROR(VLOOKUP($H45,Törzsadat!$C:$BD,13,0)),0,VLOOKUP($H45,Törzsadat!$C:$BD,Q$1,0))","v":0},{"$f":"IF(ISERROR(VLOOKUP($H45,Törzsadat!$C:$BD,13,0)),0,VLOOKUP($H45,Törzsadat!$C:$BD,R$1,0))","v":0},{"$f":"IF(ISERROR(VLOOKUP($H45,Törzsadat!$C:$BD,13,0)),0,VLOOKUP($H45,Törzsadat!$C:$BD,S$1,0))","v":0},{"$f":"IF(ISERROR(VLOOKUP($H45,Törzsadat!$C:$BD,13,0)),0,VLOOKUP($H45,Törzsadat!$C:$BD,T$1,0))","v":0},{"$f":"IF(ISERROR(VLOOKUP($H45,Törzsadat!$C:$BD,13,0)),0,VLOOKUP($H45,Törzsadat!$C:$BD,U$1,0))","v":0},{"$f":"IF(ISERROR(VLOOKUP($H45,Törzsadat!$C:$BD,13,0)),0,VLOOKUP($H45,Törzsadat!$C:$BD,V$1,0))","v":0},{"$f":"IF(ISERROR(VLOOKUP($H45,Törzsadat!$C:$BD,13,0)),0,VLOOKUP($H45,Törzsadat!$C:$BD,W$1,0))","v":0},{"$f":"IF(ISERROR(VLOOKUP($H45,Törzsadat!$C:$BD,13,0)),0,VLOOKUP($H45,Törzsadat!$C:$BD,X$1,0))","v":0},{"$f":"IF(ISERROR(VLOOKUP($H45,Törzsadat!$C:$BD,13,0)),0,VLOOKUP($H45,Törzsadat!$C:$BD,Y$1,0))","v":0},{"$f":"IF(ISERROR(VLOOKUP($H45,Törzsadat!$C:$BD,13,0)),0,VLOOKUP($H45,Törzsadat!$C:$BD,Z$1,0))","v":0},{"$f":"IF(ISERROR(VLOOKUP($H45,Törzsadat!$C:$BD,13,0)),0,VLOOKUP($H45,Törzsadat!$C:$BD,AA$1,0))","v":0},{"$f":"IF(ISERROR(VLOOKUP($H45,Törzsadat!$C:$BD,13,0)),0,VLOOKUP($H45,Törzsadat!$C:$BD,AB$1,0))","v":0},{"$f":"IF(ISERROR(VLOOKUP($H45,Törzsadat!$C:$BD,13,0)),0,VLOOKUP($H45,Törzsadat!$C:$BD,AC$1,0))","v":0},{"$f":"IF(ISERROR(VLOOKUP($H45,Törzsadat!$C:$BD,13,0)),0,VLOOKUP($H45,Törzsadat!$C:$BD,AD$1,0))","v":0},{"$f":"IF(ISERROR(VLOOKUP($H45,Törzsadat!$C:$BD,13,0)),0,VLOOKUP($H45,Törzsadat!$C:$BD,AE$1,0))","v":0},{"$f":"IF(ISERROR(VLOOKUP($H45,Törzsadat!$C:$BD,13,0)),0,VLOOKUP($H45,Törzsadat!$C:$BD,AF$1,0))","v":0},{"$f":"IF(ISERROR(VLOOKUP($H45,Törzsadat!$C:$BD,13,0)),0,VLOOKUP($H45,Törzsadat!$C:$BD,AG$1,0))","v":0},{"$f":"IF(ISERROR(VLOOKUP($H45,Törzsadat!$C:$BD,13,0)),0,VLOOKUP($H45,Törzsadat!$C:$BD,AH$1,0))","v":0},{"$f":"IF(ISERROR(VLOOKUP($H45,Törzsadat!$C:$BD,13,0)),0,VLOOKUP($H45,Törzsadat!$C:$BD,AI$1,0))","v":0},{"$f":"IF(ISERROR(VLOOKUP($H45,Törzsadat!$C:$BD,13,0)),0,VLOOKUP($H45,Törzsadat!$C:$BD,AJ$1,0))","v":0},{"$f":"IF(ISERROR(VLOOKUP($H45,Törzsadat!$C:$BD,13,0)),0,VLOOKUP($H45,Törzsadat!$C:$BD,AK$1,0))","v":0},{"$f":"IF(ISERROR(VLOOKUP($H45,Törzsadat!$C:$BD,13,0)),0,VLOOKUP($H45,Törzsadat!$C:$BD,AL$1,0))","v":0},{"$f":"IF(ISERROR(VLOOKUP($H45,Törzsadat!$C:$BD,13,0)),0,VLOOKUP($H45,Törzsadat!$C:$BD,AM$1,0))","v":0},{"$f":"IF(ISERROR(VLOOKUP($H45,Törzsadat!$C:$BD,13,0)),0,VLOOKUP($H45,Törzsadat!$C:$BD,AN$1,0))","v":0},{"$f":"IF(ISERROR(VLOOKUP($H45,Törzsadat!$C:$BD,13,0)),0,VLOOKUP($H45,Törzsadat!$C:$BD,AO$1,0))","v":0},{"$f":"IF(ISERROR(VLOOKUP($H45,Törzsadat!$C:$BD,13,0)),0,VLOOKUP($H45,Törzsadat!$C:$BD,AP$1,0))","v":0},{"$f":"IF(ISERROR(VLOOKUP($H45,Törzsadat!$C:$BD,13,0)),0,VLOOKUP($H45,Törzsadat!$C:$BD,AQ$1,0))","v":0},{"$f":"IF(ISERROR(VLOOKUP($H45,Törzsadat!$C:$BD,13,0)),0,VLOOKUP($H45,Törzsadat!$C:$BD,AR$1,0))","v":0},{"$f":"IF(ISERROR(VLOOKUP($H45,Törzsadat!$C:$BD,13,0)),0,VLOOKUP($H45,Törzsadat!$C:$BD,AS$1,0))","v":0},{"$f":"IF(ISERROR(VLOOKUP($H45,Törzsadat!$C:$BD,13,0)),0,VLOOKUP($H45,Törzsadat!$C:$BD,AT$1,0))","v":0},{"$f":"IF(ISERROR(VLOOKUP($H45,Törzsadat!$C:$BD,13,0)),0,VLOOKUP($H45,Törzsadat!$C:$BD,AU$1,0))","v":0},{"$f":"IF(ISERROR(VLOOKUP($H45,Törzsadat!$C:$BD,13,0)),0,VLOOKUP($H45,Törzsadat!$C:$BD,AV$1,0))","v":0},{"$f":"IF(ISERROR(VLOOKUP($H45,Törzsadat!$C:$BD,13,0)),0,VLOOKUP($H45,Törzsadat!$C:$BD,AW$1,0))","v":0},{"$f":"IF(ISERROR(VLOOKUP($H45,Törzsadat!$C:$BD,13,0)),0,VLOOKUP($H45,Törzsadat!$C:$BD,AX$1,0))","v":0},{"$f":"IF(ISERROR(VLOOKUP($H45,Törzsadat!$C:$BD,13,0)),0,VLOOKUP($H45,Törzsadat!$C:$BD,AY$1,0))","v":0},{"$f":"IF(ISERROR(VLOOKUP($H45,Törzsadat!$C:$BD,13,0)),0,VLOOKUP($H45,Törzsadat!$C:$BD,AZ$1,0))","v":0},{"$f":"IF(ISERROR(VLOOKUP($H45,Törzsadat!$C:$BD,13,0)),0,VLOOKUP($H45,Törzsadat!$C:$BD,BA$1,0))","v":0},{"$f":"IF(ISERROR(VLOOKUP($H45,Törzsadat!$C:$BD,13,0)),0,VLOOKUP($H45,Törzsadat!$C:$BD,BB$1,0))","v":0},{"$f":"IF(ISERROR(VLOOKUP($H45,Törzsadat!$C:$BD,13,0)),0,VLOOKUP($H45,Törzsadat!$C:$BD,BC$1,0))","v":0},{"$f":"IF(ISERROR(VLOOKUP($H45,Törzsadat!$C:$BD,13,0)),0,VLOOKUP($H45,Törzsadat!$C:$BD,BD$1,0))","v":0}]
[{"$nulls":6},"Gyűrű 9",{"$nulls":7},{"$f":"IF(ISERROR(VLOOKUP($H46,Törzsadat!$C:$BD,13,0)),0,VLOOKUP($H46,Törzsadat!$C:$BD,O$1,0))","v":0},{"$f":"IF(ISERROR(VLOOKUP($H46,Törzsadat!$C:$BD,13,0)),0,VLOOKUP($H46,Törzsadat!$C:$BD,P$1,0))","v":0},{"$f":"IF(ISERROR(VLOOKUP($H46,Törzsadat!$C:$BD,13,0)),0,VLOOKUP($H46,Törzsadat!$C:$BD,Q$1,0))","v":0},{"$f":"IF(ISERROR(VLOOKUP($H46,Törzsadat!$C:$BD,13,0)),0,VLOOKUP($H46,Törzsadat!$C:$BD,R$1,0))","v":0},{"$f":"IF(ISERROR(VLOOKUP($H46,Törzsadat!$C:$BD,13,0)),0,VLOOKUP($H46,Törzsadat!$C:$BD,S$1,0))","v":0},{"$f":"IF(ISERROR(VLOOKUP($H46,Törzsadat!$C:$BD,13,0)),0,VLOOKUP($H46,Törzsadat!$C:$BD,T$1,0))","v":0},{"$f":"IF(ISERROR(VLOOKUP($H46,Törzsadat!$C:$BD,13,0)),0,VLOOKUP($H46,Törzsadat!$C:$BD,U$1,0))","v":0},{"$f":"IF(ISERROR(VLOOKUP($H46,Törzsadat!$C:$BD,13,0)),0,VLOOKUP($H46,Törzsadat!$C:$BD,V$1,0))","v":0},{"$f":"IF(ISERROR(VLOOKUP($H46,Törzsadat!$C:$BD,13,0)),0,VLOOKUP($H46,Törzsadat!$C:$BD,W$1,0))","v":0},{"$f":"IF(ISERROR(VLOOKUP($H46,Törzsadat!$C:$BD,13,0)),0,VLOOKUP($H46,Törzsadat!$C:$BD,X$1,0))","v":0},{"$f":"IF(ISERROR(VLOOKUP($H46,Törzsadat!$C:$BD,13,0)),0,VLOOKUP($H46,Törzsadat!$C:$BD,Y$1,0))","v":0},{"$f":"IF(ISERROR(VLOOKUP($H46,Törzsadat!$C:$BD,13,0)),0,VLOOKUP($H46,Törzsadat!$C:$BD,Z$1,0))","v":0},{"$f":"IF(ISERROR(VLOOKUP($H46,Törzsadat!$C:$BD,13,0)),0,VLOOKUP($H46,Törzsadat!$C:$BD,AA$1,0))","v":0},{"$f":"IF(ISERROR(VLOOKUP($H46,Törzsadat!$C:$BD,13,0)),0,VLOOKUP($H46,Törzsadat!$C:$BD,AB$1,0))","v":0},{"$f":"IF(ISERROR(VLOOKUP($H46,Törzsadat!$C:$BD,13,0)),0,VLOOKUP($H46,Törzsadat!$C:$BD,AC$1,0))","v":0},{"$f":"IF(ISERROR(VLOOKUP($H46,Törzsadat!$C:$BD,13,0)),0,VLOOKUP($H46,Törzsadat!$C:$BD,AD$1,0))","v":0},{"$f":"IF(ISERROR(VLOOKUP($H46,Törzsadat!$C:$BD,13,0)),0,VLOOKUP($H46,Törzsadat!$C:$BD,AE$1,0))","v":0},{"$f":"IF(ISERROR(VLOOKUP($H46,Törzsadat!$C:$BD,13,0)),0,VLOOKUP($H46,Törzsadat!$C:$BD,AF$1,0))","v":0},{"$f":"IF(ISERROR(VLOOKUP($H46,Törzsadat!$C:$BD,13,0)),0,VLOOKUP($H46,Törzsadat!$C:$BD,AG$1,0))","v":0},{"$f":"IF(ISERROR(VLOOKUP($H46,Törzsadat!$C:$BD,13,0)),0,VLOOKUP($H46,Törzsadat!$C:$BD,AH$1,0))","v":0},{"$f":"IF(ISERROR(VLOOKUP($H46,Törzsadat!$C:$BD,13,0)),0,VLOOKUP($H46,Törzsadat!$C:$BD,AI$1,0))","v":0},{"$f":"IF(ISERROR(VLOOKUP($H46,Törzsadat!$C:$BD,13,0)),0,VLOOKUP($H46,Törzsadat!$C:$BD,AJ$1,0))","v":0},{"$f":"IF(ISERROR(VLOOKUP($H46,Törzsadat!$C:$BD,13,0)),0,VLOOKUP($H46,Törzsadat!$C:$BD,AK$1,0))","v":0},{"$f":"IF(ISERROR(VLOOKUP($H46,Törzsadat!$C:$BD,13,0)),0,VLOOKUP($H46,Törzsadat!$C:$BD,AL$1,0))","v":0},{"$f":"IF(ISERROR(VLOOKUP($H46,Törzsadat!$C:$BD,13,0)),0,VLOOKUP($H46,Törzsadat!$C:$BD,AM$1,0))","v":0},{"$f":"IF(ISERROR(VLOOKUP($H46,Törzsadat!$C:$BD,13,0)),0,VLOOKUP($H46,Törzsadat!$C:$BD,AN$1,0))","v":0},{"$f":"IF(ISERROR(VLOOKUP($H46,Törzsadat!$C:$BD,13,0)),0,VLOOKUP($H46,Törzsadat!$C:$BD,AO$1,0))","v":0},{"$f":"IF(ISERROR(VLOOKUP($H46,Törzsadat!$C:$BD,13,0)),0,VLOOKUP($H46,Törzsadat!$C:$BD,AP$1,0))","v":0},{"$f":"IF(ISERROR(VLOOKUP($H46,Törzsadat!$C:$BD,13,0)),0,VLOOKUP($H46,Törzsadat!$C:$BD,AQ$1,0))","v":0},{"$f":"IF(ISERROR(VLOOKUP($H46,Törzsadat!$C:$BD,13,0)),0,VLOOKUP($H46,Törzsadat!$C:$BD,AR$1,0))","v":0},{"$f":"IF(ISERROR(VLOOKUP($H46,Törzsadat!$C:$BD,13,0)),0,VLOOKUP($H46,Törzsadat!$C:$BD,AS$1,0))","v":0},{"$f":"IF(ISERROR(VLOOKUP($H46,Törzsadat!$C:$BD,13,0)),0,VLOOKUP($H46,Törzsadat!$C:$BD,AT$1,0))","v":0},{"$f":"IF(ISERROR(VLOOKUP($H46,Törzsadat!$C:$BD,13,0)),0,VLOOKUP($H46,Törzsadat!$C:$BD,AU$1,0))","v":0},{"$f":"IF(ISERROR(VLOOKUP($H46,Törzsadat!$C:$BD,13,0)),0,VLOOKUP($H46,Törzsadat!$C:$BD,AV$1,0))","v":0},{"$f":"IF(ISERROR(VLOOKUP($H46,Törzsadat!$C:$BD,13,0)),0,VLOOKUP($H46,Törzsadat!$C:$BD,AW$1,0))","v":0},{"$f":"IF(ISERROR(VLOOKUP($H46,Törzsadat!$C:$BD,13,0)),0,VLOOKUP($H46,Törzsadat!$C:$BD,AX$1,0))","v":0},{"$f":"IF(ISERROR(VLOOKUP($H46,Törzsadat!$C:$BD,13,0)),0,VLOOKUP($H46,Törzsadat!$C:$BD,AY$1,0))","v":0},{"$f":"IF(ISERROR(VLOOKUP($H46,Törzsadat!$C:$BD,13,0)),0,VLOOKUP($H46,Törzsadat!$C:$BD,AZ$1,0))","v":0},{"$f":"IF(ISERROR(VLOOKUP($H46,Törzsadat!$C:$BD,13,0)),0,VLOOKUP($H46,Törzsadat!$C:$BD,BA$1,0))","v":0},{"$f":"IF(ISERROR(VLOOKUP($H46,Törzsadat!$C:$BD,13,0)),0,VLOOKUP($H46,Törzsadat!$C:$BD,BB$1,0))","v":0},{"$f":"IF(ISERROR(VLOOKUP($H46,Törzsadat!$C:$BD,13,0)),0,VLOOKUP($H46,Törzsadat!$C:$BD,BC$1,0))","v":0},{"$f":"IF(ISERROR(VLOOKUP($H46,Törzsadat!$C:$BD,13,0)),0,VLOOKUP($H46,Törzsadat!$C:$BD,BD$1,0))","v":0}]
[{"$nulls":6},"Karkötő 1",{"$nulls":7},{"$f":"IF(ISERROR(VLOOKUP($H47,Törzsadat!$C:$BD,13,0)),0,VLOOKUP($H47,Törzsadat!$C:$BD,O$1,0))","v":0},{"$f":"IF(ISERROR(VLOOKUP($H47,Törzsadat!$C:$BD,13,0)),0,VLOOKUP($H47,Törzsadat!$C:$BD,P$1,0))","v":0},{"$f":"IF(ISERROR(VLOOKUP($H47,Törzsadat!$C:$BD,13,0)),0,VLOOKUP($H47,Törzsadat!$C:$BD,Q$1,0))","v":0},{"$f":"IF(ISERROR(VLOOKUP($H47,Törzsadat!$C:$BD,13,0)),0,VLOOKUP($H47,Törzsadat!$C:$BD,R$1,0))","v":0},{"$f":"IF(ISERROR(VLOOKUP($H47,Törzsadat!$C:$BD,13,0)),0,VLOOKUP($H47,Törzsadat!$C:$BD,S$1,0))","v":0},{"$f":"IF(ISERROR(VLOOKUP($H47,Törzsadat!$C:$BD,13,0)),0,VLOOKUP($H47,Törzsadat!$C:$BD,T$1,0))","v":0},{"$f":"IF(ISERROR(VLOOKUP($H47,Törzsadat!$C:$BD,13,0)),0,VLOOKUP($H47,Törzsadat!$C:$BD,U$1,0))","v":0},{"$f":"IF(ISERROR(VLOOKUP($H47,Törzsadat!$C:$BD,13,0)),0,VLOOKUP($H47,Törzsadat!$C:$BD,V$1,0))","v":0},{"$f":"IF(ISERROR(VLOOKUP($H47,Törzsadat!$C:$BD,13,0)),0,VLOOKUP($H47,Törzsadat!$C:$BD,W$1,0))","v":0},{"$f":"IF(ISERROR(VLOOKUP($H47,Törzsadat!$C:$BD,13,0)),0,VLOOKUP($H47,Törzsadat!$C:$BD,X$1,0))","v":0},{"$f":"IF(ISERROR(VLOOKUP($H47,Törzsadat!$C:$BD,13,0)),0,VLOOKUP($H47,Törzsadat!$C:$BD,Y$1,0))","v":0},{"$f":"IF(ISERROR(VLOOKUP($H47,Törzsadat!$C:$BD,13,0)),0,VLOOKUP($H47,Törzsadat!$C:$BD,Z$1,0))","v":0},{"$f":"IF(ISERROR(VLOOKUP($H47,Törzsadat!$C:$BD,13,0)),0,VLOOKUP($H47,Törzsadat!$C:$BD,AA$1,0))","v":0},{"$f":"IF(ISERROR(VLOOKUP($H47,Törzsadat!$C:$BD,13,0)),0,VLOOKUP($H47,Törzsadat!$C:$BD,AB$1,0))","v":0},{"$f":"IF(ISERROR(VLOOKUP($H47,Törzsadat!$C:$BD,13,0)),0,VLOOKUP($H47,Törzsadat!$C:$BD,AC$1,0))","v":0},{"$f":"IF(ISERROR(VLOOKUP($H47,Törzsadat!$C:$BD,13,0)),0,VLOOKUP($H47,Törzsadat!$C:$BD,AD$1,0))","v":0},{"$f":"IF(ISERROR(VLOOKUP($H47,Törzsadat!$C:$BD,13,0)),0,VLOOKUP($H47,Törzsadat!$C:$BD,AE$1,0))","v":0},{"$f":"IF(ISERROR(VLOOKUP($H47,Törzsadat!$C:$BD,13,0)),0,VLOOKUP($H47,Törzsadat!$C:$BD,AF$1,0))","v":0},{"$f":"IF(ISERROR(VLOOKUP($H47,Törzsadat!$C:$BD,13,0)),0,VLOOKUP($H47,Törzsadat!$C:$BD,AG$1,0))","v":0},{"$f":"IF(ISERROR(VLOOKUP($H47,Törzsadat!$C:$BD,13,0)),0,VLOOKUP($H47,Törzsadat!$C:$BD,AH$1,0))","v":0},{"$f":"IF(ISERROR(VLOOKUP($H47,Törzsadat!$C:$BD,13,0)),0,VLOOKUP($H47,Törzsadat!$C:$BD,AI$1,0))","v":0},{"$f":"IF(ISERROR(VLOOKUP($H47,Törzsadat!$C:$BD,13,0)),0,VLOOKUP($H47,Törzsadat!$C:$BD,AJ$1,0))","v":0},{"$f":"IF(ISERROR(VLOOKUP($H47,Törzsadat!$C:$BD,13,0)),0,VLOOKUP($H47,Törzsadat!$C:$BD,AK$1,0))","v":0},{"$f":"IF(ISERROR(VLOOKUP($H47,Törzsadat!$C:$BD,13,0)),0,VLOOKUP($H47,Törzsadat!$C:$BD,AL$1,0))","v":0},{"$f":"IF(ISERROR(VLOOKUP($H47,Törzsadat!$C:$BD,13,0)),0,VLOOKUP($H47,Törzsadat!$C:$BD,AM$1,0))","v":0},{"$f":"IF(ISERROR(VLOOKUP($H47,Törzsadat!$C:$BD,13,0)),0,VLOOKUP($H47,Törzsadat!$C:$BD,AN$1,0))","v":0},{"$f":"IF(ISERROR(VLOOKUP($H47,Törzsadat!$C:$BD,13,0)),0,VLOOKUP($H47,Törzsadat!$C:$BD,AO$1,0))","v":0},{"$f":"IF(ISERROR(VLOOKUP($H47,Törzsadat!$C:$BD,13,0)),0,VLOOKUP($H47,Törzsadat!$C:$BD,AP$1,0))","v":0},{"$f":"IF(ISERROR(VLOOKUP($H47,Törzsadat!$C:$BD,13,0)),0,VLOOKUP($H47,Törzsadat!$C:$BD,AQ$1,0))","v":0},{"$f":"IF(ISERROR(VLOOKUP($H47,Törzsadat!$C:$BD,13,0)),0,VLOOKUP($H47,Törzsadat!$C:$BD,AR$1,0))","v":0},{"$f":"IF(ISERROR(VLOOKUP($H47,Törzsadat!$C:$BD,13,0)),0,VLOOKUP($H47,Törzsadat!$C:$BD,AS$1,0))","v":0},{"$f":"IF(ISERROR(VLOOKUP($H47,Törzsadat!$C:$BD,13,0)),0,VLOOKUP($H47,Törzsadat!$C:$BD,AT$1,0))","v":0},{"$f":"IF(ISERROR(VLOOKUP($H47,Törzsadat!$C:$BD,13,0)),0,VLOOKUP($H47,Törzsadat!$C:$BD,AU$1,0))","v":0},{"$f":"IF(ISERROR(VLOOKUP($H47,Törzsadat!$C:$BD,13,0)),0,VLOOKUP($H47,Törzsadat!$C:$BD,AV$1,0))","v":0},{"$f":"IF(ISERROR(VLOOKUP($H47,Törzsadat!$C:$BD,13,0)),0,VLOOKUP($H47,Törzsadat!$C:$BD,AW$1,0))","v":0},{"$f":"IF(ISERROR(VLOOKUP($H47,Törzsadat!$C:$BD,13,0)),0,VLOOKUP($H47,Törzsadat!$C:$BD,AX$1,0))","v":0},{"$f":"IF(ISERROR(VLOOKUP($H47,Törzsadat!$C:$BD,13,0)),0,VLOOKUP($H47,Törzsadat!$C:$BD,AY$1,0))","v":0},{"$f":"IF(ISERROR(VLOOKUP($H47,Törzsadat!$C:$BD,13,0)),0,VLOOKUP($H47,Törzsadat!$C:$BD,AZ$1,0))","v":0},{"$f":"IF(ISERROR(VLOOKUP($H47,Törzsadat!$C:$BD,13,0)),0,VLOOKUP($H47,Törzsadat!$C:$BD,BA$1,0))","v":0},{"$f":"IF(ISERROR(VLOOKUP($H47,Törzsadat!$C:$BD,13,0)),0,VLOOKUP($H47,Törzsadat!$C:$BD,BB$1,0))","v":0},{"$f":"IF(ISERROR(VLOOKUP($H47,Törzsadat!$C:$BD,13,0)),0,VLOOKUP($H47,Törzsadat!$C:$BD,BC$1,0))","v":0},{"$f":"IF(ISERROR(VLOOKUP($H47,Törzsadat!$C:$BD,13,0)),0,VLOOKUP($H47,Törzsadat!$C:$BD,BD$1,0))","v":0}]
[{"$nulls":6},"Karkötő 2",{"$nulls":7},{"$f":"IF(ISERROR(VLOOKUP($H48,Törzsadat!$C:$BD,13,0)),0,VLOOKUP($H48,Törzsadat!$C:$BD,O$1,0))","v":0},{"$f":"IF(ISERROR(VLOOKUP($H48,Törzsadat!$C:$BD,13,0)),0,VLOOKUP($H48,Törzsadat!$C:$BD,P$1,0))","v":0},{"$f":"IF(ISERROR(VLOOKUP($H48,Törzsadat!$C:$BD,13,0)),0,VLOOKUP($H48,Törzsadat!$C:$BD,Q$1,0))","v":0},{"$f":"IF(ISERROR(VLOOKUP($H48,Törzsadat!$C:$BD,13,0)),0,VLOOKUP($H48,Törzsadat!$C:$BD,R$1,0))","v":0},{"$f":"IF(ISERROR(VLOOKUP($H48,Törzsadat!$C:$BD,13,0)),0,VLOOKUP($H48,Törzsadat!$C:$BD,S$1,0))","v":0},{"$f":"IF(ISERROR(VLOOKUP($H48,Törzsadat!$C:$BD,13,0)),0,VLOOKUP($H48,Törzsadat!$C:$BD,T$1,0))","v":0},{"$f":"IF(ISERROR(VLOOKUP($H48,Törzsadat!$C:$BD,13,0)),0,VLOOKUP($H48,Törzsadat!$C:$BD,U$1,0))","v":0},{"$f":"IF(ISERROR(VLOOKUP($H48,Törzsadat!$C:$BD,13,0)),0,VLOOKUP($H48,Törzsadat!$C:$BD,V$1,0))","v":0},{"$f":"IF(ISERROR(VLOOKUP($H48,Törzsadat!$C:$BD,13,0)),0,VLOOKUP($H48,Törzsadat!$C:$BD,W$1,0))","v":0},{"$f":"IF(ISERROR(VLOOKUP($H48,Törzsadat!$C:$BD,13,0)),0,VLOOKUP($H48,Törzsadat!$C:$BD,X$1,0))","v":0},{"$f":"IF(ISERROR(VLOOKUP($H48,Törzsadat!$C:$BD,13,0)),0,VLOOKUP($H48,Törzsadat!$C:$BD,Y$1,0))","v":0},{"$f":"IF(ISERROR(VLOOKUP($H48,Törzsadat!$C:$BD,13,0)),0,VLOOKUP($H48,Törzsadat!$C:$BD,Z$1,0))","v":0},{"$f":"IF(ISERROR(VLOOKUP($H48,Törzsadat!$C:$BD,13,0)),0,VLOOKUP($H48,Törzsadat!$C:$BD,AA$1,0))","v":0},{"$f":"IF(ISERROR(VLOOKUP($H48,Törzsadat!$C:$BD,13,0)),0,VLOOKUP($H48,Törzsadat!$C:$BD,AB$1,0))","v":0},{"$f":"IF(ISERROR(VLOOKUP($H48,Törzsadat!$C:$BD,13,0)),0,VLOOKUP($H48,Törzsadat!$C:$BD,AC$1,0))","v":0},{"$f":"IF(ISERROR(VLOOKUP($H48,Törzsadat!$C:$BD,13,0)),0,VLOOKUP($H48,Törzsadat!$C:$BD,AD$1,0))","v":0},{"$f":"IF(ISERROR(VLOOKUP($H48,Törzsadat!$C:$BD,13,0)),0,VLOOKUP($H48,Törzsadat!$C:$BD,AE$1,0))","v":0},{"$f":"IF(ISERROR(VLOOKUP($H48,Törzsadat!$C:$BD,13,0)),0,VLOOKUP($H48,Törzsadat!$C:$BD,AF$1,0))","v":0},{"$f":"IF(ISERROR(VLOOKUP($H48,Törzsadat!$C:$BD,13,0)),0,VLOOKUP($H48,Törzsadat!$C:$BD,AG$1,0))","v":0},{"$f":"IF(ISERROR(VLOOKUP($H48,Törzsadat!$C:$BD,13,0)),0,VLOOKUP($H48,Törzsadat!$C:$BD,AH$1,0))","v":0},{"$f":"IF(ISERROR(VLOOKUP($H48,Törzsadat!$C:$BD,13,0)),0,VLOOKUP($H48,Törzsadat!$C:$BD,AI$1,0))","v":0},{"$f":"IF(ISERROR(VLOOKUP($H48,Törzsadat!$C:$BD,13,0)),0,VLOOKUP($H48,Törzsadat!$C:$BD,AJ$1,0))","v":0},{"$f":"IF(ISERROR(VLOOKUP($H48,Törzsadat!$C:$BD,13,0)),0,VLOOKUP($H48,Törzsadat!$C:$BD,AK$1,0))","v":0},{"$f":"IF(ISERROR(VLOOKUP($H48,Törzsadat!$C:$BD,13,0)),0,VLOOKUP($H48,Törzsadat!$C:$BD,AL$1,0))","v":0},{"$f":"IF(ISERROR(VLOOKUP($H48,Törzsadat!$C:$BD,13,0)),0,VLOOKUP($H48,Törzsadat!$C:$BD,AM$1,0))","v":0},{"$f":"IF(ISERROR(VLOOKUP($H48,Törzsadat!$C:$BD,13,0)),0,VLOOKUP($H48,Törzsadat!$C:$BD,AN$1,0))","v":0},{"$f":"IF(ISERROR(VLOOKUP($H48,Törzsadat!$C:$BD,13,0)),0,VLOOKUP($H48,Törzsadat!$C:$BD,AO$1,0))","v":0},{"$f":"IF(ISERROR(VLOOKUP($H48,Törzsadat!$C:$BD,13,0)),0,VLOOKUP($H48,Törzsadat!$C:$BD,AP$1,0))","v":0},{"$f":"IF(ISERROR(VLOOKUP($H48,Törzsadat!$C:$BD,13,0)),0,VLOOKUP($H48,Törzsadat!$C:$BD,AQ$1,0))","v":0},{"$f":"IF(ISERROR(VLOOKUP($H48,Törzsadat!$C:$BD,13,0)),0,VLOOKUP($H48,Törzsadat!$C:$BD,AR$1,0))","v":0},{"$f":"IF(ISERROR(VLOOKUP($H48,Törzsadat!$C:$BD,13,0)),0,VLOOKUP($H48,Törzsadat!$C:$BD,AS$1,0))","v":0},{"$f":"IF(ISERROR(VLOOKUP($H48,Törzsadat!$C:$BD,13,0)),0,VLOOKUP($H48,Törzsadat!$C:$BD,AT$1,0))","v":0},{"$f":"IF(ISERROR(VLOOKUP($H48,Törzsadat!$C:$BD,13,0)),0,VLOOKUP($H48,Törzsadat!$C:$BD,AU$1,0))","v":0},{"$f":"IF(ISERROR(VLOOKUP($H48,Törzsadat!$C:$BD,13,0)),0,VLOOKUP($H48,Törzsadat!$C:$BD,AV$1,0))","v":0},{"$f":"IF(ISERROR(VLOOKUP($H48,Törzsadat!$C:$BD,13,0)),0,VLOOKUP($H48,Törzsadat!$C:$BD,AW$1,0))","v":0},{"$f":"IF(ISERROR(VLOOKUP($H48,Törzsadat!$C:$BD,13,0)),0,VLOOKUP($H48,Törzsadat!$C:$BD,AX$1,0))","v":0},{"$f":"IF(ISERROR(VLOOKUP($H48,Törzsadat!$C:$BD,13,0)),0,VLOOKUP($H48,Törzsadat!$C:$BD,AY$1,0))","v":0},{"$f":"IF(ISERROR(VLOOKUP($H48,Törzsadat!$C:$BD,13,0)),0,VLOOKUP($H48,Törzsadat!$C:$BD,AZ$1,0))","v":0},{"$f":"IF(ISERROR(VLOOKUP($H48,Törzsadat!$C:$BD,13,0)),0,VLOOKUP($H48,Törzsadat!$C:$BD,BA$1,0))","v":0},{"$f":"IF(ISERROR(VLOOKUP($H48,Törzsadat!$C:$BD,13,0)),0,VLOOKUP($H48,Törzsadat!$C:$BD,BB$1,0))","v":0},{"$f":"IF(ISERROR(VLOOKUP($H48,Törzsadat!$C:$BD,13,0)),0,VLOOKUP($H48,Törzsadat!$C:$BD,BC$1,0))","v":0},{"$f":"IF(ISERROR(VLOOKUP($H48,Törzsadat!$C:$BD,13,0)),0,VLOOKUP($H48,Törzsadat!$C:$BD,BD$1,0))","v":0}]
[{"$nulls":6},"Karkötő 3",{"$nulls":7},{"$f":"IF(ISERROR(VLOOKUP($H49,Törzsadat!$C:$BD,13,0)),0,VLOOKUP($H49,Törzsadat!$C:$BD,O$1,0))","v":0},{"$f":"IF(ISERROR(VLOOKUP($H49,Törzsadat!$C:$BD,13,0)),0,VLOOKUP($H49,Törzsadat!$C:$BD,P$1,0))","v":0},{"$f":"IF(ISERROR(VLOOKUP($H49,Törzsadat!$C:$BD,13,0)),0,VLOOKUP($H49,Törzsadat!$C:$BD,Q$1,0))","v":0},{"$f":"IF(ISERROR(VLOOKUP($H49,Törzsadat!$C:$BD,13,0)),0,VLOOKUP($H49,Törzsadat!$C:$BD,R$1,0))","v":0},{"$f":"IF(ISERROR(VLOOKUP($H49,Törzsadat!$C:$BD,13,0)),0,VLOOKUP($H49,Törzsadat!$C:$BD,S$1,0))","v":0},{"$f":"IF(ISERROR(VLOOKUP($H49,Törzsadat!$C:$BD,13,0)),0,VLOOKUP($H49,Törzsadat!$C:$BD,T$1,0))","v":0},{"$f":"IF(ISERROR(VLOOKUP($H49,Törzsadat!$C:$BD,13,0)),0,VLOOKUP($H49,Törzsadat!$C:$BD,U$1,0))","v":0},{"$f":"IF(ISERROR(VLOOKUP($H49,Törzsadat!$C:$BD,13,0)),0,VLOOKUP($H49,Törzsadat!$C:$BD,V$1,0))","v":0},{"$f":"IF(ISERROR(VLOOKUP($H49,Törzsadat!$C:$BD,13,0)),0,VLOOKUP($H49,Törzsadat!$C:$BD,W$1,0))","v":0},{"$f":"IF(ISERROR(VLOOKUP($H49,Törzsadat!$C:$BD,13,0)),0,VLOOKUP($H49,Törzsadat!$C:$BD,X$1,0))","v":0},{"$f":"IF(ISERROR(VLOOKUP($H49,Törzsadat!$C:$BD,13,0)),0,VLOOKUP($H49,Törzsadat!$C:$BD,Y$1,0))","v":0},{"$f":"IF(ISERROR(VLOOKUP($H49,Törzsadat!$C:$BD,13,0)),0,VLOOKUP($H49,Törzsadat!$C:$BD,Z$1,0))","v":0},{"$f":"IF(ISERROR(VLOOKUP($H49,Törzsadat!$C:$BD,13,0)),0,VLOOKUP($H49,Törzsadat!$C:$BD,AA$1,0))","v":0},{"$f":"IF(ISERROR(VLOOKUP($H49,Törzsadat!$C:$BD,13,0)),0,VLOOKUP($H49,Törzsadat!$C:$BD,AB$1,0))","v":0},{"$f":"IF(ISERROR(VLOOKUP($H49,Törzsadat!$C:$BD,13,0)),0,VLOOKUP($H49,Törzsadat!$C:$BD,AC$1,0))","v":0},{"$f":"IF(ISERROR(VLOOKUP($H49,Törzsadat!$C:$BD,13,0)),0,VLOOKUP($H49,Törzsadat!$C:$BD,AD$1,0))","v":0},{"$f":"IF(ISERROR(VLOOKUP($H49,Törzsadat!$C:$BD,13,0)),0,VLOOKUP($H49,Törzsadat!$C:$BD,AE$1,0))","v":0},{"$f":"IF(ISERROR(VLOOKUP($H49,Törzsadat!$C:$BD,13,0)),0,VLOOKUP($H49,Törzsadat!$C:$BD,AF$1,0))","v":0},{"$f":"IF(ISERROR(VLOOKUP($H49,Törzsadat!$C:$BD,13,0)),0,VLOOKUP($H49,Törzsadat!$C:$BD,AG$1,0))","v":0},{"$f":"IF(ISERROR(VLOOKUP($H49,Törzsadat!$C:$BD,13,0)),0,VLOOKUP($H49,Törzsadat!$C:$BD,AH$1,0))","v":0},{"$f":"IF(ISERROR(VLOOKUP($H49,Törzsadat!$C:$BD,13,0)),0,VLOOKUP($H49,Törzsadat!$C:$BD,AI$1,0))","v":0},{"$f":"IF(ISERROR(VLOOKUP($H49,Törzsadat!$C:$BD,13,0)),0,VLOOKUP($H49,Törzsadat!$C:$BD,AJ$1,0))","v":0},{"$f":"IF(ISERROR(VLOOKUP($H49,Törzsadat!$C:$BD,13,0)),0,VLOOKUP($H49,Törzsadat!$C:$BD,AK$1,0))","v":0},{"$f":"IF(ISERROR(VLOOKUP($H49,Törzsadat!$C:$BD,13,0)),0,VLOOKUP($H49,Törzsadat!$C:$BD,AL$1,0))","v":0},{"$f":"IF(ISERROR(VLOOKUP($H49,Törzsadat!$C:$BD,13,0)),0,VLOOKUP($H49,Törzsadat!$C:$BD,AM$1,0))","v":0},{"$f":"IF(ISERROR(VLOOKUP($H49,Törzsadat!$C:$BD,13,0)),0,VLOOKUP($H49,Törzsadat!$C:$BD,AN$1,0))","v":0},{"$f":"IF(ISERROR(VLOOKUP($H49,Törzsadat!$C:$BD,13,0)),0,VLOOKUP($H49,Törzsadat!$C:$BD,AO$1,0))","v":0},{"$f":"IF(ISERROR(VLOOKUP($H49,Törzsadat!$C:$BD,13,0)),0,VLOOKUP($H49,Törzsadat!$C:$BD,AP$1,0))","v":0},{"$f":"IF(ISERROR(VLOOKUP($H49,Törzsadat!$C:$BD,13,0)),0,VLOOKUP($H49,Törzsadat!$C:$BD,AQ$1,0))","v":0},{"$f":"IF(ISERROR(VLOOKUP($H49,Törzsadat!$C:$BD,13,0)),0,VLOOKUP($H49,Törzsadat!$C:$BD,AR$1,0))","v":0},{"$f":"IF(ISERROR(VLOOKUP($H49,Törzsadat!$C:$BD,13,0)),0,VLOOKUP($H49,Törzsadat!$C:$BD,AS$1,0))","v":0},{"$f":"IF(ISERROR(VLOOKUP($H49,Törzsadat!$C:$BD,13,0)),0,VLOOKUP($H49,Törzsadat!$C:$BD,AT$1,0))","v":0},{"$f":"IF(ISERROR(VLOOKUP($H49,Törzsadat!$C:$BD,13,0)),0,VLOOKUP($H49,Törzsadat!$C:$BD,AU$1,0))","v":0},{"$f":"IF(ISERROR(VLOOKUP($H49,Törzsadat!$C:$BD,13,0)),0,VLOOKUP($H49,Törzsadat!$C:$BD,AV$1,0))","v":0},{"$f":"IF(ISERROR(VLOOKUP($H49,Törzsadat!$C:$BD,13,0)),0,VLOOKUP($H49,Törzsadat!$C:$BD,AW$1,0))","v":0},{"$f":"IF(ISERROR(VLOOKUP($H49,Törzsadat!$C:$BD,13,0)),0,VLOOKUP($H49,Törzsadat!$C:$BD,AX$1,0))","v":0},{"$f":"IF(ISERROR(VLOOKUP($H49,Törzsadat!$C:$BD,13,0)),0,VLOOKUP($H49,Törzsadat!$C:$BD,AY$1,0))","v":0},{"$f":"IF(ISERROR(VLOOKUP($H49,Törzsadat!$C:$BD,13,0)),0,VLOOKUP($H49,Törzsadat!$C:$BD,AZ$1,0))","v":0},{"$f":"IF(ISERROR(VLOOKUP($H49,Törzsadat!$C:$BD,13,0)),0,VLOOKUP($H49,Törzsadat!$C:$BD,BA$1,0))","v":0},{"$f":"IF(ISERROR(VLOOKUP($H49,Törzsadat!$C:$BD,13,0)),0,VLOOKUP($H49,Törzsadat!$C:$BD,BB$1,0))","v":0},{"$f":"IF(ISERROR(VLOOKUP($H49,Törzsadat!$C:$BD,13,0)),0,VLOOKUP($H49,Törzsadat!$C:$BD,BC$1,0))","v":0},{"$f":"IF(ISERROR(VLOOKUP($H49,Törzsadat!$C:$BD,13,0)),0,VLOOKUP($H49,Törzsadat!$C:$BD,BD$1,0))","v":0}]
[{"$nulls":6},"Karkötő 4",{"$nulls":7},{"$f":"IF(ISERROR(VLOOKUP($H50,Törzsadat!$C:$BD,13,0)),0,VLOOKUP($H50,Törzsadat!$C:$BD,O$1,0))","v":0},{"$f":"IF(ISERROR(VLOOKUP($H50,Törzsadat!$C:$BD,13,0)),0,VLOOKUP($H50,Törzsadat!$C:$BD,P$1,0))","v":0},{"$f":"IF(ISERROR(VLOOKUP($H50,Törzsadat!$C:$BD,13,0)),0,VLOOKUP($H50,Törzsadat!$C:$BD,Q$1,0))","v":0},{"$f":"IF(ISERROR(VLOOKUP($H50,Törzsadat!$C:$BD,13,0)),0,VLOOKUP($H50,Törzsadat!$C:$BD,R$1,0))","v":0},{"$f":"IF(ISERROR(VLOOKUP($H50,Törzsadat!$C:$BD,13,0)),0,VLOOKUP($H50,Törzsadat!$C:$BD,S$1,0))","v":0},{"$f":"IF(ISERROR(VLOOKUP($H50,Törzsadat!$C:$BD,13,0)),0,VLOOKUP($H50,Törzsadat!$C:$BD,T$1,0))","v":0},{"$f":"IF(ISERROR(VLOOKUP($H50,Törzsadat!$C:$BD,13,0)),0,VLOOKUP($H50,Törzsadat!$C:$BD,U$1,0))","v":0},{"$f":"IF(ISERROR(VLOOKUP($H50,Törzsadat!$C:$BD,13,0)),0,VLOOKUP($H50,Törzsadat!$C:$BD,V$1,0))","v":0},{"$f":"IF(ISERROR(VLOOKUP($H50,Törzsadat!$C:$BD,13,0)),0,VLOOKUP($H50,Törzsadat!$C:$BD,W$1,0))","v":0},{"$f":"IF(ISERROR(VLOOKUP($H50,Törzsadat!$C:$BD,13,0)),0,VLOOKUP($H50,Törzsadat!$C:$BD,X$1,0))","v":0},{"$f":"IF(ISERROR(VLOOKUP($H50,Törzsadat!$C:$BD,13,0)),0,VLOOKUP($H50,Törzsadat!$C:$BD,Y$1,0))","v":0},{"$f":"IF(ISERROR(VLOOKUP($H50,Törzsadat!$C:$BD,13,0)),0,VLOOKUP($H50,Törzsadat!$C:$BD,Z$1,0))","v":0},{"$f":"IF(ISERROR(VLOOKUP($H50,Törzsadat!$C:$BD,13,0)),0,VLOOKUP($H50,Törzsadat!$C:$BD,AA$1,0))","v":0},{"$f":"IF(ISERROR(VLOOKUP($H50,Törzsadat!$C:$BD,13,0)),0,VLOOKUP($H50,Törzsadat!$C:$BD,AB$1,0))","v":0},{"$f":"IF(ISERROR(VLOOKUP($H50,Törzsadat!$C:$BD,13,0)),0,VLOOKUP($H50,Törzsadat!$C:$BD,AC$1,0))","v":0},{"$f":"IF(ISERROR(VLOOKUP($H50,Törzsadat!$C:$BD,13,0)),0,VLOOKUP($H50,Törzsadat!$C:$BD,AD$1,0))","v":0},{"$f":"IF(ISERROR(VLOOKUP($H50,Törzsadat!$C:$BD,13,0)),0,VLOOKUP($H50,Törzsadat!$C:$BD,AE$1,0))","v":0},{"$f":"IF(ISERROR(VLOOKUP($H50,Törzsadat!$C:$BD,13,0)),0,VLOOKUP($H50,Törzsadat!$C:$BD,AF$1,0))","v":0},{"$f":"IF(ISERROR(VLOOKUP($H50,Törzsadat!$C:$BD,13,0)),0,VLOOKUP($H50,Törzsadat!$C:$BD,AG$1,0))","v":0},{"$f":"IF(ISERROR(VLOOKUP($H50,Törzsadat!$C:$BD,13,0)),0,VLOOKUP($H50,Törzsadat!$C:$BD,AH$1,0))","v":0},{"$f":"IF(ISERROR(VLOOKUP($H50,Törzsadat!$C:$BD,13,0)),0,VLOOKUP($H50,Törzsadat!$C:$BD,AI$1,0))","v":0},{"$f":"IF(ISERROR(VLOOKUP($H50,Törzsadat!$C:$BD,13,0)),0,VLOOKUP($H50,Törzsadat!$C:$BD,AJ$1,0))","v":0},{"$f":"IF(ISERROR(VLOOKUP($H50,Törzsadat!$C:$BD,13,0)),0,VLOOKUP($H50,Törzsadat!$C:$BD,AK$1,0))","v":0},{"$f":"IF(ISERROR(VLOOKUP($H50,Törzsadat!$C:$BD,13,0)),0,VLOOKUP($H50,Törzsadat!$C:$BD,AL$1,0))","v":0},{"$f":"IF(ISERROR(VLOOKUP($H50,Törzsadat!$C:$BD,13,0)),0,VLOOKUP($H50,Törzsadat!$C:$BD,AM$1,0))","v":0},{"$f":"IF(ISERROR(VLOOKUP($H50,Törzsadat!$C:$BD,13,0)),0,VLOOKUP($H50,Törzsadat!$C:$BD,AN$1,0))","v":0},{"$f":"IF(ISERROR(VLOOKUP($H50,Törzsadat!$C:$BD,13,0)),0,VLOOKUP($H50,Törzsadat!$C:$BD,AO$1,0))","v":0},{"$f":"IF(ISERROR(VLOOKUP($H50,Törzsadat!$C:$BD,13,0)),0,VLOOKUP($H50,Törzsadat!$C:$BD,AP$1,0))","v":0},{"$f":"IF(ISERROR(VLOOKUP($H50,Törzsadat!$C:$BD,13,0)),0,VLOOKUP($H50,Törzsadat!$C:$BD,AQ$1,0))","v":0},{"$f":"IF(ISERROR(VLOOKUP($H50,Törzsadat!$C:$BD,13,0)),0,VLOOKUP($H50,Törzsadat!$C:$BD,AR$1,0))","v":0},{"$f":"IF(ISERROR(VLOOKUP($H50,Törzsadat!$C:$BD,13,0)),0,VLOOKUP($H50,Törzsadat!$C:$BD,AS$1,0))","v":0},{"$f":"IF(ISERROR(VLOOKUP($H50,Törzsadat!$C:$BD,13,0)),0,VLOOKUP($H50,Törzsadat!$C:$BD,AT$1,0))","v":0},{"$f":"IF(ISERROR(VLOOKUP($H50,Törzsadat!$C:$BD,13,0)),0,VLOOKUP($H50,Törzsadat!$C:$BD,AU$1,0))","v":0},{"$f":"IF(ISERROR(VLOOKUP($H50,Törzsadat!$C:$BD,13,0)),0,VLOOKUP($H50,Törzsadat!$C:$BD,AV$1,0))","v":0},{"$f":"IF(ISERROR(VLOOKUP($H50,Törzsadat!$C:$BD,13,0)),0,VLOOKUP($H50,Törzsadat!$C:$BD,AW$1,0))","v":0},{"$f":"IF(ISERROR(VLOOKUP($H50,Törzsadat!$C:$BD,13,0)),0,VLOOKUP($H50,Törzsadat!$C:$BD,AX$1,0))","v":0},{"$f":"IF(ISERROR(VLOOKUP($H50,Törzsadat!$C:$BD,13,0)),0,VLOOKUP($H50,Törzsadat!$C:$BD,AY$1,0))","v":0},{"$f":"IF(ISERROR(VLOOKUP($H50,Törzsadat!$C:$BD,13,0)),0,VLOOKUP($H50,Törzsadat!$C:$BD,AZ$1,0))","v":0},{"$f":"IF(ISERROR(VLOOKUP($H50,Törzsadat!$C:$BD,13,0)),0,VLOOKUP($H50,Törzsadat!$C:$BD,BA$1,0))","v":0},{"$f":"IF(ISERROR(VLOOKUP($H50,Törzsadat!$C:$BD,13,0)),0,VLOOKUP($H50,Törzsadat!$C:$BD,BB$1,0))","v":0},{"$f":"IF(ISERROR(VLOOKUP($H50,Törzsadat!$C:$BD,13,0)),0,VLOOKUP($H50,Törzsadat!$C:$BD,BC$1,0))","v":0},{"$f":"IF(ISERROR(VLOOKUP($H50,Törzsadat!$C:$BD,13,0)),0,VLOOKUP($H50,Törzsadat!$C:$BD,BD$1,0))","v":0}]
[{"$nulls":6},"Karkötő 5",{"$nulls":7},{"$f":"IF(ISERROR(VLOOKUP($H51,Törzsadat!$C:$BD,13,0)),0,VLOOKUP($H51,Törzsadat!$C:$BD,O$1,0))","v":0},{"$f":"IF(ISERROR(VLOOKUP($H51,Törzsadat!$C:$BD,13,0)),0,VLOOKUP($H51,Törzsadat!$C:$BD,P$1,0))","v":0},{"$f":"IF(ISERROR(VLOOKUP($H51,Törzsadat!$C:$BD,13,0)),0,VLOOKUP($H51,Törzsadat!$C:$BD,Q$1,0))","v":0},{"$f":"IF(ISERROR(VLOOKUP($H51,Törzsadat!$C:$BD,13,0)),0,VLOOKUP($H51,Törzsadat!$C:$BD,R$1,0))","v":0},{"$f":"IF(ISERROR(VLOOKUP($H51,Törzsadat!$C:$BD,13,0)),0,VLOOKUP($H51,Törzsadat!$C:$BD,S$1,0))","v":0},{"$f":"IF(ISERROR(VLOOKUP($H51,Törzsadat!$C:$BD,13,0)),0,VLOOKUP($H51,Törzsadat!$C:$BD,T$1,0))","v":0},{"$f":"IF(ISERROR(VLOOKUP($H51,Törzsadat!$C:$BD,13,0)),0,VLOOKUP($H51,Törzsadat!$C:$BD,U$1,0))","v":0},{"$f":"IF(ISERROR(VLOOKUP($H51,Törzsadat!$C:$BD,13,0)),0,VLOOKUP($H51,Törzsadat!$C:$BD,V$1,0))","v":0},{"$f":"IF(ISERROR(VLOOKUP($H51,Törzsadat!$C:$BD,13,0)),0,VLOOKUP($H51,Törzsadat!$C:$BD,W$1,0))","v":0},{"$f":"IF(ISERROR(VLOOKUP($H51,Törzsadat!$C:$BD,13,0)),0,VLOOKUP($H51,Törzsadat!$C:$BD,X$1,0))","v":0},{"$f":"IF(ISERROR(VLOOKUP($H51,Törzsadat!$C:$BD,13,0)),0,VLOOKUP($H51,Törzsadat!$C:$BD,Y$1,0))","v":0},{"$f":"IF(ISERROR(VLOOKUP($H51,Törzsadat!$C:$BD,13,0)),0,VLOOKUP($H51,Törzsadat!$C:$BD,Z$1,0))","v":0},{"$f":"IF(ISERROR(VLOOKUP($H51,Törzsadat!$C:$BD,13,0)),0,VLOOKUP($H51,Törzsadat!$C:$BD,AA$1,0))","v":0},{"$f":"IF(ISERROR(VLOOKUP($H51,Törzsadat!$C:$BD,13,0)),0,VLOOKUP($H51,Törzsadat!$C:$BD,AB$1,0))","v":0},{"$f":"IF(ISERROR(VLOOKUP($H51,Törzsadat!$C:$BD,13,0)),0,VLOOKUP($H51,Törzsadat!$C:$BD,AC$1,0))","v":0},{"$f":"IF(ISERROR(VLOOKUP($H51,Törzsadat!$C:$BD,13,0)),0,VLOOKUP($H51,Törzsadat!$C:$BD,AD$1,0))","v":0},{"$f":"IF(ISERROR(VLOOKUP($H51,Törzsadat!$C:$BD,13,0)),0,VLOOKUP($H51,Törzsadat!$C:$BD,AE$1,0))","v":0},{"$f":"IF(ISERROR(VLOOKUP($H51,Törzsadat!$C:$BD,13,0)),0,VLOOKUP($H51,Törzsadat!$C:$BD,AF$1,0))","v":0},{"$f":"IF(ISERROR(VLOOKUP($H51,Törzsadat!$C:$BD,13,0)),0,VLOOKUP($H51,Törzsadat!$C:$BD,AG$1,0))","v":0},{"$f":"IF(ISERROR(VLOOKUP($H51,Törzsadat!$C:$BD,13,0)),0,VLOOKUP($H51,Törzsadat!$C:$BD,AH$1,0))","v":0},{"$f":"IF(ISERROR(VLOOKUP($H51,Törzsadat!$C:$BD,13,0)),0,VLOOKUP($H51,Törzsadat!$C:$BD,AI$1,0))","v":0},{"$f":"IF(ISERROR(VLOOKUP($H51,Törzsadat!$C:$BD,13,0)),0,VLOOKUP($H51,Törzsadat!$C:$BD,AJ$1,0))","v":0},{"$f":"IF(ISERROR(VLOOKUP($H51,Törzsadat!$C:$BD,13,0)),0,VLOOKUP($H51,Törzsadat!$C:$BD,AK$1,0))","v":0},{"$f":"IF(ISERROR(VLOOKUP($H51,Törzsadat!$C:$BD,13,0)),0,VLOOKUP($H51,Törzsadat!$C:$BD,AL$1,0))","v":0},{"$f":"IF(ISERROR(VLOOKUP($H51,Törzsadat!$C:$BD,13,0)),0,VLOOKUP($H51,Törzsadat!$C:$BD,AM$1,0))","v":0},{"$f":"IF(ISERROR(VLOOKUP($H51,Törzsadat!$C:$BD,13,0)),0,VLOOKUP($H51,Törzsadat!$C:$BD,AN$1,0))","v":0},{"$f":"IF(ISERROR(VLOOKUP($H51,Törzsadat!$C:$BD,13,0)),0,VLOOKUP($H51,Törzsadat!$C:$BD,AO$1,0))","v":0},{"$f":"IF(ISERROR(VLOOKUP($H51,Törzsadat!$C:$BD,13,0)),0,VLOOKUP($H51,Törzsadat!$C:$BD,AP$1,0))","v":0},{"$f":"IF(ISERROR(VLOOKUP($H51,Törzsadat!$C:$BD,13,0)),0,VLOOKUP($H51,Törzsadat!$C:$BD,AQ$1,0))","v":0},{"$f":"IF(ISERROR(VLOOKUP($H51,Törzsadat!$C:$BD,13,0)),0,VLOOKUP($H51,Törzsadat!$C:$BD,AR$1,0))","v":0},{"$f":"IF(ISERROR(VLOOKUP($H51,Törzsadat!$C:$BD,13,0)),0,VLOOKUP($H51,Törzsadat!$C:$BD,AS$1,0))","v":0},{"$f":"IF(ISERROR(VLOOKUP($H51,Törzsadat!$C:$BD,13,0)),0,VLOOKUP($H51,Törzsadat!$C:$BD,AT$1,0))","v":0},{"$f":"IF(ISERROR(VLOOKUP($H51,Törzsadat!$C:$BD,13,0)),0,VLOOKUP($H51,Törzsadat!$C:$BD,AU$1,0))","v":0},{"$f":"IF(ISERROR(VLOOKUP($H51,Törzsadat!$C:$BD,13,0)),0,VLOOKUP($H51,Törzsadat!$C:$BD,AV$1,0))","v":0},{"$f":"IF(ISERROR(VLOOKUP($H51,Törzsadat!$C:$BD,13,0)),0,VLOOKUP($H51,Törzsadat!$C:$BD,AW$1,0))","v":0},{"$f":"IF(ISERROR(VLOOKUP($H51,Törzsadat!$C:$BD,13,0)),0,VLOOKUP($H51,Törzsadat!$C:$BD,AX$1,0))","v":0},{"$f":"IF(ISERROR(VLOOKUP($H51,Törzsadat!$C:$BD,13,0)),0,VLOOKUP($H51,Törzsadat!$C:$BD,AY$1,0))","v":0},{"$f":"IF(ISERROR(VLOOKUP($H51,Törzsadat!$C:$BD,13,0)),0,VLOOKUP($H51,Törzsadat!$C:$BD,AZ$1,0))","v":0},{"$f":"IF(ISERROR(VLOOKUP($H51,Törzsadat!$C:$BD,13,0)),0,VLOOKUP($H51,Törzsadat!$C:$BD,BA$1,0))","v":0},{"$f":"IF(ISERROR(VLOOKUP($H51,Törzsadat!$C:$BD,13,0)),0,VLOOKUP($H51,Törzsadat!$C:$BD,BB$1,0))","v":0},{"$f":"IF(ISERROR(VLOOKUP($H51,Törzsadat!$C:$BD,13,0)),0,VLOOKUP($H51,Törzsadat!$C:$BD,BC$1,0))","v":0},{"$f":"IF(ISERROR(VLOOKUP($H51,Törzsadat!$C:$BD,13,0)),0,VLOOKUP($H51,Törzsadat!$C:$BD,BD$1,0))","v":0}]
[{"$nulls":6},"Karkötő 6",{"$nulls":7},{"$f":"IF(ISERROR(VLOOKUP($H52,Törzsadat!$C:$BD,13,0)),0,VLOOKUP($H52,Törzsadat!$C:$BD,O$1,0))","v":0},{"$f":"IF(ISERROR(VLOOKUP($H52,Törzsadat!$C:$BD,13,0)),0,VLOOKUP($H52,Törzsadat!$C:$BD,P$1,0))","v":0},{"$f":"IF(ISERROR(VLOOKUP($H52,Törzsadat!$C:$BD,13,0)),0,VLOOKUP($H52,Törzsadat!$C:$BD,Q$1,0))","v":0},{"$f":"IF(ISERROR(VLOOKUP($H52,Törzsadat!$C:$BD,13,0)),0,VLOOKUP($H52,Törzsadat!$C:$BD,R$1,0))","v":0},{"$f":"IF(ISERROR(VLOOKUP($H52,Törzsadat!$C:$BD,13,0)),0,VLOOKUP($H52,Törzsadat!$C:$BD,S$1,0))","v":0},{"$f":"IF(ISERROR(VLOOKUP($H52,Törzsadat!$C:$BD,13,0)),0,VLOOKUP($H52,Törzsadat!$C:$BD,T$1,0))","v":0},{"$f":"IF(ISERROR(VLOOKUP($H52,Törzsadat!$C:$BD,13,0)),0,VLOOKUP($H52,Törzsadat!$C:$BD,U$1,0))","v":0},{"$f":"IF(ISERROR(VLOOKUP($H52,Törzsadat!$C:$BD,13,0)),0,VLOOKUP($H52,Törzsadat!$C:$BD,V$1,0))","v":0},{"$f":"IF(ISERROR(VLOOKUP($H52,Törzsadat!$C:$BD,13,0)),0,VLOOKUP($H52,Törzsadat!$C:$BD,W$1,0))","v":0},{"$f":"IF(ISERROR(VLOOKUP($H52,Törzsadat!$C:$BD,13,0)),0,VLOOKUP($H52,Törzsadat!$C:$BD,X$1,0))","v":0},{"$f":"IF(ISERROR(VLOOKUP($H52,Törzsadat!$C:$BD,13,0)),0,VLOOKUP($H52,Törzsadat!$C:$BD,Y$1,0))","v":0},{"$f":"IF(ISERROR(VLOOKUP($H52,Törzsadat!$C:$BD,13,0)),0,VLOOKUP($H52,Törzsadat!$C:$BD,Z$1,0))","v":0},{"$f":"IF(ISERROR(VLOOKUP($H52,Törzsadat!$C:$BD,13,0)),0,VLOOKUP($H52,Törzsadat!$C:$BD,AA$1,0))","v":0},{"$f":"IF(ISERROR(VLOOKUP($H52,Törzsadat!$C:$BD,13,0)),0,VLOOKUP($H52,Törzsadat!$C:$BD,AB$1,0))","v":0},{"$f":"IF(ISERROR(VLOOKUP($H52,Törzsadat!$C:$BD,13,0)),0,VLOOKUP($H52,Törzsadat!$C:$BD,AC$1,0))","v":0},{"$f":"IF(ISERROR(VLOOKUP($H52,Törzsadat!$C:$BD,13,0)),0,VLOOKUP($H52,Törzsadat!$C:$BD,AD$1,0))","v":0},{"$f":"IF(ISERROR(VLOOKUP($H52,Törzsadat!$C:$BD,13,0)),0,VLOOKUP($H52,Törzsadat!$C:$BD,AE$1,0))","v":0},{"$f":"IF(ISERROR(VLOOKUP($H52,Törzsadat!$C:$BD,13,0)),0,VLOOKUP($H52,Törzsadat!$C:$BD,AF$1,0))","v":0},{"$f":"IF(ISERROR(VLOOKUP($H52,Törzsadat!$C:$BD,13,0)),0,VLOOKUP($H52,Törzsadat!$C:$BD,AG$1,0))","v":0},{"$f":"IF(ISERROR(VLOOKUP($H52,Törzsadat!$C:$BD,13,0)),0,VLOOKUP($H52,Törzsadat!$C:$BD,AH$1,0))","v":0},{"$f":"IF(ISERROR(VLOOKUP($H52,Törzsadat!$C:$BD,13,0)),0,VLOOKUP($H52,Törzsadat!$C:$BD,AI$1,0))","v":0},{"$f":"IF(ISERROR(VLOOKUP($H52,Törzsadat!$C:$BD,13,0)),0,VLOOKUP($H52,Törzsadat!$C:$BD,AJ$1,0))","v":0},{"$f":"IF(ISERROR(VLOOKUP($H52,Törzsadat!$C:$BD,13,0)),0,VLOOKUP($H52,Törzsadat!$C:$BD,AK$1,0))","v":0},{"$f":"IF(ISERROR(VLOOKUP($H52,Törzsadat!$C:$BD,13,0)),0,VLOOKUP($H52,Törzsadat!$C:$BD,AL$1,0))","v":0},{"$f":"IF(ISERROR(VLOOKUP($H52,Törzsadat!$C:$BD,13,0)),0,VLOOKUP($H52,Törzsadat!$C:$BD,AM$1,0))","v":0},{"$f":"IF(ISERROR(VLOOKUP($H52,Törzsadat!$C:$BD,13,0)),0,VLOOKUP($H52,Törzsadat!$C:$BD,AN$1,0))","v":0},{"$f":"IF(ISERROR(VLOOKUP($H52,Törzsadat!$C:$BD,13,0)),0,VLOOKUP($H52,Törzsadat!$C:$BD,AO$1,0))","v":0},{"$f":"IF(ISERROR(VLOOKUP($H52,Törzsadat!$C:$BD,13,0)),0,VLOOKUP($H52,Törzsadat!$C:$BD,AP$1,0))","v":0},{"$f":"IF(ISERROR(VLOOKUP($H52,Törzsadat!$C:$BD,13,0)),0,VLOOKUP($H52,Törzsadat!$C:$BD,AQ$1,0))","v":0},{"$f":"IF(ISERROR(VLOOKUP($H52,Törzsadat!$C:$BD,13,0)),0,VLOOKUP($H52,Törzsadat!$C:$BD,AR$1,0))","v":0},{"$f":"IF(ISERROR(VLOOKUP($H52,Törzsadat!$C:$BD,13,0)),0,VLOOKUP($H52,Törzsadat!$C:$BD,AS$1,0))","v":0},{"$f":"IF(ISERROR(VLOOKUP($H52,Törzsadat!$C:$BD,13,0)),0,VLOOKUP($H52,Törzsadat!$C:$BD,AT$1,0))","v":0},{"$f":"IF(ISERROR(VLOOKUP($H52,Törzsadat!$C:$BD,13,0)),0,VLOOKUP($H52,Törzsadat!$C:$BD,AU$1,0))","v":0},{"$f":"IF(ISERROR(VLOOKUP($H52,Törzsadat!$C:$BD,13,0)),0,VLOOKUP($H52,Törzsadat!$C:$BD,AV$1,0))","v":0},{"$f":"IF(ISERROR(VLOOKUP($H52,Törzsadat!$C:$BD,13,0)),0,VLOOKUP($H52,Törzsadat!$C:$BD,AW$1,0))","v":0},{"$f":"IF(ISERROR(VLOOKUP($H52,Törzsadat!$C:$BD,13,0)),0,VLOOKUP($H52,Törzsadat!$C:$BD,AX$1,0))","v":0},{"$f":"IF(ISERROR(VLOOKUP($H52,Törzsadat!$C:$BD,13,0)),0,VLOOKUP($H52,Törzsadat!$C:$BD,AY$1,0))","v":0},{"$f":"IF(ISERROR(VLOOKUP($H52,Törzsadat!$C:$BD,13,0)),0,VLOOKUP($H52,Törzsadat!$C:$BD,AZ$1,0))","v":0},{"$f":"IF(ISERROR(VLOOKUP($H52,Törzsadat!$C:$BD,13,0)),0,VLOOKUP($H52,Törzsadat!$C:$BD,BA$1,0))","v":0},{"$f":"IF(ISERROR(VLOOKUP($H52,Törzsadat!$C:$BD,13,0)),0,VLOOKUP($H52,Törzsadat!$C:$BD,BB$1,0))","v":0},{"$f":"IF(ISERROR(VLOOKUP($H52,Törzsadat!$C:$BD,13,0)),0,VLOOKUP($H52,Törzsadat!$C:$BD,BC$1,0))","v":0},{"$f":"IF(ISERROR(VLOOKUP($H52,Törzsadat!$C:$BD,13,0)),0,VLOOKUP($H52,Törzsadat!$C:$BD,BD$1,0))","v":0}]
[{"$nulls":6},"Nyaklánc 1",{"$nulls":7},{"$f":"IF(ISERROR(VLOOKUP($H53,Törzsadat!$C:$BD,13,0)),0,VLOOKUP($H53,Törzsadat!$C:$BD,O$1,0))","v":0},{"$f":"IF(ISERROR(VLOOKUP($H53,Törzsadat!$C:$BD,13,0)),0,VLOOKUP($H53,Törzsadat!$C:$BD,P$1,0))","v":0},{"$f":"IF(ISERROR(VLOOKUP($H53,Törzsadat!$C:$BD,13,0)),0,VLOOKUP($H53,Törzsadat!$C:$BD,Q$1,0))","v":0},{"$f":"IF(ISERROR(VLOOKUP($H53,Törzsadat!$C:$BD,13,0)),0,VLOOKUP($H53,Törzsadat!$C:$BD,R$1,0))","v":0},{"$f":"IF(ISERROR(VLOOKUP($H53,Törzsadat!$C:$BD,13,0)),0,VLOOKUP($H53,Törzsadat!$C:$BD,S$1,0))","v":0},{"$f":"IF(ISERROR(VLOOKUP($H53,Törzsadat!$C:$BD,13,0)),0,VLOOKUP($H53,Törzsadat!$C:$BD,T$1,0))","v":0},{"$f":"IF(ISERROR(VLOOKUP($H53,Törzsadat!$C:$BD,13,0)),0,VLOOKUP($H53,Törzsadat!$C:$BD,U$1,0))","v":0},{"$f":"IF(ISERROR(VLOOKUP($H53,Törzsadat!$C:$BD,13,0)),0,VLOOKUP($H53,Törzsadat!$C:$BD,V$1,0))","v":0},{"$f":"IF(ISERROR(VLOOKUP($H53,Törzsadat!$C:$BD,13,0)),0,VLOOKUP($H53,Törzsadat!$C:$BD,W$1,0))","v":0},{"$f":"IF(ISERROR(VLOOKUP($H53,Törzsadat!$C:$BD,13,0)),0,VLOOKUP($H53,Törzsadat!$C:$BD,X$1,0))","v":0},{"$f":"IF(ISERROR(VLOOKUP($H53,Törzsadat!$C:$BD,13,0)),0,VLOOKUP($H53,Törzsadat!$C:$BD,Y$1,0))","v":0},{"$f":"IF(ISERROR(VLOOKUP($H53,Törzsadat!$C:$BD,13,0)),0,VLOOKUP($H53,Törzsadat!$C:$BD,Z$1,0))","v":0},{"$f":"IF(ISERROR(VLOOKUP($H53,Törzsadat!$C:$BD,13,0)),0,VLOOKUP($H53,Törzsadat!$C:$BD,AA$1,0))","v":0},{"$f":"IF(ISERROR(VLOOKUP($H53,Törzsadat!$C:$BD,13,0)),0,VLOOKUP($H53,Törzsadat!$C:$BD,AB$1,0))","v":0},{"$f":"IF(ISERROR(VLOOKUP($H53,Törzsadat!$C:$BD,13,0)),0,VLOOKUP($H53,Törzsadat!$C:$BD,AC$1,0))","v":0},{"$f":"IF(ISERROR(VLOOKUP($H53,Törzsadat!$C:$BD,13,0)),0,VLOOKUP($H53,Törzsadat!$C:$BD,AD$1,0))","v":0},{"$f":"IF(ISERROR(VLOOKUP($H53,Törzsadat!$C:$BD,13,0)),0,VLOOKUP($H53,Törzsadat!$C:$BD,AE$1,0))","v":0},{"$f":"IF(ISERROR(VLOOKUP($H53,Törzsadat!$C:$BD,13,0)),0,VLOOKUP($H53,Törzsadat!$C:$BD,AF$1,0))","v":0},{"$f":"IF(ISERROR(VLOOKUP($H53,Törzsadat!$C:$BD,13,0)),0,VLOOKUP($H53,Törzsadat!$C:$BD,AG$1,0))","v":0},{"$f":"IF(ISERROR(VLOOKUP($H53,Törzsadat!$C:$BD,13,0)),0,VLOOKUP($H53,Törzsadat!$C:$BD,AH$1,0))","v":0},{"$f":"IF(ISERROR(VLOOKUP($H53,Törzsadat!$C:$BD,13,0)),0,VLOOKUP($H53,Törzsadat!$C:$BD,AI$1,0))","v":0},{"$f":"IF(ISERROR(VLOOKUP($H53,Törzsadat!$C:$BD,13,0)),0,VLOOKUP($H53,Törzsadat!$C:$BD,AJ$1,0))","v":0},{"$f":"IF(ISERROR(VLOOKUP($H53,Törzsadat!$C:$BD,13,0)),0,VLOOKUP($H53,Törzsadat!$C:$BD,AK$1,0))","v":0},{"$f":"IF(ISERROR(VLOOKUP($H53,Törzsadat!$C:$BD,13,0)),0,VLOOKUP($H53,Törzsadat!$C:$BD,AL$1,0))","v":0},{"$f":"IF(ISERROR(VLOOKUP($H53,Törzsadat!$C:$BD,13,0)),0,VLOOKUP($H53,Törzsadat!$C:$BD,AM$1,0))","v":0},{"$f":"IF(ISERROR(VLOOKUP($H53,Törzsadat!$C:$BD,13,0)),0,VLOOKUP($H53,Törzsadat!$C:$BD,AN$1,0))","v":0},{"$f":"IF(ISERROR(VLOOKUP($H53,Törzsadat!$C:$BD,13,0)),0,VLOOKUP($H53,Törzsadat!$C:$BD,AO$1,0))","v":0},{"$f":"IF(ISERROR(VLOOKUP($H53,Törzsadat!$C:$BD,13,0)),0,VLOOKUP($H53,Törzsadat!$C:$BD,AP$1,0))","v":0},{"$f":"IF(ISERROR(VLOOKUP($H53,Törzsadat!$C:$BD,13,0)),0,VLOOKUP($H53,Törzsadat!$C:$BD,AQ$1,0))","v":0},{"$f":"IF(ISERROR(VLOOKUP($H53,Törzsadat!$C:$BD,13,0)),0,VLOOKUP($H53,Törzsadat!$C:$BD,AR$1,0))","v":0},{"$f":"IF(ISERROR(VLOOKUP($H53,Törzsadat!$C:$BD,13,0)),0,VLOOKUP($H53,Törzsadat!$C:$BD,AS$1,0))","v":0},{"$f":"IF(ISERROR(VLOOKUP($H53,Törzsadat!$C:$BD,13,0)),0,VLOOKUP($H53,Törzsadat!$C:$BD,AT$1,0))","v":0},{"$f":"IF(ISERROR(VLOOKUP($H53,Törzsadat!$C:$BD,13,0)),0,VLOOKUP($H53,Törzsadat!$C:$BD,AU$1,0))","v":0},{"$f":"IF(ISERROR(VLOOKUP($H53,Törzsadat!$C:$BD,13,0)),0,VLOOKUP($H53,Törzsadat!$C:$BD,AV$1,0))","v":0},{"$f":"IF(ISERROR(VLOOKUP($H53,Törzsadat!$C:$BD,13,0)),0,VLOOKUP($H53,Törzsadat!$C:$BD,AW$1,0))","v":0},{"$f":"IF(ISERROR(VLOOKUP($H53,Törzsadat!$C:$BD,13,0)),0,VLOOKUP($H53,Törzsadat!$C:$BD,AX$1,0))","v":0},{"$f":"IF(ISERROR(VLOOKUP($H53,Törzsadat!$C:$BD,13,0)),0,VLOOKUP($H53,Törzsadat!$C:$BD,AY$1,0))","v":0},{"$f":"IF(ISERROR(VLOOKUP($H53,Törzsadat!$C:$BD,13,0)),0,VLOOKUP($H53,Törzsadat!$C:$BD,AZ$1,0))","v":0},{"$f":"IF(ISERROR(VLOOKUP($H53,Törzsadat!$C:$BD,13,0)),0,VLOOKUP($H53,Törzsadat!$C:$BD,BA$1,0))","v":0},{"$f":"IF(ISERROR(VLOOKUP($H53,Törzsadat!$C:$BD,13,0)),0,VLOOKUP($H53,Törzsadat!$C:$BD,BB$1,0))","v":0},{"$f":"IF(ISERROR(VLOOKUP($H53,Törzsadat!$C:$BD,13,0)),0,VLOOKUP($H53,Törzsadat!$C:$BD,BC$1,0))","v":0},{"$f":"IF(ISERROR(VLOOKUP($H53,Törzsadat!$C:$BD,13,0)),0,VLOOKUP($H53,Törzsadat!$C:$BD,BD$1,0))","v":0}]
[{"$nulls":6},"Nyaklánc 2",{"$nulls":7},{"$f":"IF(ISERROR(VLOOKUP($H54,Törzsadat!$C:$BD,13,0)),0,VLOOKUP($H54,Törzsadat!$C:$BD,O$1,0))","v":0},{"$f":"IF(ISERROR(VLOOKUP($H54,Törzsadat!$C:$BD,13,0)),0,VLOOKUP($H54,Törzsadat!$C:$BD,P$1,0))","v":0},{"$f":"IF(ISERROR(VLOOKUP($H54,Törzsadat!$C:$BD,13,0)),0,VLOOKUP($H54,Törzsadat!$C:$BD,Q$1,0))","v":0},{"$f":"IF(ISERROR(VLOOKUP($H54,Törzsadat!$C:$BD,13,0)),0,VLOOKUP($H54,Törzsadat!$C:$BD,R$1,0))","v":0},{"$f":"IF(ISERROR(VLOOKUP($H54,Törzsadat!$C:$BD,13,0)),0,VLOOKUP($H54,Törzsadat!$C:$BD,S$1,0))","v":0},{"$f":"IF(ISERROR(VLOOKUP($H54,Törzsadat!$C:$BD,13,0)),0,VLOOKUP($H54,Törzsadat!$C:$BD,T$1,0))","v":0},{"$f":"IF(ISERROR(VLOOKUP($H54,Törzsadat!$C:$BD,13,0)),0,VLOOKUP($H54,Törzsadat!$C:$BD,U$1,0))","v":0},{"$f":"IF(ISERROR(VLOOKUP($H54,Törzsadat!$C:$BD,13,0)),0,VLOOKUP($H54,Törzsadat!$C:$BD,V$1,0))","v":0},{"$f":"IF(ISERROR(VLOOKUP($H54,Törzsadat!$C:$BD,13,0)),0,VLOOKUP($H54,Törzsadat!$C:$BD,W$1,0))","v":0},{"$f":"IF(ISERROR(VLOOKUP($H54,Törzsadat!$C:$BD,13,0)),0,VLOOKUP($H54,Törzsadat!$C:$BD,X$1,0))","v":0},{"$f":"IF(ISERROR(VLOOKUP($H54,Törzsadat!$C:$BD,13,0)),0,VLOOKUP($H54,Törzsadat!$C:$BD,Y$1,0))","v":0},{"$f":"IF(ISERROR(VLOOKUP($H54,Törzsadat!$C:$BD,13,0)),0,VLOOKUP($H54,Törzsadat!$C:$BD,Z$1,0))","v":0},{"$f":"IF(ISERROR(VLOOKUP($H54,Törzsadat!$C:$BD,13,0)),0,VLOOKUP($H54,Törzsadat!$C:$BD,AA$1,0))","v":0},{"$f":"IF(ISERROR(VLOOKUP($H54,Törzsadat!$C:$BD,13,0)),0,VLOOKUP($H54,Törzsadat!$C:$BD,AB$1,0))","v":0},{"$f":"IF(ISERROR(VLOOKUP($H54,Törzsadat!$C:$BD,13,0)),0,VLOOKUP($H54,Törzsadat!$C:$BD,AC$1,0))","v":0},{"$f":"IF(ISERROR(VLOOKUP($H54,Törzsadat!$C:$BD,13,0)),0,VLOOKUP($H54,Törzsadat!$C:$BD,AD$1,0))","v":0},{"$f":"IF(ISERROR(VLOOKUP($H54,Törzsadat!$C:$BD,13,0)),0,VLOOKUP($H54,Törzsadat!$C:$BD,AE$1,0))","v":0},{"$f":"IF(ISERROR(VLOOKUP($H54,Törzsadat!$C:$BD,13,0)),0,VLOOKUP($H54,Törzsadat!$C:$BD,AF$1,0))","v":0},{"$f":"IF(ISERROR(VLOOKUP($H54,Törzsadat!$C:$BD,13,0)),0,VLOOKUP($H54,Törzsadat!$C:$BD,AG$1,0))","v":0},{"$f":"IF(ISERROR(VLOOKUP($H54,Törzsadat!$C:$BD,13,0)),0,VLOOKUP($H54,Törzsadat!$C:$BD,AH$1,0))","v":0},{"$f":"IF(ISERROR(VLOOKUP($H54,Törzsadat!$C:$BD,13,0)),0,VLOOKUP($H54,Törzsadat!$C:$BD,AI$1,0))","v":0},{"$f":"IF(ISERROR(VLOOKUP($H54,Törzsadat!$C:$BD,13,0)),0,VLOOKUP($H54,Törzsadat!$C:$BD,AJ$1,0))","v":0},{"$f":"IF(ISERROR(VLOOKUP($H54,Törzsadat!$C:$BD,13,0)),0,VLOOKUP($H54,Törzsadat!$C:$BD,AK$1,0))","v":0},{"$f":"IF(ISERROR(VLOOKUP($H54,Törzsadat!$C:$BD,13,0)),0,VLOOKUP($H54,Törzsadat!$C:$BD,AL$1,0))","v":0},{"$f":"IF(ISERROR(VLOOKUP($H54,Törzsadat!$C:$BD,13,0)),0,VLOOKUP($H54,Törzsadat!$C:$BD,AM$1,0))","v":0},{"$f":"IF(ISERROR(VLOOKUP($H54,Törzsadat!$C:$BD,13,0)),0,VLOOKUP($H54,Törzsadat!$C:$BD,AN$1,0))","v":0},{"$f":"IF(ISERROR(VLOOKUP($H54,Törzsadat!$C:$BD,13,0)),0,VLOOKUP($H54,Törzsadat!$C:$BD,AO$1,0))","v":0},{"$f":"IF(ISERROR(VLOOKUP($H54,Törzsadat!$C:$BD,13,0)),0,VLOOKUP($H54,Törzsadat!$C:$BD,AP$1,0))","v":0},{"$f":"IF(ISERROR(VLOOKUP($H54,Törzsadat!$C:$BD,13,0)),0,VLOOKUP($H54,Törzsadat!$C:$BD,AQ$1,0))","v":0},{"$f":"IF(ISERROR(VLOOKUP($H54,Törzsadat!$C:$BD,13,0)),0,VLOOKUP($H54,Törzsadat!$C:$BD,AR$1,0))","v":0},{"$f":"IF(ISERROR(VLOOKUP($H54,Törzsadat!$C:$BD,13,0)),0,VLOOKUP($H54,Törzsadat!$C:$BD,AS$1,0))","v":0},{"$f":"IF(ISERROR(VLOOKUP($H54,Törzsadat!$C:$BD,13,0)),0,VLOOKUP($H54,Törzsadat!$C:$BD,AT$1,0))","v":0},{"$f":"IF(ISERROR(VLOOKUP($H54,Törzsadat!$C:$BD,13,0)),0,VLOOKUP($H54,Törzsadat!$C:$BD,AU$1,0))","v":0},{"$f":"IF(ISERROR(VLOOKUP($H54,Törzsadat!$C:$BD,13,0)),0,VLOOKUP($H54,Törzsadat!$C:$BD,AV$1,0))","v":0},{"$f":"IF(ISERROR(VLOOKUP($H54,Törzsadat!$C:$BD,13,0)),0,VLOOKUP($H54,Törzsadat!$C:$BD,AW$1,0))","v":0},{"$f":"IF(ISERROR(VLOOKUP($H54,Törzsadat!$C:$BD,13,0)),0,VLOOKUP($H54,Törzsadat!$C:$BD,AX$1,0))","v":0},{"$f":"IF(ISERROR(VLOOKUP($H54,Törzsadat!$C:$BD,13,0)),0,VLOOKUP($H54,Törzsadat!$C:$BD,AY$1,0))","v":0},{"$f":"IF(ISERROR(VLOOKUP($H54,Törzsadat!$C:$BD,13,0)),0,VLOOKUP($H54,Törzsadat!$C:$BD,AZ$1,0))","v":0},{"$f":"IF(ISERROR(VLOOKUP($H54,Törzsadat!$C:$BD,13,0)),0,VLOOKUP($H54,Törzsadat!$C:$BD,BA$1,0))","v":0},{"$f":"IF(ISERROR(VLOOKUP($H54,Törzsadat!$C:$BD,13,0)),0,VLOOKUP($H54,Törzsadat!$C:$BD,BB$1,0))","v":0},{"$f":"IF(ISERROR(VLOOKUP($H54,Törzsadat!$C:$BD,13,0)),0,VLOOKUP($H54,Törzsadat!$C:$BD,BC$1,0))","v":0},{"$f":"IF(ISERROR(VLOOKUP($H54,Törzsadat!$C:$BD,13,0)),0,VLOOKUP($H54,Törzsadat!$C:$BD,BD$1,0))","v":0}]
[{"$nulls":6},"Nyaklánc 3",{"$nulls":7},{"$f":"IF(ISERROR(VLOOKUP($H55,Törzsadat!$C:$BD,13,0)),0,VLOOKUP($H55,Törzsadat!$C:$BD,O$1,0))","v":0},{"$f":"IF(ISERROR(VLOOKUP($H55,Törzsadat!$C:$BD,13,0)),0,VLOOKUP($H55,Törzsadat!$C:$BD,P$1,0))","v":0},{"$f":"IF(ISERROR(VLOOKUP($H55,Törzsadat!$C:$BD,13,0)),0,VLOOKUP($H55,Törzsadat!$C:$BD,Q$1,0))","v":0},{"$f":"IF(ISERROR(VLOOKUP($H55,Törzsadat!$C:$BD,13,0)),0,VLOOKUP($H55,Törzsadat!$C:$BD,R$1,0))","v":0},{"$f":"IF(ISERROR(VLOOKUP($H55,Törzsadat!$C:$BD,13,0)),0,VLOOKUP($H55,Törzsadat!$C:$BD,S$1,0))","v":0},{"$f":"IF(ISERROR(VLOOKUP($H55,Törzsadat!$C:$BD,13,0)),0,VLOOKUP($H55,Törzsadat!$C:$BD,T$1,0))","v":0},{"$f":"IF(ISERROR(VLOOKUP($H55,Törzsadat!$C:$BD,13,0)),0,VLOOKUP($H55,Törzsadat!$C:$BD,U$1,0))","v":0},{"$f":"IF(ISERROR(VLOOKUP($H55,Törzsadat!$C:$BD,13,0)),0,VLOOKUP($H55,Törzsadat!$C:$BD,V$1,0))","v":0},{"$f":"IF(ISERROR(VLOOKUP($H55,Törzsadat!$C:$BD,13,0)),0,VLOOKUP($H55,Törzsadat!$C:$BD,W$1,0))","v":0},{"$f":"IF(ISERROR(VLOOKUP($H55,Törzsadat!$C:$BD,13,0)),0,VLOOKUP($H55,Törzsadat!$C:$BD,X$1,0))","v":0},{"$f":"IF(ISERROR(VLOOKUP($H55,Törzsadat!$C:$BD,13,0)),0,VLOOKUP($H55,Törzsadat!$C:$BD,Y$1,0))","v":0},{"$f":"IF(ISERROR(VLOOKUP($H55,Törzsadat!$C:$BD,13,0)),0,VLOOKUP($H55,Törzsadat!$C:$BD,Z$1,0))","v":0},{"$f":"IF(ISERROR(VLOOKUP($H55,Törzsadat!$C:$BD,13,0)),0,VLOOKUP($H55,Törzsadat!$C:$BD,AA$1,0))","v":0},{"$f":"IF(ISERROR(VLOOKUP($H55,Törzsadat!$C:$BD,13,0)),0,VLOOKUP($H55,Törzsadat!$C:$BD,AB$1,0))","v":0},{"$f":"IF(ISERROR(VLOOKUP($H55,Törzsadat!$C:$BD,13,0)),0,VLOOKUP($H55,Törzsadat!$C:$BD,AC$1,0))","v":0},{"$f":"IF(ISERROR(VLOOKUP($H55,Törzsadat!$C:$BD,13,0)),0,VLOOKUP($H55,Törzsadat!$C:$BD,AD$1,0))","v":0},{"$f":"IF(ISERROR(VLOOKUP($H55,Törzsadat!$C:$BD,13,0)),0,VLOOKUP($H55,Törzsadat!$C:$BD,AE$1,0))","v":0},{"$f":"IF(ISERROR(VLOOKUP($H55,Törzsadat!$C:$BD,13,0)),0,VLOOKUP($H55,Törzsadat!$C:$BD,AF$1,0))","v":0},{"$f":"IF(ISERROR(VLOOKUP($H55,Törzsadat!$C:$BD,13,0)),0,VLOOKUP($H55,Törzsadat!$C:$BD,AG$1,0))","v":0},{"$f":"IF(ISERROR(VLOOKUP($H55,Törzsadat!$C:$BD,13,0)),0,VLOOKUP($H55,Törzsadat!$C:$BD,AH$1,0))","v":0},{"$f":"IF(ISERROR(VLOOKUP($H55,Törzsadat!$C:$BD,13,0)),0,VLOOKUP($H55,Törzsadat!$C:$BD,AI$1,0))","v":0},{"$f":"IF(ISERROR(VLOOKUP($H55,Törzsadat!$C:$BD,13,0)),0,VLOOKUP($H55,Törzsadat!$C:$BD,AJ$1,0))","v":0},{"$f":"IF(ISERROR(VLOOKUP($H55,Törzsadat!$C:$BD,13,0)),0,VLOOKUP($H55,Törzsadat!$C:$BD,AK$1,0))","v":0},{"$f":"IF(ISERROR(VLOOKUP($H55,Törzsadat!$C:$BD,13,0)),0,VLOOKUP($H55,Törzsadat!$C:$BD,AL$1,0))","v":0},{"$f":"IF(ISERROR(VLOOKUP($H55,Törzsadat!$C:$BD,13,0)),0,VLOOKUP($H55,Törzsadat!$C:$BD,AM$1,0))","v":0},{"$f":"IF(ISERROR(VLOOKUP($H55,Törzsadat!$C:$BD,13,0)),0,VLOOKUP($H55,Törzsadat!$C:$BD,AN$1,0))","v":0},{"$f":"IF(ISERROR(VLOOKUP($H55,Törzsadat!$C:$BD,13,0)),0,VLOOKUP($H55,Törzsadat!$C:$BD,AO$1,0))","v":0},{"$f":"IF(ISERROR(VLOOKUP($H55,Törzsadat!$C:$BD,13,0)),0,VLOOKUP($H55,Törzsadat!$C:$BD,AP$1,0))","v":0},{"$f":"IF(ISERROR(VLOOKUP($H55,Törzsadat!$C:$BD,13,0)),0,VLOOKUP($H55,Törzsadat!$C:$BD,AQ$1,0))","v":0},{"$f":"IF(ISERROR(VLOOKUP($H55,Törzsadat!$C:$BD,13,0)),0,VLOOKUP($H55,Törzsadat!$C:$BD,AR$1,0))","v":0},{"$f":"IF(ISERROR(VLOOKUP($H55,Törzsadat!$C:$BD,13,0)),0,VLOOKUP($H55,Törzsadat!$C:$BD,AS$1,0))","v":0},{"$f":"IF(ISERROR(VLOOKUP($H55,Törzsadat!$C:$BD,13,0)),0,VLOOKUP($H55,Törzsadat!$C:$BD,AT$1,0))","v":0},{"$f":"IF(ISERROR(VLOOKUP($H55,Törzsadat!$C:$BD,13,0)),0,VLOOKUP($H55,Törzsadat!$C:$BD,AU$1,0))","v":0},{"$f":"IF(ISERROR(VLOOKUP($H55,Törzsadat!$C:$BD,13,0)),0,VLOOKUP($H55,Törzsadat!$C:$BD,AV$1,0))","v":0},{"$f":"IF(ISERROR(VLOOKUP($H55,Törzsadat!$C:$BD,13,0)),0,VLOOKUP($H55,Törzsadat!$C:$BD,AW$1,0))","v":0},{"$f":"IF(ISERROR(VLOOKUP($H55,Törzsadat!$C:$BD,13,0)),0,VLOOKUP($H55,Törzsadat!$C:$BD,AX$1,0))","v":0},{"$f":"IF(ISERROR(VLOOKUP($H55,Törzsadat!$C:$BD,13,0)),0,VLOOKUP($H55,Törzsadat!$C:$BD,AY$1,0))","v":0},{"$f":"IF(ISERROR(VLOOKUP($H55,Törzsadat!$C:$BD,13,0)),0,VLOOKUP($H55,Törzsadat!$C:$BD,AZ$1,0))","v":0},{"$f":"IF(ISERROR(VLOOKUP($H55,Törzsadat!$C:$BD,13,0)),0,VLOOKUP($H55,Törzsadat!$C:$BD,BA$1,0))","v":0},{"$f":"IF(ISERROR(VLOOKUP($H55,Törzsadat!$C:$BD,13,0)),0,VLOOKUP($H55,Törzsadat!$C:$BD,BB$1,0))","v":0},{"$f":"IF(ISERROR(VLOOKUP($H55,Törzsadat!$C:$BD,13,0)),0,VLOOKUP($H55,Törzsadat!$C:$BD,BC$1,0))","v":0},{"$f":"IF(ISERROR(VLOOKUP($H55,Törzsadat!$C:$BD,13,0)),0,VLOOKUP($H55,Törzsadat!$C:$BD,BD$1,0))","v":0}]
[{"$nulls":6},"Nyaklánc 4",{"$nulls":7},{"$f":"IF(ISERROR(VLOOKUP($H56,Törzsadat!$C:$BD,13,0)),0,VLOOKUP($H56,Törzsadat!$C:$BD,O$1,0))","v":0},{"$f":"IF(ISERROR(VLOOKUP($H56,Törzsadat!$C:$BD,13,0)),0,VLOOKUP($H56,Törzsadat!$C:$BD,P$1,0))","v":0},{"$f":"IF(ISERROR(VLOOKUP($H56,Törzsadat!$C:$BD,13,0)),0,VLOOKUP($H56,Törzsadat!$C:$BD,Q$1,0))","v":0},{"$f":"IF(ISERROR(VLOOKUP($H56,Törzsadat!$C:$BD,13,0)),0,VLOOKUP($H56,Törzsadat!$C:$BD,R$1,0))","v":0},{"$f":"IF(ISERROR(VLOOKUP($H56,Törzsadat!$C:$BD,13,0)),0,VLOOKUP($H56,Törzsadat!$C:$BD,S$1,0))","v":0},{"$f":"IF(ISERROR(VLOOKUP($H56,Törzsadat!$C:$BD,13,0)),0,VLOOKUP($H56,Törzsadat!$C:$BD,T$1,0))","v":0},{"$f":"IF(ISERROR(VLOOKUP($H56,Törzsadat!$C:$BD,13,0)),0,VLOOKUP($H56,Törzsadat!$C:$BD,U$1,0))","v":0},{"$f":"IF(ISERROR(VLOOKUP($H56,Törzsadat!$C:$BD,13,0)),0,VLOOKUP($H56,Törzsadat!$C:$BD,V$1,0))","v":0},{"$f":"IF(ISERROR(VLOOKUP($H56,Törzsadat!$C:$BD,13,0)),0,VLOOKUP($H56,Törzsadat!$C:$BD,W$1,0))","v":0},{"$f":"IF(ISERROR(VLOOKUP($H56,Törzsadat!$C:$BD,13,0)),0,VLOOKUP($H56,Törzsadat!$C:$BD,X$1,0))","v":0},{"$f":"IF(ISERROR(VLOOKUP($H56,Törzsadat!$C:$BD,13,0)),0,VLOOKUP($H56,Törzsadat!$C:$BD,Y$1,0))","v":0},{"$f":"IF(ISERROR(VLOOKUP($H56,Törzsadat!$C:$BD,13,0)),0,VLOOKUP($H56,Törzsadat!$C:$BD,Z$1,0))","v":0},{"$f":"IF(ISERROR(VLOOKUP($H56,Törzsadat!$C:$BD,13,0)),0,VLOOKUP($H56,Törzsadat!$C:$BD,AA$1,0))","v":0},{"$f":"IF(ISERROR(VLOOKUP($H56,Törzsadat!$C:$BD,13,0)),0,VLOOKUP($H56,Törzsadat!$C:$BD,AB$1,0))","v":0},{"$f":"IF(ISERROR(VLOOKUP($H56,Törzsadat!$C:$BD,13,0)),0,VLOOKUP($H56,Törzsadat!$C:$BD,AC$1,0))","v":0},{"$f":"IF(ISERROR(VLOOKUP($H56,Törzsadat!$C:$BD,13,0)),0,VLOOKUP($H56,Törzsadat!$C:$BD,AD$1,0))","v":0},{"$f":"IF(ISERROR(VLOOKUP($H56,Törzsadat!$C:$BD,13,0)),0,VLOOKUP($H56,Törzsadat!$C:$BD,AE$1,0))","v":0},{"$f":"IF(ISERROR(VLOOKUP($H56,Törzsadat!$C:$BD,13,0)),0,VLOOKUP($H56,Törzsadat!$C:$BD,AF$1,0))","v":0},{"$f":"IF(ISERROR(VLOOKUP($H56,Törzsadat!$C:$BD,13,0)),0,VLOOKUP($H56,Törzsadat!$C:$BD,AG$1,0))","v":0},{"$f":"IF(ISERROR(VLOOKUP($H56,Törzsadat!$C:$BD,13,0)),0,VLOOKUP($H56,Törzsadat!$C:$BD,AH$1,0))","v":0},{"$f":"IF(ISERROR(VLOOKUP($H56,Törzsadat!$C:$BD,13,0)),0,VLOOKUP($H56,Törzsadat!$C:$BD,AI$1,0))","v":0},{"$f":"IF(ISERROR(VLOOKUP($H56,Törzsadat!$C:$BD,13,0)),0,VLOOKUP($H56,Törzsadat!$C:$BD,AJ$1,0))","v":0},{"$f":"IF(ISERROR(VLOOKUP($H56,Törzsadat!$C:$BD,13,0)),0,VLOOKUP($H56,Törzsadat!$C:$BD,AK$1,0))","v":0},{"$f":"IF(ISERROR(VLOOKUP($H56,Törzsadat!$C:$BD,13,0)),0,VLOOKUP($H56,Törzsadat!$C:$BD,AL$1,0))","v":0},{"$f":"IF(ISERROR(VLOOKUP($H56,Törzsadat!$C:$BD,13,0)),0,VLOOKUP($H56,Törzsadat!$C:$BD,AM$1,0))","v":0},{"$f":"IF(ISERROR(VLOOKUP($H56,Törzsadat!$C:$BD,13,0)),0,VLOOKUP($H56,Törzsadat!$C:$BD,AN$1,0))","v":0},{"$f":"IF(ISERROR(VLOOKUP($H56,Törzsadat!$C:$BD,13,0)),0,VLOOKUP($H56,Törzsadat!$C:$BD,AO$1,0))","v":0},{"$f":"IF(ISERROR(VLOOKUP($H56,Törzsadat!$C:$BD,13,0)),0,VLOOKUP($H56,Törzsadat!$C:$BD,AP$1,0))","v":0},{"$f":"IF(ISERROR(VLOOKUP($H56,Törzsadat!$C:$BD,13,0)),0,VLOOKUP($H56,Törzsadat!$C:$BD,AQ$1,0))","v":0},{"$f":"IF(ISERROR(VLOOKUP($H56,Törzsadat!$C:$BD,13,0)),0,VLOOKUP($H56,Törzsadat!$C:$BD,AR$1,0))","v":0},{"$f":"IF(ISERROR(VLOOKUP($H56,Törzsadat!$C:$BD,13,0)),0,VLOOKUP($H56,Törzsadat!$C:$BD,AS$1,0))","v":0},{"$f":"IF(ISERROR(VLOOKUP($H56,Törzsadat!$C:$BD,13,0)),0,VLOOKUP($H56,Törzsadat!$C:$BD,AT$1,0))","v":0},{"$f":"IF(ISERROR(VLOOKUP($H56,Törzsadat!$C:$BD,13,0)),0,VLOOKUP($H56,Törzsadat!$C:$BD,AU$1,0))","v":0},{"$f":"IF(ISERROR(VLOOKUP($H56,Törzsadat!$C:$BD,13,0)),0,VLOOKUP($H56,Törzsadat!$C:$BD,AV$1,0))","v":0},{"$f":"IF(ISERROR(VLOOKUP($H56,Törzsadat!$C:$BD,13,0)),0,VLOOKUP($H56,Törzsadat!$C:$BD,AW$1,0))","v":0},{"$f":"IF(ISERROR(VLOOKUP($H56,Törzsadat!$C:$BD,13,0)),0,VLOOKUP($H56,Törzsadat!$C:$BD,AX$1,0))","v":0},{"$f":"IF(ISERROR(VLOOKUP($H56,Törzsadat!$C:$BD,13,0)),0,VLOOKUP($H56,Törzsadat!$C:$BD,AY$1,0))","v":0},{"$f":"IF(ISERROR(VLOOKUP($H56,Törzsadat!$C:$BD,13,0)),0,VLOOKUP($H56,Törzsadat!$C:$BD,AZ$1,0))","v":0},{"$f":"IF(ISERROR(VLOOKUP($H56,Törzsadat!$C:$BD,13,0)),0,VLOOKUP($H56,Törzsadat!$C:$BD,BA$1,0))","v":0},{"$f":"IF(ISERROR(VLOOKUP($H56,Törzsadat!$C:$BD,13,0)),0,VLOOKUP($H56,Törzsadat!$C:$BD,BB$1,0))","v":0},{"$f":"IF(ISERROR(VLOOKUP($H56,Törzsadat!$C:$BD,13,0)),0,VLOOKUP($H56,Törzsadat!$C:$BD,BC$1,0))","v":0},{"$f":"IF(ISERROR(VLOOKUP($H56,Törzsadat!$C:$BD,13,0)),0,VLOOKUP($H56,Törzsadat!$C:$BD,BD$1,0))","v":0}]
[{"$nulls":6},"Nyaklánc 5",{"$nulls":7},{"$f":"IF(ISERROR(VLOOKUP($H57,Törzsadat!$C:$BD,13,0)),0,VLOOKUP($H57,Törzsadat!$C:$BD,O$1,0))","v":0},{"$f":"IF(ISERROR(VLOOKUP($H57,Törzsadat!$C:$BD,13,0)),0,VLOOKUP($H57,Törzsadat!$C:$BD,P$1,0))","v":0},{"$f":"IF(ISERROR(VLOOKUP($H57,Törzsadat!$C:$BD,13,0)),0,VLOOKUP($H57,Törzsadat!$C:$BD,Q$1,0))","v":0},{"$f":"IF(ISERROR(VLOOKUP($H57,Törzsadat!$C:$BD,13,0)),0,VLOOKUP($H57,Törzsadat!$C:$BD,R$1,0))","v":0},{"$f":"IF(ISERROR(VLOOKUP($H57,Törzsadat!$C:$BD,13,0)),0,VLOOKUP($H57,Törzsadat!$C:$BD,S$1,0))","v":0},{"$f":"IF(ISERROR(VLOOKUP($H57,Törzsadat!$C:$BD,13,0)),0,VLOOKUP($H57,Törzsadat!$C:$BD,T$1,0))","v":0},{"$f":"IF(ISERROR(VLOOKUP($H57,Törzsadat!$C:$BD,13,0)),0,VLOOKUP($H57,Törzsadat!$C:$BD,U$1,0))","v":0},{"$f":"IF(ISERROR(VLOOKUP($H57,Törzsadat!$C:$BD,13,0)),0,VLOOKUP($H57,Törzsadat!$C:$BD,V$1,0))","v":0},{"$f":"IF(ISERROR(VLOOKUP($H57,Törzsadat!$C:$BD,13,0)),0,VLOOKUP($H57,Törzsadat!$C:$BD,W$1,0))","v":0},{"$f":"IF(ISERROR(VLOOKUP($H57,Törzsadat!$C:$BD,13,0)),0,VLOOKUP($H57,Törzsadat!$C:$BD,X$1,0))","v":0},{"$f":"IF(ISERROR(VLOOKUP($H57,Törzsadat!$C:$BD,13,0)),0,VLOOKUP($H57,Törzsadat!$C:$BD,Y$1,0))","v":0},{"$f":"IF(ISERROR(VLOOKUP($H57,Törzsadat!$C:$BD,13,0)),0,VLOOKUP($H57,Törzsadat!$C:$BD,Z$1,0))","v":0},{"$f":"IF(ISERROR(VLOOKUP($H57,Törzsadat!$C:$BD,13,0)),0,VLOOKUP($H57,Törzsadat!$C:$BD,AA$1,0))","v":0},{"$f":"IF(ISERROR(VLOOKUP($H57,Törzsadat!$C:$BD,13,0)),0,VLOOKUP($H57,Törzsadat!$C:$BD,AB$1,0))","v":0},{"$f":"IF(ISERROR(VLOOKUP($H57,Törzsadat!$C:$BD,13,0)),0,VLOOKUP($H57,Törzsadat!$C:$BD,AC$1,0))","v":0},{"$f":"IF(ISERROR(VLOOKUP($H57,Törzsadat!$C:$BD,13,0)),0,VLOOKUP($H57,Törzsadat!$C:$BD,AD$1,0))","v":0},{"$f":"IF(ISERROR(VLOOKUP($H57,Törzsadat!$C:$BD,13,0)),0,VLOOKUP($H57,Törzsadat!$C:$BD,AE$1,0))","v":0},{"$f":"IF(ISERROR(VLOOKUP($H57,Törzsadat!$C:$BD,13,0)),0,VLOOKUP($H57,Törzsadat!$C:$BD,AF$1,0))","v":0},{"$f":"IF(ISERROR(VLOOKUP($H57,Törzsadat!$C:$BD,13,0)),0,VLOOKUP($H57,Törzsadat!$C:$BD,AG$1,0))","v":0},{"$f":"IF(ISERROR(VLOOKUP($H57,Törzsadat!$C:$BD,13,0)),0,VLOOKUP($H57,Törzsadat!$C:$BD,AH$1,0))","v":0},{"$f":"IF(ISERROR(VLOOKUP($H57,Törzsadat!$C:$BD,13,0)),0,VLOOKUP($H57,Törzsadat!$C:$BD,AI$1,0))","v":0},{"$f":"IF(ISERROR(VLOOKUP($H57,Törzsadat!$C:$BD,13,0)),0,VLOOKUP($H57,Törzsadat!$C:$BD,AJ$1,0))","v":0},{"$f":"IF(ISERROR(VLOOKUP($H57,Törzsadat!$C:$BD,13,0)),0,VLOOKUP($H57,Törzsadat!$C:$BD,AK$1,0))","v":0},{"$f":"IF(ISERROR(VLOOKUP($H57,Törzsadat!$C:$BD,13,0)),0,VLOOKUP($H57,Törzsadat!$C:$BD,AL$1,0))","v":0},{"$f":"IF(ISERROR(VLOOKUP($H57,Törzsadat!$C:$BD,13,0)),0,VLOOKUP($H57,Törzsadat!$C:$BD,AM$1,0))","v":0},{"$f":"IF(ISERROR(VLOOKUP($H57,Törzsadat!$C:$BD,13,0)),0,VLOOKUP($H57,Törzsadat!$C:$BD,AN$1,0))","v":0},{"$f":"IF(ISERROR(VLOOKUP($H57,Törzsadat!$C:$BD,13,0)),0,VLOOKUP($H57,Törzsadat!$C:$BD,AO$1,0))","v":0},{"$f":"IF(ISERROR(VLOOKUP($H57,Törzsadat!$C:$BD,13,0)),0,VLOOKUP($H57,Törzsadat!$C:$BD,AP$1,0))","v":0},{"$f":"IF(ISERROR(VLOOKUP($H57,Törzsadat!$C:$BD,13,0)),0,VLOOKUP($H57,Törzsadat!$C:$BD,AQ$1,0))","v":0},{"$f":"IF(ISERROR(VLOOKUP($H57,Törzsadat!$C:$BD,13,0)),0,VLOOKUP($H57,Törzsadat!$C:$BD,AR$1,0))","v":0},{"$f":"IF(ISERROR(VLOOKUP($H57,Törzsadat!$C:$BD,13,0)),0,VLOOKUP($H57,Törzsadat!$C:$BD,AS$1,0))","v":0},{"$f":"IF(ISERROR(VLOOKUP($H57,Törzsadat!$C:$BD,13,0)),0,VLOOKUP($H57,Törzsadat!$C:$BD,AT$1,0))","v":0},{"$f":"IF(ISERROR(VLOOKUP($H57,Törzsadat!$C:$BD,13,0)),0,VLOOKUP($H57,Törzsadat!$C:$BD,AU$1,0))","v":0},{"$f":"IF(ISERROR(VLOOKUP($H57,Törzsadat!$C:$BD,13,0)),0,VLOOKUP($H57,Törzsadat!$C:$BD,AV$1,0))","v":0},{"$f":"IF(ISERROR(VLOOKUP($H57,Törzsadat!$C:$BD,13,0)),0,VLOOKUP($H57,Törzsadat!$C:$BD,AW$1,0))","v":0},{"$f":"IF(ISERROR(VLOOKUP($H57,Törzsadat!$C:$BD,13,0)),0,VLOOKUP($H57,Törzsadat!$C:$BD,AX$1,0))","v":0},{"$f":"IF(ISERROR(VLOOKUP($H57,Törzsadat!$C:$BD,13,0)),0,VLOOKUP($H57,Törzsadat!$C:$BD,AY$1,0))","v":0},{"$f":"IF(ISERROR(VLOOKUP($H57,Törzsadat!$C:$BD,13,0)),0,VLOOKUP($H57,Törzsadat!$C:$BD,AZ$1,0))","v":0},{"$f":"IF(ISERROR(VLOOKUP($H57,Törzsadat!$C:$BD,13,0)),0,VLOOKUP($H57,Törzsadat!$C:$BD,BA$1,0))","v":0},{"$f":"IF(ISERROR(VLOOKUP($H57,Törzsadat!$C:$BD,13,0)),0,VLOOKUP($H57,Törzsadat!$C:$BD,BB$1,0))","v":0},{"$f":"IF(ISERROR(VLOOKUP($H57,Törzsadat!$C:$BD,13,0)),0,VLOOKUP($H57,Törzsadat!$C:$BD,BC$1,0))","v":0},{"$f":"IF(ISERROR(VLOOKUP($H57,Törzsadat!$C:$BD,13,0)),0,VLOOKUP($H57,Törzsadat!$C:$BD,BD$1,0))","v":0}]
[{"$nulls":6},"Nyaklánc 6",{"$nulls":7},{"$f":"IF(ISERROR(VLOOKUP($H58,Törzsadat!$C:$BD,13,0)),0,VLOOKUP($H58,Törzsadat!$C:$BD,O$1,0))","v":0},{"$f":"IF(ISERROR(VLOOKUP($H58,Törzsadat!$C:$BD,13,0)),0,VLOOKUP($H58,Törzsadat!$C:$BD,P$1,0))","v":0},{"$f":"IF(ISERROR(VLOOKUP($H58,Törzsadat!$C:$BD,13,0)),0,VLOOKUP($H58,Törzsadat!$C:$BD,Q$1,0))","v":0},{"$f":"IF(ISERROR(VLOOKUP($H58,Törzsadat!$C:$BD,13,0)),0,VLOOKUP($H58,Törzsadat!$C:$BD,R$1,0))","v":0},{"$f":"IF(ISERROR(VLOOKUP($H58,Törzsadat!$C:$BD,13,0)),0,VLOOKUP($H58,Törzsadat!$C:$BD,S$1,0))","v":0},{"$f":"IF(ISERROR(VLOOKUP($H58,Törzsadat!$C:$BD,13,0)),0,VLOOKUP($H58,Törzsadat!$C:$BD,T$1,0))","v":0},{"$f":"IF(ISERROR(VLOOKUP($H58,Törzsadat!$C:$BD,13,0)),0,VLOOKUP($H58,Törzsadat!$C:$BD,U$1,0))","v":0},{"$f":"IF(ISERROR(VLOOKUP($H58,Törzsadat!$C:$BD,13,0)),0,VLOOKUP($H58,Törzsadat!$C:$BD,V$1,0))","v":0},{"$f":"IF(ISERROR(VLOOKUP($H58,Törzsadat!$C:$BD,13,0)),0,VLOOKUP($H58,Törzsadat!$C:$BD,W$1,0))","v":0},{"$f":"IF(ISERROR(VLOOKUP($H58,Törzsadat!$C:$BD,13,0)),0,VLOOKUP($H58,Törzsadat!$C:$BD,X$1,0))","v":0},{"$f":"IF(ISERROR(VLOOKUP($H58,Törzsadat!$C:$BD,13,0)),0,VLOOKUP($H58,Törzsadat!$C:$BD,Y$1,0))","v":0},{"$f":"IF(ISERROR(VLOOKUP($H58,Törzsadat!$C:$BD,13,0)),0,VLOOKUP($H58,Törzsadat!$C:$BD,Z$1,0))","v":0},{"$f":"IF(ISERROR(VLOOKUP($H58,Törzsadat!$C:$BD,13,0)),0,VLOOKUP($H58,Törzsadat!$C:$BD,AA$1,0))","v":0},{"$f":"IF(ISERROR(VLOOKUP($H58,Törzsadat!$C:$BD,13,0)),0,VLOOKUP($H58,Törzsadat!$C:$BD,AB$1,0))","v":0},{"$f":"IF(ISERROR(VLOOKUP($H58,Törzsadat!$C:$BD,13,0)),0,VLOOKUP($H58,Törzsadat!$C:$BD,AC$1,0))","v":0},{"$f":"IF(ISERROR(VLOOKUP($H58,Törzsadat!$C:$BD,13,0)),0,VLOOKUP($H58,Törzsadat!$C:$BD,AD$1,0))","v":0},{"$f":"IF(ISERROR(VLOOKUP($H58,Törzsadat!$C:$BD,13,0)),0,VLOOKUP($H58,Törzsadat!$C:$BD,AE$1,0))","v":0},{"$f":"IF(ISERROR(VLOOKUP($H58,Törzsadat!$C:$BD,13,0)),0,VLOOKUP($H58,Törzsadat!$C:$BD,AF$1,0))","v":0},{"$f":"IF(ISERROR(VLOOKUP($H58,Törzsadat!$C:$BD,13,0)),0,VLOOKUP($H58,Törzsadat!$C:$BD,AG$1,0))","v":0},{"$f":"IF(ISERROR(VLOOKUP($H58,Törzsadat!$C:$BD,13,0)),0,VLOOKUP($H58,Törzsadat!$C:$BD,AH$1,0))","v":0},{"$f":"IF(ISERROR(VLOOKUP($H58,Törzsadat!$C:$BD,13,0)),0,VLOOKUP($H58,Törzsadat!$C:$BD,AI$1,0))","v":0},{"$f":"IF(ISERROR(VLOOKUP($H58,Törzsadat!$C:$BD,13,0)),0,VLOOKUP($H58,Törzsadat!$C:$BD,AJ$1,0))","v":0},{"$f":"IF(ISERROR(VLOOKUP($H58,Törzsadat!$C:$BD,13,0)),0,VLOOKUP($H58,Törzsadat!$C:$BD,AK$1,0))","v":0},{"$f":"IF(ISERROR(VLOOKUP($H58,Törzsadat!$C:$BD,13,0)),0,VLOOKUP($H58,Törzsadat!$C:$BD,AL$1,0))","v":0},{"$f":"IF(ISERROR(VLOOKUP($H58,Törzsadat!$C:$BD,13,0)),0,VLOOKUP($H58,Törzsadat!$C:$BD,AM$1,0))","v":0},{"$f":"IF(ISERROR(VLOOKUP($H58,Törzsadat!$C:$BD,13,0)),0,VLOOKUP($H58,Törzsadat!$C:$BD,AN$1,0))","v":0},{"$f":"IF(ISERROR(VLOOKUP($H58,Törzsadat!$C:$BD,13,0)),0,VLOOKUP($H58,Törzsadat!$C:$BD,AO$1,0))","v":0},{"$f":"IF(ISERROR(VLOOKUP($H58,Törzsadat!$C:$BD,13,0)),0,VLOOKUP($H58,Törzsadat!$C:$BD,AP$1,0))","v":0},{"$f":"IF(ISERROR(VLOOKUP($H58,Törzsadat!$C:$BD,13,0)),0,VLOOKUP($H58,Törzsadat!$C:$BD,AQ$1,0))","v":0},{"$f":"IF(ISERROR(VLOOKUP($H58,Törzsadat!$C:$BD,13,0)),0,VLOOKUP($H58,Törzsadat!$C:$BD,AR$1,0))","v":0},{"$f":"IF(ISERROR(VLOOKUP($H58,Törzsadat!$C:$BD,13,0)),0,VLOOKUP($H58,Törzsadat!$C:$BD,AS$1,0))","v":0},{"$f":"IF(ISERROR(VLOOKUP($H58,Törzsadat!$C:$BD,13,0)),0,VLOOKUP($H58,Törzsadat!$C:$BD,AT$1,0))","v":0},{"$f":"IF(ISERROR(VLOOKUP($H58,Törzsadat!$C:$BD,13,0)),0,VLOOKUP($H58,Törzsadat!$C:$BD,AU$1,0))","v":0},{"$f":"IF(ISERROR(VLOOKUP($H58,Törzsadat!$C:$BD,13,0)),0,VLOOKUP($H58,Törzsadat!$C:$BD,AV$1,0))","v":0},{"$f":"IF(ISERROR(VLOOKUP($H58,Törzsadat!$C:$BD,13,0)),0,VLOOKUP($H58,Törzsadat!$C:$BD,AW$1,0))","v":0},{"$f":"IF(ISERROR(VLOOKUP($H58,Törzsadat!$C:$BD,13,0)),0,VLOOKUP($H58,Törzsadat!$C:$BD,AX$1,0))","v":0},{"$f":"IF(ISERROR(VLOOKUP($H58,Törzsadat!$C:$BD,13,0)),0,VLOOKUP($H58,Törzsadat!$C:$BD,AY$1,0))","v":0},{"$f":"IF(ISERROR(VLOOKUP($H58,Törzsadat!$C:$BD,13,0)),0,VLOOKUP($H58,Törzsadat!$C:$BD,AZ$1,0))","v":0},{"$f":"IF(ISERROR(VLOOKUP($H58,Törzsadat!$C:$BD,13,0)),0,VLOOKUP($H58,Törzsadat!$C:$BD,BA$1,0))","v":0},{"$f":"IF(ISERROR(VLOOKUP($H58,Törzsadat!$C:$BD,13,0)),0,VLOOKUP($H58,Törzsadat!$C:$BD,BB$1,0))","v":0},{"$f":"IF(ISERROR(VLOOKUP($H58,Törzsadat!$C:$BD,13,0)),0,VLOOKUP($H58,Törzsadat!$C:$BD,BC$1,0))","v":0},{"$f":"IF(ISERROR(VLOOKUP($H58,Törzsadat!$C:$BD,13,0)),0,VLOOKUP($H58,Törzsadat!$C:$BD,BD$1,0))","v":0}]
[{"$nulls":6},"Ékszer 1",{"$nulls":7},{"$f":"IF(ISERROR(VLOOKUP($H59,Törzsadat!$C:$BD,13,0)),0,VLOOKUP($H59,Törzsadat!$C:$BD,O$1,0))","v":0},{"$f":"IF(ISERROR(VLOOKUP($H59,Törzsadat!$C:$BD,13,0)),0,VLOOKUP($H59,Törzsadat!$C:$BD,P$1,0))","v":0},{"$f":"IF(ISERROR(VLOOKUP($H59,Törzsadat!$C:$BD,13,0)),0,VLOOKUP($H59,Törzsadat!$C:$BD,Q$1,0))","v":0},{"$f":"IF(ISERROR(VLOOKUP($H59,Törzsadat!$C:$BD,13,0)),0,VLOOKUP($H59,Törzsadat!$C:$BD,R$1,0))","v":0},{"$f":"IF(ISERROR(VLOOKUP($H59,Törzsadat!$C:$BD,13,0)),0,VLOOKUP($H59,Törzsadat!$C:$BD,S$1,0))","v":0},{"$f":"IF(ISERROR(VLOOKUP($H59,Törzsadat!$C:$BD,13,0)),0,VLOOKUP($H59,Törzsadat!$C:$BD,T$1,0))","v":0},{"$f":"IF(ISERROR(VLOOKUP($H59,Törzsadat!$C:$BD,13,0)),0,VLOOKUP($H59,Törzsadat!$C:$BD,U$1,0))","v":0},{"$f":"IF(ISERROR(VLOOKUP($H59,Törzsadat!$C:$BD,13,0)),0,VLOOKUP($H59,Törzsadat!$C:$BD,V$1,0))","v":0},{"$f":"IF(ISERROR(VLOOKUP($H59,Törzsadat!$C:$BD,13,0)),0,VLOOKUP($H59,Törzsadat!$C:$BD,W$1,0))","v":0},{"$f":"IF(ISERROR(VLOOKUP($H59,Törzsadat!$C:$BD,13,0)),0,VLOOKUP($H59,Törzsadat!$C:$BD,X$1,0))","v":0},{"$f":"IF(ISERROR(VLOOKUP($H59,Törzsadat!$C:$BD,13,0)),0,VLOOKUP($H59,Törzsadat!$C:$BD,Y$1,0))","v":0},{"$f":"IF(ISERROR(VLOOKUP($H59,Törzsadat!$C:$BD,13,0)),0,VLOOKUP($H59,Törzsadat!$C:$BD,Z$1,0))","v":0},{"$f":"IF(ISERROR(VLOOKUP($H59,Törzsadat!$C:$BD,13,0)),0,VLOOKUP($H59,Törzsadat!$C:$BD,AA$1,0))","v":0},{"$f":"IF(ISERROR(VLOOKUP($H59,Törzsadat!$C:$BD,13,0)),0,VLOOKUP($H59,Törzsadat!$C:$BD,AB$1,0))","v":0},{"$f":"IF(ISERROR(VLOOKUP($H59,Törzsadat!$C:$BD,13,0)),0,VLOOKUP($H59,Törzsadat!$C:$BD,AC$1,0))","v":0},{"$f":"IF(ISERROR(VLOOKUP($H59,Törzsadat!$C:$BD,13,0)),0,VLOOKUP($H59,Törzsadat!$C:$BD,AD$1,0))","v":0},{"$f":"IF(ISERROR(VLOOKUP($H59,Törzsadat!$C:$BD,13,0)),0,VLOOKUP($H59,Törzsadat!$C:$BD,AE$1,0))","v":0},{"$f":"IF(ISERROR(VLOOKUP($H59,Törzsadat!$C:$BD,13,0)),0,VLOOKUP($H59,Törzsadat!$C:$BD,AF$1,0))","v":0},{"$f":"IF(ISERROR(VLOOKUP($H59,Törzsadat!$C:$BD,13,0)),0,VLOOKUP($H59,Törzsadat!$C:$BD,AG$1,0))","v":0},{"$f":"IF(ISERROR(VLOOKUP($H59,Törzsadat!$C:$BD,13,0)),0,VLOOKUP($H59,Törzsadat!$C:$BD,AH$1,0))","v":0},{"$f":"IF(ISERROR(VLOOKUP($H59,Törzsadat!$C:$BD,13,0)),0,VLOOKUP($H59,Törzsadat!$C:$BD,AI$1,0))","v":0},{"$f":"IF(ISERROR(VLOOKUP($H59,Törzsadat!$C:$BD,13,0)),0,VLOOKUP($H59,Törzsadat!$C:$BD,AJ$1,0))","v":0},{"$f":"IF(ISERROR(VLOOKUP($H59,Törzsadat!$C:$BD,13,0)),0,VLOOKUP($H59,Törzsadat!$C:$BD,AK$1,0))","v":0},{"$f":"IF(ISERROR(VLOOKUP($H59,Törzsadat!$C:$BD,13,0)),0,VLOOKUP($H59,Törzsadat!$C:$BD,AL$1,0))","v":0},{"$f":"IF(ISERROR(VLOOKUP($H59,Törzsadat!$C:$BD,13,0)),0,VLOOKUP($H59,Törzsadat!$C:$BD,AM$1,0))","v":0},{"$f":"IF(ISERROR(VLOOKUP($H59,Törzsadat!$C:$BD,13,0)),0,VLOOKUP($H59,Törzsadat!$C:$BD,AN$1,0))","v":0},{"$f":"IF(ISERROR(VLOOKUP($H59,Törzsadat!$C:$BD,13,0)),0,VLOOKUP($H59,Törzsadat!$C:$BD,AO$1,0))","v":0},{"$f":"IF(ISERROR(VLOOKUP($H59,Törzsadat!$C:$BD,13,0)),0,VLOOKUP($H59,Törzsadat!$C:$BD,AP$1,0))","v":0},{"$f":"IF(ISERROR(VLOOKUP($H59,Törzsadat!$C:$BD,13,0)),0,VLOOKUP($H59,Törzsadat!$C:$BD,AQ$1,0))","v":0},{"$f":"IF(ISERROR(VLOOKUP($H59,Törzsadat!$C:$BD,13,0)),0,VLOOKUP($H59,Törzsadat!$C:$BD,AR$1,0))","v":0},{"$f":"IF(ISERROR(VLOOKUP($H59,Törzsadat!$C:$BD,13,0)),0,VLOOKUP($H59,Törzsadat!$C:$BD,AS$1,0))","v":0},{"$f":"IF(ISERROR(VLOOKUP($H59,Törzsadat!$C:$BD,13,0)),0,VLOOKUP($H59,Törzsadat!$C:$BD,AT$1,0))","v":0},{"$f":"IF(ISERROR(VLOOKUP($H59,Törzsadat!$C:$BD,13,0)),0,VLOOKUP($H59,Törzsadat!$C:$BD,AU$1,0))","v":0},{"$f":"IF(ISERROR(VLOOKUP($H59,Törzsadat!$C:$BD,13,0)),0,VLOOKUP($H59,Törzsadat!$C:$BD,AV$1,0))","v":0},{"$f":"IF(ISERROR(VLOOKUP($H59,Törzsadat!$C:$BD,13,0)),0,VLOOKUP($H59,Törzsadat!$C:$BD,AW$1,0))","v":0},{"$f":"IF(ISERROR(VLOOKUP($H59,Törzsadat!$C:$BD,13,0)),0,VLOOKUP($H59,Törzsadat!$C:$BD,AX$1,0))","v":0},{"$f":"IF(ISERROR(VLOOKUP($H59,Törzsadat!$C:$BD,13,0)),0,VLOOKUP($H59,Törzsadat!$C:$BD,AY$1,0))","v":0},{"$f":"IF(ISERROR(VLOOKUP($H59,Törzsadat!$C:$BD,13,0)),0,VLOOKUP($H59,Törzsadat!$C:$BD,AZ$1,0))","v":0},{"$f":"IF(ISERROR(VLOOKUP($H59,Törzsadat!$C:$BD,13,0)),0,VLOOKUP($H59,Törzsadat!$C:$BD,BA$1,0))","v":0},{"$f":"IF(ISERROR(VLOOKUP($H59,Törzsadat!$C:$BD,13,0)),0,VLOOKUP($H59,Törzsadat!$C:$BD,BB$1,0))","v":0},{"$f":"IF(ISERROR(VLOOKUP($H59,Törzsadat!$C:$BD,13,0)),0,VLOOKUP($H59,Törzsadat!$C:$BD,BC$1,0))","v":0},{"$f":"IF(ISERROR(VLOOKUP($H59,Törzsadat!$C:$BD,13,0)),0,VLOOKUP($H59,Törzsadat!$C:$BD,BD$1,0))","v":0}]
[{"$nulls":6},"Ékszer 2",{"$nulls":7},{"$f":"IF(ISERROR(VLOOKUP($H60,Törzsadat!$C:$BD,13,0)),0,VLOOKUP($H60,Törzsadat!$C:$BD,O$1,0))","v":0},{"$f":"IF(ISERROR(VLOOKUP($H60,Törzsadat!$C:$BD,13,0)),0,VLOOKUP($H60,Törzsadat!$C:$BD,P$1,0))","v":0},{"$f":"IF(ISERROR(VLOOKUP($H60,Törzsadat!$C:$BD,13,0)),0,VLOOKUP($H60,Törzsadat!$C:$BD,Q$1,0))","v":0},{"$f":"IF(ISERROR(VLOOKUP($H60,Törzsadat!$C:$BD,13,0)),0,VLOOKUP($H60,Törzsadat!$C:$BD,R$1,0))","v":0},{"$f":"IF(ISERROR(VLOOKUP($H60,Törzsadat!$C:$BD,13,0)),0,VLOOKUP($H60,Törzsadat!$C:$BD,S$1,0))","v":0},{"$f":"IF(ISERROR(VLOOKUP($H60,Törzsadat!$C:$BD,13,0)),0,VLOOKUP($H60,Törzsadat!$C:$BD,T$1,0))","v":0},{"$f":"IF(ISERROR(VLOOKUP($H60,Törzsadat!$C:$BD,13,0)),0,VLOOKUP($H60,Törzsadat!$C:$BD,U$1,0))","v":0},{"$f":"IF(ISERROR(VLOOKUP($H60,Törzsadat!$C:$BD,13,0)),0,VLOOKUP($H60,Törzsadat!$C:$BD,V$1,0))","v":0},{"$f":"IF(ISERROR(VLOOKUP($H60,Törzsadat!$C:$BD,13,0)),0,VLOOKUP($H60,Törzsadat!$C:$BD,W$1,0))","v":0},{"$f":"IF(ISERROR(VLOOKUP($H60,Törzsadat!$C:$BD,13,0)),0,VLOOKUP($H60,Törzsadat!$C:$BD,X$1,0))","v":0},{"$f":"IF(ISERROR(VLOOKUP($H60,Törzsadat!$C:$BD,13,0)),0,VLOOKUP($H60,Törzsadat!$C:$BD,Y$1,0))","v":0},{"$f":"IF(ISERROR(VLOOKUP($H60,Törzsadat!$C:$BD,13,0)),0,VLOOKUP($H60,Törzsadat!$C:$BD,Z$1,0))","v":0},{"$f":"IF(ISERROR(VLOOKUP($H60,Törzsadat!$C:$BD,13,0)),0,VLOOKUP($H60,Törzsadat!$C:$BD,AA$1,0))","v":0},{"$f":"IF(ISERROR(VLOOKUP($H60,Törzsadat!$C:$BD,13,0)),0,VLOOKUP($H60,Törzsadat!$C:$BD,AB$1,0))","v":0},{"$f":"IF(ISERROR(VLOOKUP($H60,Törzsadat!$C:$BD,13,0)),0,VLOOKUP($H60,Törzsadat!$C:$BD,AC$1,0))","v":0},{"$f":"IF(ISERROR(VLOOKUP($H60,Törzsadat!$C:$BD,13,0)),0,VLOOKUP($H60,Törzsadat!$C:$BD,AD$1,0))","v":0},{"$f":"IF(ISERROR(VLOOKUP($H60,Törzsadat!$C:$BD,13,0)),0,VLOOKUP($H60,Törzsadat!$C:$BD,AE$1,0))","v":0},{"$f":"IF(ISERROR(VLOOKUP($H60,Törzsadat!$C:$BD,13,0)),0,VLOOKUP($H60,Törzsadat!$C:$BD,AF$1,0))","v":0},{"$f":"IF(ISERROR(VLOOKUP($H60,Törzsadat!$C:$BD,13,0)),0,VLOOKUP($H60,Törzsadat!$C:$BD,AG$1,0))","v":0},{"$f":"IF(ISERROR(VLOOKUP($H60,Törzsadat!$C:$BD,13,0)),0,VLOOKUP($H60,Törzsadat!$C:$BD,AH$1,0))","v":0},{"$f":"IF(ISERROR(VLOOKUP($H60,Törzsadat!$C:$BD,13,0)),0,VLOOKUP($H60,Törzsadat!$C:$BD,AI$1,0))","v":0},{"$f":"IF(ISERROR(VLOOKUP($H60,Törzsadat!$C:$BD,13,0)),0,VLOOKUP($H60,Törzsadat!$C:$BD,AJ$1,0))","v":0},{"$f":"IF(ISERROR(VLOOKUP($H60,Törzsadat!$C:$BD,13,0)),0,VLOOKUP($H60,Törzsadat!$C:$BD,AK$1,0))","v":0},{"$f":"IF(ISERROR(VLOOKUP($H60,Törzsadat!$C:$BD,13,0)),0,VLOOKUP($H60,Törzsadat!$C:$BD,AL$1,0))","v":0},{"$f":"IF(ISERROR(VLOOKUP($H60,Törzsadat!$C:$BD,13,0)),0,VLOOKUP($H60,Törzsadat!$C:$BD,AM$1,0))","v":0},{"$f":"IF(ISERROR(VLOOKUP($H60,Törzsadat!$C:$BD,13,0)),0,VLOOKUP($H60,Törzsadat!$C:$BD,AN$1,0))","v":0},{"$f":"IF(ISERROR(VLOOKUP($H60,Törzsadat!$C:$BD,13,0)),0,VLOOKUP($H60,Törzsadat!$C:$BD,AO$1,0))","v":0},{"$f":"IF(ISERROR(VLOOKUP($H60,Törzsadat!$C:$BD,13,0)),0,VLOOKUP($H60,Törzsadat!$C:$BD,AP$1,0))","v":0},{"$f":"IF(ISERROR(VLOOKUP($H60,Törzsadat!$C:$BD,13,0)),0,VLOOKUP($H60,Törzsadat!$C:$BD,AQ$1,0))","v":0},{"$f":"IF(ISERROR(VLOOKUP($H60,Törzsadat!$C:$BD,13,0)),0,VLOOKUP($H60,Törzsadat!$C:$BD,AR$1,0))","v":0},{"$f":"IF(ISERROR(VLOOKUP($H60,Törzsadat!$C:$BD,13,0)),0,VLOOKUP($H60,Törzsadat!$C:$BD,AS$1,0))","v":0},{"$f":"IF(ISERROR(VLOOKUP($H60,Törzsadat!$C:$BD,13,0)),0,VLOOKUP($H60,Törzsadat!$C:$BD,AT$1,0))","v":0},{"$f":"IF(ISERROR(VLOOKUP($H60,Törzsadat!$C:$BD,13,0)),0,VLOOKUP($H60,Törzsadat!$C:$BD,AU$1,0))","v":0},{"$f":"IF(ISERROR(VLOOKUP($H60,Törzsadat!$C:$BD,13,0)),0,VLOOKUP($H60,Törzsadat!$C:$BD,AV$1,0))","v":0},{"$f":"IF(ISERROR(VLOOKUP($H60,Törzsadat!$C:$BD,13,0)),0,VLOOKUP($H60,Törzsadat!$C:$BD,AW$1,0))","v":0},{"$f":"IF(ISERROR(VLOOKUP($H60,Törzsadat!$C:$BD,13,0)),0,VLOOKUP($H60,Törzsadat!$C:$BD,AX$1,0))","v":0},{"$f":"IF(ISERROR(VLOOKUP($H60,Törzsadat!$C:$BD,13,0)),0,VLOOKUP($H60,Törzsadat!$C:$BD,AY$1,0))","v":0},{"$f":"IF(ISERROR(VLOOKUP($H60,Törzsadat!$C:$BD,13,0)),0,VLOOKUP($H60,Törzsadat!$C:$BD,AZ$1,0))","v":0},{"$f":"IF(ISERROR(VLOOKUP($H60,Törzsadat!$C:$BD,13,0)),0,VLOOKUP($H60,Törzsadat!$C:$BD,BA$1,0))","v":0},{"$f":"IF(ISERROR(VLOOKUP($H60,Törzsadat!$C:$BD,13,0)),0,VLOOKUP($H60,Törzsadat!$C:$BD,BB$1,0))","v":0},{"$f":"IF(ISERROR(VLOOKUP($H60,Törzsadat!$C:$BD,13,0)),0,VLOOKUP($H60,Törzsadat!$C:$BD,BC$1,0))","v":0},{"$f":"IF(ISERROR(VLOOKUP($H60,Törzsadat!$C:$BD,13,0)),0,VLOOKUP($H60,Törzsadat!$C:$BD,BD$1,0))","v":0}]
[{"$nulls":6},"Ékszer 3",{"$nulls":7},{"$f":"IF(ISERROR(VLOOKUP($H61,Törzsadat!$C:$BD,13,0)),0,VLOOKUP($H61,Törzsadat!$C:$BD,O$1,0))","v":0},{"$f":"IF(ISERROR(VLOOKUP($H61,Törzsadat!$C:$BD,13,0)),0,VLOOKUP($H61,Törzsadat!$C:$BD,P$1,0))","v":0},{"$f":"IF(ISERROR(VLOOKUP($H61,Törzsadat!$C:$BD,13,0)),0,VLOOKUP($H61,Törzsadat!$C:$BD,Q$1,0))","v":0},{"$f":"IF(ISERROR(VLOOKUP($H61,Törzsadat!$C:$BD,13,0)),0,VLOOKUP($H61,Törzsadat!$C:$BD,R$1,0))","v":0},{"$f":"IF(ISERROR(VLOOKUP($H61,Törzsadat!$C:$BD,13,0)),0,VLOOKUP($H61,Törzsadat!$C:$BD,S$1,0))","v":0},{"$f":"IF(ISERROR(VLOOKUP($H61,Törzsadat!$C:$BD,13,0)),0,VLOOKUP($H61,Törzsadat!$C:$BD,T$1,0))","v":0},{"$f":"IF(ISERROR(VLOOKUP($H61,Törzsadat!$C:$BD,13,0)),0,VLOOKUP($H61,Törzsadat!$C:$BD,U$1,0))","v":0},{"$f":"IF(ISERROR(VLOOKUP($H61,Törzsadat!$C:$BD,13,0)),0,VLOOKUP($H61,Törzsadat!$C:$BD,V$1,0))","v":0},{"$f":"IF(ISERROR(VLOOKUP($H61,Törzsadat!$C:$BD,13,0)),0,VLOOKUP($H61,Törzsadat!$C:$BD,W$1,0))","v":0},{"$f":"IF(ISERROR(VLOOKUP($H61,Törzsadat!$C:$BD,13,0)),0,VLOOKUP($H61,Törzsadat!$C:$BD,X$1,0))","v":0},{"$f":"IF(ISERROR(VLOOKUP($H61,Törzsadat!$C:$BD,13,0)),0,VLOOKUP($H61,Törzsadat!$C:$BD,Y$1,0))","v":0},{"$f":"IF(ISERROR(VLOOKUP($H61,Törzsadat!$C:$BD,13,0)),0,VLOOKUP($H61,Törzsadat!$C:$BD,Z$1,0))","v":0},{"$f":"IF(ISERROR(VLOOKUP($H61,Törzsadat!$C:$BD,13,0)),0,VLOOKUP($H61,Törzsadat!$C:$BD,AA$1,0))","v":0},{"$f":"IF(ISERROR(VLOOKUP($H61,Törzsadat!$C:$BD,13,0)),0,VLOOKUP($H61,Törzsadat!$C:$BD,AB$1,0))","v":0},{"$f":"IF(ISERROR(VLOOKUP($H61,Törzsadat!$C:$BD,13,0)),0,VLOOKUP($H61,Törzsadat!$C:$BD,AC$1,0))","v":0},{"$f":"IF(ISERROR(VLOOKUP($H61,Törzsadat!$C:$BD,13,0)),0,VLOOKUP($H61,Törzsadat!$C:$BD,AD$1,0))","v":0},{"$f":"IF(ISERROR(VLOOKUP($H61,Törzsadat!$C:$BD,13,0)),0,VLOOKUP($H61,Törzsadat!$C:$BD,AE$1,0))","v":0},{"$f":"IF(ISERROR(VLOOKUP($H61,Törzsadat!$C:$BD,13,0)),0,VLOOKUP($H61,Törzsadat!$C:$BD,AF$1,0))","v":0},{"$f":"IF(ISERROR(VLOOKUP($H61,Törzsadat!$C:$BD,13,0)),0,VLOOKUP($H61,Törzsadat!$C:$BD,AG$1,0))","v":0},{"$f":"IF(ISERROR(VLOOKUP($H61,Törzsadat!$C:$BD,13,0)),0,VLOOKUP($H61,Törzsadat!$C:$BD,AH$1,0))","v":0},{"$f":"IF(ISERROR(VLOOKUP($H61,Törzsadat!$C:$BD,13,0)),0,VLOOKUP($H61,Törzsadat!$C:$BD,AI$1,0))","v":0},{"$f":"IF(ISERROR(VLOOKUP($H61,Törzsadat!$C:$BD,13,0)),0,VLOOKUP($H61,Törzsadat!$C:$BD,AJ$1,0))","v":0},{"$f":"IF(ISERROR(VLOOKUP($H61,Törzsadat!$C:$BD,13,0)),0,VLOOKUP($H61,Törzsadat!$C:$BD,AK$1,0))","v":0},{"$f":"IF(ISERROR(VLOOKUP($H61,Törzsadat!$C:$BD,13,0)),0,VLOOKUP($H61,Törzsadat!$C:$BD,AL$1,0))","v":0},{"$f":"IF(ISERROR(VLOOKUP($H61,Törzsadat!$C:$BD,13,0)),0,VLOOKUP($H61,Törzsadat!$C:$BD,AM$1,0))","v":0},{"$f":"IF(ISERROR(VLOOKUP($H61,Törzsadat!$C:$BD,13,0)),0,VLOOKUP($H61,Törzsadat!$C:$BD,AN$1,0))","v":0},{"$f":"IF(ISERROR(VLOOKUP($H61,Törzsadat!$C:$BD,13,0)),0,VLOOKUP($H61,Törzsadat!$C:$BD,AO$1,0))","v":0},{"$f":"IF(ISERROR(VLOOKUP($H61,Törzsadat!$C:$BD,13,0)),0,VLOOKUP($H61,Törzsadat!$C:$BD,AP$1,0))","v":0},{"$f":"IF(ISERROR(VLOOKUP($H61,Törzsadat!$C:$BD,13,0)),0,VLOOKUP($H61,Törzsadat!$C:$BD,AQ$1,0))","v":0},{"$f":"IF(ISERROR(VLOOKUP($H61,Törzsadat!$C:$BD,13,0)),0,VLOOKUP($H61,Törzsadat!$C:$BD,AR$1,0))","v":0},{"$f":"IF(ISERROR(VLOOKUP($H61,Törzsadat!$C:$BD,13,0)),0,VLOOKUP($H61,Törzsadat!$C:$BD,AS$1,0))","v":0},{"$f":"IF(ISERROR(VLOOKUP($H61,Törzsadat!$C:$BD,13,0)),0,VLOOKUP($H61,Törzsadat!$C:$BD,AT$1,0))","v":0},{"$f":"IF(ISERROR(VLOOKUP($H61,Törzsadat!$C:$BD,13,0)),0,VLOOKUP($H61,Törzsadat!$C:$BD,AU$1,0))","v":0},{"$f":"IF(ISERROR(VLOOKUP($H61,Törzsadat!$C:$BD,13,0)),0,VLOOKUP($H61,Törzsadat!$C:$BD,AV$1,0))","v":0},{"$f":"IF(ISERROR(VLOOKUP($H61,Törzsadat!$C:$BD,13,0)),0,VLOOKUP($H61,Törzsadat!$C:$BD,AW$1,0))","v":0},{"$f":"IF(ISERROR(VLOOKUP($H61,Törzsadat!$C:$BD,13,0)),0,VLOOKUP($H61,Törzsadat!$C:$BD,AX$1,0))","v":0},{"$f":"IF(ISERROR(VLOOKUP($H61,Törzsadat!$C:$BD,13,0)),0,VLOOKUP($H61,Törzsadat!$C:$BD,AY$1,0))","v":0},{"$f":"IF(ISERROR(VLOOKUP($H61,Törzsadat!$C:$BD,13,0)),0,VLOOKUP($H61,Törzsadat!$C:$BD,AZ$1,0))","v":0},{"$f":"IF(ISERROR(VLOOKUP($H61,Törzsadat!$C:$BD,13,0)),0,VLOOKUP($H61,Törzsadat!$C:$BD,BA$1,0))","v":0},{"$f":"IF(ISERROR(VLOOKUP($H61,Törzsadat!$C:$BD,13,0)),0,VLOOKUP($H61,Törzsadat!$C:$BD,BB$1,0))","v":0},{"$f":"IF(ISERROR(VLOOKUP($H61,Törzsadat!$C:$BD,13,0)),0,VLOOKUP($H61,Törzsadat!$C:$BD,BC$1,0))","v":0},{"$f":"IF(ISERROR(VLOOKUP($H61,Törzsadat!$C:$BD,13,0)),0,VLOOKUP($H61,Törzsadat!$C:$BD,BD$1,0))","v":0}]
[{"$nulls":6},"Ékszer 4",{"$nulls":7},{"$f":"IF(ISERROR(VLOOKUP($H62,Törzsadat!$C:$BD,13,0)),0,VLOOKUP($H62,Törzsadat!$C:$BD,O$1,0))","v":0},{"$f":"IF(ISERROR(VLOOKUP($H62,Törzsadat!$C:$BD,13,0)),0,VLOOKUP($H62,Törzsadat!$C:$BD,P$1,0))","v":0},{"$f":"IF(ISERROR(VLOOKUP($H62,Törzsadat!$C:$BD,13,0)),0,VLOOKUP($H62,Törzsadat!$C:$BD,Q$1,0))","v":0},{"$f":"IF(ISERROR(VLOOKUP($H62,Törzsadat!$C:$BD,13,0)),0,VLOOKUP($H62,Törzsadat!$C:$BD,R$1,0))","v":0},{"$f":"IF(ISERROR(VLOOKUP($H62,Törzsadat!$C:$BD,13,0)),0,VLOOKUP($H62,Törzsadat!$C:$BD,S$1,0))","v":0},{"$f":"IF(ISERROR(VLOOKUP($H62,Törzsadat!$C:$BD,13,0)),0,VLOOKUP($H62,Törzsadat!$C:$BD,T$1,0))","v":0},{"$f":"IF(ISERROR(VLOOKUP($H62,Törzsadat!$C:$BD,13,0)),0,VLOOKUP($H62,Törzsadat!$C:$BD,U$1,0))","v":0},{"$f":"IF(ISERROR(VLOOKUP($H62,Törzsadat!$C:$BD,13,0)),0,VLOOKUP($H62,Törzsadat!$C:$BD,V$1,0))","v":0},{"$f":"IF(ISERROR(VLOOKUP($H62,Törzsadat!$C:$BD,13,0)),0,VLOOKUP($H62,Törzsadat!$C:$BD,W$1,0))","v":0},{"$f":"IF(ISERROR(VLOOKUP($H62,Törzsadat!$C:$BD,13,0)),0,VLOOKUP($H62,Törzsadat!$C:$BD,X$1,0))","v":0},{"$f":"IF(ISERROR(VLOOKUP($H62,Törzsadat!$C:$BD,13,0)),0,VLOOKUP($H62,Törzsadat!$C:$BD,Y$1,0))","v":0},{"$f":"IF(ISERROR(VLOOKUP($H62,Törzsadat!$C:$BD,13,0)),0,VLOOKUP($H62,Törzsadat!$C:$BD,Z$1,0))","v":0},{"$f":"IF(ISERROR(VLOOKUP($H62,Törzsadat!$C:$BD,13,0)),0,VLOOKUP($H62,Törzsadat!$C:$BD,AA$1,0))","v":0},{"$f":"IF(ISERROR(VLOOKUP($H62,Törzsadat!$C:$BD,13,0)),0,VLOOKUP($H62,Törzsadat!$C:$BD,AB$1,0))","v":0},{"$f":"IF(ISERROR(VLOOKUP($H62,Törzsadat!$C:$BD,13,0)),0,VLOOKUP($H62,Törzsadat!$C:$BD,AC$1,0))","v":0},{"$f":"IF(ISERROR(VLOOKUP($H62,Törzsadat!$C:$BD,13,0)),0,VLOOKUP($H62,Törzsadat!$C:$BD,AD$1,0))","v":0},{"$f":"IF(ISERROR(VLOOKUP($H62,Törzsadat!$C:$BD,13,0)),0,VLOOKUP($H62,Törzsadat!$C:$BD,AE$1,0))","v":0},{"$f":"IF(ISERROR(VLOOKUP($H62,Törzsadat!$C:$BD,13,0)),0,VLOOKUP($H62,Törzsadat!$C:$BD,AF$1,0))","v":0},{"$f":"IF(ISERROR(VLOOKUP($H62,Törzsadat!$C:$BD,13,0)),0,VLOOKUP($H62,Törzsadat!$C:$BD,AG$1,0))","v":0},{"$f":"IF(ISERROR(VLOOKUP($H62,Törzsadat!$C:$BD,13,0)),0,VLOOKUP($H62,Törzsadat!$C:$BD,AH$1,0))","v":0},{"$f":"IF(ISERROR(VLOOKUP($H62,Törzsadat!$C:$BD,13,0)),0,VLOOKUP($H62,Törzsadat!$C:$BD,AI$1,0))","v":0},{"$f":"IF(ISERROR(VLOOKUP($H62,Törzsadat!$C:$BD,13,0)),0,VLOOKUP($H62,Törzsadat!$C:$BD,AJ$1,0))","v":0},{"$f":"IF(ISERROR(VLOOKUP($H62,Törzsadat!$C:$BD,13,0)),0,VLOOKUP($H62,Törzsadat!$C:$BD,AK$1,0))","v":0},{"$f":"IF(ISERROR(VLOOKUP($H62,Törzsadat!$C:$BD,13,0)),0,VLOOKUP($H62,Törzsadat!$C:$BD,AL$1,0))","v":0},{"$f":"IF(ISERROR(VLOOKUP($H62,Törzsadat!$C:$BD,13,0)),0,VLOOKUP($H62,Törzsadat!$C:$BD,AM$1,0))","v":0},{"$f":"IF(ISERROR(VLOOKUP($H62,Törzsadat!$C:$BD,13,0)),0,VLOOKUP($H62,Törzsadat!$C:$BD,AN$1,0))","v":0},{"$f":"IF(ISERROR(VLOOKUP($H62,Törzsadat!$C:$BD,13,0)),0,VLOOKUP($H62,Törzsadat!$C:$BD,AO$1,0))","v":0},{"$f":"IF(ISERROR(VLOOKUP($H62,Törzsadat!$C:$BD,13,0)),0,VLOOKUP($H62,Törzsadat!$C:$BD,AP$1,0))","v":0},{"$f":"IF(ISERROR(VLOOKUP($H62,Törzsadat!$C:$BD,13,0)),0,VLOOKUP($H62,Törzsadat!$C:$BD,AQ$1,0))","v":0},{"$f":"IF(ISERROR(VLOOKUP($H62,Törzsadat!$C:$BD,13,0)),0,VLOOKUP($H62,Törzsadat!$C:$BD,AR$1,0))","v":0},{"$f":"IF(ISERROR(VLOOKUP($H62,Törzsadat!$C:$BD,13,0)),0,VLOOKUP($H62,Törzsadat!$C:$BD,AS$1,0))","v":0},{"$f":"IF(ISERROR(VLOOKUP($H62,Törzsadat!$C:$BD,13,0)),0,VLOOKUP($H62,Törzsadat!$C:$BD,AT$1,0))","v":0},{"$f":"IF(ISERROR(VLOOKUP($H62,Törzsadat!$C:$BD,13,0)),0,VLOOKUP($H62,Törzsadat!$C:$BD,AU$1,0))","v":0},{"$f":"IF(ISERROR(VLOOKUP($H62,Törzsadat!$C:$BD,13,0)),0,VLOOKUP($H62,Törzsadat!$C:$BD,AV$1,0))","v":0},{"$f":"IF(ISERROR(VLOOKUP($H62,Törzsadat!$C:$BD,13,0)),0,VLOOKUP($H62,Törzsadat!$C:$BD,AW$1,0))","v":0},{"$f":"IF(ISERROR(VLOOKUP($H62,Törzsadat!$C:$BD,13,0)),0,VLOOKUP($H62,Törzsadat!$C:$BD,AX$1,0))","v":0},{"$f":"IF(ISERROR(VLOOKUP($H62,Törzsadat!$C:$BD,13,0)),0,VLOOKUP($H62,Törzsadat!$C:$BD,AY$1,0))","v":0},{"$f":"IF(ISERROR(VLOOKUP($H62,Törzsadat!$C:$BD,13,0)),0,VLOOKUP($H62,Törzsadat!$C:$BD,AZ$1,0))","v":0},{"$f":"IF(ISERROR(VLOOKUP($H62,Törzsadat!$C:$BD,13,0)),0,VLOOKUP($H62,Törzsadat!$C:$BD,BA$1,0))","v":0},{"$f":"IF(ISERROR(VLOOKUP($H62,Törzsadat!$C:$BD,13,0)),0,VLOOKUP($H62,Törzsadat!$C:$BD,BB$1,0))","v":0},{"$f":"IF(ISERROR(VLOOKUP($H62,Törzsadat!$C:$BD,13,0)),0,VLOOKUP($H62,Törzsadat!$C:$BD,BC$1,0))","v":0},{"$f":"IF(ISERROR(VLOOKUP($H62,Törzsadat!$C:$BD,13,0)),0,VLOOKUP($H62,Törzsadat!$C:$BD,BD$1,0))","v":0}]
[{"$nulls":6},"Ékszer 5",{"$nulls":7},{"$f":"IF(ISERROR(VLOOKUP($H63,Törzsadat!$C:$BD,13,0)),0,VLOOKUP($H63,Törzsadat!$C:$BD,O$1,0))","v":0},{"$f":"IF(ISERROR(VLOOKUP($H63,Törzsadat!$C:$BD,13,0)),0,VLOOKUP($H63,Törzsadat!$C:$BD,P$1,0))","v":0},{"$f":"IF(ISERROR(VLOOKUP($H63,Törzsadat!$C:$BD,13,0)),0,VLOOKUP($H63,Törzsadat!$C:$BD,Q$1,0))","v":0},{"$f":"IF(ISERROR(VLOOKUP($H63,Törzsadat!$C:$BD,13,0)),0,VLOOKUP($H63,Törzsadat!$C:$BD,R$1,0))","v":0},{"$f":"IF(ISERROR(VLOOKUP($H63,Törzsadat!$C:$BD,13,0)),0,VLOOKUP($H63,Törzsadat!$C:$BD,S$1,0))","v":0},{"$f":"IF(ISERROR(VLOOKUP($H63,Törzsadat!$C:$BD,13,0)),0,VLOOKUP($H63,Törzsadat!$C:$BD,T$1,0))","v":0},{"$f":"IF(ISERROR(VLOOKUP($H63,Törzsadat!$C:$BD,13,0)),0,VLOOKUP($H63,Törzsadat!$C:$BD,U$1,0))","v":0},{"$f":"IF(ISERROR(VLOOKUP($H63,Törzsadat!$C:$BD,13,0)),0,VLOOKUP($H63,Törzsadat!$C:$BD,V$1,0))","v":0},{"$f":"IF(ISERROR(VLOOKUP($H63,Törzsadat!$C:$BD,13,0)),0,VLOOKUP($H63,Törzsadat!$C:$BD,W$1,0))","v":0},{"$f":"IF(ISERROR(VLOOKUP($H63,Törzsadat!$C:$BD,13,0)),0,VLOOKUP($H63,Törzsadat!$C:$BD,X$1,0))","v":0},{"$f":"IF(ISERROR(VLOOKUP($H63,Törzsadat!$C:$BD,13,0)),0,VLOOKUP($H63,Törzsadat!$C:$BD,Y$1,0))","v":0},{"$f":"IF(ISERROR(VLOOKUP($H63,Törzsadat!$C:$BD,13,0)),0,VLOOKUP($H63,Törzsadat!$C:$BD,Z$1,0))","v":0},{"$f":"IF(ISERROR(VLOOKUP($H63,Törzsadat!$C:$BD,13,0)),0,VLOOKUP($H63,Törzsadat!$C:$BD,AA$1,0))","v":0},{"$f":"IF(ISERROR(VLOOKUP($H63,Törzsadat!$C:$BD,13,0)),0,VLOOKUP($H63,Törzsadat!$C:$BD,AB$1,0))","v":0},{"$f":"IF(ISERROR(VLOOKUP($H63,Törzsadat!$C:$BD,13,0)),0,VLOOKUP($H63,Törzsadat!$C:$BD,AC$1,0))","v":0},{"$f":"IF(ISERROR(VLOOKUP($H63,Törzsadat!$C:$BD,13,0)),0,VLOOKUP($H63,Törzsadat!$C:$BD,AD$1,0))","v":0},{"$f":"IF(ISERROR(VLOOKUP($H63,Törzsadat!$C:$BD,13,0)),0,VLOOKUP($H63,Törzsadat!$C:$BD,AE$1,0))","v":0},{"$f":"IF(ISERROR(VLOOKUP($H63,Törzsadat!$C:$BD,13,0)),0,VLOOKUP($H63,Törzsadat!$C:$BD,AF$1,0))","v":0},{"$f":"IF(ISERROR(VLOOKUP($H63,Törzsadat!$C:$BD,13,0)),0,VLOOKUP($H63,Törzsadat!$C:$BD,AG$1,0))","v":0},{"$f":"IF(ISERROR(VLOOKUP($H63,Törzsadat!$C:$BD,13,0)),0,VLOOKUP($H63,Törzsadat!$C:$BD,AH$1,0))","v":0},{"$f":"IF(ISERROR(VLOOKUP($H63,Törzsadat!$C:$BD,13,0)),0,VLOOKUP($H63,Törzsadat!$C:$BD,AI$1,0))","v":0},{"$f":"IF(ISERROR(VLOOKUP($H63,Törzsadat!$C:$BD,13,0)),0,VLOOKUP($H63,Törzsadat!$C:$BD,AJ$1,0))","v":0},{"$f":"IF(ISERROR(VLOOKUP($H63,Törzsadat!$C:$BD,13,0)),0,VLOOKUP($H63,Törzsadat!$C:$BD,AK$1,0))","v":0},{"$f":"IF(ISERROR(VLOOKUP($H63,Törzsadat!$C:$BD,13,0)),0,VLOOKUP($H63,Törzsadat!$C:$BD,AL$1,0))","v":0},{"$f":"IF(ISERROR(VLOOKUP($H63,Törzsadat!$C:$BD,13,0)),0,VLOOKUP($H63,Törzsadat!$C:$BD,AM$1,0))","v":0},{"$f":"IF(ISERROR(VLOOKUP($H63,Törzsadat!$C:$BD,13,0)),0,VLOOKUP($H63,Törzsadat!$C:$BD,AN$1,0))","v":0},{"$f":"IF(ISERROR(VLOOKUP($H63,Törzsadat!$C:$BD,13,0)),0,VLOOKUP($H63,Törzsadat!$C:$BD,AO$1,0))","v":0},{"$f":"IF(ISERROR(VLOOKUP($H63,Törzsadat!$C:$BD,13,0)),0,VLOOKUP($H63,Törzsadat!$C:$BD,AP$1,0))","v":0},{"$f":"IF(ISERROR(VLOOKUP($H63,Törzsadat!$C:$BD,13,0)),0,VLOOKUP($H63,Törzsadat!$C:$BD,AQ$1,0))","v":0},{"$f":"IF(ISERROR(VLOOKUP($H63,Törzsadat!$C:$BD,13,0)),0,VLOOKUP($H63,Törzsadat!$C:$BD,AR$1,0))","v":0},{"$f":"IF(ISERROR(VLOOKUP($H63,Törzsadat!$C:$BD,13,0)),0,VLOOKUP($H63,Törzsadat!$C:$BD,AS$1,0))","v":0},{"$f":"IF(ISERROR(VLOOKUP($H63,Törzsadat!$C:$BD,13,0)),0,VLOOKUP($H63,Törzsadat!$C:$BD,AT$1,0))","v":0},{"$f":"IF(ISERROR(VLOOKUP($H63,Törzsadat!$C:$BD,13,0)),0,VLOOKUP($H63,Törzsadat!$C:$BD,AU$1,0))","v":0},{"$f":"IF(ISERROR(VLOOKUP($H63,Törzsadat!$C:$BD,13,0)),0,VLOOKUP($H63,Törzsadat!$C:$BD,AV$1,0))","v":0},{"$f":"IF(ISERROR(VLOOKUP($H63,Törzsadat!$C:$BD,13,0)),0,VLOOKUP($H63,Törzsadat!$C:$BD,AW$1,0))","v":0},{"$f":"IF(ISERROR(VLOOKUP($H63,Törzsadat!$C:$BD,13,0)),0,VLOOKUP($H63,Törzsadat!$C:$BD,AX$1,0))","v":0},{"$f":"IF(ISERROR(VLOOKUP($H63,Törzsadat!$C:$BD,13,0)),0,VLOOKUP($H63,Törzsadat!$C:$BD,AY$1,0))","v":0},{"$f":"IF(ISERROR(VLOOKUP($H63,Törzsadat!$C:$BD,13,0)),0,VLOOKUP($H63,Törzsadat!$C:$BD,AZ$1,0))","v":0},{"$f":"IF(ISERROR(VLOOKUP($H63,Törzsadat!$C:$BD,13,0)),0,VLOOKUP($H63,Törzsadat!$C:$BD,BA$1,0))","v":0},{"$f":"IF(ISERROR(VLOOKUP($H63,Törzsadat!$C:$BD,13,0)),0,VLOOKUP($H63,Törzsadat!$C:$BD,BB$1,0))","v":0},{"$f":"IF(ISERROR(VLOOKUP($H63,Törzsadat!$C:$BD,13,0)),0,VLOOKUP($H63,Törzsadat!$C:$BD,BC$1,0))","v":0},{"$f":"IF(ISERROR(VLOOKUP($H63,Törzsadat!$C:$BD,13,0)),0,VLOOKUP($H63,Törzsadat!$C:$BD,BD$1,0))","v":0}]
[{"$nulls":6},"Ékszer 6",{"$nulls":7},{"$f":"IF(ISERROR(VLOOKUP($H64,Törzsadat!$C:$BD,13,0)),0,VLOOKUP($H64,Törzsadat!$C:$BD,O$1,0))","v":0},{"$f":"IF(ISERROR(VLOOKUP($H64,Törzsadat!$C:$BD,13,0)),0,VLOOKUP($H64,Törzsadat!$C:$BD,P$1,0))","v":0},{"$f":"IF(ISERROR(VLOOKUP($H64,Törzsadat!$C:$BD,13,0)),0,VLOOKUP($H64,Törzsadat!$C:$BD,Q$1,0))","v":0},{"$f":"IF(ISERROR(VLOOKUP($H64,Törzsadat!$C:$BD,13,0)),0,VLOOKUP($H64,Törzsadat!$C:$BD,R$1,0))","v":0},{"$f":"IF(ISERROR(VLOOKUP($H64,Törzsadat!$C:$BD,13,0)),0,VLOOKUP($H64,Törzsadat!$C:$BD,S$1,0))","v":0},{"$f":"IF(ISERROR(VLOOKUP($H64,Törzsadat!$C:$BD,13,0)),0,VLOOKUP($H64,Törzsadat!$C:$BD,T$1,0))","v":0},{"$f":"IF(ISERROR(VLOOKUP($H64,Törzsadat!$C:$BD,13,0)),0,VLOOKUP($H64,Törzsadat!$C:$BD,U$1,0))","v":0},{"$f":"IF(ISERROR(VLOOKUP($H64,Törzsadat!$C:$BD,13,0)),0,VLOOKUP($H64,Törzsadat!$C:$BD,V$1,0))","v":0},{"$f":"IF(ISERROR(VLOOKUP($H64,Törzsadat!$C:$BD,13,0)),0,VLOOKUP($H64,Törzsadat!$C:$BD,W$1,0))","v":0},{"$f":"IF(ISERROR(VLOOKUP($H64,Törzsadat!$C:$BD,13,0)),0,VLOOKUP($H64,Törzsadat!$C:$BD,X$1,0))","v":0},{"$f":"IF(ISERROR(VLOOKUP($H64,Törzsadat!$C:$BD,13,0)),0,VLOOKUP($H64,Törzsadat!$C:$BD,Y$1,0))","v":0},{"$f":"IF(ISERROR(VLOOKUP($H64,Törzsadat!$C:$BD,13,0)),0,VLOOKUP($H64,Törzsadat!$C:$BD,Z$1,0))","v":0},{"$f":"IF(ISERROR(VLOOKUP($H64,Törzsadat!$C:$BD,13,0)),0,VLOOKUP($H64,Törzsadat!$C:$BD,AA$1,0))","v":0},{"$f":"IF(ISERROR(VLOOKUP($H64,Törzsadat!$C:$BD,13,0)),0,VLOOKUP($H64,Törzsadat!$C:$BD,AB$1,0))","v":0},{"$f":"IF(ISERROR(VLOOKUP($H64,Törzsadat!$C:$BD,13,0)),0,VLOOKUP($H64,Törzsadat!$C:$BD,AC$1,0))","v":0},{"$f":"IF(ISERROR(VLOOKUP($H64,Törzsadat!$C:$BD,13,0)),0,VLOOKUP($H64,Törzsadat!$C:$BD,AD$1,0))","v":0},{"$f":"IF(ISERROR(VLOOKUP($H64,Törzsadat!$C:$BD,13,0)),0,VLOOKUP($H64,Törzsadat!$C:$BD,AE$1,0))","v":0},{"$f":"IF(ISERROR(VLOOKUP($H64,Törzsadat!$C:$BD,13,0)),0,VLOOKUP($H64,Törzsadat!$C:$BD,AF$1,0))","v":0},{"$f":"IF(ISERROR(VLOOKUP($H64,Törzsadat!$C:$BD,13,0)),0,VLOOKUP($H64,Törzsadat!$C:$BD,AG$1,0))","v":0},{"$f":"IF(ISERROR(VLOOKUP($H64,Törzsadat!$C:$BD,13,0)),0,VLOOKUP($H64,Törzsadat!$C:$BD,AH$1,0))","v":0},{"$f":"IF(ISERROR(VLOOKUP($H64,Törzsadat!$C:$BD,13,0)),0,VLOOKUP($H64,Törzsadat!$C:$BD,AI$1,0))","v":0},{"$f":"IF(ISERROR(VLOOKUP($H64,Törzsadat!$C:$BD,13,0)),0,VLOOKUP($H64,Törzsadat!$C:$BD,AJ$1,0))","v":0},{"$f":"IF(ISERROR(VLOOKUP($H64,Törzsadat!$C:$BD,13,0)),0,VLOOKUP($H64,Törzsadat!$C:$BD,AK$1,0))","v":0},{"$f":"IF(ISERROR(VLOOKUP($H64,Törzsadat!$C:$BD,13,0)),0,VLOOKUP($H64,Törzsadat!$C:$BD,AL$1,0))","v":0},{"$f":"IF(ISERROR(VLOOKUP($H64,Törzsadat!$C:$BD,13,0)),0,VLOOKUP($H64,Törzsadat!$C:$BD,AM$1,0))","v":0},{"$f":"IF(ISERROR(VLOOKUP($H64,Törzsadat!$C:$BD,13,0)),0,VLOOKUP($H64,Törzsadat!$C:$BD,AN$1,0))","v":0},{"$f":"IF(ISERROR(VLOOKUP($H64,Törzsadat!$C:$BD,13,0)),0,VLOOKUP($H64,Törzsadat!$C:$BD,AO$1,0))","v":0},{"$f":"IF(ISERROR(VLOOKUP($H64,Törzsadat!$C:$BD,13,0)),0,VLOOKUP($H64,Törzsadat!$C:$BD,AP$1,0))","v":0},{"$f":"IF(ISERROR(VLOOKUP($H64,Törzsadat!$C:$BD,13,0)),0,VLOOKUP($H64,Törzsadat!$C:$BD,AQ$1,0))","v":0},{"$f":"IF(ISERROR(VLOOKUP($H64,Törzsadat!$C:$BD,13,0)),0,VLOOKUP($H64,Törzsadat!$C:$BD,AR$1,0))","v":0},{"$f":"IF(ISERROR(VLOOKUP($H64,Törzsadat!$C:$BD,13,0)),0,VLOOKUP($H64,Törzsadat!$C:$BD,AS$1,0))","v":0},{"$f":"IF(ISERROR(VLOOKUP($H64,Törzsadat!$C:$BD,13,0)),0,VLOOKUP($H64,Törzsadat!$C:$BD,AT$1,0))","v":0},{"$f":"IF(ISERROR(VLOOKUP($H64,Törzsadat!$C:$BD,13,0)),0,VLOOKUP($H64,Törzsadat!$C:$BD,AU$1,0))","v":0},{"$f":"IF(ISERROR(VLOOKUP($H64,Törzsadat!$C:$BD,13,0)),0,VLOOKUP($H64,Törzsadat!$C:$BD,AV$1,0))","v":0},{"$f":"IF(ISERROR(VLOOKUP($H64,Törzsadat!$C:$BD,13,0)),0,VLOOKUP($H64,Törzsadat!$C:$BD,AW$1,0))","v":0},{"$f":"IF(ISERROR(VLOOKUP($H64,Törzsadat!$C:$BD,13,0)),0,VLOOKUP($H64,Törzsadat!$C:$BD,AX$1,0))","v":0},{"$f":"IF(ISERROR(VLOOKUP($H64,Törzsadat!$C:$BD,13,0)),0,VLOOKUP($H64,Törzsadat!$C:$BD,AY$1,0))","v":0},{"$f":"IF(ISERROR(VLOOKUP($H64,Törzsadat!$C:$BD,13,0)),0,VLOOKUP($H64,Törzsadat!$C:$BD,AZ$1,0))","v":0},{"$f":"IF(ISERROR(VLOOKUP($H64,Törzsadat!$C:$BD,13,0)),0,VLOOKUP($H64,Törzsadat!$C:$BD,BA$1,0))","v":0},{"$f":"IF(ISERROR(VLOOKUP($H64,Törzsadat!$C:$BD,13,0)),0,VLOOKUP($H64,Törzsadat!$C:$BD,BB$1,0))","v":0},{"$f":"IF(ISERROR(VLOOKUP($H64,Törzsadat!$C:$BD,13,0)),0,VLOOKUP($H64,Törzsadat!$C:$BD,BC$1,0))","v":0},{"$f":"IF(ISERROR(VLOOKUP($H64,Törzsadat!$C:$BD,13,0)),0,VLOOKUP($H64,Törzsadat!$C:$BD,BD$1,0))","v":0}]
[{"$nulls":6},"Ékszer 7",{"$nulls":7},{"$f":"IF(ISERROR(VLOOKUP($H65,Törzsadat!$C:$BD,13,0)),0,VLOOKUP($H65,Törzsadat!$C:$BD,O$1,0))","v":0},{"$f":"IF(ISERROR(VLOOKUP($H65,Törzsadat!$C:$BD,13,0)),0,VLOOKUP($H65,Törzsadat!$C:$BD,P$1,0))","v":0},{"$f":"IF(ISERROR(VLOOKUP($H65,Törzsadat!$C:$BD,13,0)),0,VLOOKUP($H65,Törzsadat!$C:$BD,Q$1,0))","v":0},{"$f":"IF(ISERROR(VLOOKUP($H65,Törzsadat!$C:$BD,13,0)),0,VLOOKUP($H65,Törzsadat!$C:$BD,R$1,0))","v":0},{"$f":"IF(ISERROR(VLOOKUP($H65,Törzsadat!$C:$BD,13,0)),0,VLOOKUP($H65,Törzsadat!$C:$BD,S$1,0))","v":0},{"$f":"IF(ISERROR(VLOOKUP($H65,Törzsadat!$C:$BD,13,0)),0,VLOOKUP($H65,Törzsadat!$C:$BD,T$1,0))","v":0},{"$f":"IF(ISERROR(VLOOKUP($H65,Törzsadat!$C:$BD,13,0)),0,VLOOKUP($H65,Törzsadat!$C:$BD,U$1,0))","v":0},{"$f":"IF(ISERROR(VLOOKUP($H65,Törzsadat!$C:$BD,13,0)),0,VLOOKUP($H65,Törzsadat!$C:$BD,V$1,0))","v":0},{"$f":"IF(ISERROR(VLOOKUP($H65,Törzsadat!$C:$BD,13,0)),0,VLOOKUP($H65,Törzsadat!$C:$BD,W$1,0))","v":0},{"$f":"IF(ISERROR(VLOOKUP($H65,Törzsadat!$C:$BD,13,0)),0,VLOOKUP($H65,Törzsadat!$C:$BD,X$1,0))","v":0},{"$f":"IF(ISERROR(VLOOKUP($H65,Törzsadat!$C:$BD,13,0)),0,VLOOKUP($H65,Törzsadat!$C:$BD,Y$1,0))","v":0},{"$f":"IF(ISERROR(VLOOKUP($H65,Törzsadat!$C:$BD,13,0)),0,VLOOKUP($H65,Törzsadat!$C:$BD,Z$1,0))","v":0},{"$f":"IF(ISERROR(VLOOKUP($H65,Törzsadat!$C:$BD,13,0)),0,VLOOKUP($H65,Törzsadat!$C:$BD,AA$1,0))","v":0},{"$f":"IF(ISERROR(VLOOKUP($H65,Törzsadat!$C:$BD,13,0)),0,VLOOKUP($H65,Törzsadat!$C:$BD,AB$1,0))","v":0},{"$f":"IF(ISERROR(VLOOKUP($H65,Törzsadat!$C:$BD,13,0)),0,VLOOKUP($H65,Törzsadat!$C:$BD,AC$1,0))","v":0},{"$f":"IF(ISERROR(VLOOKUP($H65,Törzsadat!$C:$BD,13,0)),0,VLOOKUP($H65,Törzsadat!$C:$BD,AD$1,0))","v":0},{"$f":"IF(ISERROR(VLOOKUP($H65,Törzsadat!$C:$BD,13,0)),0,VLOOKUP($H65,Törzsadat!$C:$BD,AE$1,0))","v":0},{"$f":"IF(ISERROR(VLOOKUP($H65,Törzsadat!$C:$BD,13,0)),0,VLOOKUP($H65,Törzsadat!$C:$BD,AF$1,0))","v":0},{"$f":"IF(ISERROR(VLOOKUP($H65,Törzsadat!$C:$BD,13,0)),0,VLOOKUP($H65,Törzsadat!$C:$BD,AG$1,0))","v":0},{"$f":"IF(ISERROR(VLOOKUP($H65,Törzsadat!$C:$BD,13,0)),0,VLOOKUP($H65,Törzsadat!$C:$BD,AH$1,0))","v":0},{"$f":"IF(ISERROR(VLOOKUP($H65,Törzsadat!$C:$BD,13,0)),0,VLOOKUP($H65,Törzsadat!$C:$BD,AI$1,0))","v":0},{"$f":"IF(ISERROR(VLOOKUP($H65,Törzsadat!$C:$BD,13,0)),0,VLOOKUP($H65,Törzsadat!$C:$BD,AJ$1,0))","v":0},{"$f":"IF(ISERROR(VLOOKUP($H65,Törzsadat!$C:$BD,13,0)),0,VLOOKUP($H65,Törzsadat!$C:$BD,AK$1,0))","v":0},{"$f":"IF(ISERROR(VLOOKUP($H65,Törzsadat!$C:$BD,13,0)),0,VLOOKUP($H65,Törzsadat!$C:$BD,AL$1,0))","v":0},{"$f":"IF(ISERROR(VLOOKUP($H65,Törzsadat!$C:$BD,13,0)),0,VLOOKUP($H65,Törzsadat!$C:$BD,AM$1,0))","v":0},{"$f":"IF(ISERROR(VLOOKUP($H65,Törzsadat!$C:$BD,13,0)),0,VLOOKUP($H65,Törzsadat!$C:$BD,AN$1,0))","v":0},{"$f":"IF(ISERROR(VLOOKUP($H65,Törzsadat!$C:$BD,13,0)),0,VLOOKUP($H65,Törzsadat!$C:$BD,AO$1,0))","v":0},{"$f":"IF(ISERROR(VLOOKUP($H65,Törzsadat!$C:$BD,13,0)),0,VLOOKUP($H65,Törzsadat!$C:$BD,AP$1,0))","v":0},{"$f":"IF(ISERROR(VLOOKUP($H65,Törzsadat!$C:$BD,13,0)),0,VLOOKUP($H65,Törzsadat!$C:$BD,AQ$1,0))","v":0},{"$f":"IF(ISERROR(VLOOKUP($H65,Törzsadat!$C:$BD,13,0)),0,VLOOKUP($H65,Törzsadat!$C:$BD,AR$1,0))","v":0},{"$f":"IF(ISERROR(VLOOKUP($H65,Törzsadat!$C:$BD,13,0)),0,VLOOKUP($H65,Törzsadat!$C:$BD,AS$1,0))","v":0},{"$f":"IF(ISERROR(VLOOKUP($H65,Törzsadat!$C:$BD,13,0)),0,VLOOKUP($H65,Törzsadat!$C:$BD,AT$1,0))","v":0},{"$f":"IF(ISERROR(VLOOKUP($H65,Törzsadat!$C:$BD,13,0)),0,VLOOKUP($H65,Törzsadat!$C:$BD,AU$1,0))","v":0},{"$f":"IF(ISERROR(VLOOKUP($H65,Törzsadat!$C:$BD,13,0)),0,VLOOKUP($H65,Törzsadat!$C:$BD,AV$1,0))","v":0},{"$f":"IF(ISERROR(VLOOKUP($H65,Törzsadat!$C:$BD,13,0)),0,VLOOKUP($H65,Törzsadat!$C:$BD,AW$1,0))","v":0},{"$f":"IF(ISERROR(VLOOKUP($H65,Törzsadat!$C:$BD,13,0)),0,VLOOKUP($H65,Törzsadat!$C:$BD,AX$1,0))","v":0},{"$f":"IF(ISERROR(VLOOKUP($H65,Törzsadat!$C:$BD,13,0)),0,VLOOKUP($H65,Törzsadat!$C:$BD,AY$1,0))","v":0},{"$f":"IF(ISERROR(VLOOKUP($H65,Törzsadat!$C:$BD,13,0)),0,VLOOKUP($H65,Törzsadat!$C:$BD,AZ$1,0))","v":0},{"$f":"IF(ISERROR(VLOOKUP($H65,Törzsadat!$C:$BD,13,0)),0,VLOOKUP($H65,Törzsadat!$C:$BD,BA$1,0))","v":0},{"$f":"IF(ISERROR(VLOOKUP($H65,Törzsadat!$C:$BD,13,0)),0,VLOOKUP($H65,Törzsadat!$C:$BD,BB$1,0))","v":0},{"$f":"IF(ISERROR(VLOOKUP($H65,Törzsadat!$C:$BD,13,0)),0,VLOOKUP($H65,Törzsadat!$C:$BD,BC$1,0))","v":0},{"$f":"IF(ISERROR(VLOOKUP($H65,Törzsadat!$C:$BD,13,0)),0,VLOOKUP($H65,Törzsadat!$C:$BD,BD$1,0))","v":0}]
[{"$nulls":6},"Ékszer 8",{"$nulls":7},{"$f":"IF(ISERROR(VLOOKUP($H66,Törzsadat!$C:$BD,13,0)),0,VLOOKUP($H66,Törzsadat!$C:$BD,O$1,0))","v":0},{"$f":"IF(ISERROR(VLOOKUP($H66,Törzsadat!$C:$BD,13,0)),0,VLOOKUP($H66,Törzsadat!$C:$BD,P$1,0))","v":0},{"$f":"IF(ISERROR(VLOOKUP($H66,Törzsadat!$C:$BD,13,0)),0,VLOOKUP($H66,Törzsadat!$C:$BD,Q$1,0))","v":0},{"$f":"IF(ISERROR(VLOOKUP($H66,Törzsadat!$C:$BD,13,0)),0,VLOOKUP($H66,Törzsadat!$C:$BD,R$1,0))","v":0},{"$f":"IF(ISERROR(VLOOKUP($H66,Törzsadat!$C:$BD,13,0)),0,VLOOKUP($H66,Törzsadat!$C:$BD,S$1,0))","v":0},{"$f":"IF(ISERROR(VLOOKUP($H66,Törzsadat!$C:$BD,13,0)),0,VLOOKUP($H66,Törzsadat!$C:$BD,T$1,0))","v":0},{"$f":"IF(ISERROR(VLOOKUP($H66,Törzsadat!$C:$BD,13,0)),0,VLOOKUP($H66,Törzsadat!$C:$BD,U$1,0))","v":0},{"$f":"IF(ISERROR(VLOOKUP($H66,Törzsadat!$C:$BD,13,0)),0,VLOOKUP($H66,Törzsadat!$C:$BD,V$1,0))","v":0},{"$f":"IF(ISERROR(VLOOKUP($H66,Törzsadat!$C:$BD,13,0)),0,VLOOKUP($H66,Törzsadat!$C:$BD,W$1,0))","v":0},{"$f":"IF(ISERROR(VLOOKUP($H66,Törzsadat!$C:$BD,13,0)),0,VLOOKUP($H66,Törzsadat!$C:$BD,X$1,0))","v":0},{"$f":"IF(ISERROR(VLOOKUP($H66,Törzsadat!$C:$BD,13,0)),0,VLOOKUP($H66,Törzsadat!$C:$BD,Y$1,0))","v":0},{"$f":"IF(ISERROR(VLOOKUP($H66,Törzsadat!$C:$BD,13,0)),0,VLOOKUP($H66,Törzsadat!$C:$BD,Z$1,0))","v":0},{"$f":"IF(ISERROR(VLOOKUP($H66,Törzsadat!$C:$BD,13,0)),0,VLOOKUP($H66,Törzsadat!$C:$BD,AA$1,0))","v":0},{"$f":"IF(ISERROR(VLOOKUP($H66,Törzsadat!$C:$BD,13,0)),0,VLOOKUP($H66,Törzsadat!$C:$BD,AB$1,0))","v":0},{"$f":"IF(ISERROR(VLOOKUP($H66,Törzsadat!$C:$BD,13,0)),0,VLOOKUP($H66,Törzsadat!$C:$BD,AC$1,0))","v":0},{"$f":"IF(ISERROR(VLOOKUP($H66,Törzsadat!$C:$BD,13,0)),0,VLOOKUP($H66,Törzsadat!$C:$BD,AD$1,0))","v":0},{"$f":"IF(ISERROR(VLOOKUP($H66,Törzsadat!$C:$BD,13,0)),0,VLOOKUP($H66,Törzsadat!$C:$BD,AE$1,0))","v":0},{"$f":"IF(ISERROR(VLOOKUP($H66,Törzsadat!$C:$BD,13,0)),0,VLOOKUP($H66,Törzsadat!$C:$BD,AF$1,0))","v":0},{"$f":"IF(ISERROR(VLOOKUP($H66,Törzsadat!$C:$BD,13,0)),0,VLOOKUP($H66,Törzsadat!$C:$BD,AG$1,0))","v":0},{"$f":"IF(ISERROR(VLOOKUP($H66,Törzsadat!$C:$BD,13,0)),0,VLOOKUP($H66,Törzsadat!$C:$BD,AH$1,0))","v":0},{"$f":"IF(ISERROR(VLOOKUP($H66,Törzsadat!$C:$BD,13,0)),0,VLOOKUP($H66,Törzsadat!$C:$BD,AI$1,0))","v":0},{"$f":"IF(ISERROR(VLOOKUP($H66,Törzsadat!$C:$BD,13,0)),0,VLOOKUP($H66,Törzsadat!$C:$BD,AJ$1,0))","v":0},{"$f":"IF(ISERROR(VLOOKUP($H66,Törzsadat!$C:$BD,13,0)),0,VLOOKUP($H66,Törzsadat!$C:$BD,AK$1,0))","v":0},{"$f":"IF(ISERROR(VLOOKUP($H66,Törzsadat!$C:$BD,13,0)),0,VLOOKUP($H66,Törzsadat!$C:$BD,AL$1,0))","v":0},{"$f":"IF(ISERROR(VLOOKUP($H66,Törzsadat!$C:$BD,13,0)),0,VLOOKUP($H66,Törzsadat!$C:$BD,AM$1,0))","v":0},{"$f":"IF(ISERROR(VLOOKUP($H66,Törzsadat!$C:$BD,13,0)),0,VLOOKUP($H66,Törzsadat!$C:$BD,AN$1,0))","v":0},{"$f":"IF(ISERROR(VLOOKUP($H66,Törzsadat!$C:$BD,13,0)),0,VLOOKUP($H66,Törzsadat!$C:$BD,AO$1,0))","v":0},{"$f":"IF(ISERROR(VLOOKUP($H66,Törzsadat!$C:$BD,13,0)),0,VLOOKUP($H66,Törzsadat!$C:$BD,AP$1,0))","v":0},{"$f":"IF(ISERROR(VLOOKUP($H66,Törzsadat!$C:$BD,13,0)),0,VLOOKUP($H66,Törzsadat!$C:$BD,AQ$1,0))","v":0},{"$f":"IF(ISERROR(VLOOKUP($H66,Törzsadat!$C:$BD,13,0)),0,VLOOKUP($H66,Törzsadat!$C:$BD,AR$1,0))","v":0},{"$f":"IF(ISERROR(VLOOKUP($H66,Törzsadat!$C:$BD,13,0)),0,VLOOKUP($H66,Törzsadat!$C:$BD,AS$1,0))","v":0},{"$f":"IF(ISERROR(VLOOKUP($H66,Törzsadat!$C:$BD,13,0)),0,VLOOKUP($H66,Törzsadat!$C:$BD,AT$1,0))","v":0},{"$f":"IF(ISERROR(VLOOKUP($H66,Törzsadat!$C:$BD,13,0)),0,VLOOKUP($H66,Törzsadat!$C:$BD,AU$1,0))","v":0},{"$f":"IF(ISERROR(VLOOKUP($H66,Törzsadat!$C:$BD,13,0)),0,VLOOKUP($H66,Törzsadat!$C:$BD,AV$1,0))","v":0},{"$f":"IF(ISERROR(VLOOKUP($H66,Törzsadat!$C:$BD,13,0)),0,VLOOKUP($H66,Törzsadat!$C:$BD,AW$1,0))","v":0},{"$f":"IF(ISERROR(VLOOKUP($H66,Törzsadat!$C:$BD,13,0)),0,VLOOKUP($H66,Törzsadat!$C:$BD,AX$1,0))","v":0},{"$f":"IF(ISERROR(VLOOKUP($H66,Törzsadat!$C:$BD,13,0)),0,VLOOKUP($H66,Törzsadat!$C:$BD,AY$1,0))","v":0},{"$f":"IF(ISERROR(VLOOKUP($H66,Törzsadat!$C:$BD,13,0)),0,VLOOKUP($H66,Törzsadat!$C:$BD,AZ$1,0))","v":0},{"$f":"IF(ISERROR(VLOOKUP($H66,Törzsadat!$C:$BD,13,0)),0,VLOOKUP($H66,Törzsadat!$C:$BD,BA$1,0))","v":0},{"$f":"IF(ISERROR(VLOOKUP($H66,Törzsadat!$C:$BD,13,0)),0,VLOOKUP($H66,Törzsadat!$C:$BD,BB$1,0))","v":0},{"$f":"IF(ISERROR(VLOOKUP($H66,Törzsadat!$C:$BD,13,0)),0,VLOOKUP($H66,Törzsadat!$C:$BD,BC$1,0))","v":0},{"$f":"IF(ISERROR(VLOOKUP($H66,Törzsadat!$C:$BD,13,0)),0,VLOOKUP($H66,Törzsadat!$C:$BD,BD$1,0))","v":0}]
[{"$nulls":6},"Ékszer 9",{"$nulls":7},{"$f":"IF(ISERROR(VLOOKUP($H67,Törzsadat!$C:$BD,13,0)),0,VLOOKUP($H67,Törzsadat!$C:$BD,O$1,0))","v":0},{"$f":"IF(ISERROR(VLOOKUP($H67,Törzsadat!$C:$BD,13,0)),0,VLOOKUP($H67,Törzsadat!$C:$BD,P$1,0))","v":0},{"$f":"IF(ISERROR(VLOOKUP($H67,Törzsadat!$C:$BD,13,0)),0,VLOOKUP($H67,Törzsadat!$C:$BD,Q$1,0))","v":0},{"$f":"IF(ISERROR(VLOOKUP($H67,Törzsadat!$C:$BD,13,0)),0,VLOOKUP($H67,Törzsadat!$C:$BD,R$1,0))","v":0},{"$f":"IF(ISERROR(VLOOKUP($H67,Törzsadat!$C:$BD,13,0)),0,VLOOKUP($H67,Törzsadat!$C:$BD,S$1,0))","v":0},{"$f":"IF(ISERROR(VLOOKUP($H67,Törzsadat!$C:$BD,13,0)),0,VLOOKUP($H67,Törzsadat!$C:$BD,T$1,0))","v":0},{"$f":"IF(ISERROR(VLOOKUP($H67,Törzsadat!$C:$BD,13,0)),0,VLOOKUP($H67,Törzsadat!$C:$BD,U$1,0))","v":0},{"$f":"IF(ISERROR(VLOOKUP($H67,Törzsadat!$C:$BD,13,0)),0,VLOOKUP($H67,Törzsadat!$C:$BD,V$1,0))","v":0},{"$f":"IF(ISERROR(VLOOKUP($H67,Törzsadat!$C:$BD,13,0)),0,VLOOKUP($H67,Törzsadat!$C:$BD,W$1,0))","v":0},{"$f":"IF(ISERROR(VLOOKUP($H67,Törzsadat!$C:$BD,13,0)),0,VLOOKUP($H67,Törzsadat!$C:$BD,X$1,0))","v":0},{"$f":"IF(ISERROR(VLOOKUP($H67,Törzsadat!$C:$BD,13,0)),0,VLOOKUP($H67,Törzsadat!$C:$BD,Y$1,0))","v":0},{"$f":"IF(ISERROR(VLOOKUP($H67,Törzsadat!$C:$BD,13,0)),0,VLOOKUP($H67,Törzsadat!$C:$BD,Z$1,0))","v":0},{"$f":"IF(ISERROR(VLOOKUP($H67,Törzsadat!$C:$BD,13,0)),0,VLOOKUP($H67,Törzsadat!$C:$BD,AA$1,0))","v":0},{"$f":"IF(ISERROR(VLOOKUP($H67,Törzsadat!$C:$BD,13,0)),0,VLOOKUP($H67,Törzsadat!$C:$BD,AB$1,0))","v":0},{"$f":"IF(ISERROR(VLOOKUP($H67,Törzsadat!$C:$BD,13,0)),0,VLOOKUP($H67,Törzsadat!$C:$BD,AC$1,0))","v":0},{"$f":"IF(ISERROR(VLOOKUP($H67,Törzsadat!$C:$BD,13,0)),0,VLOOKUP($H67,Törzsadat!$C:$BD,AD$1,0))","v":0},{"$f":"IF(ISERROR(VLOOKUP($H67,Törzsadat!$C:$BD,13,0)),0,VLOOKUP($H67,Törzsadat!$C:$BD,AE$1,0))","v":0},{"$f":"IF(ISERROR(VLOOKUP($H67,Törzsadat!$C:$BD,13,0)),0,VLOOKUP($H67,Törzsadat!$C:$BD,AF$1,0))","v":0},{"$f":"IF(ISERROR(VLOOKUP($H67,Törzsadat!$C:$BD,13,0)),0,VLOOKUP($H67,Törzsadat!$C:$BD,AG$1,0))","v":0},{"$f":"IF(ISERROR(VLOOKUP($H67,Törzsadat!$C:$BD,13,0)),0,VLOOKUP($H67,Törzsadat!$C:$BD,AH$1,0))","v":0},{"$f":"IF(ISERROR(VLOOKUP($H67,Törzsadat!$C:$BD,13,0)),0,VLOOKUP($H67,Törzsadat!$C:$BD,AI$1,0))","v":0},{"$f":"IF(ISERROR(VLOOKUP($H67,Törzsadat!$C:$BD,13,0)),0,VLOOKUP($H67,Törzsadat!$C:$BD,AJ$1,0))","v":0},{"$f":"IF(ISERROR(VLOOKUP($H67,Törzsadat!$C:$BD,13,0)),0,VLOOKUP($H67,Törzsadat!$C:$BD,AK$1,0))","v":0},{"$f":"IF(ISERROR(VLOOKUP($H67,Törzsadat!$C:$BD,13,0)),0,VLOOKUP($H67,Törzsadat!$C:$BD,AL$1,0))","v":0},{"$f":"IF(ISERROR(VLOOKUP($H67,Törzsadat!$C:$BD,13,0)),0,VLOOKUP($H67,Törzsadat!$C:$BD,AM$1,0))","v":0},{"$f":"IF(ISERROR(VLOOKUP($H67,Törzsadat!$C:$BD,13,0)),0,VLOOKUP($H67,Törzsadat!$C:$BD,AN$1,0))","v":0},{"$f":"IF(ISERROR(VLOOKUP($H67,Törzsadat!$C:$BD,13,0)),0,VLOOKUP($H67,Törzsadat!$C:$BD,AO$1,0))","v":0},{"$f":"IF(ISERROR(VLOOKUP($H67,Törzsadat!$C:$BD,13,0)),0,VLOOKUP($H67,Törzsadat!$C:$BD,AP$1,0))","v":0},{"$f":"IF(ISERROR(VLOOKUP($H67,Törzsadat!$C:$BD,13,0)),0,VLOOKUP($H67,Törzsadat!$C:$BD,AQ$1,0))","v":0},{"$f":"IF(ISERROR(VLOOKUP($H67,Törzsadat!$C:$BD,13,0)),0,VLOOKUP($H67,Törzsadat!$C:$BD,AR$1,0))","v":0},{"$f":"IF(ISERROR(VLOOKUP($H67,Törzsadat!$C:$BD,13,0)),0,VLOOKUP($H67,Törzsadat!$C:$BD,AS$1,0))","v":0},{"$f":"IF(ISERROR(VLOOKUP($H67,Törzsadat!$C:$BD,13,0)),0,VLOOKUP($H67,Törzsadat!$C:$BD,AT$1,0))","v":0},{"$f":"IF(ISERROR(VLOOKUP($H67,Törzsadat!$C:$BD,13,0)),0,VLOOKUP($H67,Törzsadat!$C:$BD,AU$1,0))","v":0},{"$f":"IF(ISERROR(VLOOKUP($H67,Törzsadat!$C:$BD,13,0)),0,VLOOKUP($H67,Törzsadat!$C:$BD,AV$1,0))","v":0},{"$f":"IF(ISERROR(VLOOKUP($H67,Törzsadat!$C:$BD,13,0)),0,VLOOKUP($H67,Törzsadat!$C:$BD,AW$1,0))","v":0},{"$f":"IF(ISERROR(VLOOKUP($H67,Törzsadat!$C:$BD,13,0)),0,VLOOKUP($H67,Törzsadat!$C:$BD,AX$1,0))","v":0},{"$f":"IF(ISERROR(VLOOKUP($H67,Törzsadat!$C:$BD,13,0)),0,VLOOKUP($H67,Törzsadat!$C:$BD,AY$1,0))","v":0},{"$f":"IF(ISERROR(VLOOKUP($H67,Törzsadat!$C:$BD,13,0)),0,VLOOKUP($H67,Törzsadat!$C:$BD,AZ$1,0))","v":0},{"$f":"IF(ISERROR(VLOOKUP($H67,Törzsadat!$C:$BD,13,0)),0,VLOOKUP($H67,Törzsadat!$C:$BD,BA$1,0))","v":0},{"$f":"IF(ISERROR(VLOOKUP($H67,Törzsadat!$C:$BD,13,0)),0,VLOOKUP($H67,Törzsadat!$C:$BD,BB$1,0))","v":0},{"$f":"IF(ISERROR(VLOOKUP($H67,Törzsadat!$C:$BD,13,0)),0,VLOOKUP($H67,Törzsadat!$C:$BD,BC$1,0))","v":0},{"$f":"IF(ISERROR(VLOOKUP($H67,Törzsadat!$C:$BD,13,0)),0,VLOOKUP($H67,Törzsadat!$C:$BD,BD$1,0))","v":0}]
[{"$nulls":6},"Ékszer 10",{"$nulls":7},{"$f":"IF(ISERROR(VLOOKUP($H68,Törzsadat!$C:$BD,13,0)),0,VLOOKUP($H68,Törzsadat!$C:$BD,O$1,0))","v":0},{"$f":"IF(ISERROR(VLOOKUP($H68,Törzsadat!$C:$BD,13,0)),0,VLOOKUP($H68,Törzsadat!$C:$BD,P$1,0))","v":0},{"$f":"IF(ISERROR(VLOOKUP($H68,Törzsadat!$C:$BD,13,0)),0,VLOOKUP($H68,Törzsadat!$C:$BD,Q$1,0))","v":0},{"$f":"IF(ISERROR(VLOOKUP($H68,Törzsadat!$C:$BD,13,0)),0,VLOOKUP($H68,Törzsadat!$C:$BD,R$1,0))","v":0},{"$f":"IF(ISERROR(VLOOKUP($H68,Törzsadat!$C:$BD,13,0)),0,VLOOKUP($H68,Törzsadat!$C:$BD,S$1,0))","v":0},{"$f":"IF(ISERROR(VLOOKUP($H68,Törzsadat!$C:$BD,13,0)),0,VLOOKUP($H68,Törzsadat!$C:$BD,T$1,0))","v":0},{"$f":"IF(ISERROR(VLOOKUP($H68,Törzsadat!$C:$BD,13,0)),0,VLOOKUP($H68,Törzsadat!$C:$BD,U$1,0))","v":0},{"$f":"IF(ISERROR(VLOOKUP($H68,Törzsadat!$C:$BD,13,0)),0,VLOOKUP($H68,Törzsadat!$C:$BD,V$1,0))","v":0},{"$f":"IF(ISERROR(VLOOKUP($H68,Törzsadat!$C:$BD,13,0)),0,VLOOKUP($H68,Törzsadat!$C:$BD,W$1,0))","v":0},{"$f":"IF(ISERROR(VLOOKUP($H68,Törzsadat!$C:$BD,13,0)),0,VLOOKUP($H68,Törzsadat!$C:$BD,X$1,0))","v":0},{"$f":"IF(ISERROR(VLOOKUP($H68,Törzsadat!$C:$BD,13,0)),0,VLOOKUP($H68,Törzsadat!$C:$BD,Y$1,0))","v":0},{"$f":"IF(ISERROR(VLOOKUP($H68,Törzsadat!$C:$BD,13,0)),0,VLOOKUP($H68,Törzsadat!$C:$BD,Z$1,0))","v":0},{"$f":"IF(ISERROR(VLOOKUP($H68,Törzsadat!$C:$BD,13,0)),0,VLOOKUP($H68,Törzsadat!$C:$BD,AA$1,0))","v":0},{"$f":"IF(ISERROR(VLOOKUP($H68,Törzsadat!$C:$BD,13,0)),0,VLOOKUP($H68,Törzsadat!$C:$BD,AB$1,0))","v":0},{"$f":"IF(ISERROR(VLOOKUP($H68,Törzsadat!$C:$BD,13,0)),0,VLOOKUP($H68,Törzsadat!$C:$BD,AC$1,0))","v":0},{"$f":"IF(ISERROR(VLOOKUP($H68,Törzsadat!$C:$BD,13,0)),0,VLOOKUP($H68,Törzsadat!$C:$BD,AD$1,0))","v":0},{"$f":"IF(ISERROR(VLOOKUP($H68,Törzsadat!$C:$BD,13,0)),0,VLOOKUP($H68,Törzsadat!$C:$BD,AE$1,0))","v":0},{"$f":"IF(ISERROR(VLOOKUP($H68,Törzsadat!$C:$BD,13,0)),0,VLOOKUP($H68,Törzsadat!$C:$BD,AF$1,0))","v":0},{"$f":"IF(ISERROR(VLOOKUP($H68,Törzsadat!$C:$BD,13,0)),0,VLOOKUP($H68,Törzsadat!$C:$BD,AG$1,0))","v":0},{"$f":"IF(ISERROR(VLOOKUP($H68,Törzsadat!$C:$BD,13,0)),0,VLOOKUP($H68,Törzsadat!$C:$BD,AH$1,0))","v":0},{"$f":"IF(ISERROR(VLOOKUP($H68,Törzsadat!$C:$BD,13,0)),0,VLOOKUP($H68,Törzsadat!$C:$BD,AI$1,0))","v":0},{"$f":"IF(ISERROR(VLOOKUP($H68,Törzsadat!$C:$BD,13,0)),0,VLOOKUP($H68,Törzsadat!$C:$BD,AJ$1,0))","v":0},{"$f":"IF(ISERROR(VLOOKUP($H68,Törzsadat!$C:$BD,13,0)),0,VLOOKUP($H68,Törzsadat!$C:$BD,AK$1,0))","v":0},{"$f":"IF(ISERROR(VLOOKUP($H68,Törzsadat!$C:$BD,13,0)),0,VLOOKUP($H68,Törzsadat!$C:$BD,AL$1,0))","v":0},{"$f":"IF(ISERROR(VLOOKUP($H68,Törzsadat!$C:$BD,13,0)),0,VLOOKUP($H68,Törzsadat!$C:$BD,AM$1,0))","v":0},{"$f":"IF(ISERROR(VLOOKUP($H68,Törzsadat!$C:$BD,13,0)),0,VLOOKUP($H68,Törzsadat!$C:$BD,AN$1,0))","v":0},{"$f":"IF(ISERROR(VLOOKUP($H68,Törzsadat!$C:$BD,13,0)),0,VLOOKUP($H68,Törzsadat!$C:$BD,AO$1,0))","v":0},{"$f":"IF(ISERROR(VLOOKUP($H68,Törzsadat!$C:$BD,13,0)),0,VLOOKUP($H68,Törzsadat!$C:$BD,AP$1,0))","v":0},{"$f":"IF(ISERROR(VLOOKUP($H68,Törzsadat!$C:$BD,13,0)),0,VLOOKUP($H68,Törzsadat!$C:$BD,AQ$1,0))","v":0},{"$f":"IF(ISERROR(VLOOKUP($H68,Törzsadat!$C:$BD,13,0)),0,VLOOKUP($H68,Törzsadat!$C:$BD,AR$1,0))","v":0},{"$f":"IF(ISERROR(VLOOKUP($H68,Törzsadat!$C:$BD,13,0)),0,VLOOKUP($H68,Törzsadat!$C:$BD,AS$1,0))","v":0},{"$f":"IF(ISERROR(VLOOKUP($H68,Törzsadat!$C:$BD,13,0)),0,VLOOKUP($H68,Törzsadat!$C:$BD,AT$1,0))","v":0},{"$f":"IF(ISERROR(VLOOKUP($H68,Törzsadat!$C:$BD,13,0)),0,VLOOKUP($H68,Törzsadat!$C:$BD,AU$1,0))","v":0},{"$f":"IF(ISERROR(VLOOKUP($H68,Törzsadat!$C:$BD,13,0)),0,VLOOKUP($H68,Törzsadat!$C:$BD,AV$1,0))","v":0},{"$f":"IF(ISERROR(VLOOKUP($H68,Törzsadat!$C:$BD,13,0)),0,VLOOKUP($H68,Törzsadat!$C:$BD,AW$1,0))","v":0},{"$f":"IF(ISERROR(VLOOKUP($H68,Törzsadat!$C:$BD,13,0)),0,VLOOKUP($H68,Törzsadat!$C:$BD,AX$1,0))","v":0},{"$f":"IF(ISERROR(VLOOKUP($H68,Törzsadat!$C:$BD,13,0)),0,VLOOKUP($H68,Törzsadat!$C:$BD,AY$1,0))","v":0},{"$f":"IF(ISERROR(VLOOKUP($H68,Törzsadat!$C:$BD,13,0)),0,VLOOKUP($H68,Törzsadat!$C:$BD,AZ$1,0))","v":0},{"$f":"IF(ISERROR(VLOOKUP($H68,Törzsadat!$C:$BD,13,0)),0,VLOOKUP($H68,Törzsadat!$C:$BD,BA$1,0))","v":0},{"$f":"IF(ISERROR(VLOOKUP($H68,Törzsadat!$C:$BD,13,0)),0,VLOOKUP($H68,Törzsadat!$C:$BD,BB$1,0))","v":0},{"$f":"IF(ISERROR(VLOOKUP($H68,Törzsadat!$C:$BD,13,0)),0,VLOOKUP($H68,Törzsadat!$C:$BD,BC$1,0))","v":0},{"$f":"IF(ISERROR(VLOOKUP($H68,Törzsadat!$C:$BD,13,0)),0,VLOOKUP($H68,Törzsadat!$C:$BD,BD$1,0))","v":0}]
[{"$nulls":6},"Ékszer 11",{"$nulls":7},{"$f":"IF(ISERROR(VLOOKUP($H69,Törzsadat!$C:$BD,13,0)),0,VLOOKUP($H69,Törzsadat!$C:$BD,O$1,0))","v":0},{"$f":"IF(ISERROR(VLOOKUP($H69,Törzsadat!$C:$BD,13,0)),0,VLOOKUP($H69,Törzsadat!$C:$BD,P$1,0))","v":0},{"$f":"IF(ISERROR(VLOOKUP($H69,Törzsadat!$C:$BD,13,0)),0,VLOOKUP($H69,Törzsadat!$C:$BD,Q$1,0))","v":0},{"$f":"IF(ISERROR(VLOOKUP($H69,Törzsadat!$C:$BD,13,0)),0,VLOOKUP($H69,Törzsadat!$C:$BD,R$1,0))","v":0},{"$f":"IF(ISERROR(VLOOKUP($H69,Törzsadat!$C:$BD,13,0)),0,VLOOKUP($H69,Törzsadat!$C:$BD,S$1,0))","v":0},{"$f":"IF(ISERROR(VLOOKUP($H69,Törzsadat!$C:$BD,13,0)),0,VLOOKUP($H69,Törzsadat!$C:$BD,T$1,0))","v":0},{"$f":"IF(ISERROR(VLOOKUP($H69,Törzsadat!$C:$BD,13,0)),0,VLOOKUP($H69,Törzsadat!$C:$BD,U$1,0))","v":0},{"$f":"IF(ISERROR(VLOOKUP($H69,Törzsadat!$C:$BD,13,0)),0,VLOOKUP($H69,Törzsadat!$C:$BD,V$1,0))","v":0},{"$f":"IF(ISERROR(VLOOKUP($H69,Törzsadat!$C:$BD,13,0)),0,VLOOKUP($H69,Törzsadat!$C:$BD,W$1,0))","v":0},{"$f":"IF(ISERROR(VLOOKUP($H69,Törzsadat!$C:$BD,13,0)),0,VLOOKUP($H69,Törzsadat!$C:$BD,X$1,0))","v":0},{"$f":"IF(ISERROR(VLOOKUP($H69,Törzsadat!$C:$BD,13,0)),0,VLOOKUP($H69,Törzsadat!$C:$BD,Y$1,0))","v":0},{"$f":"IF(ISERROR(VLOOKUP($H69,Törzsadat!$C:$BD,13,0)),0,VLOOKUP($H69,Törzsadat!$C:$BD,Z$1,0))","v":0},{"$f":"IF(ISERROR(VLOOKUP($H69,Törzsadat!$C:$BD,13,0)),0,VLOOKUP($H69,Törzsadat!$C:$BD,AA$1,0))","v":0},{"$f":"IF(ISERROR(VLOOKUP($H69,Törzsadat!$C:$BD,13,0)),0,VLOOKUP($H69,Törzsadat!$C:$BD,AB$1,0))","v":0},{"$f":"IF(ISERROR(VLOOKUP($H69,Törzsadat!$C:$BD,13,0)),0,VLOOKUP($H69,Törzsadat!$C:$BD,AC$1,0))","v":0},{"$f":"IF(ISERROR(VLOOKUP($H69,Törzsadat!$C:$BD,13,0)),0,VLOOKUP($H69,Törzsadat!$C:$BD,AD$1,0))","v":0},{"$f":"IF(ISERROR(VLOOKUP($H69,Törzsadat!$C:$BD,13,0)),0,VLOOKUP($H69,Törzsadat!$C:$BD,AE$1,0))","v":0},{"$f":"IF(ISERROR(VLOOKUP($H69,Törzsadat!$C:$BD,13,0)),0,VLOOKUP($H69,Törzsadat!$C:$BD,AF$1,0))","v":0},{"$f":"IF(ISERROR(VLOOKUP($H69,Törzsadat!$C:$BD,13,0)),0,VLOOKUP($H69,Törzsadat!$C:$BD,AG$1,0))","v":0},{"$f":"IF(ISERROR(VLOOKUP($H69,Törzsadat!$C:$BD,13,0)),0,VLOOKUP($H69,Törzsadat!$C:$BD,AH$1,0))","v":0},{"$f":"IF(ISERROR(VLOOKUP($H69,Törzsadat!$C:$BD,13,0)),0,VLOOKUP($H69,Törzsadat!$C:$BD,AI$1,0))","v":0},{"$f":"IF(ISERROR(VLOOKUP($H69,Törzsadat!$C:$BD,13,0)),0,VLOOKUP($H69,Törzsadat!$C:$BD,AJ$1,0))","v":0},{"$f":"IF(ISERROR(VLOOKUP($H69,Törzsadat!$C:$BD,13,0)),0,VLOOKUP($H69,Törzsadat!$C:$BD,AK$1,0))","v":0},{"$f":"IF(ISERROR(VLOOKUP($H69,Törzsadat!$C:$BD,13,0)),0,VLOOKUP($H69,Törzsadat!$C:$BD,AL$1,0))","v":0},{"$f":"IF(ISERROR(VLOOKUP($H69,Törzsadat!$C:$BD,13,0)),0,VLOOKUP($H69,Törzsadat!$C:$BD,AM$1,0))","v":0},{"$f":"IF(ISERROR(VLOOKUP($H69,Törzsadat!$C:$BD,13,0)),0,VLOOKUP($H69,Törzsadat!$C:$BD,AN$1,0))","v":0},{"$f":"IF(ISERROR(VLOOKUP($H69,Törzsadat!$C:$BD,13,0)),0,VLOOKUP($H69,Törzsadat!$C:$BD,AO$1,0))","v":0},{"$f":"IF(ISERROR(VLOOKUP($H69,Törzsadat!$C:$BD,13,0)),0,VLOOKUP($H69,Törzsadat!$C:$BD,AP$1,0))","v":0},{"$f":"IF(ISERROR(VLOOKUP($H69,Törzsadat!$C:$BD,13,0)),0,VLOOKUP($H69,Törzsadat!$C:$BD,AQ$1,0))","v":0},{"$f":"IF(ISERROR(VLOOKUP($H69,Törzsadat!$C:$BD,13,0)),0,VLOOKUP($H69,Törzsadat!$C:$BD,AR$1,0))","v":0},{"$f":"IF(ISERROR(VLOOKUP($H69,Törzsadat!$C:$BD,13,0)),0,VLOOKUP($H69,Törzsadat!$C:$BD,AS$1,0))","v":0},{"$f":"IF(ISERROR(VLOOKUP($H69,Törzsadat!$C:$BD,13,0)),0,VLOOKUP($H69,Törzsadat!$C:$BD,AT$1,0))","v":0},{"$f":"IF(ISERROR(VLOOKUP($H69,Törzsadat!$C:$BD,13,0)),0,VLOOKUP($H69,Törzsadat!$C:$BD,AU$1,0))","v":0},{"$f":"IF(ISERROR(VLOOKUP($H69,Törzsadat!$C:$BD,13,0)),0,VLOOKUP($H69,Törzsadat!$C:$BD,AV$1,0))","v":0},{"$f":"IF(ISERROR(VLOOKUP($H69,Törzsadat!$C:$BD,13,0)),0,VLOOKUP($H69,Törzsadat!$C:$BD,AW$1,0))","v":0},{"$f":"IF(ISERROR(VLOOKUP($H69,Törzsadat!$C:$BD,13,0)),0,VLOOKUP($H69,Törzsadat!$C:$BD,AX$1,0))","v":0},{"$f":"IF(ISERROR(VLOOKUP($H69,Törzsadat!$C:$BD,13,0)),0,VLOOKUP($H69,Törzsadat!$C:$BD,AY$1,0))","v":0},{"$f":"IF(ISERROR(VLOOKUP($H69,Törzsadat!$C:$BD,13,0)),0,VLOOKUP($H69,Törzsadat!$C:$BD,AZ$1,0))","v":0},{"$f":"IF(ISERROR(VLOOKUP($H69,Törzsadat!$C:$BD,13,0)),0,VLOOKUP($H69,Törzsadat!$C:$BD,BA$1,0))","v":0},{"$f":"IF(ISERROR(VLOOKUP($H69,Törzsadat!$C:$BD,13,0)),0,VLOOKUP($H69,Törzsadat!$C:$BD,BB$1,0))","v":0},{"$f":"IF(ISERROR(VLOOKUP($H69,Törzsadat!$C:$BD,13,0)),0,VLOOKUP($H69,Törzsadat!$C:$BD,BC$1,0))","v":0},{"$f":"IF(ISERROR(VLOOKUP($H69,Törzsadat!$C:$BD,13,0)),0,VLOOKUP($H69,Törzsadat!$C:$BD,BD$1,0))","v":0}]
[{"$nulls":6},"Ékszer 12",{"$nulls":7},{"$f":"IF(ISERROR(VLOOKUP($H70,Törzsadat!$C:$BD,13,0)),0,VLOOKUP($H70,Törzsadat!$C:$BD,O$1,0))","v":0},{"$f":"IF(ISERROR(VLOOKUP($H70,Törzsadat!$C:$BD,13,0)),0,VLOOKUP($H70,Törzsadat!$C:$BD,P$1,0))","v":0},{"$f":"IF(ISERROR(VLOOKUP($H70,Törzsadat!$C:$BD,13,0)),0,VLOOKUP($H70,Törzsadat!$C:$BD,Q$1,0))","v":0},{"$f":"IF(ISERROR(VLOOKUP($H70,Törzsadat!$C:$BD,13,0)),0,VLOOKUP($H70,Törzsadat!$C:$BD,R$1,0))","v":0},{"$f":"IF(ISERROR(VLOOKUP($H70,Törzsadat!$C:$BD,13,0)),0,VLOOKUP($H70,Törzsadat!$C:$BD,S$1,0))","v":0},{"$f":"IF(ISERROR(VLOOKUP($H70,Törzsadat!$C:$BD,13,0)),0,VLOOKUP($H70,Törzsadat!$C:$BD,T$1,0))","v":0},{"$f":"IF(ISERROR(VLOOKUP($H70,Törzsadat!$C:$BD,13,0)),0,VLOOKUP($H70,Törzsadat!$C:$BD,U$1,0))","v":0},{"$f":"IF(ISERROR(VLOOKUP($H70,Törzsadat!$C:$BD,13,0)),0,VLOOKUP($H70,Törzsadat!$C:$BD,V$1,0))","v":0},{"$f":"IF(ISERROR(VLOOKUP($H70,Törzsadat!$C:$BD,13,0)),0,VLOOKUP($H70,Törzsadat!$C:$BD,W$1,0))","v":0},{"$f":"IF(ISERROR(VLOOKUP($H70,Törzsadat!$C:$BD,13,0)),0,VLOOKUP($H70,Törzsadat!$C:$BD,X$1,0))","v":0},{"$f":"IF(ISERROR(VLOOKUP($H70,Törzsadat!$C:$BD,13,0)),0,VLOOKUP($H70,Törzsadat!$C:$BD,Y$1,0))","v":0},{"$f":"IF(ISERROR(VLOOKUP($H70,Törzsadat!$C:$BD,13,0)),0,VLOOKUP($H70,Törzsadat!$C:$BD,Z$1,0))","v":0},{"$f":"IF(ISERROR(VLOOKUP($H70,Törzsadat!$C:$BD,13,0)),0,VLOOKUP($H70,Törzsadat!$C:$BD,AA$1,0))","v":0},{"$f":"IF(ISERROR(VLOOKUP($H70,Törzsadat!$C:$BD,13,0)),0,VLOOKUP($H70,Törzsadat!$C:$BD,AB$1,0))","v":0},{"$f":"IF(ISERROR(VLOOKUP($H70,Törzsadat!$C:$BD,13,0)),0,VLOOKUP($H70,Törzsadat!$C:$BD,AC$1,0))","v":0},{"$f":"IF(ISERROR(VLOOKUP($H70,Törzsadat!$C:$BD,13,0)),0,VLOOKUP($H70,Törzsadat!$C:$BD,AD$1,0))","v":0},{"$f":"IF(ISERROR(VLOOKUP($H70,Törzsadat!$C:$BD,13,0)),0,VLOOKUP($H70,Törzsadat!$C:$BD,AE$1,0))","v":0},{"$f":"IF(ISERROR(VLOOKUP($H70,Törzsadat!$C:$BD,13,0)),0,VLOOKUP($H70,Törzsadat!$C:$BD,AF$1,0))","v":0},{"$f":"IF(ISERROR(VLOOKUP($H70,Törzsadat!$C:$BD,13,0)),0,VLOOKUP($H70,Törzsadat!$C:$BD,AG$1,0))","v":0},{"$f":"IF(ISERROR(VLOOKUP($H70,Törzsadat!$C:$BD,13,0)),0,VLOOKUP($H70,Törzsadat!$C:$BD,AH$1,0))","v":0},{"$f":"IF(ISERROR(VLOOKUP($H70,Törzsadat!$C:$BD,13,0)),0,VLOOKUP($H70,Törzsadat!$C:$BD,AI$1,0))","v":0},{"$f":"IF(ISERROR(VLOOKUP($H70,Törzsadat!$C:$BD,13,0)),0,VLOOKUP($H70,Törzsadat!$C:$BD,AJ$1,0))","v":0},{"$f":"IF(ISERROR(VLOOKUP($H70,Törzsadat!$C:$BD,13,0)),0,VLOOKUP($H70,Törzsadat!$C:$BD,AK$1,0))","v":0},{"$f":"IF(ISERROR(VLOOKUP($H70,Törzsadat!$C:$BD,13,0)),0,VLOOKUP($H70,Törzsadat!$C:$BD,AL$1,0))","v":0},{"$f":"IF(ISERROR(VLOOKUP($H70,Törzsadat!$C:$BD,13,0)),0,VLOOKUP($H70,Törzsadat!$C:$BD,AM$1,0))","v":0},{"$f":"IF(ISERROR(VLOOKUP($H70,Törzsadat!$C:$BD,13,0)),0,VLOOKUP($H70,Törzsadat!$C:$BD,AN$1,0))","v":0},{"$f":"IF(ISERROR(VLOOKUP($H70,Törzsadat!$C:$BD,13,0)),0,VLOOKUP($H70,Törzsadat!$C:$BD,AO$1,0))","v":0},{"$f":"IF(ISERROR(VLOOKUP($H70,Törzsadat!$C:$BD,13,0)),0,VLOOKUP($H70,Törzsadat!$C:$BD,AP$1,0))","v":0},{"$f":"IF(ISERROR(VLOOKUP($H70,Törzsadat!$C:$BD,13,0)),0,VLOOKUP($H70,Törzsadat!$C:$BD,AQ$1,0))","v":0},{"$f":"IF(ISERROR(VLOOKUP($H70,Törzsadat!$C:$BD,13,0)),0,VLOOKUP($H70,Törzsadat!$C:$BD,AR$1,0))","v":0},{"$f":"IF(ISERROR(VLOOKUP($H70,Törzsadat!$C:$BD,13,0)),0,VLOOKUP($H70,Törzsadat!$C:$BD,AS$1,0))","v":0},{"$f":"IF(ISERROR(VLOOKUP($H70,Törzsadat!$C:$BD,13,0)),0,VLOOKUP($H70,Törzsadat!$C:$BD,AT$1,0))","v":0},{"$f":"IF(ISERROR(VLOOKUP($H70,Törzsadat!$C:$BD,13,0)),0,VLOOKUP($H70,Törzsadat!$C:$BD,AU$1,0))","v":0},{"$f":"IF(ISERROR(VLOOKUP($H70,Törzsadat!$C:$BD,13,0)),0,VLOOKUP($H70,Törzsadat!$C:$BD,AV$1,0))","v":0},{"$f":"IF(ISERROR(VLOOKUP($H70,Törzsadat!$C:$BD,13,0)),0,VLOOKUP($H70,Törzsadat!$C:$BD,AW$1,0))","v":0},{"$f":"IF(ISERROR(VLOOKUP($H70,Törzsadat!$C:$BD,13,0)),0,VLOOKUP($H70,Törzsadat!$C:$BD,AX$1,0))","v":0},{"$f":"IF(ISERROR(VLOOKUP($H70,Törzsadat!$C:$BD,13,0)),0,VLOOKUP($H70,Törzsadat!$C:$BD,AY$1,0))","v":0},{"$f":"IF(ISERROR(VLOOKUP($H70,Törzsadat!$C:$BD,13,0)),0,VLOOKUP($H70,Törzsadat!$C:$BD,AZ$1,0))","v":0},{"$f":"IF(ISERROR(VLOOKUP($H70,Törzsadat!$C:$BD,13,0)),0,VLOOKUP($H70,Törzsadat!$C:$BD,BA$1,0))","v":0},{"$f":"IF(ISERROR(VLOOKUP($H70,Törzsadat!$C:$BD,13,0)),0,VLOOKUP($H70,Törzsadat!$C:$BD,BB$1,0))","v":0},{"$f":"IF(ISERROR(VLOOKUP($H70,Törzsadat!$C:$BD,13,0)),0,VLOOKUP($H70,Törzsadat!$C:$BD,BC$1,0))","v":0},{"$f":"IF(ISERROR(VLOOKUP($H70,Törzsadat!$C:$BD,13,0)),0,VLOOKUP($H70,Törzsadat!$C:$BD,BD$1,0))","v":0}]
[{"$nulls":6},"Ékszer 13",{"$nulls":7},{"$f":"IF(ISERROR(VLOOKUP($H71,Törzsadat!$C:$BD,13,0)),0,VLOOKUP($H71,Törzsadat!$C:$BD,O$1,0))","v":0},{"$f":"IF(ISERROR(VLOOKUP($H71,Törzsadat!$C:$BD,13,0)),0,VLOOKUP($H71,Törzsadat!$C:$BD,P$1,0))","v":0},{"$f":"IF(ISERROR(VLOOKUP($H71,Törzsadat!$C:$BD,13,0)),0,VLOOKUP($H71,Törzsadat!$C:$BD,Q$1,0))","v":0},{"$f":"IF(ISERROR(VLOOKUP($H71,Törzsadat!$C:$BD,13,0)),0,VLOOKUP($H71,Törzsadat!$C:$BD,R$1,0))","v":0},{"$f":"IF(ISERROR(VLOOKUP($H71,Törzsadat!$C:$BD,13,0)),0,VLOOKUP($H71,Törzsadat!$C:$BD,S$1,0))","v":0},{"$f":"IF(ISERROR(VLOOKUP($H71,Törzsadat!$C:$BD,13,0)),0,VLOOKUP($H71,Törzsadat!$C:$BD,T$1,0))","v":0},{"$f":"IF(ISERROR(VLOOKUP($H71,Törzsadat!$C:$BD,13,0)),0,VLOOKUP($H71,Törzsadat!$C:$BD,U$1,0))","v":0},{"$f":"IF(ISERROR(VLOOKUP($H71,Törzsadat!$C:$BD,13,0)),0,VLOOKUP($H71,Törzsadat!$C:$BD,V$1,0))","v":0},{"$f":"IF(ISERROR(VLOOKUP($H71,Törzsadat!$C:$BD,13,0)),0,VLOOKUP($H71,Törzsadat!$C:$BD,W$1,0))","v":0},{"$f":"IF(ISERROR(VLOOKUP($H71,Törzsadat!$C:$BD,13,0)),0,VLOOKUP($H71,Törzsadat!$C:$BD,X$1,0))","v":0},{"$f":"IF(ISERROR(VLOOKUP($H71,Törzsadat!$C:$BD,13,0)),0,VLOOKUP($H71,Törzsadat!$C:$BD,Y$1,0))","v":0},{"$f":"IF(ISERROR(VLOOKUP($H71,Törzsadat!$C:$BD,13,0)),0,VLOOKUP($H71,Törzsadat!$C:$BD,Z$1,0))","v":0},{"$f":"IF(ISERROR(VLOOKUP($H71,Törzsadat!$C:$BD,13,0)),0,VLOOKUP($H71,Törzsadat!$C:$BD,AA$1,0))","v":0},{"$f":"IF(ISERROR(VLOOKUP($H71,Törzsadat!$C:$BD,13,0)),0,VLOOKUP($H71,Törzsadat!$C:$BD,AB$1,0))","v":0},{"$f":"IF(ISERROR(VLOOKUP($H71,Törzsadat!$C:$BD,13,0)),0,VLOOKUP($H71,Törzsadat!$C:$BD,AC$1,0))","v":0},{"$f":"IF(ISERROR(VLOOKUP($H71,Törzsadat!$C:$BD,13,0)),0,VLOOKUP($H71,Törzsadat!$C:$BD,AD$1,0))","v":0},{"$f":"IF(ISERROR(VLOOKUP($H71,Törzsadat!$C:$BD,13,0)),0,VLOOKUP($H71,Törzsadat!$C:$BD,AE$1,0))","v":0},{"$f":"IF(ISERROR(VLOOKUP($H71,Törzsadat!$C:$BD,13,0)),0,VLOOKUP($H71,Törzsadat!$C:$BD,AF$1,0))","v":0},{"$f":"IF(ISERROR(VLOOKUP($H71,Törzsadat!$C:$BD,13,0)),0,VLOOKUP($H71,Törzsadat!$C:$BD,AG$1,0))","v":0},{"$f":"IF(ISERROR(VLOOKUP($H71,Törzsadat!$C:$BD,13,0)),0,VLOOKUP($H71,Törzsadat!$C:$BD,AH$1,0))","v":0},{"$f":"IF(ISERROR(VLOOKUP($H71,Törzsadat!$C:$BD,13,0)),0,VLOOKUP($H71,Törzsadat!$C:$BD,AI$1,0))","v":0},{"$f":"IF(ISERROR(VLOOKUP($H71,Törzsadat!$C:$BD,13,0)),0,VLOOKUP($H71,Törzsadat!$C:$BD,AJ$1,0))","v":0},{"$f":"IF(ISERROR(VLOOKUP($H71,Törzsadat!$C:$BD,13,0)),0,VLOOKUP($H71,Törzsadat!$C:$BD,AK$1,0))","v":0},{"$f":"IF(ISERROR(VLOOKUP($H71,Törzsadat!$C:$BD,13,0)),0,VLOOKUP($H71,Törzsadat!$C:$BD,AL$1,0))","v":0},{"$f":"IF(ISERROR(VLOOKUP($H71,Törzsadat!$C:$BD,13,0)),0,VLOOKUP($H71,Törzsadat!$C:$BD,AM$1,0))","v":0},{"$f":"IF(ISERROR(VLOOKUP($H71,Törzsadat!$C:$BD,13,0)),0,VLOOKUP($H71,Törzsadat!$C:$BD,AN$1,0))","v":0},{"$f":"IF(ISERROR(VLOOKUP($H71,Törzsadat!$C:$BD,13,0)),0,VLOOKUP($H71,Törzsadat!$C:$BD,AO$1,0))","v":0},{"$f":"IF(ISERROR(VLOOKUP($H71,Törzsadat!$C:$BD,13,0)),0,VLOOKUP($H71,Törzsadat!$C:$BD,AP$1,0))","v":0},{"$f":"IF(ISERROR(VLOOKUP($H71,Törzsadat!$C:$BD,13,0)),0,VLOOKUP($H71,Törzsadat!$C:$BD,AQ$1,0))","v":0},{"$f":"IF(ISERROR(VLOOKUP($H71,Törzsadat!$C:$BD,13,0)),0,VLOOKUP($H71,Törzsadat!$C:$BD,AR$1,0))","v":0},{"$f":"IF(ISERROR(VLOOKUP($H71,Törzsadat!$C:$BD,13,0)),0,VLOOKUP($H71,Törzsadat!$C:$BD,AS$1,0))","v":0},{"$f":"IF(ISERROR(VLOOKUP($H71,Törzsadat!$C:$BD,13,0)),0,VLOOKUP($H71,Törzsadat!$C:$BD,AT$1,0))","v":0},{"$f":"IF(ISERROR(VLOOKUP($H71,Törzsadat!$C:$BD,13,0)),0,VLOOKUP($H71,Törzsadat!$C:$BD,AU$1,0))","v":0},{"$f":"IF(ISERROR(VLOOKUP($H71,Törzsadat!$C:$BD,13,0)),0,VLOOKUP($H71,Törzsadat!$C:$BD,AV$1,0))","v":0},{"$f":"IF(ISERROR(VLOOKUP($H71,Törzsadat!$C:$BD,13,0)),0,VLOOKUP($H71,Törzsadat!$C:$BD,AW$1,0))","v":0},{"$f":"IF(ISERROR(VLOOKUP($H71,Törzsadat!$C:$BD,13,0)),0,VLOOKUP($H71,Törzsadat!$C:$BD,AX$1,0))","v":0},{"$f":"IF(ISERROR(VLOOKUP($H71,Törzsadat!$C:$BD,13,0)),0,VLOOKUP($H71,Törzsadat!$C:$BD,AY$1,0))","v":0},{"$f":"IF(ISERROR(VLOOKUP($H71,Törzsadat!$C:$BD,13,0)),0,VLOOKUP($H71,Törzsadat!$C:$BD,AZ$1,0))","v":0},{"$f":"IF(ISERROR(VLOOKUP($H71,Törzsadat!$C:$BD,13,0)),0,VLOOKUP($H71,Törzsadat!$C:$BD,BA$1,0))","v":0},{"$f":"IF(ISERROR(VLOOKUP($H71,Törzsadat!$C:$BD,13,0)),0,VLOOKUP($H71,Törzsadat!$C:$BD,BB$1,0))","v":0},{"$f":"IF(ISERROR(VLOOKUP($H71,Törzsadat!$C:$BD,13,0)),0,VLOOKUP($H71,Törzsadat!$C:$BD,BC$1,0))","v":0},{"$f":"IF(ISERROR(VLOOKUP($H71,Törzsadat!$C:$BD,13,0)),0,VLOOKUP($H71,Törzsadat!$C:$BD,BD$1,0))","v":0}]
[{"$nulls":6},"Ékszer 14",{"$nulls":7},{"$f":"IF(ISERROR(VLOOKUP($H72,Törzsadat!$C:$BD,13,0)),0,VLOOKUP($H72,Törzsadat!$C:$BD,O$1,0))","v":0},{"$f":"IF(ISERROR(VLOOKUP($H72,Törzsadat!$C:$BD,13,0)),0,VLOOKUP($H72,Törzsadat!$C:$BD,P$1,0))","v":0},{"$f":"IF(ISERROR(VLOOKUP($H72,Törzsadat!$C:$BD,13,0)),0,VLOOKUP($H72,Törzsadat!$C:$BD,Q$1,0))","v":0},{"$f":"IF(ISERROR(VLOOKUP($H72,Törzsadat!$C:$BD,13,0)),0,VLOOKUP($H72,Törzsadat!$C:$BD,R$1,0))","v":0},{"$f":"IF(ISERROR(VLOOKUP($H72,Törzsadat!$C:$BD,13,0)),0,VLOOKUP($H72,Törzsadat!$C:$BD,S$1,0))","v":0},{"$f":"IF(ISERROR(VLOOKUP($H72,Törzsadat!$C:$BD,13,0)),0,VLOOKUP($H72,Törzsadat!$C:$BD,T$1,0))","v":0},{"$f":"IF(ISERROR(VLOOKUP($H72,Törzsadat!$C:$BD,13,0)),0,VLOOKUP($H72,Törzsadat!$C:$BD,U$1,0))","v":0},{"$f":"IF(ISERROR(VLOOKUP($H72,Törzsadat!$C:$BD,13,0)),0,VLOOKUP($H72,Törzsadat!$C:$BD,V$1,0))","v":0},{"$f":"IF(ISERROR(VLOOKUP($H72,Törzsadat!$C:$BD,13,0)),0,VLOOKUP($H72,Törzsadat!$C:$BD,W$1,0))","v":0},{"$f":"IF(ISERROR(VLOOKUP($H72,Törzsadat!$C:$BD,13,0)),0,VLOOKUP($H72,Törzsadat!$C:$BD,X$1,0))","v":0},{"$f":"IF(ISERROR(VLOOKUP($H72,Törzsadat!$C:$BD,13,0)),0,VLOOKUP($H72,Törzsadat!$C:$BD,Y$1,0))","v":0},{"$f":"IF(ISERROR(VLOOKUP($H72,Törzsadat!$C:$BD,13,0)),0,VLOOKUP($H72,Törzsadat!$C:$BD,Z$1,0))","v":0},{"$f":"IF(ISERROR(VLOOKUP($H72,Törzsadat!$C:$BD,13,0)),0,VLOOKUP($H72,Törzsadat!$C:$BD,AA$1,0))","v":0},{"$f":"IF(ISERROR(VLOOKUP($H72,Törzsadat!$C:$BD,13,0)),0,VLOOKUP($H72,Törzsadat!$C:$BD,AB$1,0))","v":0},{"$f":"IF(ISERROR(VLOOKUP($H72,Törzsadat!$C:$BD,13,0)),0,VLOOKUP($H72,Törzsadat!$C:$BD,AC$1,0))","v":0},{"$f":"IF(ISERROR(VLOOKUP($H72,Törzsadat!$C:$BD,13,0)),0,VLOOKUP($H72,Törzsadat!$C:$BD,AD$1,0))","v":0},{"$f":"IF(ISERROR(VLOOKUP($H72,Törzsadat!$C:$BD,13,0)),0,VLOOKUP($H72,Törzsadat!$C:$BD,AE$1,0))","v":0},{"$f":"IF(ISERROR(VLOOKUP($H72,Törzsadat!$C:$BD,13,0)),0,VLOOKUP($H72,Törzsadat!$C:$BD,AF$1,0))","v":0},{"$f":"IF(ISERROR(VLOOKUP($H72,Törzsadat!$C:$BD,13,0)),0,VLOOKUP($H72,Törzsadat!$C:$BD,AG$1,0))","v":0},{"$f":"IF(ISERROR(VLOOKUP($H72,Törzsadat!$C:$BD,13,0)),0,VLOOKUP($H72,Törzsadat!$C:$BD,AH$1,0))","v":0},{"$f":"IF(ISERROR(VLOOKUP($H72,Törzsadat!$C:$BD,13,0)),0,VLOOKUP($H72,Törzsadat!$C:$BD,AI$1,0))","v":0},{"$f":"IF(ISERROR(VLOOKUP($H72,Törzsadat!$C:$BD,13,0)),0,VLOOKUP($H72,Törzsadat!$C:$BD,AJ$1,0))","v":0},{"$f":"IF(ISERROR(VLOOKUP($H72,Törzsadat!$C:$BD,13,0)),0,VLOOKUP($H72,Törzsadat!$C:$BD,AK$1,0))","v":0},{"$f":"IF(ISERROR(VLOOKUP($H72,Törzsadat!$C:$BD,13,0)),0,VLOOKUP($H72,Törzsadat!$C:$BD,AL$1,0))","v":0},{"$f":"IF(ISERROR(VLOOKUP($H72,Törzsadat!$C:$BD,13,0)),0,VLOOKUP($H72,Törzsadat!$C:$BD,AM$1,0))","v":0},{"$f":"IF(ISERROR(VLOOKUP($H72,Törzsadat!$C:$BD,13,0)),0,VLOOKUP($H72,Törzsadat!$C:$BD,AN$1,0))","v":0},{"$f":"IF(ISERROR(VLOOKUP($H72,Törzsadat!$C:$BD,13,0)),0,VLOOKUP($H72,Törzsadat!$C:$BD,AO$1,0))","v":0},{"$f":"IF(ISERROR(VLOOKUP($H72,Törzsadat!$C:$BD,13,0)),0,VLOOKUP($H72,Törzsadat!$C:$BD,AP$1,0))","v":0},{"$f":"IF(ISERROR(VLOOKUP($H72,Törzsadat!$C:$BD,13,0)),0,VLOOKUP($H72,Törzsadat!$C:$BD,AQ$1,0))","v":0},{"$f":"IF(ISERROR(VLOOKUP($H72,Törzsadat!$C:$BD,13,0)),0,VLOOKUP($H72,Törzsadat!$C:$BD,AR$1,0))","v":0},{"$f":"IF(ISERROR(VLOOKUP($H72,Törzsadat!$C:$BD,13,0)),0,VLOOKUP($H72,Törzsadat!$C:$BD,AS$1,0))","v":0},{"$f":"IF(ISERROR(VLOOKUP($H72,Törzsadat!$C:$BD,13,0)),0,VLOOKUP($H72,Törzsadat!$C:$BD,AT$1,0))","v":0},{"$f":"IF(ISERROR(VLOOKUP($H72,Törzsadat!$C:$BD,13,0)),0,VLOOKUP($H72,Törzsadat!$C:$BD,AU$1,0))","v":0},{"$f":"IF(ISERROR(VLOOKUP($H72,Törzsadat!$C:$BD,13,0)),0,VLOOKUP($H72,Törzsadat!$C:$BD,AV$1,0))","v":0},{"$f":"IF(ISERROR(VLOOKUP($H72,Törzsadat!$C:$BD,13,0)),0,VLOOKUP($H72,Törzsadat!$C:$BD,AW$1,0))","v":0},{"$f":"IF(ISERROR(VLOOKUP($H72,Törzsadat!$C:$BD,13,0)),0,VLOOKUP($H72,Törzsadat!$C:$BD,AX$1,0))","v":0},{"$f":"IF(ISERROR(VLOOKUP($H72,Törzsadat!$C:$BD,13,0)),0,VLOOKUP($H72,Törzsadat!$C:$BD,AY$1,0))","v":0},{"$f":"IF(ISERROR(VLOOKUP($H72,Törzsadat!$C:$BD,13,0)),0,VLOOKUP($H72,Törzsadat!$C:$BD,AZ$1,0))","v":0},{"$f":"IF(ISERROR(VLOOKUP($H72,Törzsadat!$C:$BD,13,0)),0,VLOOKUP($H72,Törzsadat!$C:$BD,BA$1,0))","v":0},{"$f":"IF(ISERROR(VLOOKUP($H72,Törzsadat!$C:$BD,13,0)),0,VLOOKUP($H72,Törzsadat!$C:$BD,BB$1,0))","v":0},{"$f":"IF(ISERROR(VLOOKUP($H72,Törzsadat!$C:$BD,13,0)),0,VLOOKUP($H72,Törzsadat!$C:$BD,BC$1,0))","v":0},{"$f":"IF(ISERROR(VLOOKUP($H72,Törzsadat!$C:$BD,13,0)),0,VLOOKUP($H72,Törzsadat!$C:$BD,BD$1,0))","v":0}]
[{"$nulls":6},"Ékszer 15",{"$nulls":7},{"$f":"IF(ISERROR(VLOOKUP($H73,Törzsadat!$C:$BD,13,0)),0,VLOOKUP($H73,Törzsadat!$C:$BD,O$1,0))","v":0},{"$f":"IF(ISERROR(VLOOKUP($H73,Törzsadat!$C:$BD,13,0)),0,VLOOKUP($H73,Törzsadat!$C:$BD,P$1,0))","v":0},{"$f":"IF(ISERROR(VLOOKUP($H73,Törzsadat!$C:$BD,13,0)),0,VLOOKUP($H73,Törzsadat!$C:$BD,Q$1,0))","v":0},{"$f":"IF(ISERROR(VLOOKUP($H73,Törzsadat!$C:$BD,13,0)),0,VLOOKUP($H73,Törzsadat!$C:$BD,R$1,0))","v":0},{"$f":"IF(ISERROR(VLOOKUP($H73,Törzsadat!$C:$BD,13,0)),0,VLOOKUP($H73,Törzsadat!$C:$BD,S$1,0))","v":0},{"$f":"IF(ISERROR(VLOOKUP($H73,Törzsadat!$C:$BD,13,0)),0,VLOOKUP($H73,Törzsadat!$C:$BD,T$1,0))","v":0},{"$f":"IF(ISERROR(VLOOKUP($H73,Törzsadat!$C:$BD,13,0)),0,VLOOKUP($H73,Törzsadat!$C:$BD,U$1,0))","v":0},{"$f":"IF(ISERROR(VLOOKUP($H73,Törzsadat!$C:$BD,13,0)),0,VLOOKUP($H73,Törzsadat!$C:$BD,V$1,0))","v":0},{"$f":"IF(ISERROR(VLOOKUP($H73,Törzsadat!$C:$BD,13,0)),0,VLOOKUP($H73,Törzsadat!$C:$BD,W$1,0))","v":0},{"$f":"IF(ISERROR(VLOOKUP($H73,Törzsadat!$C:$BD,13,0)),0,VLOOKUP($H73,Törzsadat!$C:$BD,X$1,0))","v":0},{"$f":"IF(ISERROR(VLOOKUP($H73,Törzsadat!$C:$BD,13,0)),0,VLOOKUP($H73,Törzsadat!$C:$BD,Y$1,0))","v":0},{"$f":"IF(ISERROR(VLOOKUP($H73,Törzsadat!$C:$BD,13,0)),0,VLOOKUP($H73,Törzsadat!$C:$BD,Z$1,0))","v":0},{"$f":"IF(ISERROR(VLOOKUP($H73,Törzsadat!$C:$BD,13,0)),0,VLOOKUP($H73,Törzsadat!$C:$BD,AA$1,0))","v":0},{"$f":"IF(ISERROR(VLOOKUP($H73,Törzsadat!$C:$BD,13,0)),0,VLOOKUP($H73,Törzsadat!$C:$BD,AB$1,0))","v":0},{"$f":"IF(ISERROR(VLOOKUP($H73,Törzsadat!$C:$BD,13,0)),0,VLOOKUP($H73,Törzsadat!$C:$BD,AC$1,0))","v":0},{"$f":"IF(ISERROR(VLOOKUP($H73,Törzsadat!$C:$BD,13,0)),0,VLOOKUP($H73,Törzsadat!$C:$BD,AD$1,0))","v":0},{"$f":"IF(ISERROR(VLOOKUP($H73,Törzsadat!$C:$BD,13,0)),0,VLOOKUP($H73,Törzsadat!$C:$BD,AE$1,0))","v":0},{"$f":"IF(ISERROR(VLOOKUP($H73,Törzsadat!$C:$BD,13,0)),0,VLOOKUP($H73,Törzsadat!$C:$BD,AF$1,0))","v":0},{"$f":"IF(ISERROR(VLOOKUP($H73,Törzsadat!$C:$BD,13,0)),0,VLOOKUP($H73,Törzsadat!$C:$BD,AG$1,0))","v":0},{"$f":"IF(ISERROR(VLOOKUP($H73,Törzsadat!$C:$BD,13,0)),0,VLOOKUP($H73,Törzsadat!$C:$BD,AH$1,0))","v":0},{"$f":"IF(ISERROR(VLOOKUP($H73,Törzsadat!$C:$BD,13,0)),0,VLOOKUP($H73,Törzsadat!$C:$BD,AI$1,0))","v":0},{"$f":"IF(ISERROR(VLOOKUP($H73,Törzsadat!$C:$BD,13,0)),0,VLOOKUP($H73,Törzsadat!$C:$BD,AJ$1,0))","v":0},{"$f":"IF(ISERROR(VLOOKUP($H73,Törzsadat!$C:$BD,13,0)),0,VLOOKUP($H73,Törzsadat!$C:$BD,AK$1,0))","v":0},{"$f":"IF(ISERROR(VLOOKUP($H73,Törzsadat!$C:$BD,13,0)),0,VLOOKUP($H73,Törzsadat!$C:$BD,AL$1,0))","v":0},{"$f":"IF(ISERROR(VLOOKUP($H73,Törzsadat!$C:$BD,13,0)),0,VLOOKUP($H73,Törzsadat!$C:$BD,AM$1,0))","v":0},{"$f":"IF(ISERROR(VLOOKUP($H73,Törzsadat!$C:$BD,13,0)),0,VLOOKUP($H73,Törzsadat!$C:$BD,AN$1,0))","v":0},{"$f":"IF(ISERROR(VLOOKUP($H73,Törzsadat!$C:$BD,13,0)),0,VLOOKUP($H73,Törzsadat!$C:$BD,AO$1,0))","v":0},{"$f":"IF(ISERROR(VLOOKUP($H73,Törzsadat!$C:$BD,13,0)),0,VLOOKUP($H73,Törzsadat!$C:$BD,AP$1,0))","v":0},{"$f":"IF(ISERROR(VLOOKUP($H73,Törzsadat!$C:$BD,13,0)),0,VLOOKUP($H73,Törzsadat!$C:$BD,AQ$1,0))","v":0},{"$f":"IF(ISERROR(VLOOKUP($H73,Törzsadat!$C:$BD,13,0)),0,VLOOKUP($H73,Törzsadat!$C:$BD,AR$1,0))","v":0},{"$f":"IF(ISERROR(VLOOKUP($H73,Törzsadat!$C:$BD,13,0)),0,VLOOKUP($H73,Törzsadat!$C:$BD,AS$1,0))","v":0},{"$f":"IF(ISERROR(VLOOKUP($H73,Törzsadat!$C:$BD,13,0)),0,VLOOKUP($H73,Törzsadat!$C:$BD,AT$1,0))","v":0},{"$f":"IF(ISERROR(VLOOKUP($H73,Törzsadat!$C:$BD,13,0)),0,VLOOKUP($H73,Törzsadat!$C:$BD,AU$1,0))","v":0},{"$f":"IF(ISERROR(VLOOKUP($H73,Törzsadat!$C:$BD,13,0)),0,VLOOKUP($H73,Törzsadat!$C:$BD,AV$1,0))","v":0},{"$f":"IF(ISERROR(VLOOKUP($H73,Törzsadat!$C:$BD,13,0)),0,VLOOKUP($H73,Törzsadat!$C:$BD,AW$1,0))","v":0},{"$f":"IF(ISERROR(VLOOKUP($H73,Törzsadat!$C:$BD,13,0)),0,VLOOKUP($H73,Törzsadat!$C:$BD,AX$1,0))","v":0},{"$f":"IF(ISERROR(VLOOKUP($H73,Törzsadat!$C:$BD,13,0)),0,VLOOKUP($H73,Törzsadat!$C:$BD,AY$1,0))","v":0},{"$f":"IF(ISERROR(VLOOKUP($H73,Törzsadat!$C:$BD,13,0)),0,VLOOKUP($H73,Törzsadat!$C:$BD,AZ$1,0))","v":0},{"$f":"IF(ISERROR(VLOOKUP($H73,Törzsadat!$C:$BD,13,0)),0,VLOOKUP($H73,Törzsadat!$C:$BD,BA$1,0))","v":0},{"$f":"IF(ISERROR(VLOOKUP($H73,Törzsadat!$C:$BD,13,0)),0,VLOOKUP($H73,Törzsadat!$C:$BD,BB$1,0))","v":0},{"$f":"IF(ISERROR(VLOOKUP($H73,Törzsadat!$C:$BD,13,0)),0,VLOOKUP($H73,Törzsadat!$C:$BD,BC$1,0))","v":0},{"$f":"IF(ISERROR(VLOOKUP($H73,Törzsadat!$C:$BD,13,0)),0,VLOOKUP($H73,Törzsadat!$C:$BD,BD$1,0))","v":0}]
[{"$nulls":6},"Ékszer 16",{"$nulls":7},{"$f":"IF(ISERROR(VLOOKUP($H74,Törzsadat!$C:$BD,13,0)),0,VLOOKUP($H74,Törzsadat!$C:$BD,O$1,0))","v":0},{"$f":"IF(ISERROR(VLOOKUP($H74,Törzsadat!$C:$BD,13,0)),0,VLOOKUP($H74,Törzsadat!$C:$BD,P$1,0))","v":0},{"$f":"IF(ISERROR(VLOOKUP($H74,Törzsadat!$C:$BD,13,0)),0,VLOOKUP($H74,Törzsadat!$C:$BD,Q$1,0))","v":0},{"$f":"IF(ISERROR(VLOOKUP($H74,Törzsadat!$C:$BD,13,0)),0,VLOOKUP($H74,Törzsadat!$C:$BD,R$1,0))","v":0},{"$f":"IF(ISERROR(VLOOKUP($H74,Törzsadat!$C:$BD,13,0)),0,VLOOKUP($H74,Törzsadat!$C:$BD,S$1,0))","v":0},{"$f":"IF(ISERROR(VLOOKUP($H74,Törzsadat!$C:$BD,13,0)),0,VLOOKUP($H74,Törzsadat!$C:$BD,T$1,0))","v":0},{"$f":"IF(ISERROR(VLOOKUP($H74,Törzsadat!$C:$BD,13,0)),0,VLOOKUP($H74,Törzsadat!$C:$BD,U$1,0))","v":0},{"$f":"IF(ISERROR(VLOOKUP($H74,Törzsadat!$C:$BD,13,0)),0,VLOOKUP($H74,Törzsadat!$C:$BD,V$1,0))","v":0},{"$f":"IF(ISERROR(VLOOKUP($H74,Törzsadat!$C:$BD,13,0)),0,VLOOKUP($H74,Törzsadat!$C:$BD,W$1,0))","v":0},{"$f":"IF(ISERROR(VLOOKUP($H74,Törzsadat!$C:$BD,13,0)),0,VLOOKUP($H74,Törzsadat!$C:$BD,X$1,0))","v":0},{"$f":"IF(ISERROR(VLOOKUP($H74,Törzsadat!$C:$BD,13,0)),0,VLOOKUP($H74,Törzsadat!$C:$BD,Y$1,0))","v":0},{"$f":"IF(ISERROR(VLOOKUP($H74,Törzsadat!$C:$BD,13,0)),0,VLOOKUP($H74,Törzsadat!$C:$BD,Z$1,0))","v":0},{"$f":"IF(ISERROR(VLOOKUP($H74,Törzsadat!$C:$BD,13,0)),0,VLOOKUP($H74,Törzsadat!$C:$BD,AA$1,0))","v":0},{"$f":"IF(ISERROR(VLOOKUP($H74,Törzsadat!$C:$BD,13,0)),0,VLOOKUP($H74,Törzsadat!$C:$BD,AB$1,0))","v":0},{"$f":"IF(ISERROR(VLOOKUP($H74,Törzsadat!$C:$BD,13,0)),0,VLOOKUP($H74,Törzsadat!$C:$BD,AC$1,0))","v":0},{"$f":"IF(ISERROR(VLOOKUP($H74,Törzsadat!$C:$BD,13,0)),0,VLOOKUP($H74,Törzsadat!$C:$BD,AD$1,0))","v":0},{"$f":"IF(ISERROR(VLOOKUP($H74,Törzsadat!$C:$BD,13,0)),0,VLOOKUP($H74,Törzsadat!$C:$BD,AE$1,0))","v":0},{"$f":"IF(ISERROR(VLOOKUP($H74,Törzsadat!$C:$BD,13,0)),0,VLOOKUP($H74,Törzsadat!$C:$BD,AF$1,0))","v":0},{"$f":"IF(ISERROR(VLOOKUP($H74,Törzsadat!$C:$BD,13,0)),0,VLOOKUP($H74,Törzsadat!$C:$BD,AG$1,0))","v":0},{"$f":"IF(ISERROR(VLOOKUP($H74,Törzsadat!$C:$BD,13,0)),0,VLOOKUP($H74,Törzsadat!$C:$BD,AH$1,0))","v":0},{"$f":"IF(ISERROR(VLOOKUP($H74,Törzsadat!$C:$BD,13,0)),0,VLOOKUP($H74,Törzsadat!$C:$BD,AI$1,0))","v":0},{"$f":"IF(ISERROR(VLOOKUP($H74,Törzsadat!$C:$BD,13,0)),0,VLOOKUP($H74,Törzsadat!$C:$BD,AJ$1,0))","v":0},{"$f":"IF(ISERROR(VLOOKUP($H74,Törzsadat!$C:$BD,13,0)),0,VLOOKUP($H74,Törzsadat!$C:$BD,AK$1,0))","v":0},{"$f":"IF(ISERROR(VLOOKUP($H74,Törzsadat!$C:$BD,13,0)),0,VLOOKUP($H74,Törzsadat!$C:$BD,AL$1,0))","v":0},{"$f":"IF(ISERROR(VLOOKUP($H74,Törzsadat!$C:$BD,13,0)),0,VLOOKUP($H74,Törzsadat!$C:$BD,AM$1,0))","v":0},{"$f":"IF(ISERROR(VLOOKUP($H74,Törzsadat!$C:$BD,13,0)),0,VLOOKUP($H74,Törzsadat!$C:$BD,AN$1,0))","v":0},{"$f":"IF(ISERROR(VLOOKUP($H74,Törzsadat!$C:$BD,13,0)),0,VLOOKUP($H74,Törzsadat!$C:$BD,AO$1,0))","v":0},{"$f":"IF(ISERROR(VLOOKUP($H74,Törzsadat!$C:$BD,13,0)),0,VLOOKUP($H74,Törzsadat!$C:$BD,AP$1,0))","v":0},{"$f":"IF(ISERROR(VLOOKUP($H74,Törzsadat!$C:$BD,13,0)),0,VLOOKUP($H74,Törzsadat!$C:$BD,AQ$1,0))","v":0},{"$f":"IF(ISERROR(VLOOKUP($H74,Törzsadat!$C:$BD,13,0)),0,VLOOKUP($H74,Törzsadat!$C:$BD,AR$1,0))","v":0},{"$f":"IF(ISERROR(VLOOKUP($H74,Törzsadat!$C:$BD,13,0)),0,VLOOKUP($H74,Törzsadat!$C:$BD,AS$1,0))","v":0},{"$f":"IF(ISERROR(VLOOKUP($H74,Törzsadat!$C:$BD,13,0)),0,VLOOKUP($H74,Törzsadat!$C:$BD,AT$1,0))","v":0},{"$f":"IF(ISERROR(VLOOKUP($H74,Törzsadat!$C:$BD,13,0)),0,VLOOKUP($H74,Törzsadat!$C:$BD,AU$1,0))","v":0},{"$f":"IF(ISERROR(VLOOKUP($H74,Törzsadat!$C:$BD,13,0)),0,VLOOKUP($H74,Törzsadat!$C:$BD,AV$1,0))","v":0},{"$f":"IF(ISERROR(VLOOKUP($H74,Törzsadat!$C:$BD,13,0)),0,VLOOKUP($H74,Törzsadat!$C:$BD,AW$1,0))","v":0},{"$f":"IF(ISERROR(VLOOKUP($H74,Törzsadat!$C:$BD,13,0)),0,VLOOKUP($H74,Törzsadat!$C:$BD,AX$1,0))","v":0},{"$f":"IF(ISERROR(VLOOKUP($H74,Törzsadat!$C:$BD,13,0)),0,VLOOKUP($H74,Törzsadat!$C:$BD,AY$1,0))","v":0},{"$f":"IF(ISERROR(VLOOKUP($H74,Törzsadat!$C:$BD,13,0)),0,VLOOKUP($H74,Törzsadat!$C:$BD,AZ$1,0))","v":0},{"$f":"IF(ISERROR(VLOOKUP($H74,Törzsadat!$C:$BD,13,0)),0,VLOOKUP($H74,Törzsadat!$C:$BD,BA$1,0))","v":0},{"$f":"IF(ISERROR(VLOOKUP($H74,Törzsadat!$C:$BD,13,0)),0,VLOOKUP($H74,Törzsadat!$C:$BD,BB$1,0))","v":0},{"$f":"IF(ISERROR(VLOOKUP($H74,Törzsadat!$C:$BD,13,0)),0,VLOOKUP($H74,Törzsadat!$C:$BD,BC$1,0))","v":0},{"$f":"IF(ISERROR(VLOOKUP($H74,Törzsadat!$C:$BD,13,0)),0,VLOOKUP($H74,Törzsadat!$C:$BD,BD$1,0))","v":0}]
[{"$nulls":6},"Varázslat 1"]
[{"$nulls":6},"Varázslat 2"]
[{"$nulls":6},"Varázslat 3"]
[{"$nulls":6},"Varázslat 4"]
[{"$nulls":6},"Varázslat 5"]
[{"$nulls":6},"Varázslat 6"]
[{"$nulls":6},"Varázslat 7"]
[{"$nulls":6},"Varázslat 8"]
[{"$nulls":6},"Varázslat 9"]
[{"$nulls":6},"Varázslat 10"]
[{"$nulls":6},"Varázslat 11"]
[{"$nulls":6},"Hátas"]
[{"$nulls":6},"Runa 1"]
[{"$nulls":6},"Runa 2"]
[{"$nulls":6},"Runa 3"]
[{"$nulls":6},"Dragnit 1"]
[{"$nulls":6},"Dragnit 2"]
[{"$nulls":6},"Dragnit 3"]
[{"$nulls":6},"Dragnit 4"]
[{"$nulls":6},"Dragnit 5"]
[{"$nulls":6},"Dragnit 6"]
[{"$nulls":6},"Dragnit 7"]
[{"$nulls":6},"Tárgyak 1"]
[{"$nulls":14},{"$f":"SUM(O3:O97)","v":0},0,0,0,0,0,0,0,0,0,0,0,0,0,0,0,0,0,0,0,0,0,0,0,0,0,0,0,0,0,0,0,0,0,0,0,0,0,0,0,0,0]

{"sheet":"Törzsadat","index":1,"n_rows":1857,"n_cols":56,"rows_kept":1857,"cut":false,"hidden":false,"merged":[]}
["Név","#","Név","Megjegyz","KT","F","Súly","EA","VE","Slot","Szintkorlát","Fajkorlát","Jellemkorlát","Vallás korlát","Erő","IQ","Ügyesség","Egészség","Szerencse","Max ÉP","ÉP regeneráció","ÉP regeneráció %","Max VP","VP regeneráció","VP regeneráció %","Max Pszi","Pszi regeneráció","Max TU","Támadás","Lőfegyver támadás","Közelharci támadás szám","Lőfegyver támadás szám","Védő","Sebződés csökkenés %","Sebződés csökkenés","Sebzés","Lőfegyver sebzés","Ököl sebzés","VP sebzés %","TP %","Kincskeresés %","Tárgymentő","Teológia","Taumaturgia","Lopás","Felderítés","Szerencsejáték","Rejtőzködés","Zene","Szörnyismeret","Gyógyítás","Csapdaészlelés","Mászás","Zárnyitás","Harcművészet","Vadászat"]
["deus ex machina ","1 ",{"$f":"CONCATENATE(TRIM(A2),\" (#\",TRIM(B2),\")\")","v":"deus ex machina (#1)"},"megmenti az életed, ha meghalnál",0,0,"0.10 ",25,50]
["kaja ","2 ","kaja (#2)","-",0,0,"0.30 ",1,2]
["vizestömlő ","3 ","vizestömlő (#3)","20 víz tárolására",20,0,"0.20 ",7,14]
["bot ","4 ","bot (#4)","típus: ütő, sebzés: 1d6",8,0,"3.00 ",0,0]
["bunkó ","5 ","bunkó (#5)","típus: ütő, sebzés: 1d6",6,0,"5.00 ",0,0]
["kőkés ","6 ","kőkés (#6)","típus: vágó (balkezes), sebzés: 1d4",3,0,"0.50 ",0,0]
["kőhegyű lándzsa ","7 ","kőhegyű lándzsa (#7)","típus: szúró, sebzés: 2d4+2",12,10,"3.50 ",0,1]
["szöges bunkó ","8 ","szöges bunkó (#8)","típus: ütő, sebzés: 3d6+2",16,39,"5.20 ",10,20]
["bunkósbot ","9 ","bunkósbot (#9)","típus: ütő, sebzés: 2d4+2",12,12,"3.50 ",1,2]
["dárda ","10 ","dárda (#10)","típus: dobó (szúró), sebzés: 1d6, +1 vadászat",10,10,"2.00 ",0,1]
["csontkés ","11 ","csontkés (#11)","típus: szúró (balkezes), sebzés: 1d4+3",4,15,"0.30 ",2,4]
["csontszurony ","12 ","csontszurony (#12)","típus: szúró, sebzés: 3d4+2",20,15,"3.30 ",2,4]
["kőkalapács ","13 ","kőkalapács (#13)","típus: ütő (balkezes), sebzés: 1d6",12,9,"1.00 ",0,0]
["sünmedve tüske ","14 ","sünmedve tüske (#14)","-",0,0,"0.03 ",1,2]
["vadász tatu bőr ","15 ","vadász tatu bőr (#15)","-",0,0,"1.00 ",1,2]
["bordacsont ","16 ","bordacsont (#16)","áldozati tárgy Leahnak",0,0,"0.40 ",2,4]
["szögletes kő ","17 ","szögletes kő (#17)","-",2,0,"0.50 ",0,0]
["parittya ","18 ","parittya (#18)","típus: lőfegyver",6,0,"0.10 ",0,0]
["kerek kő ","19 ","kerek kő (#19)","típus: lövedék (ütő), sebzés: 1d4",1,0,"0.15 ",0,0]
["fúvócső ","20 ","fúvócső (#20)","típus: lőfegyver, +2 támadás",6,21,"0.10 ",4,8]
["ormánygőte csont ","21 ","ormánygőte csont (#21)","-",0,0,"0.20 ",3,6]
["tüske ","22 ","tüske (#22)","típus: lövedék (szúró), sebzés: 1d3",1,0,"0.03 ",0,0]
["mérgezett tüske ","23 ","mérgezett tüske (#23)","típus: lövedék (szúró), sebzés: 1d3+4",1,12,"0.03 ",1,2]
["kavadu lebeny ","24 ","kavadu lebeny (#24)","-",0,0,"0.20 ",2,4]
["kavadu iszák ","25 ","kavadu iszák (#25)","10 gyenge méreg tárolására",5,24,"0.10 ",2,4]
["gyenge méreg ","26 ","gyenge méreg (#26)","áldozati tárgy Dornodonnak",0,0,"0.01 ",1,2]
["víz ","27 ","víz (#27)","-",0,0,"0.01 ",0,0]
["ököl ","28 ","ököl (#28)","típus: ütő, sebzés: 1d3",0,0,"- ",0,0]
["smirglilevél ","29 ","smirglilevél (#29)","-",1,0,"0.05 ",0,0]
["varányszem ","30 ","varányszem (#30)","-",0,0,"0.02 ",1,2]
["smirglibokor ","31 ","smirglibokor (#31)","-",0,0,"- ",0,0]
["szeksztáns ","32 ","szeksztáns (#32)","abszolút koordináta meghatározására",15,132,"0.20 ",20,40]
["lapockacsont ","33 ","lapockacsont (#33)","-",0,0,"1.00 ",4,8]
["ásó ","34 ","ásó (#34)","típus: ütő, sebzés: 1d2",24,24,"3.00 ",5,10]
["tűzbokor ","35 ","tűzbokor (#35)","-",0,0,"- ",0,0]
["fáklya ","36 ","fáklya (#36)","áldozati tárgy Tharrnak",3,0,"0.30 ",0,1]
["drótszőr ","37 ","drótszőr (#37)","-",0,0,"0.05 ",2,4]
["gumifa ","38 ","gumifa (#38)","-",0,0,"- ",0,0]
["zárnyitó készlet ","39 ","zárnyitó készlet (#39)","-",20,81,"0.20 ",12,24]
["kis vaskulcs ","40 ","kis vaskulcs (#40)","-",0,0,"0.08 ",3,6]
["grákóbőr ","41 ","grákóbőr (#41)","-",0,0,"0.10 ",3,6]
["távcső ","42 ","távcső (#42)","-",20,93,"0.20 ",16,32]
["tükör ","43 ","tükör (#43)","-",5,0,"0.30 ",0,0]
["királygyík bőr ","44 ","királygyík bőr (#44)","-",0,0,"1.00 ",3,6]
["kis bőrpajzs ","45 ","kis bőrpajzs (#45)","+1 AC",25,24,"2.00 ",5,10,"Pajzs",{"$nulls":22},1]
["krómkaktusz ","46 ","krómkaktusz (#46)","-",0,0,"- ",0,0]
["surranó kígyó bőr ","47 ","surranó kígyó bőr (#47)","-",0,0,"0.20 ",2,4]
["antilopbőr ","48 ","antilopbőr (#48)","-",0,0,"2.00 ",3,6]
["kígyóbőr kesztyű ","49 ","kígyóbőr kesztyű (#49)","+1 AC",20,24,"0.30 ",5,10,"Kesztyű",{"$nulls":22},1]
["arany ","50 ","arany (#50)","-",0,0,"- ",1,0]
["bőrpáncél ","51 ","bőrpáncél (#51)","+2 AC",30,24,"3.00 ",5,10,"Páncél",{"$nulls":22},2]
["patak ","52 ","patak (#52)","-",0,0,"- ",0,0]
["tavacska ","53 ","tavacska (#53)","-",0,0,"- ",0,0]
["szökőkút ","54 ","szökőkút (#54)","-",0,0,"- ",0,0]
["mákrózsa bokor ","55 ","mákrózsa bokor (#55)","-",0,0,"- ",0,0]
["mákrózsa virág ","56 ","mákrózsa virág (#56)","áldozati tárgy Eleniosnak",3,0,"0.20 ",0,0]
["bőrsisak ","57 ","bőrsisak (#57)","+1 AC",16,24,"1.00 ",5,10,"Sisak",{"$nulls":22},1]
["ködmangócserje ","58 ","ködmangócserje (#58)","-",0,0,"- ",0,0]
["ködmangó ","59 ","ködmangó (#59)","-",12,0,"- ",0,0]
["ködkapu ","60 ","ködkapu (#60)","-",0,0,"- ",0,0]
["árnyéksár ","61 ","árnyéksár (#61)","-",0,0,"- ",0,0]
["ködcsillag ","62 ","ködcsillag (#62)","-",30,9,"- ",0,0]
["tigroszlán fog ","63 ","tigroszlán fog (#63)","-",0,0,"0.05 ",1,2]
["csontszablya ","64 ","csontszablya (#64)","típus: vágó (balkezes), sebzés: 1d8, áldozati tárgy Dornodonnak",0,0,"1.50 ",2,4]
["szöges páncél ","65 ",{"$f":"CONCATENATE(TRIM(A66),\" (#\",TRIM(B66),\")\")","v":"szöges páncél (#65)"},"+4 AC",24,99,"3.40 ",24,48,"Páncél",{"$nulls":22},4]
["szöges bőrpajzs ","66 ","szöges bőrpajzs (#66)","+2 AC",18,81,"2.20 ",16,32,"Pajzs",{"$nulls":22},2]
["kék orchideacserje ","67 ","kék orchideacserje (#67)","-",0,0,"- ",0,0]
["kék orchidea ","68 ","kék orchidea (#68)","-",6,0,"0.08 ",4,8]
["szárnyas hernyó ","69 ","szárnyas hernyó (#69)","áldozati tárgy Sherannak",10,0,"0.10 ",2,4]
["rézdarab ","70 ","rézdarab (#70)","-",0,0,"0.30 ",1,2]
["rézpáncél ","71 ","rézpáncél (#71)","+5 AC",40,108,"5.40 ",24,48,"Páncél",{"$nulls":22},5]
["rézsisak ","72 ","rézsisak (#72)","+2 AC",18,48,"0.90 ",7,14,"Sisak",{"$nulls":22},2]
["rézpajzs ","73 ","rézpajzs (#73)","+3 AC",26,69,"1.50 ",14,28,"Pajzs",{"$nulls":22},3]
["csontkulcs ","74 ","csontkulcs (#74)","-",0,0,"0.06 ",4,8]
["rézkulcs ","75 ","rézkulcs (#75)","-",0,0,"0.08 ",6,12]
["bronzkulcs ","76 ","bronzkulcs (#76)","-",0,0,"0.10 ",9,18]
["rát-fa ","77 ","rát-fa (#77)","másznivaló, min. mászás: 0",0,0,"- ",0,0]
["mászókarom ","78 ","mászókarom (#78)","+4 sebzés ököllel",20,39,"0.20 ",10,20,"Kesztyű",{"$nulls":27},4]
["korongfa ","79 ","korongfa (#79)","másznivaló, min. mászás: ?",0,0,"- ",0,0]
["lapkorong ","80 ","lapkorong (#80)","-",8,0,"0.08 ",2,4]
["mérleg ","81 ","mérleg (#81)","áldozati tárgy Fairlightnak",30,33,"0.24 ",8,16]
["zöld üveg ","82 ","zöld üveg (#82)","20 ragasztó tárolására",0,0,"0.10 ",3,6]
["ragasztó ","83 ","ragasztó (#83)","áldozati tárgy Eleniosnak",0,0,"0.01 ",1,2]
["díszes rézpajzs ","84 ","díszes rézpajzs (#84)","+4 AC",0,0,"3.00 ",15,30,"Pajzs",{"$nulls":22},4]
["óndarab ","85 ","óndarab (#85)","-",0,0,"0.30 ",2,4]
["olvasztókemence ","86 ","olvasztókemence (#86)","-",70,9,"- ",0,0]
["bronzhegyű lándzsa ","87 ","bronzhegyű lándzsa (#87)","típus: szúró, sebzés: 3d6+3",50,93,"3.00 ",10,20]
["bronzsisak ","88 ","bronzsisak (#88)","+3 AC",45,99,"1.20 ",9,18,"Sisak",{"$nulls":22},3]
["bronzpajzs ","89 ","bronzpajzs (#89)","+5 AC",60,120,"2.00 ",16,32,"Pajzs",{"$nulls":22},5]
["bronzpáncél ","90 ","bronzpáncél (#90)","+7 AC",70,177,"7.00 ",32,64,"Páncél",{"$nulls":22},7]
["manilla-fa ","91 ","manilla-fa (#91)","-",0,0,"- ",0,0]
["kötél ","92 ","kötél (#92)","-",6,0,"1.00 ",1,2]
["mély kút ","93 ","mély kút (#93)","másznivaló, min. mászás: 2",0,0,"- ",0,0]
["bronzhegyű nyíl ","94 ","bronzhegyű nyíl (#94)","típus: lövedék (szúró), sebzés: 2d6+4",10,78,"0.08 ",5,10]
["bakkura bőr ","95 ","bakkura bőr (#95)","-",0,0,"0.40 ",2,4]
["bakkura csizma ","96 ","bakkura csizma (#96)","+2 AC",36,78,"1.20 ",11,22,"Csizma",{"$nulls":22},2]
["rákpáncél ","97 ","rákpáncél (#97)","-",0,0,"0.40 ",4,8]
["rákpajzs ","98 ","rákpajzs (#98)","+4 AC",26,36,"0.80 ",10,20,"Pajzs",{"$nulls":22},4]
["fekete gyöngy ","99 ","fekete gyöngy (#99)","áldozati tárgy Leahnak",0,0,"0.01 ",6,12]
["aranyló ugarhéj ","100 ","aranyló ugarhéj (#100)","10 tinta tárolására, áldozati tárgy Raiának",0,0,"0.10 ",4,8]
["tinta ","101 ","tinta (#101)","-",0,0,"0.01 ",1,2]
["vízionár szem ","102 ","vízionár szem (#102)","áldozati tárgy Eleniosnak",0,0,"0.03 ",3,6]
["magszim bél ","103 ","magszim bél (#103)","-",0,0,"0.08 ",5,10]
["fémrúd ","104 ","fémrúd (#104)","-",0,0,"2.00 ",8,16]
["evaporőr háj ","105 ","evaporőr háj (#105)","-",0,0,"0.20 ",5,7]
["fabontó ","106 ","fabontó (#106)","-",0,0,"0.10 ",5,10]
["rövid íj ","107 ","rövid íj (#107)","típus: lőfegyver, +2 vadászat",40,87,"1.00 ",8,16]
["nyílvessző ","108 ","nyílvessző (#108)","típus: lövedék (szúró), sebzés: 1d8+2",4,12,"0.10 ",1,2]
["vapárcserje ","109 ","vapárcserje (#109)","-",0,0,"- ",0,0]
["vapárág ","110 ","vapárág (#110)","-",10,0,"2.00 ",10,20]
["hosszú íj ","111 ","hosszú íj (#111)","típus: lőfegyver, +2 támadás",50,141,"2.00 ",20,40]
["madártoll ","112 ","madártoll (#112)","áldozati tárgy Raiának",0,0,"0.01 ",1,2]
["xantusz-kaktusz ","113 ","xantusz-kaktusz (#113)","-",0,0,"- ",0,0]
["kaktusztüske ","114 ","kaktusztüske (#114)","áldozati tárgy Fairlightnak",3,0,"0.02 ",0,0]
["móricserje ","115 ","móricserje (#115)","-",0,0,"- ",0,0]
["móri gyümölcs ","116 ","móri gyümölcs (#116)","áldozati tárgy Sherannak",4,0,"0.10 ",0,0]
["ezüst nyaklánc ","117 ","ezüst nyaklánc (#117)","ékszer",0,0,"0.10 ",10,20]
["púderszikla ","118 ","púderszikla (#118)","-",0,0,"- ",0,0]
["púderkő ","119 ","púderkő (#119)","áldozati tárgy Raiának",6,0,"0.10 ",0,1]
["tábla ","120 ","tábla (#120)","maximum 70 betűnyi szöveg",30,111,"- ",10,20]
["jellempróba ","121 ","jellempróba (#121)","-",0,0,"- ",0,0]
["dözmöng szív ","122 ","dözmöng szív (#122)","-",0,0,"0.08 ",3,6]
["göcsörtös bunkó ","123 ","göcsörtös bunkó (#123)","típus: ütő, sebzés: 2d8+4, min. fsz.: 5",0,0,"3.50 ",8,16]
["rókafarok ","124 ","rókafarok (#124)","áldozati tárgy Sherannak",0,0,"0.50 ",3,6]
["mandibulapenge ","125 ","mandibulapenge (#125)","-",0,0,"0.50 ",3,6]
["bronzpenge ","126 ","bronzpenge (#126)","típus: vágó, sebzés: 2d6+2",60,99,"2.00 ",12,24]
["mandibulakasza ","127 ","mandibulakasza (#127)","típus: vágó, sebzés: 3d6+3",45,156,"3.50 ",25,50]
["sallank karom ","128 ","sallank karom (#128)","áldozati tárgy Tharrnak",0,0,"0.15 ",2,4]
["sallank nyíl ","129 ",{"$f":"CONCATENATE(TRIM(A130),\" (#\",TRIM(B130),\")\")","v":"sallank nyíl (#129)"},"típus: lövedék (szúró), sebzés: 2d8+2",3,0,"0.25 ",3,6]
["hebrencs állkapocs ","130 ","hebrencs állkapocs (#130)","-",0,0,"0.40 ",4,8]
["ubuk tüske ","131 ","ubuk tüske (#131)","típus: lövedék (szúró), sebzés: 1d8",0,0,"0.05 ",1,2]
["hóhérbimbó ","132 ","hóhérbimbó (#132)","-",0,0,"- ",0,0]
["csuklyavirág ","133 ","csuklyavirág (#133)","áldozati tárgy Leahnak",3,0,"0.05 ",1,2]
["gyöngymangó bokor ","134 ","gyöngymangó bokor (#134)","-",0,0,"- ",0,0]
["gyöngymangó ","135 ","gyöngymangó (#135)","-",0,0,"0.10 ",2,4]
["rúnakő ","136 ","rúnakő (#136)","kapcsolat az istenekkel",0,0,"- ",0,0]
["mérgezett ubuktüske ","137 ","mérgezett ubuktüske (#137)","típus: lövedék (szúró), sebzés: 1d8+4",1,24,"0.05 ",2,4]
["ubuk dobónyíl ","138 ","ubuk dobónyíl (#138)","típus: dobó (szúró), sebzés: 1d8+6",10,78,"0.15 ",5,10]
["koponya szimbólum ","139 ","koponya szimbólum (#139)","csak Leah hívei hordhatják, +4 mentődobás halál és hideg ellen",20,200,"0.05 ",10,20,"Nyaklánc",null,null,null,"5"]
["denevér szimbólum ","140 ","denevér szimbólum (#140)","csak Dornodon hívei hordhatják, +2 iq",20,200,"0.04 ",10,20,"Nyaklánc",null,null,null,"6",null,2]
["nap szimbólum ","141 ","nap szimbólum (#141)","csak Raia hívei hordhatják, +4 mentődobás energia ellen",20,200,"0.05 ",10,20,"Nyaklánc",null,null,null,"3"]
["szem szimbólum ","142 ","szem szimbólum (#142)","csak Elenios hívei hordhatják, +4 mentődobás mentális támadás ellen",20,200,"0.03 ",12,24,"Nyaklánc",null,null,null,"4"]
["virág szimbólum ","143 ","virág szimbólum (#143)","csak Sheran hívei hordhatják, +2 eg.",20,200,"0.03 ",8,16,"Nyaklánc",null,null,null,"1",null,null,null,2]
["két kard szimbólum ","144 ","két kard szimbólum (#144)","csak Tharr hívei hordhatják, +2 erő",20,200,"0.06 ",10,20,"Nyaklánc",null,null,null,"2",2]
["villám szimbólum ","145 ","villám szimbólum (#145)","csak Fairlight hívei hordhatják, +2 ügy.",20,200,"0.04 ",10,20,"Nyaklánc",null,null,null,"7",null,null,2]
["oltár ","146 ","oltár (#146)","imádkozáshoz",240,180,"- ",0,0]
["hebrencs csapda ","147 ","hebrencs csapda (#147)","-",16,81,"0.45 ",15,30]
["mocsári penke ","148 ","mocsári penke (#148)","-",0,0,"0.01 ",1,2]
["grok-képződmény ","149 ","grok-képződmény (#149)","másznivaló, min. mászás: 3",0,0,"- ",0,0]
["szent jogar ","150 ","szent jogar (#150)","jó jelleműeket max. ép.-be gyógyít",0,0,"0.08 ",50,100]
["szvó-ektoplazma ","151 ","szvó-ektoplazma (#151)","-",0,0,"0.05 ",10,20]
["vasérc ","152 ","vasérc (#152)","-",0,0,"0.20 ",2,4]
["pirkit ","153 ","pirkit (#153)","-",0,0,"0.05 ",2,4]
["mély szakadék ","154 ","mély szakadék (#154)","másznivaló, min. mászás: 5",0,0,"- ",0,0]
["vaskohó ","155 ","vaskohó (#155)","-",110,30,"- ",0,0]
["világítótorony ","156 ","világítótorony (#156)","maximum 10 mező távolságra történő információ átadásra",80,36,"- ",0,0]
["nyu-shuriken ","157 ","nyu-shuriken (#157)","típus: dobó (szúró), sebzés: 3d4+2, +3 támadás",6,90,"0.05 ",12,24]
["ezüst karkötő ","158 ","ezüst karkötő (#158)","ékszer",0,0,"0.08 ",14,28]
["kis vaspajzs ","159 ","kis vaspajzs (#159)","+6 AC, min. bányászat: 3",40,111,"2.00 ",16,32,"Pajzs",{"$nulls":22},6]
["vassisak ","160 ","vassisak (#160)","+4 AC, min. bányászat: 4",35,126,"0.60 ",18,36,"Sisak",{"$nulls":22},4]
["nagy vaspajzs ","161 ","nagy vaspajzs (#161)","+8 AC, min. bányászat: 3",50,129,"3.20 ",22,44,"Pajzs",{"$nulls":22},8]
["borostyán függő ","162 ","borostyán függő (#162)","ékszer",0,0,"0.01 ",6,12]
["karócsapda ","163 ","karócsapda (#163)","-",24,54,"1.00 ",12,24]
["vasvért ","164 ","vasvért (#164)","+10 AC, min. bányászat: 6",60,270,"8.00 ",60,120,"Páncél",{"$nulls":22},10]
["mászókampó ","165 ","mászókampó (#165)","min. bányászat: 2",15,90,"0.40 ",12,24]
["ugh méreg ","166 ","ugh méreg (#166)","-",0,0,"0.01 ",2,4]
["sziklafészek ","167 ","sziklafészek (#167)","másznivaló, min. mászás: 6",0,0,"- ",0,0]
["sullár hólyag ","168 ","sullár hólyag (#168)","20 spiritusz tárolására",0,0,"0.08 ",7,14]
["uzbány csőr ","169 ","uzbány csőr (#169)","12 ugh méreg tárolására",0,0,"0.15 ",6,12]
["spiritusz ","170 ","spiritusz (#170)","-",0,0,"0.01 ",1,2]
["rövid kard ","171 ","rövid kard (#171)","típus: vágó (balkezes), sebzés: 3d4+1, min. bányászat: 5",50,111,"1.50 ",16,32]
["téfea-agy ","172 ","téfea-agy (#172)","-",0,0,"0.30 ",8,16]
["nekrofun ","173 ","nekrofun (#173)","duplázza a varázspont regenerálást",0,0,"- ",0,0]
["harci kalapács ","174 ","harci kalapács (#174)","típus: ütő (balkezes), sebzés: 3d4+1, min. bányászat: 3",35,99,"2.20 ",20,40]
["márványtorony ","175 ","márványtorony (#175)","másznivaló, min. mászás: 8",0,0,"- ",0,0]
["vashegyű nyíl ","176 ","vashegyű nyíl (#176)","típus: lövedék (szúró), sebzés: 3d6+1, min. bányászat: 2",8,69,"0.08 ",5,10]
["szopógödör ","177 ","szopógödör (#177)","-",0,0,"- ",0,0]
["mínosz-kúp ","178 ","mínosz-kúp (#178)","-",0,0,"- ",0,0]
["grifftojás ","179 ","grifftojás (#179)","-",0,0,"0.40 ",10,20]
["ezüst gyűrű ","180 ","ezüst gyűrű (#180)","ékszer",0,0,"0.01 ",6,12]
["vasalt bunkó ","181 ","vasalt bunkó (#181)","típus: ütő, sebzés: 4d6+4, min. fsz.: 10, min. bányászat: 4",50,177,"4.50 ",35,70]
["vashegyű lándzsa ","182 ","vashegyű lándzsa (#182)","típus: szúró, sebzés: 4d6+1, min. fsz.: 10, +2 támadás, min. bányászat: 2",30,108,"2.00 ",18,36]
["vaskulcs ","183 ","vaskulcs (#183)","-",0,0,"0.08 ",10,20]
["ezüst kulcs ","184 ","ezüst kulcs (#184)","-",0,0,"0.04 ",12,24]
["nagy bronzkulcs ","185 ","nagy bronzkulcs (#185)","-",0,0,"0.12 ",14,28]
["nagy vaskulcs ","186 ","nagy vaskulcs (#186)","-",0,0,"0.15 ",16,32]
["mérgezett vashegyű nyíl ","187 ","mérgezett vashegyű nyíl (#187)","típus: lövedék (szúró), sebzés: 3d6+7",2,78,"0.08 ",8,16]
["mérgezett ubuk dobónyíl ","188 ","mérgezett ubuk dobónyíl (#188)","típus: dobó (szúró), sebzés: 1d8+10",2,66,"0.15 ",7,14]
["vas dobónyíl ","189 ","vas dobónyíl (#189)","típus: dobó (szúró), sebzés: 2d6+4, +2 támadás, min. bányászat: 3",10,84,"0.10 ",7,14]
["mérgezett vas dobónyíl ","190 ","mérgezett vas dobónyíl (#190)","típus: dobó (szúró), sebzés: 2d6+10, +2 támadás",2,84,"0.10 ",10,20]
["aranylánc ","191 ","aranylánc (#191)","ékszer",0,0,"0.15 ",20,40]
["gyöngysor ","192 ","gyöngysor (#192)","ékszer",0,0,"0.25 ",48,96]
["aranygyűrű ","193 ",{"$f":"CONCATENATE(TRIM(A194),\" (#\",TRIM(B194),\")\")","v":"aranygyűrű (#193)"},"ékszer",0,0,"0.02 ",12,24]
["arany karperec ","194 ","arany karperec (#194)","ékszer",0,0,"0.12 ",26,52]
["obszidián függő ","195 ","obszidián függő (#195)","ékszer",0,0,"0.01 ",10,20]
["trófea nyaklánc ","196 ","trófea nyaklánc (#196)","ékszer",8,135,"0.38 ",30,60]
["igazgyöngy fülbevaló ","197 ","igazgyöngy fülbevaló (#197)","ékszer",0,0,"0.02 ",20,40]
["trikornis szarv ","198 ","trikornis szarv (#198)","-",0,0,"0.20 ",12,24]
["karbin plazma ","199 ","karbin plazma (#199)","-",0,0,"0.25 ",10,20]
["gyíkfű csomó ","200 ","gyíkfű csomó (#200)","-",0,0,"- ",0,0]
["gyíkfű ","201 ","gyíkfű (#201)","8 helyett 9 mozgás a fordulóban",0,0,"0.01 ",1,2]
["amniosz-fa ","202 ","amniosz-fa (#202)","-",0,0,"- ",0,0]
["amniosz ","203 ","amniosz (#203)","állateledel",4,0,"0.15 ",1,2]
["kazmár ","204 ","kazmár (#204)","-",0,0,"- ",0,0]
["kazmár gyökér ","205 ","kazmár gyökér (#205)","-",6,0,"0.10 ",4,8]
["ovimon-bokor ","206 ","ovimon-bokor (#206)","-",0,0,"- ",0,0]
["ovimon-bogyó ","207 ","ovimon-bogyó (#207)","fogamzásgátló",1,0,"0.01 ",0,1]
["óriás lián ","208 ","óriás lián (#208)","-",0,0,"- ",0,0]
["szuperkötél ","209 ","szuperkötél (#209)","-",12,0,"2.00 ",2,4]
["fűszertartó ","210 ","fűszertartó (#210)","5 sáfránypor tárolására",0,0,"0.08 ",6,12]
["sáfránypor ","211 ","sáfránypor (#211)","+5 TVP/db",0,0,"0.01 ",20,0]
["dorony tüdő ","212 ","dorony tüdő (#212)","-",0,0,"0.10 ",8,16]
["xirnox szív ","213 ","xirnox szív (#213)","-",0,0,"0.10 ",10,20]
["manifesztátor nyúlvány ","214 ","manifesztátor nyúlvány (#214)","-",0,0,"0.16 ",10,20]
["praglonc hártya ","215 ","praglonc hártya (#215)","-",0,0,"0.03 ",200,400]
["ketrec ","216 ","ketrec (#216)","-",90,127,"12.00 ",76,152]
["hurokcsapda ","217 ","hurokcsapda (#217)","-",15,33,"- ",0,0]
["ketrec csapda ","218 ","ketrec csapda (#218)","-",12,99,"- ",0,0]
["fedett verem ","219 ","fedett verem (#219)","-",24,54,"- ",0,0]
["háló-csapda ","220 ","háló-csapda (#220)","-",8,48,"- ",0,0]
["dobóháló ","221 ","dobóháló (#221)","-",10,87,"0.40 ",8,16]
["láncing ","222 ","láncing (#222)","+8 AC",0,0,"2.50 ",50,400,"Páncél",{"$nulls":22},8]
["smaragd védőgyűrű ","223 ","smaragd védőgyűrű (#223)","+2 AC, +2 szer.",0,0,"0.01 ",100,600,"Gyűrű",{"$nulls":8},2,{"$nulls":13},2]
["varkaudar lándzsa ","224 ","varkaudar lándzsa (#224)","típus: szúró, sebzés: 3d4+3, min. fsz.: 7, +2 támadás",0,0,"2.00 ",5,10]
["orgyilkos tőr ","225 ","orgyilkos tőr (#225)","típus szúró (balkezes), sebzés: 2d4+4",0,0,"0.10 ",8,16]
["ramit kő ","226 ","ramit kő (#226)","-",0,0,"0.10 ",3,6]
["varázstekercs ","227 ","varázstekercs (#227)","-",0,0,"- ",0,0]
["helytartói jogar ","228 ","helytartói jogar (#228)","kézbe véve +1 erő, +1 iq",0,0,"0.20 ",35,70]
["obszidián karkötő ","229 ","obszidián karkötő (#229)","+4 támadás távolsági fegyverrel",0,0,"0.05 ",30,60,"Karkötő",{"$nulls":19},4]
["lánckesztyű ","230 ","lánckesztyű (#230)","+3 AC",0,0,"0.20 ",15,300,"Kesztyű",{"$nulls":22},3]
["acélpengőke ","231 ","acélpengőke (#231)","-",0,0,"0.01 ",3,6]
["ilkin érc ","232 ","ilkin érc (#232)","-",0,0,"0.10 ",3,6]
["furulya ","233 ","furulya (#233)","-",14,66,"0.18 ",7,14]
["tatu dob ","234 ","tatu dob (#234)","-",10,39,"0.20 ",4,8]
["dorony duda ","235 ","dorony duda (#235)","min. zene: 4",12,156,"0.60 ",28,56]
["lajhár csont ","236 ","lajhár csont (#236)","-",0,0,"0.40 ",3,6]
["tankány karom ","237 ","tankány karom (#237)","+1 AC, +5 sebzés ököllel",0,0,"0.30 ",10,20,"Kesztyű",{"$nulls":22},1,{"$nulls":4},5]
["lant ","238 ","lant (#238)","min. zene: 2",18,99,"0.45 ",15,30]
["pulár kristály ","239 ","pulár kristály (#239)","-",0,0,"0.25 ",8,16]
["kis aranykulcs ","240 ","kis aranykulcs (#240)","-",0,0,"0.03 ",16,32]
["smaragd kulcs ","241 ","smaragd kulcs (#241)","-",0,0,"0.06 ",24,48]
["tüskecsapda ","242 ","tüskecsapda (#242)","-",5,42,"0.10 ",8,16]
["nyílcsapda ","243 ","nyílcsapda (#243)","-",10,120,"2.80 ",22,44]
["kvazár ","244 ","kvazár (#244)","-",0,0,"0.20 ",11,22]
["márványkulcs ","245 ","márványkulcs (#245)","-",0,0,"0.10 ",16,32]
["nagy aranykulcs ","246 ","nagy aranykulcs (#246)","-",0,0,"0.05 ",24,48]
["fekete bőrcsizma ","247 ","fekete bőrcsizma (#247)","+3 AC",0,0,"0.90 ",16,32,"Csizma",{"$nulls":22},3]
["pszi kő ","248 ","pszi kő (#248)","-",0,0,"0.06 ",100,1000]
["bumeráng ","249 ","bumeráng (#249)","típus: dobó (vágó), sebzés: 1d8+4",12,75,"0.23 ",4,8]
["ZAN ","250 ","ZAN (#250)","-",0,0,"- ",0,0]
["kvazár páncél ","251 ","kvazár páncél (#251)","+12 AC",120,456,"6.00 ",250,500,"Páncél",{"$nulls":22},12]
["smaragd koszorú ","252 ","smaragd koszorú (#252)","+3 AC, +1 iq",0,0,"- ",60,0,"Sisak",{"$nulls":5},1,{"$nulls":16},3]
["nekrofun medál ","253 ","nekrofun medál (#253)","+30% vp regen., de max. 20 vp",0,0,"0.10 ",20,2000,"Nyaklánc",{"$nulls":14},30]
["regeneráló gyűrű ","254 ","regeneráló gyűrű (#254)","+20% ép regen.",0,0,"0.02 ",80,1600,"Gyűrű",{"$nulls":13},20]
["tatuködmön ","255 ","tatuködmön (#255)","+2 AC",25,21,"3.00 ",4,8,"Páncél",{"$nulls":22},2]
["templom ","256 ","templom (#256)","-",3000,0,"- ",0,0]
["szent kehely ","257 ",{"$f":"CONCATENATE(TRIM(A258),\" (#\",TRIM(B258),\")\")","v":"szent kehely (#257)"},"10 isteni könnycsepp tárolására",0,0,"0.20 ",16,32]
["nehezék ","258 ","nehezék (#258)","típus: dobó (ütő), sebzés: 5d10, min. fsz.: 10, -4 támadás",10,36,"10.00 ",0,1]
["szopókő ","259 ","szopókő (#259)","-",3,63,"0.01 ",0,0]
["isteni könnycsepp ","260 ","isteni könnycsepp (#260)","-",0,0,"0.01 ",0,0]
["illatos bájital ","261 ","illatos bájital (#261)","-",0,0,"0.02 ",5,10]
["friss csatamező ","262 ","friss csatamező (#262)","-",0,0,"- ",0,0]
["ősi csatamező ","263 ","ősi csatamező (#263)","-",0,0,"- ",0,0]
["remák szív ","264 ","remák szív (#264)","-",0,0,"0.15 ",12,24]
["kristálygömb ","265 ","kristálygömb (#265)","-",0,0,"0.10 ",10,20]
["kvazár sisak ","266 ","kvazár sisak (#266)","+5 AC",40,0,"0.50 ",70,140,"Sisak",{"$nulls":22},5]
["fülemüle agyar ","267 ","fülemüle agyar (#267)","-",0,0,"0.30 ",5,10]
["gromak bőr ","268 ","gromak bőr (#268)","-",0,0,"3.00 ",8,16]
["purifikátor háj ","269 ","purifikátor háj (#269)","-",0,0,"0.20 ",18,36]
["gromak páncél ","270 ","gromak páncél (#270)","+9 AC",50,153,"7.00 ",30,60,"Páncél",{"$nulls":22},9]
["szürke bőrkesztyű ","271 ","szürke bőrkesztyű (#271)","+2 AC",25,81,"0.25 ",12,24,"Kesztyű",{"$nulls":22},2]
["aranytű ","272 ","aranytű (#272)","-",0,0,"0.02 ",4,8]
["szuper dobóháló ","273 ","szuper dobóháló (#273)","-",20,105,"0.30 ",8,16]
["szuper hálócsapda ","274 ","szuper hálócsapda (#274)","-",8,78,"- ",0,0]
["ametiszt medál ","275 ","ametiszt medál (#275)","ékszer",0,0,"0.15 ",28,56]
["sárga erőöv ","276 ","sárga erőöv (#276)","+1 erő",0,0,"0.20 ",25,250,"Öv",{"$nulls":4},1]
["rejtőköpeny ","277 ","rejtőköpeny (#277)","+2 rejtőzködés",0,0,"0.10 ",14,28,"Köpeny",{"$nulls":37},2]
["umbatari karkötő ","278 ","umbatari karkötő (#278)","+1 ügy.",0,0,"0.08 ",40,200,"Karkötő",{"$nulls":6},1]
["Mágikus Koponya ","279 ","Mágikus Koponya (#279)","felezi a harci papi varázslatok költségét, csak Leah hívei hordhatják",0,0,"0.40 ",100,800,"Sisak",null,null,null,"5"]
["tyrex csont ","280 ","tyrex csont (#280)","-",0,0,"20.00 ",30,60]
["raptor karom ","281 ","raptor karom (#281)","-",0,0,"0.30 ",12,24]
["jégszív ","282 ","jégszív (#282)","-",0,0,"0.20 ",15,30]
["Fekete Kehely ","283 ","Fekete Kehely (#283)","5 sötét ital tárolására",0,0,"0.30 ",110,1100]
["sötét ital ","284 ","sötét ital (#284)","-",5,153,"0.01 ",50,100]
["Szent Kulacs ","285 ","Szent Kulacs (#285)","10 Sheran főzete tárolására",0,0,"0.15 ",100,1000]
["Sheran főzete ","286 ","Sheran főzete (#286)","-",3,141,"0.01 ",14,28]
["Tharr keresztje ","287 ","Tharr keresztje (#287)","+1 támadás, +1 erő, +1 szer.",0,0,"0.08 ",100,1000,"Nyaklánc",null,null,null,"2",1,null,null,null,1,{"$nulls":9},1]
["Zan-indukátor ","288 ","Zan-indukátor (#288)","-",10000,0,"- ",0,0]
["sárkányölő kard ","289 ","sárkányölő kard (#289)","típus: vágó (mágikus), sebzés: 6d8+3, min. fsz.: 25, +8 támadás",0,0,"5.00 ",300,9000]
["energiapajzs ","290 ","energiapajzs (#290)","+20 AC, leheletek fele sebzést okoznak, min. szint: 25",0,0,"- ",800,0,"Pajzs","25",{"$nulls":21},20]
["bíbor erőöv ","291 ","bíbor erőöv (#291)","+2 erő",0,0,"0.35 ",60,600,"Öv",{"$nulls":4},2]
["sárkánypikkely ","292 ","sárkánypikkely (#292)","-",0,0,"0.30 ",20,40]
["drako pikkelyvért ","293 ","drako pikkelyvért (#293)","+40 AC, +3 erő, +3 iq, +3 ügy., +3 eg., +3 szer., -20% tűz sebződés, min. szint: 25, nem átadható",0,629,"6.00 ",800,0,"Páncél","25",null,null,null,3,3,3,3,3,{"$nulls":13},40]
["varkaudar páncél ","294 ","varkaudar páncél (#294)","+6 AC",0,0,"3.00 ",10,20,"Páncél",{"$nulls":22},6]
["elit csatavért ","295 ","elit csatavért (#295)","+8 AC",0,0,"3.50 ",30,60,"Páncél",{"$nulls":22},8]
["kvazár pajzs ","296 ","kvazár pajzs (#296)","+9 AC",60,378,"2.80 ",100,200,"Pajzs",{"$nulls":22},9]
["kvazár kard ","297 ","kvazár kard (#297)","típus: vágó, sebzés: 6d5+2, min. fsz.: 14",70,423,"2.20 ",140,280]
["arx formázó minta ","298 ","arx formázó minta (#298)","páncél minta",0,0,"0.05 ",25,50]
["bev formázó minta ","299 ","bev formázó minta (#299)","sisak minta",0,0,"0.05 ",25,50]
["cru formázó minta ","300 ","cru formázó minta (#300)","pajzs minta",0,0,"0.05 ",25,50]
["din formázó minta ","301 ","din formázó minta (#301)","kard minta",0,0,"0.05 ",25,50]
["Fairlight köpenye ","303 ","Fairlight köpenye (#303)","+3 felderítés, csak Fairlight hívei hordhatják",0,0,"- ",80,800,"Köpeny",null,null,null,"7",{"$nulls":31},3]
["kőszem ","304 ","kőszem (#304)","-",0,0,"0.04 ",5,10]
["varázskő ","305 ","varázskő (#305)","+100 vp., max. 2 db/forduló, nem átadható",0,0,"0.02 ",30,150]
["adamantit kesztyű ","306 ","adamantit kesztyű (#306)","+8 AC, +5 sebzés ököllel (mágikus), min. bányászat: 27, nem átadható",80,447,"0.80 ",130,0,"Kesztyű",{"$nulls":22},8,{"$nulls":4},5]
["réz papi karkötő ","307 ","réz papi karkötő (#307)","+2 papi erő, +4 vp regen.",0,0,"0.12 ",20,200,"Karkötő"]
["ezüst papi karkötő ","308 ","ezüst papi karkötő (#308)","+3 papi erő, +6 vp regen.",0,0,"0.07 ",30,300,"Karkötő"]
["arany papi karkötő ","309 ","arany papi karkötő (#309)","+5 papi erő, +10 vp regen.",0,0,"0.10 ",80,800,"Karkötő"]
["galachmit ","310 ","galachmit (#310)","-",0,0,"0.10 ",30,300]
["borkonyó cserje ","311 ","borkonyó cserje (#311)","-",0,0,"- ",0,0]
["borkonyó bibe ","312 ","borkonyó bibe (#312)","-",10,0,"0.02 ",5,10]
["gyógykenőcs ","313 ","gyógykenőcs (#313)","80-100 ép.-t gyógyít",5,96,"0.02 ",5,10]
["roxati zárfaló ","314 ","roxati zárfaló (#314)","+1 zárnyitás, nem törik el",0,0,"0.05 ",100,800]
["optiri agysisak ","315 ","optiri agysisak (#315)","+1 AC, iq fejlesztés hatékonyságának növelése",0,0,"0.20 ",50,250,"Sisak",{"$nulls":22},1]
["Pusztítás Botja ","316 ","Pusztítás Botja (#316)","típus: ütő (mágikus), sebzés: 2d6+6, +3 támadás, min. teo: 15, tűzesőt lő",0,0,"2.50 ",180,2700]
["varkaudar csizma ","317 ","varkaudar csizma (#317)","+4 AC",0,0,"0.60 ",20,40,"Csizma",{"$nulls":22},4]
["taposó tappancs ","318 ","taposó tappancs (#318)","+1 AC, +7 MXTU, Vasalt Bunkók KT tárgya",0,0,"- ",20,0,"Csizma",{"$nulls":17},7,{"$nulls":4},1]
["ködkard ","319 ","ködkard (#319)","típus: vágó, sebzés: 2d4+2, árnyékvilágban",0,0,"- ",0,0]
["kregon zuzmó ","320 ","kregon zuzmó (#320)","-",0,0,"- ",0,0]
["plazmacsillag ","321 ","plazmacsillag (#321)","-",50,0,"- ",0,0]
["ezüsttőr ","322 ",{"$f":"CONCATENATE(TRIM(A322),\" (#\",TRIM(B322),\")\")","v":"ezüsttőr (#322)"},"típus: szúró (ezüst, balkezes), sebzés: 2d4+1",25,69,"0.30 ",8,16]
["ezüsthegyű nyíl ","323 ","ezüsthegyű nyíl (#323)","típus: lövedék (ezüst, szúró), sebzés: 2d5+2",10,75,"0.08 ",4,8]
["ezüsthegyű lándzsa ","324 ","ezüsthegyű lándzsa (#324)","típus: szúró (ezüst), sebzés: 3d6",40,108,"2.70 ",15,30]
["ezüst kard ","325 ","ezüst kard (#325)","típus: vágó (ezüst), sebzés: 2d6+2",50,138,"1.50 ",22,44]
["ezüstdarab ","326 ","ezüstdarab (#326)","-",0,0,"0.20 ",4,8]
["ezüstshuriken ","327 ","ezüstshuriken (#327)","típus: dobó (ezüst, szúró), sebzés: 3d4",15,0,"0.30 ",8,16]
["Thargodan esszencia ","328 ","Thargodan esszencia (#328)","-",0,0,"0.10 ",20,60]
["csontpálca ","329 ","csontpálca (#329)","típus: ütő (mágikus), sebzés: 22, min. tau: 5",0,0,"0.30 ",15,75]
["mirtuszkoszorú ","330 ","mirtuszkoszorú (#330)","+2 AC, +2 zene, bárdverseny vándor díj",0,0,"- ",30,0,"Sisak",{"$nulls":22},2,{"$nulls":15},2]
["mutáns csont ","331 ","mutáns csont (#331)","-",0,0,"0.30 ",4,8]
["huhogó bibe ","332 ","huhogó bibe (#332)","12 rákfatty váladék tárolására",0,0,"0.10 ",8,16]
["rákfatty váladék ","333 ","rákfatty váladék (#333)","-",0,0,"0.01 ",1,2]
["acéltű ","334 ","acéltű (#334)","-",1,48,"0.02 ",1,2]
["olló ","335 ","olló (#335)","-",15,102,"0.60 ",7,14]
["pukkanó tűcsapda ","336 ","pukkanó tűcsapda (#336)","-",10,45,"0.15 ",6,12]
["piranha zsákvédő ","337 ","piranha zsákvédő (#337)","-",5,66,"0.13 ",7,14]
["királyi korona ","338 ","királyi korona (#338)","ékszer, min. bányászat: 8",120,399,"0.40 ",125,250]
["hadilobogó ","340 ","hadilobogó (#340)","+4 támadás, +2 szer., Viharlégió KT tárgya",0,0,"- ",35,0,"Öv",{"$nulls":8},2,{"$nulls":9},4]
["alkímiázó üst ","341 ","alkímiázó üst (#341)","-",0,0,"1.00 ",80,800]
["fagyöngy fűzér ","342 ","fagyöngy fűzér (#342)","+30% vp regen., de max. 20 vp, +3 szörnyismeret, csak Sheran hívei hordhatják",0,0,"- ",25,0,"Nyaklánc",{"$nulls":14},30,{"$nulls":24},3]
["rézgolyó ","343 ","rézgolyó (#343)","típus: lövedék (ütő), sebzés: 2d6",2,12,"0.15 ",1,2]
["kincs ","344 ","kincs (#344)","-",0,0,"- ",0,0]
["viharfelhő ","345 ","viharfelhő (#345)","Viharlégió KT képesség",0,0,"- ",0,0]
["rózsaszín bugyogó ","346 ","rózsaszín bugyogó (#346)","+2 AC, +3 szer., Serény Múmiák KT tárgya",0,0,"0.10 ",30,0,"Nadrág",{"$nulls":8},3,{"$nulls":13},2]
["súlyzó ","347 ","súlyzó (#347)","erő TF +30% hatékonyság",10,72,"22.00 ",9,18]
["shinai gömb ","348 ","shinai gömb (#348)","-",0,0,"0.05 ",40,240]
["lovagi tabard ","349 ","lovagi tabard (#349)","+2 AC, +3 szer., Naplovagok KT tárgya",0,0,"- ",30,0,"Köpeny",{"$nulls":8},3,{"$nulls":13},2]
["esszenciakristály ","350 ","esszenciakristály (#350)","típus: dobó (mágikus, szúró)",10,279,"0.10 ",100,0]
["tolmokov koktél ","351 ","tolmokov koktél (#351)","típus: dobó (mágikus, szúró), sebzés: 6d6",5,105,"0.10 ",8,16]
["mithril ","352 ","mithril (#352)","-",0,0,"0.10 ",8,16]
["molluszk ház ","353 ","molluszk ház (#353)","12 degradátor váladék tárolására",0,0,"0.20 ",2,4]
["degradátor váladék ","354 ","degradátor váladék (#354)","-",0,0,"0.01 ",2,4]
["szockó hólyag ","355 ","szockó hólyag (#355)","-",0,0,"0.10 ",3,6]
["Tguarkhan csapda ","356 ","Tguarkhan csapda (#356)","-",0,117,"- ",0,0]
["Baghar korbácsa ","357 ","Baghar korbácsa (#357)","típus: ütő (mágikus, balkezes), sebzés: 6D5, min. fsz.: 15, +3 AC, +3 támadás, izomernyesztést lő (fixen), csak gonoszok használhatják",0,0,"6.00 ",200,2000]
["vámpírkard ","358 ","vámpírkard (#358)","típus: vágó (mágikus), sebzés: 7d6+4, min. fsz.: 15, vámpirizációt lő, csak gonoszok használhatják",0,0,"15.00 ",250,5000]
["quwarg boly ","359 ","quwarg boly (#359)","másznivaló, min. mászás: 11",0,0,"- ",0,0]
["quwarg tojás ","360 ","quwarg tojás (#360)","-",0,0,"0.02 ",2,4]
["káosz szimbólum ","361 ","káosz szimbólum (#361)","+1 AC, +2 támadás, csak Chara-din hívei hordhatják",0,0,"- ",20,40,"Nyaklánc",null,null,null,"8",{"$nulls":14},2,null,null,null,1]
["árnyékköpeny ","362 ","árnyékköpeny (#362)","+7 AC, +3 szer., +4 rejtőzködés, +2 lopás, energia varázslatok sebzését felezi",0,0,"1.00 ",250,0,"Köpeny",{"$nulls":8},3,{"$nulls":13},7,{"$nulls":11},2,null,null,4]
["ezüsttollú nyíl ","363 ","ezüsttollú nyíl (#363)","típus: lövedék (mágikus, szúró), sebzés: 5d4+4, +8 támadás",0,0,"0.05 ",60,300]
["vámpírtőr ","364 ","vámpírtőr (#364)","típus: szúró (mágikus, balkezes), sebzés: 2d4+3, vámpirizációt lő",0,0,"0.12 ",80,1600]
["tyrkiai mászógép ","365 ","tyrkiai mászógép (#365)","+2 mászás",0,0,"- ",100,0]
["szerencsetalizmán ","366 ","szerencsetalizmán (#366)","+2 szer., +4 szerencsejáték",0,0,"0.03 ",80,400,"Nyaklánc",{"$nulls":8},2,{"$nulls":27},4]
["Trákin csákánya ","367 ","Trákin csákánya (#367)","típus: ütő (mágikus), sebzés: 3d6+3, min. fsz.: 10",0,0,"2.80 ",80,400]
["kinemfogyó tegez ","368 ","kinemfogyó tegez (#368)","-",0,0,"0.20 ",70,700]
["gránit őrszobor ","369 ","gránit őrszobor (#369)","-",0,0,"- ",50,0]
["vascarai csizma ","370 ","vascarai csizma (#370)","+2 AC, 10 lépés, -1 TVP/mozgás",0,0,"- ",100,0,"Csizma",{"$nulls":22},2]
["Raia papi palástja ","371 ","Raia papi palástja (#371)","+3 teo., kb. +10 hit pont, csak Raia hívei hordhatják, Lélektisztító Irgalmas Nővérek KT tárgya",0,0,"- ",30,0,"Köpeny",null,null,null,"3",{"$nulls":28},3]
["phua-kúp ","372 ","phua-kúp (#372)","-",0,0,"- ",0,0]
["Eldaran karkötője ","373 ","Eldaran karkötője (#373)","ügyesség TF +20% hatékonyság, elfeknek +40%",0,0,"0.10 ",50,500,"Karkötő"]
["fekete tű ","374 ","fekete tű (#374)","Ördögi Kör (9111) KT tárgya",0,0,"0.02 ",5,0]
["fekete csuha ","375 ","fekete csuha (#375)","-",20,0,"0.50 ",10,20,"Köpeny"]
["fény szentélye ","376 ","fény szentélye (#376)","Álomőrzők KT tárgya",0,0,"- ",0,0]
["moa smaragd ","377 ","moa smaragd (#377)","-",0,0,"0.02 ",25,50]
["moa gyöngy ","378 ","moa gyöngy (#378)","-",0,0,"0.01 ",20,40]
["moa rubin ","379 ","moa rubin (#379)","-",0,0,"0.02 ",30,60]
["moa obszidián ","380 ","moa obszidián (#380)","-",0,0,"0.03 ",12,24]
["moa zafír ","381 ","moa zafír (#381)","-",0,0,"0.02 ",40,80]
["moa jádekő ","382 ","moa jádekő (#382)","-",0,0,"0.03 ",16,32]
["moa üveggömb ","383 ","moa üveggömb (#383)","-",0,0,"0.01 ",5,10]
["moa burát ","384 ","moa burát (#384)","-",0,0,"0.02 ",12,24]
["moa gyémánt ","385 ","moa gyémánt (#385)","-",0,0,"0.05 ",80,160]
["moa katalizátor ","386 ","moa katalizátor (#386)","-",0,0,"0.06 ",40,80]
["ónix piramis ","387 ",{"$f":"CONCATENATE(TRIM(A386),\" (#\",TRIM(B386),\")\")","v":"ónix piramis (#387)"},"-",15000,0,"- ",0,0]
["natali kő ","388 ","natali kő (#388)","-",0,0,"- ",0,0]
["szigony ","389 ","szigony (#389)","típus: vízi, sebzés: 2d6+4",0,0,"1.00 ",14,28]
["halcsont ","390 ","halcsont (#390)","-",0,0,"0.05 ",2,4]
["polip szívóka ","391 ","polip szívóka (#391)","-",0,0,"0.01 ",2,4]
["mászó-karperec ","392 ","mászó-karperec (#392)","-",40,219,"0.60 ",40,0]
["szent tölgyfa ","393 ","szent tölgyfa (#393)","dupla vp regen., oltár Sheran papoknak",0,0,"- ",0,0]
["Kőtorony ","394 ","Kőtorony (#394)","-",8000,0,"- ",0,0]
["álomvirág ","395 ","álomvirág (#395)","Álomőrzők ültetik",0,0,"- ",0,0]
["álompor ","396 ","álompor (#396)","-",0,0,"0.02 ",1,2]
["zafír erőöv ","397 ","zafír erőöv (#397)","+3 erő",0,0,"0.40 ",100,15000,"Öv",{"$nulls":4},3]
["városépítkezés ","398 ","városépítkezés (#398)","-",3000,0,"- ",0,0]
["főutca ","399 ","főutca (#399)","-",0,0,"- ",0,0]
["ház ","400 ","ház (#400)","-",0,54,"- ",0,0]
["kristálypalota ","401 ","kristálypalota (#401)","másznivaló, min. mászás: 14",0,0,"- ",0,0]
["Morgud hagymatő ","402 ","Morgud hagymatő (#402)","-",0,0,"- ",0,0]
["fokhagyma ","403 ","fokhagyma (#403)","-",10,0,"0.10 ",4,8]
["rájabőr ","404 ","rájabőr (#404)","-",0,0,"0.05 ",3,6]
["rájabőr úszógatya ","405 ","rájabőr úszógatya (#405)","+2 AC (vízben)",20,108,"0.30 ",15,30]
["réz fejpánt ","406 ","réz fejpánt (#406)","+1 AC",15,48,"- ",7,14,"Sisak",{"$nulls":22},1]
["bronz fejpánt ","407 ","bronz fejpánt (#407)","+2 AC",25,99,"0.70 ",9,18,"Sisak",{"$nulls":22},2]
["vas fejpánt ","408 ","vas fejpánt (#408)","+3 AC, min. bányászat: 4",30,108,"- ",12,24,"Sisak",{"$nulls":22},3]
["árnyékharcos gyűrű ","409 ","árnyékharcos gyűrű (#409)","+3 AC, +2 szer., Két Kard Testvérisége KT tárgya",0,0,"- ",30,0,"Gyűrű",{"$nulls":8},2,{"$nulls":13},3]
["kígyóbőr öv ","410 ","kígyóbőr öv (#410)","plusz egy KF 3-as tárgyhely",35,69,"0.70 ",8,16,"Öv"]
["királyi emlékmű ","411 ","királyi emlékmű (#411)","-",0,0,"- ",0,0]
["vérvörös köpeny ","412 ","vérvörös köpeny (#412)","Vérvörös Légió KT tárgya",0,0,"0.50 ",4,8,"Köpeny"]
["moa stuki ","413 ","moa stuki (#413)","típus: lőfegyver, +8 támadás",0,0,"0.20 ",10,20]
["stukilövedék ","414 ","stukilövedék (#414)","típus: lövedék (szúró), sebzés: 2d6+3",2,12,"0.10 ",1,2]
["aranypikkely ","415 ","aranypikkely (#415)","-",0,0,"0.20 ",0,0]
["teknőcteknő ","416 ","teknőcteknő (#416)","-",0,0,"4.00 ",12,24]
["teknőcpajzs ","417 ","teknőcpajzs (#417)","+8 AC, +2 szer.",40,90,"4.00 ",15,30,"Pajzs",{"$nulls":8},2,{"$nulls":13},8]
["era formázó minta ","418 ","era formázó minta (#418)","ütőfegyver minta",0,0,"0.05 ",25,50]
["fpi formázó minta ","419 ","fpi formázó minta (#419)","szúrófegyver minta",0,0,"0.05 ",25,50]
["agyartőr ","420 ","agyartőr (#420)","típus: szúró (mágikus, balkezes), sebzés: 3d4+4, min. fsz.: 15, +2 támadás",120,387,"0.40 ",100,1500]
["tyrex bunkó ","421 ","tyrex bunkó (#421)","típus: ütő (ezüst), sebzés: 6d6+8, min. fsz.: 20, -2 támadás",200,0,"20.00 ",200,4000]
["mágusölő ","422 ","mágusölő (#422)","típus: vágó (mágikus), sebzés: 5d6+2, min. fsz.: 20, +5 sebzés támadó varázslatot használó szörny ellen",150,426,"4.00 ",180,3600]
["szívkereső ","423 ","szívkereső (#423)","típus: szúró (mágikus), sebzés: 1d10+9, min. fsz.: 24, +10 támadás",160,0,"2.00 ",250,3500]
["csontpozdorja ","424 ","csontpozdorja (#424)","típus: ütő (mágikus), sebzés: 3d6+10, min. fsz: 16, +3 támadás, +20 sebzés élőholt ellen",120,0,"4.00 ",200,5000]
["pengepajzs ","425 ","pengepajzs (#425)","típus: pajzs+vágó (mágikus, balkezes), sebzés: 2d4+4, min. fsz.: 15, +8 AC",100,0,"2.00 ",150,1800,"Pajzs",{"$nulls":22},8]
["Raia pallosa ","426 ","Raia pallosa (#426)","típus: vágó (mágikus), sebzés: 6d6+2, min. fsz.: 26, -4 AC, +2 támadás, +12 sebzés gonoszok ellen, csak jók használhatják",250,426,"7.00 ",300,6000]
["őstroll agyaló ","427 ","őstroll agyaló (#427)","típus: ütő (mágikus), sebzés: 5d6+6, min. fsz.: 24, +3 erő, -4 iq",200,0,"12.00 ",250,6250]
["gránátkaktusz ","428 ","gránátkaktusz (#428)","-",0,0,"- ",0,0]
["kaktuszbogyó ","429 ","kaktuszbogyó (#429)","-",6,0,"0.20 ",4,12]
["bogyógránát ","430 ","bogyógránát (#430)","típus: dobó (szúró), sebzés: 5d4+12, +4 támadás",5,66,"0.20 ",4,8]
["gránátcsapda ","431 ","gránátcsapda (#431)","-",10,168,"0.80 ",20,40]
["Thargodan csatamező ","432 ","Thargodan csatamező (#432)","-",0,0,"- ",0,0]
["Vlagyimir szobra ","433 ","Vlagyimir szobra (#433)","-",4000,0,"- ",0,0]
["bányászcsákány ","434 ","bányászcsákány (#434)","típus: szúró, sebzés: 2d8, min. fsz.: 10, -2 támadás, min. bányászat: 10",40,134,"2.40 ",10,20]
["törpe bánya ","435 ","törpe bánya (#435)","-",240,0,"- ",0,0]
["réz masszariasztó ","436 ","réz masszariasztó (#436)","masszaerősség csökkentő",0,0,"0.15 ",8,16,"Karkötő"]
["arany masszariasztó ","437 ","arany masszariasztó (#437)","masszaerősség csökkentő",0,0,"0.15 ",14,28,"Karkötő"]
["ónix masszavadító ","438 ","ónix masszavadító (#438)","masszaerősség növelő",0,0,"0.15 ",12,24,"Karkötő"]
["Szent liget ","439 ","Szent liget (#439)","-",0,0,"- ",0,0]
["láthatatlanság köpenye ","441 ","láthatatlanság köpenye (#441)","+3 AC, 7 vp-ért láthatatlanság",0,0,"0.10 ",80,1600,"Köpeny",{"$nulls":22},3]
["Muezli aranykeze ","442 ","Muezli aranykeze (#442)","viselésével KF 3-as tágy is lopható",0,0,"0.20 ",35,1750,"Kesztyű"]
["roxati üvegszem ","443 ","roxati üvegszem (#443)","permanens tolvajszem",0,0,"0.05 ",18,540,"Fülbevaló"]
["gór formázó minta ","444 ","gór formázó minta (#444)","kesztyű, lábszár minta",0,0,"0.05 ",25,50]
["kvazár kesztyű ","445 ","kvazár kesztyű (#445)","+3 AC, +3 sebzés ököllel",40,279,"0.50 ",60,120,"Kesztyű",{"$nulls":22},3,{"$nulls":4},3]
["fekete lótusz ","446 ","fekete lótusz (#446)","-",0,0,"- ",0,0]
["lótuszvirág ","447 ","lótuszvirág (#447)","-",3,0,"0.03 ",4,8]
["lótuszfőzet ","448 ","lótuszfőzet (#448)","méregsemlegesít",10,96,"0.02 ",5,10]
["kristályfolyadék ","449 ","kristályfolyadék (#449)","kiírtja a möszéket",5,93,"0.02 ",4,8]
["Fekete Kard Nyaklánc ","450 ","Fekete Kard Nyaklánc (#450)","+3 támadás",0,0,"- ",15,0,"Nyaklánc",{"$nulls":18},3]
["zangrozi csizma ","451 ","zangrozi csizma (#451)","+4 AC",0,0,"1.00 ",25,250,"Csizma",{"$nulls":22},4]
["térkapu ","452 ",{"$f":"CONCATENATE(TRIM(A450),\" (#\",TRIM(B450),\")\")","v":"térkapu (#452)"},"-",0,0,"- ",0,0]
["mágusköpeny ","453 ","mágusköpeny (#453)","+4 AC, +10 vp. regen., -2 szerencse az ellenfélnek támadó varázslat ellen",0,0,"0.10 ",200,3200,"Köpeny",{"$nulls":13},10,{"$nulls":8},4]
["krapixlon fürdőruha ","454 ","krapixlon fürdőruha (#454)","+5 AC (vízben)",0,0,"0.40 ",40,80]
["kampós acélszigony ","455 ","kampós acélszigony (#455)","típus: vízi, sebzés: 3d6+5, min. fsz.: 9, +2 támadás",0,0,"1.30 ",45,90]
["arany pikkelyvért ","456 ","arany pikkelyvért (#456)","+20 AC, +4 mentődobás energia ellen, min. szint: 18",200,0,"8.00 ",500,8000,"Páncél","18",{"$nulls":21},20]
["mithril láncing ","457 ","mithril láncing (#457)","+18 AC, +1 ügy., min. szint: 17",400,0,"4.00 ",370,5920,"Páncél","17",{"$nulls":5},1,{"$nulls":15},18]
["Rhatt páncélja ","458 ","Rhatt páncélja (#458)","+25 AC, -2 erő, +4 mentődobás halál és hideg ellen, -2 mentődobás energia ellen, min. szint: 20",155,465,"10.00 ",550,8800,"Páncél","20",null,null,null,-2,{"$nulls":17},25]
["Tharr pajzsa ","459 ","Tharr pajzsa (#459)","+13 AC, +2 erő, -2 iq, -1 ügy., +3 gyógyítás, min. szint: 19",200,426,"3.50 ",420,6720,"Pajzs","19",null,null,null,2,-2,-1,{"$nulls":15},13,{"$nulls":17},3]
["mithril pajzs ","460 ","mithril pajzs (#460)","+11 AC, +1 ügy, min. szint: 17",100,0,"1.50 ",280,4200,"Pajzs","17",{"$nulls":5},1,{"$nulls":15},11]
["szellempajzs ","461 ","szellempajzs (#461)","+15 AC, -3 erő, +3 mentődobás méreg és mentális támadás ellen, min. szint: 20",0,0,"2.20 ",500,8000,"Pajzs","20",null,null,null,-3,{"$nulls":17},15]
["Urgod kesztyűje ","462 ","Urgod kesztyűje (#462)","+6 AC, -3 támadás, +1 iq, +1 szer., +2 tau., min. szint: 21",80,0,"0.30 ",550,8800,"Kesztyű",{"$nulls":5},1,null,null,1,{"$nulls":9},-3,null,null,null,6,{"$nulls":10},2]
["mithril kesztyű ","463 ","mithril kesztyű (#463)","+5 AC, +1 ügy., min. szint: 17",80,0,"0.25 ",250,4000,"Kesztyű","17",{"$nulls":5},1,{"$nulls":15},5]
["nehéz harci kesztyű ","464 ","nehéz harci kesztyű (#464)","+7AC, +4 sebzés ököllel, -2 támadás, +2 erő, -1 szer., min. szint: 18",0,0,"1.00 ",370,5550,"Kesztyű","18",null,null,null,2,null,null,null,-1,{"$nulls":9},-2,null,null,null,7,{"$nulls":4},4]
["mithril sisak ","465 ","mithril sisak (#465)","+7 AC, +1 ügy., min. szint: 17",100,387,"0.30 ",290,4640,"Sisak","17",{"$nulls":5},1,{"$nulls":15},7]
["Morgan sipkája ","466 ","Morgan sipkája (#466)","+6 AC, -2 támadás, -2 erő, +1 iq, +10 vp. regen., +2 tau., harci védő varázslatoknak nem kell komponens",50,546,"0.25 ",550,8800,"Sisak",{"$nulls":4},-2,1,{"$nulls":7},10,{"$nulls":4},-2,null,null,null,6,{"$nulls":10},2]
["gyémántsisak ","467 ","gyémántsisak (#467)","+8 AC, +1 támadás, +1 erő, -1 iq, +1 szer., -2 teo., -2 tau., +3 csapdaészlelés, +3 felderítés, min. szint: 19",260,537,"0.40 ",520,8320,"Sisak","19",null,null,null,1,-1,null,null,1,{"$nulls":9},1,null,null,null,8,{"$nulls":9},-2,-2,null,3,{"$nulls":5},3]
["Dantor amulettje ","468 ","Dantor amulettje (#468)","kisebb quwarg isten ellen a 78. labirintusban",0,0,"0.03 ",50,100,"Nyaklánc"]
["Dantor vértje ","469 ","Dantor vértje (#469)","+2 AC, kisebb quwarg isten ellen a 78. labirintusban",0,0,"2.00 ",30,0,"Páncél",{"$nulls":22},2]
["kholden kulcs ","470 ","kholden kulcs (#470)","-",0,0,"0.50 ",20,40]
["norgat kulcs ","471 ","norgat kulcs (#471)","-",0,0,"0.05 ",24,48]
["dizen kulcs ","472 ","dizen kulcs (#472)","-",0,0,"0.01 ",35,70]
["fiatalság itala ","473 ","fiatalság itala (#473)","d3 évet fiatalít",10,246,"0.02 ",80,400]
["Tilnetor kardja ","474 ","Tilnetor kardja (#474)","típus: vágó (mágikus), sebzés: 4d4+5, +5 támadás, élőholt pozdorját lő, egyszer használható",0,0,"2.00 ",150,2250]
["törpe bakancs ","475 ","törpe bakancs (#475)","+2 AC, -2 TVP/ref. pont a mozgás labirintusban",0,0,"1.00 ",399,5985,"Csizma",{"$nulls":22},2]
["Fairlight botja ","476 ","Fairlight botja (#476)","típus: ütő, sebzés: 2d6+6, +10 AC, +100 vp. regen., villámsújtást lő, csak Fairlight hívei használhatják, nem átadható",0,0,"2.50 ",1000,0]
["zafír fülbevaló ","477 ","zafír fülbevaló (#477)","+4 AC",0,0,"0.02 ",50,750,"Fülbevaló",{"$nulls":22},4]
["drakolder szem ","478 ","drakolder szem (#478)","nem átadható",0,0,"0.02 ",300,0]
["áspis védőköpeny ","479 ","áspis védőköpeny (#479)","+4 AC, védelem tűz és páncélbezúzás ellen, A Korona Bajnokai KT tárgya",0,0,"- ",30,0,"Köpeny",{"$nulls":22},4]
["cápaölő tőr ","480 ","cápaölő tőr (#480)","típus: vízi, sebzés: 4d4+4, min. fsz.: 6, átúszáskor csak vércápa ellen: erő 36",0,0,"0.30 ",24,48]
["obszidián tüske ","481 ","obszidián tüske (#481)","típus: szúró (mágikus), sebzés: 2d8+6, min. teo.: 8, 25% eséllyel tönkre megy",0,0,"0.30 ",12,120]
["raptor szablya ","482 ","raptor szablya (#482)","típus: vágó, sebzés: 6d5+3, min. fsz.: 16, -5 támadás",25,183,"2.80 ",25,50]
["egykezes súlyzó ","483 ","egykezes súlyzó (#483)","Kvazársziklák Népe KT tárgya",20,0,"12.00 ",4,8]
["barátság szent tüze ","484 ","barátság szent tüze (#484)","-",0,0,"- ",0,0]
["Szent Pöröly ","485 ","Szent Pöröly (#485)","véd a tudati támadástól, Pöröly Rend KT tárgya",0,0,"- ",40,0]
["sörsátor ","486 ","sörsátor (#486)","-",0,0,"- ",0,0]
["rothadás szentélye ","487 ","rothadás szentélye (#487)","-",0,0,"- ",0,0]
["erődítmény ","488 ","erődítmény (#488)","-",0,0,"- ",0,0]
["pusztulás sírjai ","489 ","pusztulás sírjai (#489)","Pusztítás Prófétái KT tárgya",0,0,"- ",0,0]
["elefántcsont torony ","490 ","elefántcsont torony (#490)","jó erőd",0,0,"- ",0,0]
["obszidián erőd ","491 ","obszidián erőd (#491)","gonosz erőd",0,0,"- ",0,0]
["sárkánytanya ","492 ","sárkánytanya (#492)","Aranysárkány KT háza",0,0,"- ",0,0]
["rejtett kolostor ","493 ","rejtett kolostor (#493)","balkezes ököl tanulható",0,0,"- ",0,0]
["császári erőd ","494 ","császári erőd (#494)","-",0,0,"- ",0,0]
["Hősök csarnoka ","496 ","Hősök csarnoka (#496)","-",0,0,"- ",0,0]
["arénagödör ","497 ","arénagödör (#497)","-",0,0,"- ",0,0]
["Techiulan amulettje ","499 ","Techiulan amulettje (#499)","nem átadható",0,0,"0.20 ",500,0]
["manakristály ","500 ","manakristály (#500)","-",0,0,"0.04 ",100,0]
["kdole ","501 ","kdole (#501)","-",40,114,"- ",20,0]
["a kihívás tornya ","502 ","a kihívás tornya (#502)","-",0,0,"- ",0,0]
["Morgan pálcája ","503 ","Morgan pálcája (#503)","max. ép.-be gyógyít 3 max. ép. árán",0,0,"0.30 ",300,4500]
["aranytermő ládikó ","504 ","aranytermő ládikó (#504)","-",0,0,"1.00 ",250,7500]
["totemoszlop ","505 ","totemoszlop (#505)","-",3000,0,"- ",0,0]
["a bolondok aranya ","506 ","a bolondok aranya (#506)","Illúzió Mesterei KT tárgya, nem átadható",0,0,"- ",0,0]
["Krugrog mama terítője ","507 ","Krugrog mama terítője (#507)","+3 kaja körönként",0,0,"0.01 ",50,0]
["Morgan szilánkja ","508 ","Morgan szilánkja (#508)","+2 ép/varázslat, nem átadható",0,0,"0.02 ",250,0]
["bűvös lant ","509 ","bűvös lant (#509)","min. zene: 10, +25 % zene fejlődés",0,0,"0.25 ",70,0]
["ostromlétra ","510 ","ostromlétra (#510)","-6 támadás, nem használható távfegyver",60,0,"20.00 ",5,10]
["Eldereth kristály ","511 ","Eldereth kristály (#511)","+1 TU regen.",30,471,"0.02 ",300,0,"Fülbevaló"]
["Eldereth szilánk ","512 ","Eldereth szilánk (#512)","-",0,0,"- ",12,24]
["pásztorbot ","513 ","pásztorbot (#513)","típus: ütő (mágikus), sebzés: 3d6+6, min. fsz: 12, +4 szörnyidomítás, lángcsóvát lő",0,0,"2.50 ",120,1200]
["zafír medalion ","514 ","zafír medalion (#514)","ékszer",0,0,"0.10 ",25,50]
["városi kút ","515 ","városi kút (#515)","-",0,0,"- ",0,0]
["varkaudar szablya ","516 ","varkaudar szablya (#516)","típus: vágó, sebzés: 4d6+5, min. fsz.: 15, +1 támadás",0,0,"2.00 ",20,40]
["Chara-din ékköve ","517 ","Chara-din ékköve (#517)","áldozati tárgy Chara-dinnak, nem átadható",0,0,"- ",5,0]
["Rughar gyűrűje ","518 ",{"$f":"CONCATENATE(TRIM(A514),\" (#\",TRIM(B514),\")\")","v":"Rughar gyűrűje (#518)"},"-3 mentődobás az ellenfélnek sebző varázslat ellen, +1 sebzés/kocka",75,0,"0.02 ",150,3000,"Gyűrű"]
["tükörpáncél ","519 ","tükörpáncél (#519)","+22 AC, +5 szer., +5 felderítés, min. szint: 20",150,548,"10.00 ",800,11200,"Páncél","20",{"$nulls":7},5,{"$nulls":13},22,{"$nulls":12},5]
["Tharr kalapácsa ","520 ","Tharr kalapácsa (#520)","típus: ütő (mágikus, balkezes), sebzés: 1d6+5, min. fsz.: 16, gigaöklöt lő",0,0,"- ",400,0]
["mágusbot ","521 ","mágusbot (#521)","típus: ütő, sebzés: 1d6, +3 AC, +3 támadás, min. tau.: 25, villámcsapást lő",0,0,"- ",250,0]
["tudás gyöngye ","522 ","tudás gyöngye (#522)","+1 tulajdonság, nem átadható",0,0,"0.02 ",150,0]
["Mjölborg kalapácsa ","523 ","Mjölborg kalapácsa (#523)","típus. ütő (mágikus), sebzés: 6d5+6, min. fsz.: 20, +25 sebzés óriás/elementál ellen",0,0,"6.00 ",600,7200]
["drakolder kulcs ","524 ","drakolder kulcs (#524)","-",0,0,"0.01 ",100,200]
["moa töltő ","525 ","moa töltő (#525)","-",0,0,"1.00 ",100,200]
["gránátlövedék ","526 ","gránátlövedék (#526)","típus: lövedék (szúró), sebzés: 8d6+4",2,110,"0.15 ",4,8]
["Luthius karkötője ","527 ","Luthius karkötője (#527)","+8 % TP/db, nem átadható",0,0,"0.08 ",500,0,"Karkötő",{"$nulls":29},24]
["óriásölő ","528 ","óriásölő (#528)","típus: vágó (mágikus), sebzés: 4d6+6, min. fsz.: 20, +4 támadás, +30 sebzés óriások ellen, +10 sebzés elementálok ellen",0,0,"4.00 ",500,6000]
["angyalok gyűrűje ","529 ","angyalok gyűrűje (#529)","kivéd egy halálvarázslatot",0,0,"0.02 ",150,450,"Gyűrű"]
["lordok öve ","530 ","lordok öve (#530)","+5 AC, minden közelharci sebződést csökkent 33 %-al, min. szint: 25, nem átadható",0,0,"- ",700,0,"Öv","25",{"$nulls":21},5,33]
["lidérckorona ","531 ","lidérckorona (#531)","+10 AC, +10 teo., +10 tau., +20 vp. regen., min. szint: 25",0,0,"0.33 ",800,12000,"Sisak","25",{"$nulls":12},20,{"$nulls":8},10,{"$nulls":9},10,10]
["zafír védőgyűrű ","532 ","zafír védőgyűrű (#532)","+4 AC, +4 szer.",0,0,"0.01 ",200,0,"Gyűrű",{"$nulls":8},4,{"$nulls":13},4]
["tűzúr csizmája ","533 ","tűzúr csizmája (#533)","+8 AC, +8 tau., +1 sebzés szintenként a tűzvarázslatokra, min. szint: 25",0,0,"0.50 ",555,8880,"Csizma","25",{"$nulls":21},8,{"$nulls":10},8]
["Chara-din monolitja ","534 ","Chara-din monolitja (#534)","Chara-din hívőknek dupla vp regen., másoknak fele vp regen.",100,0,"- ",0,0]
["sötét tekercs ","535 ","sötét tekercs (#535)","nem átadható",0,0,"0.05 ",0,0]
["Thargodan amulett ","536 ","Thargodan amulett (#536)","thargodan lényeket erősíti, thg. csatamezőn és táborban, kb. 30%-al, nem átadható",0,0,"0.15 ",600,0,"Nyaklánc"]
["Zu'lit tarsolya ","537 ","Zu'lit tarsolya (#537)","rnd. varázslat komponenst ad forduló elején",0,0,"0.10 ",70,700]
["Bufa páncélja ","538 ","Bufa páncélja (#538)","+24 AC, +2 szer., -1 iq, -1 eg., -1 ügy., +2 mászás, min. szint: 20",120,465,"5.00 ",550,8800,"Páncél","20",{"$nulls":4},-1,-1,-1,2,{"$nulls":13},24,{"$nulls":19},2]
["mihlanil ","539 ","mihlanil (#539)","gejzírnél szerezhető",0,0,"0.25 ",25,0]
["eknozol ","540 ","eknozol (#540)","mópat bolynál csalánvirág használatával szerezhető, nem átadható",0,0,"0.25 ",60,0]
["iknegurin ","541 ","iknegurin (#541)","gejzírnél ében toboz használatával szerezhető, nem átadható",0,0,"0.25 ",60,0]
["mágikus pulzáns ","542 ","mágikus pulzáns (#542)","+5 vp. regen., nem átadható",15,435,"0.25 ",150,0]
["Thargodan korona ","543 ","Thargodan korona (#543)","+6 AC, +20 max. ép.",0,0,"0.40 ",150,750,"Sisak",{"$nulls":9},20,{"$nulls":12},6]
["kisebb Zan ","544 ","kisebb Zan (#544)","nem átadható",0,0,"- ",0,0]
["kristályrend ","545 ","kristályrend (#545)","-3 sebződés ütésenként kalandozóval vívott harcban, nem átadható",0,0,"0.05 ",120,0,"Fülbevaló"]
["gnóm nyílpuska ","546 ","gnóm nyílpuska (#546)","+4 támadás, min. fsz.: 8, csak gnómok használhatják",50,222,"1.00 ",35,70]
["nyílpuska lövedék ","547 ","nyílpuska lövedék (#547)","típus: lövedék (szúró), sebzés: 4d6, min. bányászat: 3",2,48,"0.05 ",4,8]
["mérgezett nyílpuska lövedék ","548 ","mérgezett nyílpuska lövedék (#548)","típus: lövedék (ütő), sebzés: 4d6+6",2,54,"- ",6,12]
["szent nyílpuska lövedék ","549 ","szent nyílpuska lövedék (#549)","típus: lövedék (mágikus, ütő), sebzés: 4d6+4, nem átadható",5,93,"- ",10,20]
["troll dorong ","550 ","troll dorong (#550)","típus: ütő, sebzés: 4d6+7, min. fsz.: 14, csak trollok használhatják",50,0,"15.00 ",50,100]
["dentor bőr ","551 ","dentor bőr (#551)","-",0,0,"2.00 ",35,70]
["troll klopfoló ","552 ","troll klopfoló (#552)","típus: ütő (ezüst), sebzés: 4d6+10, +2 AC, csak trollok használhatják",30,0,"15.00 ",120,240]
["tünde íj ","553 ","tünde íj (#553)","típus: lőfegyver, min. fsz.: 12, +6 támadás, csak elfek használhatják",50,189,"2.00 ",30,60]
["tünde nyíl ","554 ","tünde nyíl (#554)","típus: lövedék (szúró), sebzés: 3d6, +2 támadás",6,90,"0.07 ",6,12]
["csatabárd ","555 ","csatabárd (#555)","típus: vágó+ütő, sebzés: 4d6, min. fsz.: 12, +2 támadás, min. bányászat: 8, csak törpék használhatják",50,147,"- ",22,44]
["jing-jang fejpánt ","556 ","jing-jang fejpánt (#556)","+5 AC, csak kobuderák használhatják, min. szint: 12",20,141,"0.10 ",20,40,"Sisak","12","8",{"$nulls":20},5]
["árnyéktőr ","557 ","árnyéktőr (#557)","típus: szúró (balkezes), sebzés: 3d4+4, min. fsz.: 12, csak árnymanók használhatják",20,186,"0.10 ",35,70]
["szélkorona ","558 ","szélkorona (#558)","+4 AC, szépségverseny fődíja",0,0,"- ",60,0,"Sisak",{"$nulls":22},4]
["Fairlight öve ","559 ","Fairlight öve (#559)","+4 AC, +4 teo., +4 tau., +10 vp. regen., +1 sebzés szintenként a villámvarázslatokra, min. szint: 25",0,0,"0.30 ",800,0,"Öv","25",{"$nulls":12},10,{"$nulls":8},4,{"$nulls":9},4,4]
["őselemek köpenye ","560 ","őselemek köpenye (#560)","+2 AC, -40 % sebzés minden téged érő varázslatra, min. szint: 22",0,0,"0.10 ",700,28000,"Köpeny","22",{"$nulls":21},2]
["Urgod fétise ","561 ","Urgod fétise (#561)","-5 mentődobás szörnyeknek a varázslataid ellen, -8 mentődobás kalandozóknak a varázslataid ellen, min. szint: 20",0,0,"- ",600,18000,"Nyaklánc"]
["bűvös shuriken ","562 ","bűvös shuriken (#562)","típus: dobó (mágikus, szúró), sebzés: 3d4+4",3,168,"0.30 ",20,40]
["főnixtoll ","563 ","főnixtoll (#563)","nem átadható",0,0,"0.01 ",0,0]
["dalebgad kristályvért ","564 ","dalebgad kristályvért (#564)","+30 AC, +2 erő, +2 iq, +2 ügy., +2 eg., +2 szer., min. szint: 24, nem átadható",0,0,"3.00 ",800,0,"Páncél","24",null,null,null,2,2,2,2,2,{"$nulls":13},30]
["amul kulcs ","565 ","amul kulcs (#565)","-",0,0,"0.01 ",50,100]
["árnyékkulcs ","566 ","árnyékkulcs (#566)","-",0,0,"0.01 ",60,120]
["Tudás Könyve ","567 ","Tudás Könyve (#567)","nem átadható",0,0,"1.00 ",500,0]
["biami kvazárlándzsa ","568 ","biami kvazárlándzsa (#568)","típus: szúró (mágikus), sebzés: 6d5+4, min. fsz.: 20, +3 támadás, -2 szer., +15 max. ép., nem átadható",70,474,"2.00 ",280,0]
["Martian tekercse ","569 ","Martian tekercse (#569)","200 alatti teológia varázslatot tanít, nem átadható",0,0,"0.02 ",1000,0]
["feneketlen bugyor ","570 ","feneketlen bugyor (#570)","-",0,0,"0.20 ",300,0]
["quwarg gödör ","571 ","quwarg gödör (#571)","másznivaló, min. mászás: 8",0,0,"- ",0,0]
["aranytoll ","572 ","aranytoll (#572)","-",0,0,"0.01 ",40,80]
["dentor vért ","573 ","dentor vért (#573)","+16 AC, +30 max. ép., -10 % sebzés minden téged érő varázslatra, min. szint: 18, nem átadható",60,540,"- ",500,0,"Páncél","18",{"$nulls":8},30,{"$nulls":12},16]
["koponyalékelő ","574 ","koponyalékelő (#574)","típus: ütő (ezüst, balkezes), sebzés: 3d4+4, min. fsz.: 16, -2 támadás, +10 max. ép., nem átadható",50,441,"2.00 ",200,0]
["mithril kard ","575 ","mithril kard (#575)","típus: vágó (mágikus), sebzés: 4d8+8, min. fsz.: 20, +5 támadás, -10 max. ép., nem átadható",50,480,"1.20 ",300,0]
["gejzír ","576 ","gejzír (#576)","-",0,0,"- ",0,0]
["fekete kaktusz ","577 ","fekete kaktusz (#577)","-",0,0,"- ",0,0]
["ében toboz ","578 ","ében toboz (#578)","min. szint: 20",10,0,"0.10 ",5,10]
["kátránygödör ","579 ","kátránygödör (#579)","-",0,0,"- ",0,0]
["kátrány ","580 ","kátrány (#580)","-",5,0,"0.05 ",1,2]
["gyilkos csalán ","581 ","gyilkos csalán (#581)","-",0,0,"- ",0,0]
["csalánvirág ","582 ",{"$f":"CONCATENATE(TRIM(A578),\" (#\",TRIM(B578),\")\")","v":"csalánvirág (#582)"},"min. szint: 20",10,0,"0.10 ",8,16]
["mópat boly ","583 ","mópat boly (#583)","-",0,0,"- ",0,0]
["mópat tetem ","584 ","mópat tetem (#584)","-",0,0,"2.00 ",4,8]
["mópat token ","585 ","mópat token (#585)","-",0,0,"0.05 ",15,30]
["áldozati oltár ","586 ","áldozati oltár (#586)","gonoszok áldozati helye",0,0,"- ",0,0]
["ősvortex ","587 ","ősvortex (#587)","-",0,0,"- ",0,0]
["Thargodan tábor ","588 ","Thargodan tábor (#588)","-",0,0,"- ",0,0]
["ében sziklatorony ","589 ","ében sziklatorony (#589)","másznivaló, min. mászás: 17",0,0,"- ",0,0]
["dentor szüttyő ","590 ","dentor szüttyő (#590)","10 kátrány tárolására",15,222,"0.15 ",38,76]
["toxyl ","591 ","toxyl (#591)","-",0,0,"0.01 ",8,16]
["toxyl üvegcse ","592 ","toxyl üvegcse (#592)","10 toxyl tárolására",0,0,"0.08 ",25,50]
["jégkristály ","593 ","jégkristály (#593)","-",0,0,"0.01 ",20,40]
["Gravia öve ","594 ","Gravia öve (#594)","+2 erő, FU-nál nem kell egy mezőn táborozni, nem átadható",0,0,"- ",60,0,"Öv",{"$nulls":4},2]
["lávató ","595 ","lávató (#595)","-",0,0,"- ",0,0]
["mihlanil sisak ","596 ","mihlanil sisak (#596)","+6 AC, +10 max. ép., min. bányászat: 15, nem átadható",40,296,"- ",60,0,"Sisak",{"$nulls":9},10,{"$nulls":12},6]
["mihlanil nyíl ","597 ","mihlanil nyíl (#597)","típus: lövedék (mágikus, szúró), sebzés: 5d6, min. bányászat: 10, nem átadható",7,144,"0.06 ",12,0]
["mérgezett mihlanil nyíl ","598 ","mérgezett mihlanil nyíl (#598)","típus: lövedék (mágikus, szúró), sebzés: 5d6+10, nem átadható",2,159,"- ",14,0]
["mihlanil dobótőr ","599 ","mihlanil dobótőr (#599)","típus: dobó (mágikus, szúró), sebzés: 4d6+3, -4 támadás, min. bányászat: 12, nem átadható",10,153,"0.06 ",12,0]
["mérgezett mihlanil dobótőr ","600 ","mérgezett mihlanil dobótőr (#600)","típus: dobó (mágikus, szúró), sebzés: 4d6+13, nem átadható",2,159,"0.06 ",14,0]
["hro formázó minta ","601 ","hro formázó minta (#601)","csizma minta",0,0,"0.05 ",25,50]
["mihlanil csizma ","602 ","mihlanil csizma (#602)","+6 AC, +10 max. ép., min. bányászat: 18, nem átadható",50,336,"0.50 ",70,0,"Csizma",{"$nulls":9},10,{"$nulls":12},6]
["mihlanil kesztyű ","603 ","mihlanil kesztyű (#603)","+1d6+1 sebzés ököllel (mágikus), +6 AC, +10 max. ép., min. bányászat: 15, nem átadható",40,297,"0.30 ",60,0,"Kesztyű",{"$nulls":9},10,{"$nulls":12},6,{"$nulls":4},4.5]
["mihlanil öv ","604 ","mihlanil öv (#604)","+3 AC, +1 erő, +1 iq, +1 ügy., +1 eg., +1 szer., min. bányászat: 25, nem átadható",40,405,"0.20 ",100,0,"Öv",{"$nulls":4},1,1,1,1,1,{"$nulls":13},3]
["csalánkoktél ","605 ","csalánkoktél (#605)","+4 sebzés thargodanok ellen kör végéig, nem átadható",7,153,"- ",15,0]
["vörös zyel ","606 ","vörös zyel (#606)","nem átadható",0,0,"0.05 ",70,0]
["vortex amulettje ","607 ","vortex amulettje (#607)","varázsolhatsz ősvortexen állva is",0,0,"0.15 ",50,0,"Nyaklánc"]
["ősmágus fülbevalója ","608 ","ősmágus fülbevalója (#608)","varázsolhatsz antimágikus lényre is",0,0,"0.02 ",400,0,"Fülbevaló"]
["angyalok kesztyűje ","609 ","angyalok kesztyűje (#609)","-",0,0,"0.15 ",70,140]
["pszi katalizátor ","610 ","pszi katalizátor (#610)","-",30,489,"0.30 ",300,0,"Sisak"]
["viharamulett ","611 ","viharamulett (#611)","viharóriásokkal való kereskedéshez",0,0,"0.30 ",40,80,"Nyaklánc"]
["viharóriás barlang ","612 ","viharóriás barlang (#612)","-",0,0,"- ",0,0]
["óriások öve ","613 ","óriások öve (#613)","+2 AC, +6 erő, nem átadható",0,0,"0.50 ",200,0,"Öv",{"$nulls":4},6,{"$nulls":17},2]
["óriás fülbevaló ","614 ","óriás fülbevaló (#614)","+2 AC, +6 támadás, nem átadható",0,0,"0.30 ",200,0,"Fülbevaló",{"$nulls":18},6,null,null,null,2]
["Ovgun nyaklánca ","615 ","Ovgun nyaklánca (#615)","+6 támadás, +2 eg., +20 max. ép.",0,0,"0.50 ",400,6000,"Nyaklánc",{"$nulls":7},2,null,20,{"$nulls":8},6]
["rémplazma ","616 ","rémplazma (#616)","-",0,0,"0.10 ",50,100]
["sárkányfog ","617 ","sárkányfog (#617)","-",0,0,"0.10 ",20,40]
["pszi kristály ","618 ","pszi kristály (#618)","-",0,0,"0.03 ",30,60]
["lélekesszencia ","619 ","lélekesszencia (#619)","-",0,0,"0.01 ",45,90]
["sárkánybarlang ","620 ","sárkánybarlang (#620)","-",0,0,"- ",0,0]
["életszikla ","621 ","életszikla (#621)","Sheran és Fairlight hívők áldozhatnak (legalább főpap)",0,0,"- ",0,0]
["bíborcserje ","622 ","bíborcserje (#622)","-",0,0,"- ",0,0]
["tűzbimbó ","623 ","tűzbimbó (#623)","min. szint: 20",3,0,"0.03 ",5,10]
["lovagi tábor ","624 ","lovagi tábor (#624)","-",0,0,"- ",0,0]
["Démonölő ","625 ","Démonölő (#625)","típus: vágó (mágikus), sebzés: 4d10+3, min. fsz.: 20, +3 támadás, +16 sebzés thargodanok ellen, csak jók használhatják",0,0,"7.00 ",300,0]
["sárkánytőr ","626 ","sárkánytőr (#626)","típus: szúró (mágikus, balkezes), sebzés: 4d4+6, min. fsz: 15, +4 támadás, +8 sebzés sárkányok ellen",80,441,"0.45 ",200,3000]
["adamantit ","627 ","adamantit (#627)","-",0,0,"0.15 ",25,0]
["adamantit páncél ","628 ","adamantit páncél (#628)","+24 AC, min. bányászat: 30, nem átadható",200,528,"- ",400,0,"Páncél",{"$nulls":22},24]
["adamantit sisak ","629 ","adamantit sisak (#629)","+8 AC, min. bányászat: 26, nem átadható",80,438,"- ",130,0,"Sisak",{"$nulls":22},8]
["adamantit pajzs ","630 ","adamantit pajzs (#630)","típus: pajzs+vágó (mágikus, balkezes), sebzés: 3d4+3, min. fsz: 18, +9 AC, min. bányászat: 28, nem átadható",120,492,"2.50 ",280,0,"Pajzs",{"$nulls":22},9]
["adamantit csizma ","631 ","adamantit csizma (#631)","+9 AC, min. bányászat: 31, nem átadható",80,468,"1.20 ",200,0,"Csizma",{"$nulls":22},9]
["arkog kő ","632 ","arkog kő (#632)","-",0,0,"0.20 ",1,2]
["törpe őskő ","633 ","törpe őskő (#633)","-",0,0,"0.10 ",100,1000]
["univerzum nektárja ","634 ","univerzum nektárja (#634)","max. ép. függvényében max. ép.-t adó tárgy",10,245,"0.02 ",40,0]
["Halálpöröly ","635 ","Halálpöröly (#635)","típus: ütő (mágikus), sebzés: 4d8+5, min. fsz.: 25, -2 támadás, sötét halált lő (nem fixen), +12 sebzés jók ellen, csak gonoszok használhatják",0,0,"- ",500,17500]
["Végítélet ","636 ","Végítélet (#636)","típus: szúró (mágikus), sebzés: 6d5+6, min. fsz.: 30, +3 támadás, armageddont lő (nem fixen), csak jók használhatják",0,0,"6.00 ",600,12000]
["Fényhozó ","637 ","Fényhozó (#637)","típus: ütő (mágikus), sebzés: 6d6+3, min. fsz.: 28, pszi ragyogást lő (nem fixen), +6 sebzés gonoszok ellen, csak jók használhatják",0,560,"6.00 ",600,12000]
["Káoszkígyó ","638 ","Káoszkígyó (#638)","típus: szúró (mágikus), sebzés: 4d6+10, min. fsz.: 30, nekromanta csókját lő (nem fixen), csak gonoszok használhatják",0,0,"5.50 ",500,20000]
["Fókuszpenge ","639 ","Fókuszpenge (#639)","típus: vágó (mágikus), sebzés: 6d7+2, min. fsz.: 25, hálót lő (nem fixen), csak semlegesek használhatják",0,0,"4.00 ",300,12000]
["Thór pörölye ","640 ","Thór pörölye (#640)","típus: ütő (mágikus), sebzés: 6d6+5, min. fsz.: 30, +4 támadás, villámsújtást lő (nem fixen), csak semlegesek használhatják",0,0,"9.00 ",500,10000]
["bronz taider ","641 ","bronz taider (#641)","típus: szúró (mágikus), sebzés: 10d4, min. fsz.: 30, +5 támadás, puha ütést lő (nem fixen), csak semlegesek használhatják",0,530,"8.00 ",500,10000]
["áldott kő ","642 ","áldott kő (#642)","semlegesíti a szopókövet",0,0,"0.01 ",20,40]
["küklopsz szem ","643 ","küklopsz szem (#643)","-",0,0,"1.00 ",30,60]
["gyémántkoponya ","644 ","gyémántkoponya (#644)","-",0,0,"- ",60,0]
["Fortuna szentélye ","645 ","Fortuna szentélye (#645)","megszabadít az átkozott tárgyaktól",0,0,"- ",0,0]
["légiós nadrág ","646 ",{"$f":"CONCATENATE(TRIM(A642),\" (#\",TRIM(B642),\")\")","v":"légiós nadrág (#646)"},"+3 AC, +2 erő, Vérvörös Légió KT tárgya",0,0,"- ",30,0,"Nadrág",{"$nulls":4},2,{"$nulls":17},3]
["Eldaran ékköve ","647 ","Eldaran ékköve (#647)","+2 ügy., +5 szörnyismeret, Erdők Vándorai KT tárgya",0,0,"- ",30,0,"Fülbevaló",{"$nulls":6},2,{"$nulls":32},5]
["kulcskarika ","648 ","kulcskarika (#648)","-",30,348,"0.60 ",80,160]
["Huddens kesztyűje ","649 ","Huddens kesztyűje (#649)","+5 AC, +10 sebzés ököllel (mágikus), min. szint: 20",0,0,"0.20 ",1000,15000,"Kesztyű","20",{"$nulls":21},5,{"$nulls":4},10]
["sámán erszény ","650 ","sámán erszény (#650)","nem átadható",0,0,"0.06 ",10,0]
["rinóbőr ","651 ","rinóbőr (#651)","-",0,0,"2.00 ",5,10]
["darázsszárny ","652 ","darázsszárny (#652)","-",0,0,"0.01 ",4,8]
["varkaudar tekercs ","653 ","varkaudar tekercs (#653)","nem átadható",0,0,"0.60 ",12,0]
["darázsfarok ","654 ","darázsfarok (#654)","-",0,0,"0.50 ",14,28]
["liumbe hajtás ","655 ","liumbe hajtás (#655)","-",0,0,"0.05 ",4,8]
["liumbe bimbó ","656 ","liumbe bimbó (#656)","-",0,0,"0.10 ",15,0]
["aurach fog ","657 ","aurach fog (#657)","-",0,0,"0.01 ",1,2]
["aurach bőr ","658 ","aurach bőr (#658)","-",0,0,"0.50 ",14,28]
["Morgan kristálya ","659 ","Morgan kristálya (#659)","nem átadható",0,0,"0.05 ",20,0]
["Tiume batyuja ","660 ","Tiume batyuja (#660)","nem átadható",0,0,"0.20 ",15,0]
["alligátor bőr ","661 ","alligátor bőr (#661)","-",0,0,"1.00 ",10,20]
["alligátorbőr cipő ","662 ","alligátorbőr cipő (#662)","+3 AC",25,210,"1.20 ",40,0,"Csizma",{"$nulls":22},3]
["alligátor fog ","663 ","alligátor fog (#663)","-",0,0,"0.10 ",10,0]
["elf csont ","664 ","elf csont (#664)","-",0,0,"0.30 ",4,8]
["elkarog szőr ","665 ","elkarog szőr (#665)","-",0,0,"0.01 ",1,2]
["nektoraf faggyú ","667 ","nektoraf faggyú (#667)","-",0,0,"0.03 ",3,6]
["sáska amulett ","668 ","sáska amulett (#668)","-",0,0,"0.03 ",15,30]
["rakolits por ","669 ","rakolits por (#669)","-",0,0,"0.01 ",7,14]
["lápi hajlék ","670 ","lápi hajlék (#670)","-",0,0,"- ",0,0]
["nyomkereső talizmán ","671 ","nyomkereső talizmán (#671)","+13 % szörnykeresés",5,0,"0.05 ",150,600]
["kiválasztottak éke ","672 ","kiválasztottak éke (#672)","+3 ügy., +2 szer., MAFFIA KT tárgya",0,0,"- ",30,0,"Fülbevaló",{"$nulls":6},3,null,2]
["rubin fülbevaló ","673 ","rubin fülbevaló (#673)","+3 AC, +30 max. ép.",0,0,"0.05 ",1500,22500,"Fülbevaló",{"$nulls":9},30,{"$nulls":12},3]
["dalebgad kristálycsizma ","674 ","dalebgad kristálycsizma (#674)","+6 AC, +1 erő, +1 iq, +1 ügy., +1 eg., +1 szer., nem átadható",0,0,"- ",800,0,"Csizma",{"$nulls":4},1,1,1,1,1,{"$nulls":13},6]
["sáfránykristály ","675 ","sáfránykristály (#675)","-",0,0,"0.01 ",20,40]
["szulfin ","676 ","szulfin (#676)","-",0,0,"0.05 ",20,40]
["szulfagor agyar ","677 ","szulfagor agyar (#677)","-",0,0,"1.00 ",4,8]
["smaragdkő ","678 ","smaragdkő (#678)","-",0,0,"0.10 ",50,0]
["rubinkő ","679 ","rubinkő (#679)","-",0,0,"- ",150,0]
["hibátlan gyémánt ","680 ","hibátlan gyémánt (#680)","nem átadható",5,0,"0.10 ",200,0]
["elf kósza háza ","681 ","elf kósza háza (#681)","-",0,0,"- ",0,0]
["orvosságos zacskó ","682 ","orvosságos zacskó (#682)","minden GY parancs 33 %-kal hatékonyabb",5,0,"0.10 ",150,600]
["elf tekercs ","683 ","elf tekercs (#683)","nem átadható",5,0,"0.03 ",200,0]
["tímárkunyhó ","684 ","tímárkunyhó (#684)","-",0,0,"- ",0,0]
["rinóbőr öv ","685 ","rinóbőr öv (#685)","+3 AC, +20 max. ép.",5,0,"0.20 ",150,600,"Öv",{"$nulls":9},20,{"$nulls":12},3]
["tűzfény ","686 ","tűzfény (#686)","nem átadható",5,0,"0.10 ",200,0]
["ryuku karvédő ","687 ","ryuku karvédő (#687)","+2 AC, min. szint: 12",0,0,"0.30 ",85,0,"Karkötő","12",{"$nulls":21},2]
["ryuku sisak ","688 ","ryuku sisak (#688)","+4 AC, +1 eg., min. szint: 12",0,0,"0.30 ",85,170,"Sisak","12",{"$nulls":6},1,{"$nulls":14},4]
["ryuku mellvért ","689 ","ryuku mellvért (#689)","+8 AC, +1 erő, +5 max. ép., min. szint: 12",0,0,"8.00 ",120,240,"Páncél","12",null,null,null,1,{"$nulls":4},5,{"$nulls":12},8]
["ryuku kesztyű ","690 ","ryuku kesztyű (#690)","+2 AC, +3 sebzés ököllel, +1 támadás, min. szint: 12",0,0,"0.30 ",85,170,"Kesztyű","12",{"$nulls":17},1,null,null,null,2,{"$nulls":4},3]
["ryuku nadrág ","691 ","ryuku nadrág (#691)","+3 AC, min. szint: 12",0,0,"2.00 ",85,270,"Nadrág","12",{"$nulls":21},3]
["ryuku csizma ","692 ","ryuku csizma (#692)","+2 AC, +1 szer., min. szint: 12",0,0,"0.50 ",85,270,"Csizma","12",{"$nulls":7},1,{"$nulls":13},2]
["ryuku köpeny ","693 ","ryuku köpeny (#693)","+2 AC, +1 iq, min. szint: 12",0,0,"0.30 ",85,270,"Köpeny","12",{"$nulls":4},1,{"$nulls":16},2]
["ryuku kopja ","694 ","ryuku kopja (#694)","típus: szúró, sebzés: 4d6+5, min. fsz.: 10, -3 támadás",0,0,"3.00 ",70,140]
["ryuku szablya ","695 ","ryuku szablya (#695)","típus: vágó, sebzés: 4d6+4, min. fsz.: 12",0,0,"1.50 ",70,140]
["ryuku buzogány ","696 ","ryuku buzogány (#696)","típus: ütő, sebzés: 4d6+2, min. fsz.: 10, +3 támadás",0,0,"2.00 ",70,140]
["Ezüstmágusok kürtje ","697 ","Ezüstmágusok kürtje (#697)","2 ép.-ért ad 1 vp.-t, nem átadható",5,0,"0.20 ",1000,0]
["manóodú ","698 ","manóodú (#698)","-",0,0,"- ",0,0]
["sötét kámzsa ","699 ","sötét kámzsa (#699)","-",5,0,"0.30 ",120,480,"Köpeny"]
["tubarkő ","700 ","tubarkő (#700)","plusz mentődobást ad a tárgyaidnak",5,0,"0.10 ",200,800]
["rahn ékkő ","701 ","rahn ékkő (#701)","+TP az ÉP és KT parancsok használatakor, nem átadható",5,0,"0.10 ",700,0]
["teknősesszencia ","702 ","teknősesszencia (#702)","-",0,0,"0.10 ",45,90]
["medúzacsáp ","703 ","medúzacsáp (#703)","-",0,0,"0.01 ",5,10]
["troll csont ","704 ","troll csont (#704)","-",0,0,"0.50 ",4,8]
["kobudera csont ","705 ","kobudera csont (#705)","-",0,0,"0.20 ",4,8]
["gnóm csont ","706 ","gnóm csont (#706)","-",0,0,"0.10 ",4,8]
["smaragd karkötő ","707 ","smaragd karkötő (#707)","nem átadható",5,0,"0.05 ",500,0,"Karkötő"]
["ritualista amulett ","708 ","ritualista amulett (#708)","+1 sze.",0,0,"0.50 ",50,100,"Nyaklánc",{"$nulls":8},1]
["ritualista öv ","709 ","ritualista öv (#709)","+1 AC, +1 vp. regen./szint",0,0,"0.50 ",100,0,"Öv",{"$nulls":22},1]
["yeti mokasszin ","710 ","yeti mokasszin (#710)","+9 AC",0,0,"- ",300,0,"Csizma",{"$nulls":22},9]
["csontamulett ","711 ",{"$f":"CONCATENATE(TRIM(A706),\" (#\",TRIM(B706),\")\")","v":"csontamulett (#711)"},"+1 AC, +2 szer., tolvajnak -25% lopás, lápi hajléknál",5,0,"0.25 ",300,1200,"Nyaklánc",{"$nulls":8},2,{"$nulls":13},1]
["etra hályog ","712 ","etra hályog (#712)","-",0,0,"0.30 ",25,50]
["berzerker tüske ","713 ","berzerker tüske (#713)","-",0,0,"0.06 ",12,24]
["rőtmanó kacagány ","714 ","rőtmanó kacagány (#714)","+4 AC, +1 szer.",0,0,"4.00 ",5,10,"Páncél",{"$nulls":8},1,{"$nulls":13},4]
["csillagrubin ","715 ","csillagrubin (#715)","+15 vágófegyver thargodan berzerker ellen, nem átadható",0,0,"0.03 ",80,0,"Fülbevaló"]
["Zinthurg pallos ","716 ","Zinthurg pallos (#716)","típus: vágó (mágikus), sebzés: 6d6+6, min. fsz.: 16, -4 támadás",0,0,"15.00 ",15,30]
["kij formázó minta ","717 ","kij formázó minta (#717)","kulcs minta",0,0,"0.05 ",25,50]
["lélekkulcs ","718 ","lélekkulcs (#718)","-",10,248,"- ",50,0]
["Harcosok Könyve ","719 ","Harcosok Könyve (#719)","nem átadható",0,0,"1.00 ",500,0]
["művészi porolit ","720 ","művészi porolit (#720)","Chara-din monolit hatását semlegesíti",100,0,"- ",0,0]
["Zombilapító ","721 ","Zombilapító (#721)","típus: ütő (mágikus, balkezes), sebzés: 2d4+5, +2 AC",0,0,"0.80 ",100,1500]
["háború gyűrűje ","722 ","háború gyűrűje (#722)","+4 AC, +4 támadás, +20 max. ép.",0,0,"0.01 ",200,1200,"Gyűrű",{"$nulls":9},20,{"$nulls":8},4,null,null,null,4]
["császári kesztyű ","723 ","császári kesztyű (#723)","+4 AC, +6 sebzés ököllel",0,0,"0.20 ",200,400,"Kesztyű",{"$nulls":22},4,{"$nulls":4},6]
["ryuku kalapács ","724 ","ryuku kalapács (#724)","típus: ütő (mágikus, balkezes), sebzés: 1d3",0,0,"0.20 ",40,80]
["otagi csáp ","725 ","otagi csáp (#725)","típus: vágó (mágikus, balkezes), sebzés: 4d5+3, min. fsz.: 30, -2 támadás, halálvarázslatot lő (nem fixen)",0,0,"3.00 ",250,2500]
["gyémánt védőgyűrű ","726 ","gyémánt védőgyűrű (#726)","+5 AC, +5 szer.",0,0,"- ",200,0,"Gyűrű",{"$nulls":8},5,{"$nulls":13},5]
["Zu'lit fülkarikája ","727 ","Zu'lit fülkarikája (#727)","+6 teo., +6 tau., min. szint: 24",0,0,"- ",300,7500,"Fülbevaló","24",{"$nulls":31},6,6]
["gyémánt karperec ","728 ","gyémánt karperec (#728)","ékszer",0,0,"0.03 ",120,240]
["rubin fejék ","729 ","rubin fejék (#729)","ékszer",0,0,"0.10 ",140,280]
["smaragd orrkarika ","730 ","smaragd orrkarika (#730)","ékszer",0,0,"0.01 ",100,200]
["topáz erényöv ","731 ","topáz erényöv (#731)","+1 AC",0,0,"0.20 ",110,220,"Nadrág",{"$nulls":22},1]
["gyöngyberakásos öv ","732 ","gyöngyberakásos öv (#732)","ékszer",0,0,"0.10 ",130,260]
["bunthar bőr ","733 ","bunthar bőr (#733)","-",0,0,"0.50 ",5,10]
["bunthar zsák ","734 ","bunthar zsák (#734)","tárgylista bővítésére plusz tárgyhelyek (150-ről 175-re), nem átadható",40,258,"3.00 ",50,0]
["mágikus hátizsák ","735 ","mágikus hátizsák (#735)","tárgylista bővítésére plusz tárgyhelyek (175-ről 199-re), nem átadható",5,0,"1.00 ",100,0]
["jegygyűrű ","736 ","jegygyűrű (#736)","ékszer, nem átadható",0,0,"0.01 ",100,100]
["rémbőr tarkóvédő ","737 ","rémbőr tarkóvédő (#737)","+16 AC",0,0,"- ",300,600,"Sisak",{"$nulls":22},16]
["Natharion karkötő ","738 ","Natharion karkötő (#738)","+2 AC, -5 erő, +5 iq, +5 teo., min. szint: 30",0,0,"0.20 ",370,1110,"Karkötő","30",null,null,null,-5,5,{"$nulls":16},2,{"$nulls":9},5]
["Batharak vértje ","739 ","Batharak vértje (#739)","+35 AC, +5 erő, -5 ügy., +50 max. ép., min. szint: 40",0,0,"10.00 ",500,1000,"Páncél","40",null,null,null,5,null,-5,null,null,50]
["Zarknod szeme ","740 ","Zarknod szeme (#740)","típus: pajzs+ütő, sebzés: 3d6+4, min. fsz.: 30, +10 AC, +5 eg., káoszcsapást lő (fixen)",0,0,"5.00 ",940,9400,"Pajzs",{"$nulls":7},5,{"$nulls":14},10]
["kyorg köpeny ","741 ","kyorg köpeny (#741)","+6 AC, +3 ügy., +3 eg., +3 MXTU, +20 max. ép., min. szint: 30",0,0,"1.00 ",960,4800,"Köpeny","30",{"$nulls":5},3,3,null,20,{"$nulls":7},3,{"$nulls":4},6]
["Natharion amulett ","742 ","Natharion amulett (#742)","+3 iq, +3 ügy., +3 eg., +3 szer., -20 max. ép., min. szint: 25",0,0,"0.20 ",390,1170,"Nyaklánc","25",{"$nulls":4},3,3,3,3,-20]
["bo'adhun gyűrű ","743 ","bo'adhun gyűrű (#743)","-5 AC, +5 támadás, +5 erő, -5 ügy., min. 25. szint",0,0,"0.05 ",350,1050,"Gyűrű","25",null,null,null,5,null,-5,{"$nulls":11},5,null,null,null,-5]
["bo'adhun tiara ","744 ","bo'adhun tiara (#744)","+6 AC, +3 erő, +3 ügy., +3 eg., +50 max. vp., +6 teo., min. szint: 35",0,0,"- ",800,4000,"Sisak","35",null,null,null,3,null,3,3,{"$nulls":4},50,{"$nulls":9},6,{"$nulls":9},6]
["bo'adhun idol ","745 ","bo'adhun idol (#745)","tulajdonságpajzs varázslat",0,0,"0.30 ",400,1200]
["bársony övsál ","746 ","bársony övsál (#746)","-10 AC, -5 támadás, -5 erő, +1 támadásszám jobb- és balkézzel, min. szint: 35, nem átadható",0,0,"0.15 ",1000,0,"Öv","35",null,null,null,-5,{"$nulls":13},-5,null,1,null,-10]
["natharion opál ","747 ","natharion opál (#747)","áldozati tárgy Leahnak, kobudera faji ékkő",0,0,"0.10 ",50,100]
["esthari rubin ","748 ","esthari rubin (#748)","áldozati tárgy Dornodonnak",0,0,"0.10 ",50,100]
["jáde rakshallion ","749 ","jáde rakshallion (#749)","áldozati tárgy Raiának, gnóm faji ékkő",0,0,"0.10 ",50,100]
["türkiz karika ","750 ","türkiz karika (#750)","áldozati tárgy Eleniosnak, ember faji ékkő",0,0,"0.10 ",50,100]
["rítusónix ","751 ","rítusónix (#751)","áldozati tárgy Sherannak, mutáns faji ékkő",0,0,"0.10 ",50,100]
["nyers zafír ","752 ","nyers zafír (#752)","áldozati tárgy Tharrnak, elf faji ékkő",0,0,"0.10 ",50,100]
["jácint díszkő ","753 ","jácint díszkő (#753)","áldozati tárgy Fairlightnak, alakváltó faji ékkő",0,0,"0.10 ",50,100]
["csavart smaragd ","754 ","csavart smaragd (#754)","áldozati tárgy Chara-dinnak, troll faji ékkő",0,0,"0.10 ",50,100]
["malachit füzér ","755 ","malachit füzér (#755)","törpe faji ékkő",0,0,"0.10 ",50,100]
["obszidián kereszt ","756 ","obszidián kereszt (#756)","árnymanó faji ékkő",0,0,"0.10 ",50,100]
["bo'adhun aranygömb ","757 ","bo'adhun aranygömb (#757)","bo'adhun ékszer",0,0,"0.10 ",50,100]
["gyémánt fétisrúd ","758 ","gyémánt fétisrúd (#758)","bo'adhun ékszer",0,0,"0.10 ",50,100]
["ezüstlevél ","759 ","ezüstlevél (#759)","bo'adhun ékszer",0,0,"0.10 ",50,100]
["to'aghan orrkarika ","760 ","to'aghan orrkarika (#760)","bo'adhun ékszer",0,0,"0.10 ",50,100]
["bronz nyakörv ","761 ","bronz nyakörv (#761)","bo'adhun ékszer",0,0,"0.10 ",50,100]
["adamantit érme ","762 ","adamantit érme (#762)","bo'adhun ékszer",0,0,"0.10 ",100,200]
["ro'galhal lánc ","763 ","ro'galhal lánc (#763)","bo'adhun ékszer",0,0,"0.10 ",50,100]
["mihlanil érme ","764 ","mihlanil érme (#764)","bo'adhun ékszer",0,0,"0.10 ",80,160]
["káosztiara ","765 ","káosztiara (#765)","bo'adhun ékszer",0,0,"0.10 ",70,140]
["aranyfétis ","766 ","aranyfétis (#766)","bo'adhun ékszer",0,0,"0.10 ",50,100]
["kyorg rúnakorong ","767 ","kyorg rúnakorong (#767)","kyorg relikvia, nem átadható",0,0,"0.10 ",50,0]
["raskhiir bozaka ","768 ","raskhiir bozaka (#768)","kyorg relikvia, nem átadható",0,0,"0.10 ",50,0]
["trakuun napkorong ","769 ","trakuun napkorong (#769)","kyorg relikvia, nem átadható",0,0,"0.10 ",50,0]
["kyorg lepel ","770 ","kyorg lepel (#770)","kyorg relikvia, nem átadható",0,0,"0.10 ",50,0]
["idézőszőnyeg ","771 ","idézőszőnyeg (#771)","kyorg relikvia, nem átadható",0,0,"0.10 ",50,0]
["nagymesteri pálca ","772 ","nagymesteri pálca (#772)","kyorg relikvia, nem átadható",0,0,"0.10 ",50,0]
["drakolder póráz ","773 ","drakolder póráz (#773)","kyorg relikvia, nem átadható",0,0,"- ",50,0]
["raskhiir talizmán ","774 ","raskhiir talizmán (#774)","kyorg relikvia, nem átadható",0,0,"0.10 ",50,0]
["bűvölt kristály ","775 ",{"$f":"CONCATENATE(TRIM(A770),\" (#\",TRIM(B770),\")\")","v":"bűvölt kristály (#775)"},"kyorg relikvia, nem átadható",0,0,"0.10 ",50,0]
["arany foggyűrű ","776 ","arany foggyűrű (#776)","kyorg relikvia, nem átadható",0,0,"0.10 ",50,0]
["arx tekercs ","777 ","arx tekercs (#777)","páncél forma, nem átadható",0,0,"0.01 ",100,0]
["bev tekercs ","778 ","bev tekercs (#778)","sisak forma, nem átadható",0,0,"0.01 ",100,0]
["cru tekercs ","779 ","cru tekercs (#779)","pajzs forma, nem átadható",0,0,"0.01 ",100,0]
["gór tekercs ","780 ","gór tekercs (#780)","kesztyű forma, nem átadható",0,0,"0.01 ",100,0]
["hro tekercs ","781 ","hro tekercs (#781)","csizma forma, nem átadható",0,0,"0.01 ",100,0]
["iti tekercs ","782 ","iti tekercs (#782)","köpeny forma, nem átadható",0,0,"0.01 ",100,0]
["jen tekercs ","783 ","jen tekercs (#783)","vállvédő forma, nem átadható",0,0,"0.01 ",100,0]
["kij tekercs ","784 ","kij tekercs (#784)","kulcs forma, nem átadható",0,0,"0.01 ",100,0]
["lad tekercs ","785 ","lad tekercs (#785)","karkötő forma, nem átadható",0,0,"0.01 ",100,0]
["mul tekercs ","786 ","mul tekercs (#786)","lábszárvédő forma, nem átadható",0,0,"0.01 ",100,0]
["quwarg korona ","787 ","quwarg korona (#787)","+9 AC, +3 iq, +3 ügy., +3 eg., +3 szer., nem átadható",0,0,"- ",400,0,"Sisak",{"$nulls":5},3,3,3,3,{"$nulls":13},9]
["tl'urlang fiola ","788 ","tl'urlang fiola (#788)","-",0,0,"0.20 ",50,100]
["gh'raiton származék ","789 ","gh'raiton származék (#789)","nem átadható",0,0,"0.01 ",250,0]
["rd'alv származék ","790 ","rd'alv származék (#790)","nem átadható",0,0,"0.01 ",250,0]
["kr'uagon származék ","791 ","kr'uagon származék (#791)","nem átadható",0,0,"0.01 ",250,0]
["ml'othag származék ","792 ","ml'othag származék (#792)","nem átadható",0,0,"0.01 ",250,0]
["vg'axtol származék ","793 ","vg'axtol származék (#793)","nem átadható",0,0,"0.01 ",250,0]
["vg'axtol gyűrű ","794 ","vg'axtol gyűrű (#794)","+4 sebzés éjfattyak ellen, nem átadható",0,0,"- ",1000,0]
["gh'raiton fókusz ","795 ","gh'raiton fókusz (#795)","+150 sebzés éjfattyak végzetéhez, nem átadható",0,726,"0.30 ",1000,0]
["rd'alv amulett ","796 ","rd'alv amulett (#796)","megvéd a rd'alv tárgyégetésétől, nem átadható",0,726,"0.25 ",1000,0,"Nyaklánc"]
["ml'othag abroncs ","797 ","ml'othag abroncs (#797)","éjfatty esszencia kinyeréséhez szükséges, nem átadható",0,726,"0.50 ",1000,0]
["gh'raiton esszencia ","798 ","gh'raiton esszencia (#798)","nem átadható",0,0,"0.01 ",250,0]
["rd'alv esszencia ","799 ","rd'alv esszencia (#799)","nem átadható",0,0,"0.01 ",250,0]
["kr'uagon esszencia ","800 ","kr'uagon esszencia (#800)","nem átadható",0,0,"0.01 ",250,0]
["ml'othag esszencia ","801 ","ml'othag esszencia (#801)","nem átadható",0,0,"0.01 ",250,0]
["vg'axtol esszencia ","802 ","vg'axtol esszencia (#802)","nem átadható",0,0,"0.01 ",250,0]
["ősi karkötő ","803 ","ősi karkötő (#803)","+8 AC, +5 szer., +1 sebzés, +100 max. ép., nem átadható",0,0,"0.10 ",1000,0,"Karkötő",{"$nulls":8},5,100,{"$nulls":12},8,null,null,1]
["ősi csizma ","804 ","ősi csizma (#804)","+13 AC, +1 támadás, +5 eg., +100 max. ép., nem átadható",0,0,"0.20 ",1000,0,"Csizma",{"$nulls":7},5,null,100,{"$nulls":8},1,null,null,null,13]
["ősi vállvédő ","805 ","ősi vállvédő (#805)","+5 AC, +1 erő, +1 iq, +1 ügy., +1 eg., +1 szer., +50 max. ép., nem átadható",0,0,"0.20 ",1000,0,"Vállvédő",{"$nulls":4},1,1,1,1,1,50,{"$nulls":12},5]
["ősi nyaklánc ","806 ","ősi nyaklánc (#806)","+5 iq, +50 max. ép., +100 max. vp., permanens áldott kő hatás, nem átadható",0,726,"0.10 ",1000,0,"Nyaklánc",{"$nulls":5},5,null,null,null,50,null,null,100]
["ősi sisak ","807 ","ősi sisak (#807)","+12 AC, +5 erő, +3 sebzés, +100 max. ép., nem átadható",0,0,"0.20 ",1000,0,"Sisak",{"$nulls":4},5,{"$nulls":4},100,{"$nulls":12},12,null,null,3]
["Dl'orkhaugruk esszenciája ","808 ","Dl'orkhaugruk esszenciája (#808)","nem átadható",0,0,"0.01 ",250,0]
["ősi páncél ","809 ","ősi páncél (#809)","+50 AC, +5 erő, +5 iq, +5 ügy., +5 eg., +5 szer., +100 max. ép., nem átadható",0,744,"5.00 ",1000,0,"Páncél",{"$nulls":4},5,5,5,5,5,100,{"$nulls":12},50]
["ősi kard ","810 ","ősi kard (#810)","típus: vágó (mágikus), sebzés: 8d10+6, min. fsz.: 30, -5 AC, nem átadható",0,0,"0.20 ",1000,0]
["gólem talizmán ","811 ","gólem talizmán (#811)","+2 erő, nem átadható",0,0,"0.10 ",50,0,"Nyaklánc",{"$nulls":4},2]
["vortex talizmán ","812 ","vortex talizmán (#812)","+2 iq, nem átadható",0,0,"0.10 ",50,0,"Nyaklánc",{"$nulls":5},2]
["halálhozó talizmán ","813 ","halálhozó talizmán (#813)","+2 ügy., nem átadható",0,0,"0.10 ",50,0,"Nyaklánc",{"$nulls":6},2]
["korinthai talizmán ","814 ","korinthai talizmán (#814)","+2 eg., nem átadható",0,0,"0.10 ",50,0,"Nyaklánc",{"$nulls":7},2]
["rothasztó talizmán ","815 ","rothasztó talizmán (#815)","+2 szer., nem átadható",0,0,"0.10 ",50,0,"Nyaklánc",{"$nulls":8},2]
["halálhozó karkötője ","816 ","halálhozó karkötője (#816)","+3 AC, +2 sebzés, nem átadható",0,0,"0.10 ",500,0,"Karkötő",{"$nulls":22},3,null,null,2]
["hatalom fülbevalója ","817 ","hatalom fülbevalója (#817)","+2 erő, +2 iq, +2 ügy., +2 eg., +2 szer., nem átadható",0,0,"0.03 ",200,0,"Fülbevaló",{"$nulls":4},2,2,2,2,2]
["teremtés zsákja ","818 ","teremtés zsákja (#818)","minden forduló elején teremt olyan, 1-3 darab maximum 5 arany értékű tárgyat/tárgyakat, ami már van a birtokodban, nem átadható",0,0,"3.00 ",200,0]
["aranytermő erszény ","819 ","aranytermő erszény (#819)","aranyat termel kör elején, nem átadható",0,0,"0.06 ",200,0]
["szirén köpenye ","820 ","szirén köpenye (#820)","+5 AC, +2 iq, +2 teo., +2 % kincskeresés, nem átadható",0,0,"0.10 ",200,0,"Köpeny",{"$nulls":5},2,{"$nulls":16},5,{"$nulls":7},2,null,2]
["Zu'lit koronája ","821 ","Zu'lit koronája (#821)","cirkuszi rész-díj, +5 AC, +5 iq, +5 teo., +5 tau., +100 vp. regen., nem átadható",0,0,"0.40 ",150,0,"Sisak",{"$nulls":5},5,{"$nulls":7},100,{"$nulls":8},5,{"$nulls":9},5,5]
["Vlagyimir gyűrűje ","822 ","Vlagyimir gyűrűje (#822)","cirkuszi rész-díj, +5 AC, +5 sebzés, +5 támadás, +5 erő, +50 max. ép., nem átadható",0,0,"0.05 ",150,0,"Gyűrű",{"$nulls":4},5,{"$nulls":4},50,{"$nulls":8},5,{"$nulls":6},5]
["mihlanil medál ","823 ","mihlanil medál (#823)","cirkuszi rész-díj, +5 ügy., +5 eg. , +5 szer., +5 MXTU, +50 max. ép., nem átadható",0,0,"0.10 ",200,0,"Nyaklánc",{"$nulls":6},5,5,5,50,{"$nulls":7},5]
["játékmesteri palást ","824 ","játékmesteri palást (#824)","cirkuszi fődíj, +40 AC, +10 erő, +10 iq, +10 ügy., +10 eg., +10 szer., +150 vp. regen., +200 max. ép., +5 % kincskeresés, nem átadható",0,0,"3.00 ",600,0,"Páncél",{"$nulls":4},10,10,10,10,10,200,null,null,null,150,{"$nulls":8},40,{"$nulls":7},5]
["tl'urlang erőkő ","825 ","tl'urlang erőkő (#825)","+6 támadás éjfattyak ellen",0,0,"0.20 ",100,200]
["Urgol káoszpajzsa ","826 ","Urgol káoszpajzsa (#826)","+20 AC, +15 szer., +30 sebzés, +150 max. ép., min. szint: 30, nem átadható",0,0,"5.00 ",3000,0,"Pajzs","30",{"$nulls":7},15,150,{"$nulls":12},20,null,null,30]
["Techiulan oszlopa ","827 ","Techiulan oszlopa (#827)","Techiulan birtokának határát jelölik",0,0,"- ",0,0]
["varázsfiola ","828 ","varázsfiola (#828)","5 Huddens elixírje tárolására, nem átadható",5,0,"0.10 ",100,0]
["dlathog kőzet ","829 ","dlathog kőzet (#829)","-",0,0,"0.20 ",50,100]
["Huddens elixírje ","830 ","Huddens elixírje (#830)","nem átadható",5,347,"0.01 ",80,0]
["Batharak vállemeze ","831 ","Batharak vállemeze (#831)","+3 AC, +1 ügy, +10 max. ép., min. szint: 25",0,0,"0.80 ",410,1230,"Vállvédő","25",{"$nulls":5},1,null,null,10,{"$nulls":12},3]
["cápabőr csizma ","832 ","cápabőr csizma (#832)","+8 AC, +1 eg., +20 max. vp., min. szint: 25",0,0,"0.20 ",360,1080,"Csizma","25",{"$nulls":6},1,{"$nulls":4},20,{"$nulls":9},8]
["cápafog ","833 ","cápafog (#833)","típus: szúró (mágikus, balkezes), sebzés: 4d7+4, min. fsz.: 25, +2 AC, +2 szer., méregfelhő III-at lő (nem fixen)",0,0,"0.40 ",760,3800]
["ogre öv ","834 ","ogre öv (#834)","+2 AC, +2 erő, +1 sebzés, min. szint: 25",0,0,"0.40 ",380,1140,"Öv","25",null,null,null,2,{"$nulls":17},2,null,null,1]
["Emma köténye ","835 ","Emma köténye (#835)","+7 AC, +3 erő, -3 szer., +50 max. ép., min. szint: 30",0,0,"1.50 ",200,0,"Nadrág","30",null,null,null,3,null,null,null,-3,50,{"$nulls":12},7]
["Sshreakza amulettje ","836 ","Sshreakza amulettje (#836)","+20 % varázslatsebzés (de max. 200), min. szint: 30",0,0,"0.15 ",1000,5000,"Nyaklánc","30",{"$nulls":27},20]
["nitmák penge ","837 ","nitmák penge (#837)","típus: vágó (mágikus, balkezes), sebzés: 4d7+3, min. fsz.: 25, +4 támadás, villámsújtást lő (nem fixen)",0,0,"0.30 ",800,4000]
["Iszonyat csápja ","838 ","Iszonyat csápja (#838)","-",0,0,"0.35 ",320,0]
["ősplazma ","839 ",{"$f":"CONCATENATE(TRIM(A834),\" (#\",TRIM(B834),\")\")","v":"ősplazma (#839)"},"+2 erő, +2 iq, +2 ügy., +2 eg., +2 szer., +50 max. ép., +50 max. vp., min. szint: 30",0,0,"0.12 ",900,4500,"Fülbevaló","30",null,null,null,2,2,2,2,2,50,null,null,50]
["Din cséphadarója ","840 ","Din cséphadarója (#840)","típus: ütő (mágikus, balkezes), sebzés: 4d7+3, min. fsz.: 25, +4 AC, +1 támadás, tűzesőt lő (nem fixen)",0,0,"0.50 ",200,5000]
["varkaudar csésze ","841 ","varkaudar csésze (#841)","hadiszerencse III varázslat, min. szint: 25",0,0,"0.20 ",850,4250]
["hótarantula köpeny ","842 ","hótarantula köpeny (#842)","+4 AC, +4 iq, +4 szer., +30 max. ép., min. szint: 30, immunitás hálóra",0,0,"0.25 ",900,0,"Köpeny","30",{"$nulls":4},4,null,null,4,30,{"$nulls":12},4]
["hókereszt ","843 ","hókereszt (#843)","+1 AC, +1 sebzés, +2 iq, +20 max. vp., min. szint: 30",0,0,"0.05 ",80,1200,"Fülbevaló","30",{"$nulls":4},2,{"$nulls":6},20,{"$nulls":9},1,null,null,1]
["teriadan karkötő ","844 ","teriadan karkötő (#844)","+4 AC, +3 sebzés, +4 támadás, -4 szer., min. szint: 30",0,0,"- ",1000,0,"Karkötő","30",{"$nulls":7},-4,{"$nulls":9},4,null,null,null,4,null,null,3]
["Mindabala pikkelye ","845 ","Mindabala pikkelye (#845)","-",0,0,"0.05 ",800,2400]
["sárhajító kesztyű ","846 ","sárhajító kesztyű (#846)","+11 AC, +2 sebzés, +2 erő, min. szint: 30",0,0,"- ",950,0,"Kesztyű","30",null,null,null,2,{"$nulls":17},11,null,null,2]
["Éjvadász karma ","847 ","Éjvadász karma (#847)","-",0,0,"0.10 ",100,300]
["ében nyílvessző ","848 ","ében nyílvessző (#848)","típus: lövedék (mágikus, szúró), sebzés: 6d6+6, +10 támadás",3,198,"- ",30,0]
["ében dobónyíl ","849 ","ében dobónyíl (#849)","típus: dobó (mágikus, szúró), sebzés: 6d6+6, +5 támadás",3,198,"0.15 ",30,300]
["Éjvadász bundája ","850 ","Éjvadász bundája (#850)","-",0,0,"0.40 ",1000,5000]
["Éjvadász ruha ","851 ","Éjvadász ruha (#851)","+30 AC, +10 ügy., +3 sebzés, +3 támadás, -5 iq, min. szint: 35",50,0,"- ",1500,0,"Páncél","35",{"$nulls":4},-5,10,{"$nulls":11},3,null,null,null,30,null,null,3]
["ősi rúnatorony ","852 ","ősi rúnatorony (#852)","másznivaló, min. mászás: 20",0,0,"- ",0,0]
["kreiton fókusz ","853 ","kreiton fókusz (#853)","+2 iq, +1 teo., +1 tau., kreiton bűvölő demezését gátolja",0,0,"0.10 ",80,160,"Nyaklánc",{"$nulls":5},2,{"$nulls":26},1,1]
["krathan szablya ","854 ","krathan szablya (#854)","típus: vágó, sebzés: 4d6+4, min. fsz.: 20, +2 AC, +20 max. ép.",0,0,"5.00 ",50,100]
["krathan pallos ","855 ","krathan pallos (#855)","típus: vágó, sebzés: 5d6+5, min. fsz.: 25, +3 AC, +30 max. ép.",0,0,"8.00 ",150,300]
["nitmák kard ","856 ","nitmák kard (#856)","típus: vágó, sebzés: 4d6+4, min. fsz.: 20, +2 AC, +20 max. ép.",0,0,"5.00 ",20,40]
["sziklazúzó ","857 ","sziklazúzó (#857)","típus: ütő, sebzés: 4d6+4, min. fsz: 20, +2 AC, +20 max. ép.",0,0,"5.00 ",250,750]
["sziklozug comb ","858 ","sziklozug comb (#858)","nem átadható",0,0,"1.00 ",4,0]
["rasáth orrkarika ","859 ","rasáth orrkarika (#859)","ékszer",0,0,"0.15 ",700,1400]
["memóriaelixír ","860 ","memóriaelixír (#860)","nem átadható",40,261,"0.05 ",45,0]
["energiamembrán ","861 ","energiamembrán (#861)","nem átadható",0,0,"0.30 ",5,0]
["vörös zselé ","862 ","vörös zselé (#862)","-",0,0,"0.30 ",5,10]
["yetifog ","863 ","yetifog (#863)","-",0,0,"0.55 ",4,8]
["rakshallion jogar ","864 ","rakshallion jogar (#864)","típus: ütő (mágikus), sebzés: 6d4+7, sivatagi vihart lő (nem fixen), nem átadható",0,0,"4.00 ",60,0]
["natharion gömb ","865 ","natharion gömb (#865)","+2 AC, +6 eg., +40 max. ép.",0,0,"0.15 ",35,0,"Nyaklánc",{"$nulls":7},6,null,40,{"$nulls":12},2]
["gólemgyűrű ","866 ","gólemgyűrű (#866)","+9 AC, +20 max. ép., nem átadható",0,0,"0.30 ",200,0,"Gyűrű",{"$nulls":9},20,{"$nulls":12},9]
["natharion talizmán ","867 ","natharion talizmán (#867)","+3 sebzés, +3 támadás, nem átadható",0,0,"0.05 ",200,0,"Nyaklánc",{"$nulls":18},3,{"$nulls":6},3]
["kyorgölő kés ","868 ","kyorgölő kés (#868)","típus: szúró (mágikus, balkezes), sebzés: 3d4+4, +5 támadás, +8 sebzés kyorgok ellen, nem átadható",0,0,"0.70 ",200,0]
["drag'kór varázskönyv ","869 ","drag'kór varázskönyv (#869)","+1 nyaklánc SLOT, nem átadható",0,0,"0.30 ",200,0]
["drag'kór lábvédő ","870 ","drag'kór lábvédő (#870)","+8 AC, +30 max. vp., nem átadható",0,0,"0.40 ",200,0,"Nadrág",{"$nulls":12},30,{"$nulls":9},8]
["drag'kór fülkarika ","871 ","drag'kór fülkarika (#871)","+2 sebzés, -2 szer., +20 max. ép., +1 fülbevaló SLOT, nem átadható",0,0,"0.10 ",200,0,"Fülbevaló",{"$nulls":8},-2,20,{"$nulls":15},2]
["drag'kór vért ","872 ","drag'kór vért (#872)","+25 AC, -3 szer., +250 max. ép., nem átadható",0,0,"0.60 ",200,0,"Páncél",{"$nulls":8},-3,250,{"$nulls":12},25]
["drag'kór bökő ","873 ","drag'kór bökő (#873)","típus: szúró, sebzés: 4d6+4, min. fsz.: 20, +2 AC, +20 max. ép.",0,0,"5.00 ",20,40]
["ünnepi övsál ","874 ","ünnepi övsál (#874)","-",0,0,"0.15 ",700,1400]
["kyorgölő penge ","875 ","kyorgölő penge (#875)","típus: vágó (balkezes), sebzés: 3d4+4, +5 támadás, +8 sebzés kyorgok ellen, nem átadhatő",0,0,"0.50 ",200,0]
["Krossan párnája ","876 ","Krossan párnája (#876)","-8 kg. megterheltség, nem átadható",0,0,"0.20 ",200,0]
["halgar kulcs ","877 ","halgar kulcs (#877)","-",0,0,"0.01 ",50,100]
["hernyópete ","878 ","hernyópete (#878)","nem átadható",0,0,"1.00 ",4,0]
["kitintüske ","879 ","kitintüske (#879)","-",0,0,"0.30 ",4,8]
["Tokan esszenciája ","880 ","Tokan esszenciája (#880)","+1 gyűrű SLOT, nem átadható",0,0,"0.05 ",500,0]
["kyorgölő buzogány ","881 ","kyorgölő buzogány (#881)","típus: ütő (balkezes), sebzés: 3D4+4, +5 támadás, +8 sebzés kyorgok ellen, nem átadható",0,0,"0.50 ",200,0]
["regeneráló öv ","882 ","regeneráló öv (#882)","+3 AC, +3 erő, +100-300 ép. gyógyulás kör elején, nem átadható",0,0,"0.10 ",80,0,"Öv",{"$nulls":4},3,{"$nulls":5},300,{"$nulls":11},3]
["ősi esszencia ","883 ","ősi esszencia (#883)","+100 fejlesztési pont, nem átadható",0,0,"0.05 ",300,0]
["káoszkulcs ","884 ","káoszkulcs (#884)","-",0,0,"0.01 ",50,0]
["tükörtorony ","885 ","tükörtorony (#885)","másznivaló, min. mászás: 23",0,0,"- ",0,0]
["pókkarmok ","886 ","pókkarmok (#886)","-",40,462,"0.65 ",300,0]
["tarantulakarom ","887 ","tarantulakarom (#887)","-",0,0,"0.10 ",20,0]
["kreiton palást ","888 ","kreiton palást (#888)","+2 AC, -5 erő, -5 szer., +3 sebzés, +80 max. ép., +80 max. vp., nem átadható",0,0,"0.60 ",250,0,"Köpeny",{"$nulls":4},-5,null,null,null,-5,80,null,null,80,{"$nulls":9},2,null,null,3]
["kreiton ősgömb ","889 ","kreiton ősgömb (#889)","+ 1 öv SLOT, nem átadható",0,0,"0.30 ",200,0]
["agvari manafókusz ","890 ","agvari manafókusz (#890)","+10 % varázslatsebzés (de max. 50)",0,0,"0.30 ",300,1500]
["ro'galhal csuklópánt ","891 ","ro'galhal csuklópánt (#891)","+2 AC, +1 támadás, -2 erő, -1 szer., +40 max. ép., min. szint: 30",0,0,"0.10 ",400,8000,"Karkötő","30",null,null,null,-2,null,null,null,-1,40,{"$nulls":8},1,null,null,null,2]
["kreiton esszencia ","892 ","kreiton esszencia (#892)","+10 fejlesztési pont, nem átadható",0,0,"0.05 ",60,0]
["tleikan kesztyű ","893 ","tleikan kesztyű (#893)","+5 AC, +5 sebzés ököllel (mágikus), +30 max. ép., plusz sebzés fegyverszakértelem nagyságától függően, nem átadható",0,0,"0.50 ",200,0,"Kesztyű",{"$nulls":9},30,{"$nulls":12},5,null,null,5]
["gyakorlónadrág ","894 ","gyakorlónadrág (#894)","+4 AC, +30 max. ép., plusz sebzés fegyverszakértelem nagyságától függően, nem átadható",0,0,"0.60 ",200,0,"Nadrág",{"$nulls":9},30,{"$nulls":12},4]
["tleikan karkötő ","895 ","tleikan karkötő (#895)","+1 támadás, +2 erő, +2 ügy., plusz sebzés fegyverszakértelem nagyságától függően, nem átadható",0,0,"0.15 ",200,0,"Karkötő",{"$nulls":4},2,null,2,{"$nulls":11},1]
["zyel katalizátor ","896 ","zyel katalizátor (#896)","felerősíti a mágikus pulzáns hatását",0,0,"0.10 ",500,1000]
["törp sisak ","897 ","törp sisak (#897)","+6 AC, +2 sebzés, +2 támadás, +20 max. ép., csak törpék, gnómok vagy árnymanók hordhatják, min. szint: 30",0,0,"0.35 ",450,1350,"Sisak","30","3,4,6",{"$nulls":7},20,{"$nulls":8},2,null,null,null,6,null,null,2]
["bűzölgő csizma ","898 ","bűzölgő csizma (#898)","+4 AC, +4 sebzés, nem átadható",0,0,"- ",500,0,"Csizma",{"$nulls":22},4,null,null,4]
["Buqqe karma ","899 ","Buqqe karma (#899)","+7 AC, +12 sebzés ököllel (mágikus), +20 max. ép., min. szint: 35",0,0,"- ",1050,0,"Kesztyű","35",{"$nulls":8},20,{"$nulls":12},7,{"$nulls":4},12]
["örökkévalóság rubinja ","900 ","örökkévalóság rubinja (#900)","+1 támadás, +30 ép. regen., +5 max. ép., +1 tárgymentő, nem átadható!",0,0,"0.01 ",300,0,"Ékszer",{"$nulls":9},5,30,{"$nulls":7},1,{"$nulls":12},1]
["kyorg vállpánt ","901 ","kyorg vállpánt (#901)","+3 AC, +2 támadás, +2 szer., csak elfek hordhatják, min. szint: 30",0,0,"- ",480,1440,"Vállvédő","30","2",{"$nulls":6},2,{"$nulls":9},2,null,null,null,3]
["kyorg tőr ","902 ","kyorg tőr (#902)","típus: szúró (mágikus, balkezes), sebzés: 4d8+2, min. fsz.: 30",0,0,"0.55 ",980,7840]
["Kabol irhája ","903 ",{"$f":"CONCATENATE(TRIM(A898),\" (#\",TRIM(B898),\")\")","v":"Kabol irhája (#903)"},"+30 AC, +3 erő, +100 max. ép., csak trollok hordhatják, min. szint: 30",0,0,"1.02 ",520,1560,"Páncél","30","5",null,null,3,{"$nulls":4},100,{"$nulls":12},30]
["Kabol gyűrűje ","904 ","Kabol gyűrűje (#904)","-2 AC, +7 eg., +70 max. ép., +1 vp. regen. képesség (FNO-s), min. szint: 35",0,0,"- ",920,0,"Gyűrű","35",{"$nulls":6},7,null,70,{"$nulls":12},-2]
["troglodita fúvócső ","905 ","troglodita fúvócső (#905)","típus: lőfegyver, min. fsz: 30, +25 támadás",0,0,"0.14 ",450,1350]
["troglodita tüske ","906 ","troglodita tüske (#906)","típus: lövedék (szúró), sebzés: 2d8",2,0,"- ",15,0]
["troglodita gyűrű ","907 ","troglodita gyűrű (#907)","-5 AC, +4 támadás (lőfegyver használatakor még +6), -30 max. ép., min. szint: 30",0,0,"- ",1000,0,"Gyűrű",{"$nulls":9},-30,{"$nulls":8},4,6,null,null,-5]
["szürke briliáns ","908 ","szürke briliáns (#908)","-",0,0,"0.20 ",30,60]
["parduanhályog ","909 ","parduanhályog (#909)","nem átadható",0,0,"- ",6,0]
["gyémántplazma ","910 ","gyémántplazma (#910)","nem átadható",0,0,"0.15 ",4,0]
["skorpiókarom ","911 ","skorpiókarom (#911)","-",0,0,"- ",4,8]
["quwarg igazgyöngy ","912 ","quwarg igazgyöngy (#912)","-",0,0,"0.02 ",4,8]
["kyorg karkötő ","913 ","kyorg karkötő (#913)","+1 AC, +3 támadás (lőfegyverre), +5 teo., +5 tau., +1 regen. képesség (FNO-s), nem átadható",0,0,"0.14 ",220,0,"Karkötő",{"$nulls":19},3,null,null,1,{"$nulls":9},5,5]
["kockagyémánt ","914 ","kockagyémánt (#914)","+50 vp. regen., nem átadható",0,0,"0.40 ",600,0]
["enkala deréköv ","915 ","enkala deréköv (#915)","nem átadható",0,0,"- ",12,0]
["drachmor kristály ","916 ","drachmor kristály (#916)","+100 ép. regen., +100 vp. regen., esszenciavédelem II varázslat, nem átadható",0,0,"0.33 ",1000,0]
["kyorg hosszúpenge ","917 ","kyorg hosszúpenge (#917)","típus: vágó, sebzés: 5D6+8, min. fsz.: 25, +3 AC, +25 max. ép.",0,0,"6.00 ",30,60]
["Teremtő koronája ","918 ","Teremtő koronája (#918)","+1 támadás, -3 erő, +3 szer., +30 max. ép., +4 sebzés árnytündérek ellen",0,0,"3.00 ",366,0,"Sisak",{"$nulls":4},-3,null,null,null,3,30,{"$nulls":8},1]
["regeneráló totem ","919 ","regeneráló totem (#919)","+1 regen. képesség (FNO-s), nem átadható",0,0,"1.50 ",300,0]
["Bropxat vállvédője ","920 ","Bropxat vállvédője (#920)","+1 erő, +2 ügy., +3 sebzés árnytündérek ellen, immunitás kritikus ütés ellen, nem átadható",0,0,"3.20 ",500,0,"Vállvédő",{"$nulls":4},1,null,2]
["Alkotó kalapács ","921 ","Alkotó kalapács (#921)","típus: ütő, sebzés: 8d10, -5 AC, -5 támadás, nem átadható",0,0,"1.50 ",300,0]
["nothar cserje ","922 ","nothar cserje (#922)","-",0,0,"- ",0,0]
["nothar bogyó ","923 ","nothar bogyó (#923)","-",3,0,"0.20 ",4,8]
["kreommat-liliom ","924 ","kreommat-liliom (#924)","-",0,0,"- ",0,0]
["kreommat szirom ","925 ","kreommat szirom (#925)","-",5,0,"0.20 ",4,8]
["kreommat varázsital ","926 ","kreommat varázsital (#926)","+3 sebzés kör végéig",10,159,"0.02 ",20,0]
["artikula bélhólyag ","927 ","artikula bélhólyag (#927)","-",0,0,"0.08 ",4,8]
["csillagbozótos ","928 ","csillagbozótos (#928)","-",0,0,"- ",0,0]
["csillagbot ","929 ","csillagbot (#929)","nem átadható",3,0,"0.20 ",4,0]
["bo'adhun nyílpuska ","930 ","bo'adhun nyílpuska (#930)","típus: lőfegyver",50,257,"1.00 ",35,0]
["csillaglövedék ","931 ","csillaglövedék (#931)","típus: lövedék (mágikus, ütő), sebzés: 4d3+12, +6 támadás, nem átadható",2,92,"0.04 ",10,0]
["cápazsír ","932 ","cápazsír (#932)","-",0,0,"0.18 ",4,8]
["pézsmatök ","933 ","pézsmatök (#933)","-",0,0,"- ",0,0]
["pézsmatökmag ","934 ","pézsmatökmag (#934)","nem átadható",3,0,"0.02 ",0,0]
["raaba-fa ","935 ","raaba-fa (#935)","-",0,0,"- ",0,0]
["raaba-gumó ","936 ","raaba-gumó (#936)","-",5,0,"0.02 ",4,8]
["raaba-főzet ","937 ","raaba-főzet (#937)","-5 sebződés",10,168,"0.02 ",20,40]
["bahrot bőr ","938 ","bahrot bőr (#938)","-",0,0,"0.60 ",5,10]
["hajító csillag ","939 ","hajító csillag (#939)","típus: dobó (mágikus, szúró), sebzés: 3d4+11, +4 támadás, nem átadható",4,171,"0.12 ",30,0]
["rakshallion háló ","940 ","rakshallion háló (#940)","-",40,207,"- ",30,0]
["keselyűmirigy ","941 ","keselyűmirigy (#941)","-",0,0,"0.18 ",5,10]
["kulcsszilánk ","942 ","kulcsszilánk (#942)","-",0,0,"0.05 ",4,0]
["brill azttar kulcs ","943 ","brill azttar kulcs (#943)","-",8,276,"0.15 ",50,0]
["ében talizmán ","944 ","ében talizmán (#944)","+3 iq, +10 teo., +10 tau., +40 max. vp., +10 % varázslatsebzés (de max. 50), csak gonoszok használhatják, min. szint: 35",0,0,"0.10 ",990,9900,"Nyaklánc","35",null,"3",null,null,3,{"$nulls":6},40,{"$nulls":15},10,null,null,null,10,10]
["dalebgad kristálylándzsa ","945 ","dalebgad kristálylándzsa (#945)","típus: szúró (mágikus), sebzés: 7d6+4, min. fsz.: 35, +3 támadás, -3 szer., tűzgolyót lő (fixen), nem átadható",0,0,"- ",600,0]
["tl'urlang méreg ","946 ","tl'urlang méreg (#946)","+5 sebzés éjfattyak ellen kör végéig",0,0,"- ",99,396]
["tl'urlang termelő ","947 ","tl'urlang termelő (#947)","-",0,0,"- ",1100,0]
["sziréngyűrű ","948 ","sziréngyűrű (#948)","+30 max. ép., +30 max. vp, +5 teológia, +5 mentődobás mentális varázslatokra, -10 mentődobás az ellenfélnek mentális támadás ellen, csak Elenios hívei hordhatják, min. szint: 30",0,0,"- ",510,2040,"Gyűrű","30",null,null,"4",{"$nulls":5},30,null,null,30,{"$nulls":19},5]
["Ma'yia furulyája ","949 ","Ma'yia furulyája (#949)","-",0,0,"0.25 ",1020,10200]
["Daramoula pálcája ","950 ","Daramoula pálcája (#950)","típus: ütő (mágikus), sebzés: 5d8, min. fsz.: 35, nekromanta csókját lő (fixen), +20 mentődobás halál ellen",0,0,"0.60 ",600,2400]
["vámpírölő ","951 ","vámpírölő (#951)","típus: szúró (mágikus), sebzés: 6d10, min. fsz: 35, +6 támadás, nekromanta csókját lő (fixen), +8 sebzés élőholtak ellen, immunitás szintszívásra",0,0,"0.60 ",1400,0]
["Salamon esszenciája ","952 ","Salamon esszenciája (#952)","plusz ép. regen.",0,0,"0.20 ",470,1880]
["Ssszissszenő bőre ","953 ","Ssszissszenő bőre (#953)","-",0,0,"0.50 ",450,0]
["Ssszissszenő csizma ","954 ","Ssszissszenő csizma (#954)","+10 AC, +30 max. ép., +2 csapdaészlelés, min. szint: 30",30,0,"0.40 ",450,0,"Csizma","30",{"$nulls":8},30,{"$nulls":12},10,{"$nulls":18},2]
["kígyópenge ","955 ","kígyópenge (#955)","típus: vágó (mágikus), sebzés: 8d8+2, min. fsz: 35, +4 támadás, méregfelő II-t lő (fixen), immúnitást ad a lények által okozott sebző méregre",0,0,"- ",920,0]
["Xanathal karkötője ","956 ","Xanathal karkötője (#956)","+30 vp. regen., +10% varázslatsebzés (de max. 50), min. szint: 30",0,0,"0.30 ",550,2200,"Karkötő","30",{"$nulls":12},30,{"$nulls":14},10]
["sötét kasza ","957 ","sötét kasza (#957)","típus: vágó (mágikus), sebzés: 6D6+8, -1 papi hit/kör, nem átadható",0,0,"10.00 ",100,0]
["éjkristály ","958 ","éjkristály (#958)","-",0,0,"0.13 ",30,60]
["tlopedmuk paróka ","959 ","tlopedmuk paróka (#959)","+1 iq (permanens), +20 max. ép. (permanens), nem átadható",0,0,"0.30 ",100,0]
["Rettegés Köpenye ","960 ","Rettegés Köpenye (#960)","+8 AC, -4 eg., -15 mentődobás halál ellen ellenfelednek, 22%-os vámpirizáció, 220+ -on 10% esély +1 fejlesztési pont szerzésére szörnyek leölésekor, nem átadható",0,0,"2.00 ",600,0,"Köpeny",{"$nulls":7},-4,{"$nulls":14},8]
["Holtak Könyve ","961 ","Holtak Könyve (#961)","+1 szer. (permanens), +30 max. vp. (permanens), nem átadható",0,0,"0.30 ",500,0]
["átkozott karkötő ","962 ","átkozott karkötő (#962)","+5 AC, +5 erő, +5 szer., +50 max. ép., nem átadható",0,0,"0.60 ",100,0,"Karkötő",{"$nulls":4},5,null,null,null,5,50,{"$nulls":8},-15,null,null,null,5]
["tleikan törvénykönyv ","963 ","tleikan törvénykönyv (#963)","+1 erő (permanens), +1 eg. (permanens), +20 max. ép. (permanens), nem átadható",0,0,"0.30 ",500,0]
["tleikan nyárs ","964 ","tleikan nyárs (#964)","típus: szúró, sebzés: 7d10, min. fsz.: 30, jégcsóvát lő (fixen), nem átadható",0,0,"0.50 ",200,0]
["ytterium kőzet ","965 ","ytterium kőzet (#965)","-",0,0,"0.05 ",30,0]
["drakolder csatamező ","966 ","drakolder csatamező (#966)","-",0,0,"- ",0,0]
["dramoan kő ","967 ",{"$f":"CONCATENATE(TRIM(A962),\" (#\",TRIM(B962),\")\")","v":"dramoan kő (#967)"},"-",0,0,"0.10 ",30,150]
["dramoan talizmán ","968 ","dramoan talizmán (#968)","-",18,405,"0.15 ",100,0]
["drakolder gyűrű ","969 ","drakolder gyűrű (#969)","+3 iq, +3 szer., +50 vp. regen., +50 max. vp., +5 teo., +5 tau., min. szint: 35",0,0,"0.05 ",1000,15000,"Gyűrű","35",{"$nulls":4},3,null,null,3,null,null,null,50,50,{"$nulls":18},5,5]
["ytterium katalizátor ","970 ","ytterium katalizátor (#970)","nem átadható",0,0,"0.20 ",50,0]
["angyali sisak ","971 ","angyali sisak (#971)","+12 AC, +5 erő, +80 max. ép., csak jók használhatják, min. szint: 35",0,0,"0.30 ",700,14000,"Sisak","35",null,"1",null,5,{"$nulls":4},80,{"$nulls":12},12]
["drakolder kesztyű ","972 ","drakolder kesztyű (#972)","+2 AC, +3 zárnyitás, +5 csapdaészlelés, -1 TVP/ref. pont a mozgás labirintusban, nem átadható",0,0,"0.15 ",1600,0,"Kesztyű",{"$nulls":22},2,{"$nulls":18},5,null,3]
["Olimpikon ","973 ","Olimpikon (#973)","típus: szúró (mágikus), sebzés: 6d10, min. fsz.: 40, immunitást ad puha ütésre, +10 sebzés kalandozók ellen",0,0,"5.00 ",1000,20000]
["Olimposz ","974 ","Olimposz (#974)","típus: ütő (mágikus), sebzés: 5d12+3, min. fsz.: 40, immunitást ad puha ütésre, +10 sebzés kalandozók ellen",0,0,"5.00 ",1000,20000]
["tapasztalatkő ","975 ","tapasztalatkő (#975)","nem átadható",0,0,"0.06 ",500,0]
["barna immunitáskő ","976 ","barna immunitáskő (#976)","immunitást ad a puha ütés varázslatra, nem átadható",0,0,"0.06 ",200,0]
["kék immunitáskő ","977 ","kék immunitáskő (#977)","immunitást ad a villám alapú varázslatokra, nem átadható",0,0,"0.06 ",200,0]
["vörös immunitáskő ","978 ","vörös immunitáskő (#978)","immunitást ad a tűz alapú varázslatokra, nem átadható",0,0,"0.06 ",200,0]
["sáfránykő ","979 ","sáfránykő (#979)","+100 TVP, nem átadható",0,0,"0.06 ",300,0]
["dalebgad kristálykulcs ","980 ","dalebgad kristálykulcs (#980)","nem átadható",0,0,"0.10 ",500,0]
["dramoan főzet ","981 ","dramoan főzet (#981)","nem átadható",15,158,"0.02 ",5,0]
["mahagóni vért ","982 ","mahagóni vért (#982)","zarknod piramisában embereknek készül",50,0,"4.00 ",5000,0,"Páncél",null,"1",{"$nulls":5},5,5,100,{"$nulls":8},5,null,null,null,45]
["mahagóni korona ","983 ","mahagóni korona (#983)","zarknod piramisában embereknek készül",50,0,"1.00 ",5000,0,"Sisak",null,"1",null,null,1,1,1,1,1,90,{"$nulls":12},12]
["mahagóni pajzs ","984 ","mahagóni pajzs (#984)","zarknod piramisában embereknek készül",50,0,"2.00 ",5000,0,"Pajzs",null,"1",{"$nulls":7},120,{"$nulls":12},12,null,5,25]
["mahagóni kesztyű ","985 ","mahagóni kesztyű (#985)","zarknod piramisában embereknek készül",50,0,"0.30 ",5000,0,"Kesztyű",null,"1",{"$nulls":7},50,{"$nulls":12},10,null,null,5,null,7]
["mahagóni csizma ","986 ","mahagóni csizma (#986)","zarknod piramisában embereknek készül",50,0,"1.00 ",5000,0,"Csizma",null,"1",null,null,2,2,2,2,2,{"$nulls":13},10]
["mahagóni köpeny ","987 ","mahagóni köpeny (#987)","zarknod piramisában embereknek készül",50,0,"1.90 ",5000,0,"Köpeny",null,"1",{"$nulls":6},-3,{"$nulls":11},1,null,-10]
["mahagóni vállvédő ","988 ","mahagóni vállvédő (#988)","zarknod piramisában embereknek készül",50,0,"0.50 ",5000,0,"Vállvédő",null,"1",{"$nulls":7},40,{"$nulls":12},4]
["mahagóni karvédő ","989 ","mahagóni karvédő (#989)","zarknod piramisában embereknek készül",50,0,"0.30 ",5000,0,"Karkötő",null,"1",{"$nulls":7},70,{"$nulls":8},2,null,null,null,7]
["mahagóni lábszárvédő ","990 ","mahagóni lábszárvédő (#990)","zarknod piramisában embereknek készül",50,0,"1.50 ",5000,0,"Nadrág",null,"1",{"$nulls":7},180,{"$nulls":12},8,{"$nulls":8},1]
["ezüsttölgy mellény ","991 ","ezüsttölgy mellény (#991)","zarknod piramisában elfeknek készül",50,0,"- ",5000,0,"Páncél",null,"2",{"$nulls":4},5,null,5,100,{"$nulls":8},5,null,null,null,47]
["ezüsttölgy sapka ","992 ","ezüsttölgy sapka (#992)","zarknod piramisában elfeknek készül",50,0,"- ",5000,0,"Sisak",null,"2",null,null,2,2,2,2,2,80,{"$nulls":12},14]
["ezüsttölgy pajzs ","993 ","ezüsttölgy pajzs (#993)","zarknod piramisában elfeknek készül",50,0,"- ",5000,0,"Pajzs",null,"2",{"$nulls":7},120,{"$nulls":12},20,null,6,24]
["ezüsttölgy kesztyű ","994 ","ezüsttölgy kesztyű (#994)","zarknod piramisában elfeknek készül",50,0,"- ",5000,0,"Kesztyű",null,"2",{"$nulls":7},40,{"$nulls":12},12,null,null,5,null,7]
["ezüsttölgy surranó ","995 ","ezüsttölgy surranó (#995)","zarknod piramisában elfeknek készül",50,0,"- ",5000,0,"Csizma",null,"2",null,null,2,2,2,2,2,{"$nulls":13},10]
["ezüsttölgy köpeny ","996 ","ezüsttölgy köpeny (#996)","zarknod piramisában elfeknek készül",50,0,"- ",5000,0,"Köpeny",null,"2",{"$nulls":6},-3,{"$nulls":11},1,null,-10]
["ezüsttölgy vállvédő ","997 ","ezüsttölgy vállvédő (#997)","zarknod piramisában elfeknek készül",50,0,"- ",5000,0,"Vállvédő",null,"2",{"$nulls":7},35,{"$nulls":12},5]
["ezüsttölgy karkötő ","998 ","ezüsttölgy karkötő (#998)","zarknod piramisában elfeknek készül",50,0,"- ",5000,0,"Karkötő",null,"2",{"$nulls":7},80,{"$nulls":8},1,null,null,null,8]
["ezüsttölgy nadrág ","999 ","ezüsttölgy nadrág (#999)","zarknod piramisában elfeknek készül",50,0,"- ",5000,0,"Nadrág",null,"2",{"$nulls":7},190,{"$nulls":12},10,{"$nulls":8},1]
["drakolit páncél ","1000 ","drakolit páncél (#1000)","zarknod piramisában törpéknek készül",50,0,"- ",5000,0,"Páncél",null,"3",{"$nulls":5},7,4,120,{"$nulls":8},5,null,null,null,42]
["drakolit sisak ","1001 ","drakolit sisak (#1001)","zarknod piramisában törpéknek készül",50,0,"- ",5000,0,"Sisak",null,"3",null,null,1,1,1,1,1,110,{"$nulls":12},10]
["drakolit pajzs ","1002 ","drakolit pajzs (#1002)","zarknod piramisában törpéknek készül",50,0,"- ",5000,0,"Pajzs",null,"3",{"$nulls":7},150,{"$nulls":12},12,null,3,27]
["drakolit kesztyű ","1003 ","drakolit kesztyű (#1003)","zarknod piramisában törpéknek készül",50,0,"- ",5000,0,"Kesztyű",null,"3",{"$nulls":7},55,{"$nulls":12},8,null,null,5,null,7]
["drakolit csizma ","1004 ","drakolit csizma (#1004)","zarknod piramisában törpéknek készül",50,0,"- ",5000,0,"Csizma",null,"3",null,null,2,2,2,2,2,{"$nulls":13},10]
["drakolit köpeny ","1005 ","drakolit köpeny (#1005)","zarknod piramisában törpéknek készül",50,0,"- ",5000,0,"Köpeny",null,"3",{"$nulls":6},-3,{"$nulls":11},1,null,-10]
["drakolit vállvédő ","1006 ","drakolit vállvédő (#1006)","zarknod piramisában törpéknek készül",50,0,"- ",5000,0,"Vállvédő",null,"3",{"$nulls":7},45,{"$nulls":12},2]
["drakolit karvédő ","1007 ","drakolit karvédő (#1007)","zarknod piramisában törpéknek készül",50,0,"- ",5000,0,"Karkötő",null,"3",{"$nulls":7},90,{"$nulls":8},2,null,null,null,5]
["drakolit lábszárvédő ","1008 ","drakolit lábszárvédő (#1008)","zarknod piramisában törpéknek készül",50,0,"- ",5000,0,"Nadrág",null,"3",{"$nulls":7},200,{"$nulls":12},7,{"$nulls":8},1]
["mordaith mellény ","1009 ","mordaith mellény (#1009)","zarknod piramisában árnymanóknak készül",50,0,"4.00 ",5000,0,"Páncél",null,"4",{"$nulls":4},7,null,7,90,{"$nulls":8},3,null,null,null,47]
["mordaith álarc ","1010 ","mordaith álarc (#1010)","zarknod piramisában árnymanóknak készül",50,0,"1.00 ",5000,0,"Sisak",null,"4",null,null,1,1,1,1,1,90,{"$nulls":12},13]
["mordaith pajzs ","1011 ","mordaith pajzs (#1011)","zarknod piramisában árnymanóknak készül",50,0,"2.00 ",5000,0,"Pajzs",null,"4",{"$nulls":7},110,{"$nulls":12},20,null,7,23]
["mordaith kesztyű ","1012 ","mordaith kesztyű (#1012)","zarknod piramisában árnymanóknak készül",50,0,"0.30 ",5000,0,"Kesztyű",null,"4",{"$nulls":7},50,{"$nulls":12},12,null,null,5,null,7]
["mordaith cipő ","1013 ","mordaith cipő (#1013)","zarknod piramisában árnymanóknak készül",50,0,"1.00 ",5000,0,"Csizma",null,"4",null,null,2,2,2,2,2,{"$nulls":13},10]
["mordaith köpeny ","1014 ","mordaith köpeny (#1014)","zarknod piramisában árnymanóknak készül",50,0,"1.90 ",5000,0,"Köpeny",null,"4",{"$nulls":6},-3,{"$nulls":11},1,null,-10]
["mordaith vállvédő ","1015 ","mordaith vállvédő (#1015)","zarknod piramisában árnymanóknak készül",50,0,"0.50 ",5000,0,"Vállvédő",null,"4",{"$nulls":7},30,{"$nulls":12},6]
["mordaith karkötő ","1016 ","mordaith karkötő (#1016)","zarknod piramisában árnymanóknak készül",50,0,"0.30 ",5000,0,"Karkötő",null,"4",{"$nulls":7},80,{"$nulls":8},3,null,null,null,5]
["mordaith nadrág ","1017 ","mordaith nadrág (#1017)","zarknod piramisában árnymanóknak készül",50,0,"1.50 ",5000,0,"Nadrág",null,"4",{"$nulls":7},170,{"$nulls":12},12,{"$nulls":8},2]
["uglaok páncél ","1018 ","uglaok páncél (#1018)","zarknod piramisában trolloknak készül",50,0,"- ",5000,0,"Páncél",null,"5",null,null,5,null,null,null,4,130,{"$nulls":8},4,null,null,null,40]
["uglaok harci maszk ","1019 ","uglaok harci maszk (#1019)","zarknod piramisában trolloknak készül",50,0,"- ",5000,0,"Sisak",null,"5",null,null,1,-1,1,1,1,110,{"$nulls":12},10]
["uglaok nehéz pajzs ","1020 ","uglaok nehéz pajzs (#1020)","zarknod piramisában trolloknak készül",50,0,"- ",5000,0,"Pajzs",null,"5",{"$nulls":7},160,{"$nulls":12},11,null,2,27]
["uglaok lánckesztyű ","1021 ","uglaok lánckesztyű (#1021)","zarknod piramisában trolloknak készül",50,0,"- ",5000,0,"Kesztyű",null,"5",{"$nulls":7},60,{"$nulls":12},8,null,null,5,null,7]
["uglaok szöges csizma ","1022 ","uglaok szöges csizma (#1022)","zarknod piramisában trolloknak készül",50,0,"- ",5000,0,"Csizma",null,"5",null,null,2,2,2,2,2,{"$nulls":13},10]
["uglaok láncköpeny ","1023 ","uglaok láncköpeny (#1023)","zarknod piramisában trolloknak készül",50,0,"- ",5000,0,"Köpeny",null,"5",{"$nulls":6},-3,{"$nulls":11},1,null,-10]
["uglaok vállvédő ","1024 ","uglaok vállvédő (#1024)","zarknod piramisában trolloknak készül",50,0,"- ",5000,0,"Vállvédő",null,"5",{"$nulls":7},50,{"$nulls":12},2]
["uglaok karvédő ","1025 ","uglaok karvédő (#1025)","zarknod piramisában trolloknak készül",50,0,"- ",5000,0,"Karkötő",null,"5",{"$nulls":7},70,{"$nulls":8},3,null,null,null,6]
["uglaok lábszárvédő ","1026 ","uglaok lábszárvédő (#1026)","zarknod piramisában trolloknak készül",50,0,"- ",5000,0,"Nadrág",null,"5",{"$nulls":7},220,{"$nulls":12},8,{"$nulls":8},1]
["moa védőmellény ","1027 ","moa védőmellény (#1027)","zarknod piramisában gnómoknak készül",50,0,"4.00 ",5000,0,"Páncél",null,"6",null,null,null,7,null,null,5,100,null,null,30,{"$nulls":5},5,null,null,null,46]
["moa sisak ","1028 ","moa sisak (#1028)","zarknod piramisában gnómoknak készül",50,0,"1.00 ",5000,0,"Sisak",null,"6",null,null,2,2,2,2,2,90,{"$nulls":12},10]
["moa hárítópajzs ","1029 ","moa hárítópajzs (#1029)","zarknod piramisában gnómoknak készül",50,0,"4.00 ",5000,0,"Pajzs",null,"6",{"$nulls":7},100,{"$nulls":12},23,null,6,23]
["moa védőkesztyű ","1030 ","moa védőkesztyű (#1030)","zarknod piramisában gnómoknak készül",50,0,"3.00 ",5000,0,"Kesztyű",null,"6",{"$nulls":7},40,{"$nulls":12},10,null,null,5,null,7]
["moa cipő ","1031 ",{"$f":"CONCATENATE(TRIM(A1026),\" (#\",TRIM(B1026),\")\")","v":"moa cipő (#1031)"},"zarknod piramisában gnómoknak készül",50,0,"1.00 ",5000,0,"Csizma",null,"6",null,null,2,2,2,2,2,{"$nulls":13},10]
["moa köntös ","1032 ","moa köntös (#1032)","zarknod piramisában gnómoknak készül",50,0,"1.90 ",5000,0,"Köpeny",null,"6",{"$nulls":6},-3,{"$nulls":11},1,null,-10]
["moa vállap ","1033 ","moa vállap (#1033)","zarknod piramisában gnómoknak készül",50,0,"0.50 ",5000,0,"Vállvédő",null,"6",{"$nulls":7},40,{"$nulls":12},4]
["moa karkötő ","1034 ","moa karkötő (#1034)","zarknod piramisában gnómoknak készül",50,0,"- ",5000,0,"Karkötő",null,"6",{"$nulls":7},90,{"$nulls":8},1,null,null,null,8]
["moa nadrág ","1035 ","moa nadrág (#1035)","zarknod piramisában gnómoknak készül",50,0,"1.50 ",5000,0,"Nadrág",null,"6",{"$nulls":7},170,{"$nulls":12},10,{"$nulls":8},2]
["arany sárkányvért ","1036 ","arany sárkányvért (#1036)","zarknod piramisában alakváltóknak készül",50,0,"4.00 ",5000,0,"Páncél",null,"7",null,null,2,null,2,2,3,110,{"$nulls":8},5,null,null,null,44]
["arany sárkánysisak ","1037 ","arany sárkánysisak (#1037)","zarknod piramisában alakváltóknak készül",50,0,"1.00 ",5000,0,"Sisak",null,"7",null,null,2,2,2,2,2,70,{"$nulls":12},11]
["arany sárkánypajzs ","1038 ","arany sárkánypajzs (#1038)","zarknod piramisában alakváltóknak készül",50,0,"4.00 ",5000,0,"Pajzs",null,"7",{"$nulls":7},150,{"$nulls":12},14,null,6,24]
["arany sárkánykesztyű ","1039 ","arany sárkánykesztyű (#1039)","zarknod piramisában alakváltóknak készül",50,0,"0.30 ",5000,0,"Kesztyű",null,"7",{"$nulls":7},30,{"$nulls":12},9,null,null,5,null,8]
["arany sárkánycsizma ","1040 ","arany sárkánycsizma (#1040)","zarknod piramisában alakváltóknak készül",50,0,"1.00 ",5000,0,"Csizma",null,"7",null,null,2,2,2,2,2,{"$nulls":13},10]
["arany sárkányköpeny ","1041 ","arany sárkányköpeny (#1041)","zarknod piramisában alakváltóknak készül",50,0,"1.90 ",5000,0,"Köpeny",null,"7",{"$nulls":6},-3,{"$nulls":11},1,null,-10]
["arany sárkányvállap ","1042 ","arany sárkányvállap (#1042)","zarknod piramisában alakváltóknak készül",50,0,"0.50 ",5000,0,"Vállvédő",null,"7",{"$nulls":7},35,{"$nulls":12},5]
["arany sárkánykarperec ","1043 ","arany sárkánykarperec (#1043)","zarknod piramisában alakváltóknak készül",50,0,"0.30 ",5000,0,"Karkötő",null,"7",{"$nulls":7},60,{"$nulls":8},2,null,null,null,8]
["arany sárkánynadrág ","1044 ","arany sárkánynadrág (#1044)","zarknod piramisában alakváltóknak készül",50,0,"1.50 ",5000,0,"Nadrág",null,"7",{"$nulls":7},210,{"$nulls":12},7,{"$nulls":8},1]
["yiang mellény ","1045 ","yiang mellény (#1045)","zarknod piramisában kobuderáknak készül",50,0,"4.00 ",5000,0,"Páncél",null,"8",null,null,3,null,3,null,3,100,{"$nulls":8},5,null,null,null,45]
["yiang sapka ","1046 ","yiang sapka (#1046)","zarknod piramisában kobuderáknak készül",50,0,"1.00 ",5000,0,"Sisak",null,"8",null,null,1,1,1,1,1,90,{"$nulls":12},13,{"$nulls":19},1]
["yiang hárítópajzs ","1047 ","yiang hárítópajzs (#1047)","zarknod piramisában kobuderáknak készül",50,0,"2.00 ",5000,0,"Pajzs",null,"8",{"$nulls":7},140,{"$nulls":12},16,null,6,24,{"$nulls":18},1]
["yiang kesztyű ","1048 ","yiang kesztyű (#1048)","zarknod piramisában kobuderáknak készül",50,0,"0.30 ",5000,0,"Kesztyű",null,"8",{"$nulls":7},20,{"$nulls":12},7,null,null,5,null,9]
["yiang surranó ","1049 ","yiang surranó (#1049)","zarknod piramisában kobuderáknak készül",50,0,"1.00 ",5000,0,"Csizma",null,"8",null,null,2,2,2,2,2,{"$nulls":13},10]
["yiang köpeny ","1050 ","yiang köpeny (#1050)","zarknod piramisában kobuderáknak készül",50,0,"1.90 ",5000,0,"Köpeny",null,"8",{"$nulls":6},-3,{"$nulls":11},1,null,-10]
["yiang vállvédő ","1051 ","yiang vállvédő (#1051)","zarknod piramisában kobuderáknak készül",50,0,"0.50 ",5000,0,"Vállvédő",null,"8",{"$nulls":7},30,{"$nulls":12},6]
["yiang csuklópánt ","1052 ","yiang csuklópánt (#1052)","zarknod piramisában kobuderáknak készül",50,0,"0.30 ",5000,0,"Karkötő",null,"8",{"$nulls":7},70,{"$nulls":8},2,null,null,null,8]
["yiang nadrág ","1053 ","yiang nadrág (#1053)","zarknod piramisában kobuderáknak készül",50,0,"1.50 ",5000,0,"Nadrág",null,"8",{"$nulls":7},200,{"$nulls":12},9,{"$nulls":8},2]
["mélybíbor páncél ","1054 ","mélybíbor páncél (#1054)","zarknod piramisában mutánsoknak készül",50,0,"- ",5000,0,"Páncél",null,"9",null,null,null,5,null,5,null,120,{"$nulls":8},6,null,null,null,43]
["mélybíbor álarc ","1055 ","mélybíbor álarc (#1055)","zarknod piramisában mutánsoknak készül",50,0,"1.00 ",5000,0,"Sisak",null,"9",null,null,1,1,1,1,1,80,{"$nulls":5},50,{"$nulls":6},14]
["mélybíbor pajzs ","1056 ","mélybíbor pajzs (#1056)","zarknod piramisában mutánsoknak készül",50,0,"2.00 ",5000,0,"Pajzs",null,"9",{"$nulls":7},160,{"$nulls":12},15,null,4,24]
["mélybíbor kesztyű ","1057 ","mélybíbor kesztyű (#1057)","zarknod piramisában mutánsoknak készül",50,0,"0.30 ",5000,0,"Kesztyű",null,"9",{"$nulls":7},40,{"$nulls":12},9,null,null,5,null,7]
["mélybíbor csizma ","1058 ","mélybíbor csizma (#1058)","zarknod piramisában mutánsoknak készül",50,0,"- ",5000,0,"Csizma",null,"9",null,null,2,2,2,2,2,{"$nulls":13},10]
["mélybíbor köpeny ","1059 ","mélybíbor köpeny (#1059)","zarknod piramisában mutánsoknak készül",50,0,"1.90 ",5000,0,"Köpeny",null,"9",{"$nulls":6},-3,{"$nulls":11},1,null,-10]
["mélybíbor vállpánt ","1060 ","mélybíbor vállpánt (#1060)","zarknod piramisában mutánsoknak készül",50,0,"0.50 ",5000,0,"Vállvédő",null,"9",{"$nulls":7},40,{"$nulls":12},4]
["mélybíbor karvédő ","1061 ","mélybíbor karvédő (#1061)","zarknod piramisában mutánsoknak készül",50,0,"- ",5000,0,"Karkötő",null,"9",{"$nulls":7},70,{"$nulls":8},2,null,null,null,7]
["mélybíbor lábszárvédő ","1062 ","mélybíbor lábszárvédő (#1062)","zarknod piramisában mutánsoknak készül",50,0,"1.50 ",5000,0,"Nadrág",null,"9",{"$nulls":7},200,{"$nulls":12},8,{"$nulls":8},1]
["Síkok Kulcsa ","1063 ","Síkok Kulcsa (#1063)","nem átadható",50,0,"- ",5000,0]
["tl'urlang konverter ","1064 ","tl'urlang konverter (#1064)","éjfatty esszencia átalakításhoz, nem átadható",50,726,"- ",1000,0]
["örökkévalóság gyémántja ","1065 ","örökkévalóság gyémántja (#1065)","+2 támadás, +30 ép. regen., +10 max. ép., +2 tárgymentő, nem átadható",0,0,"0.01 ",400,0,"Ékszer",{"$nulls":9},10,30,{"$nulls":7},2,{"$nulls":12},2]
["párducbőr ","1066 ","párducbőr (#1066)","-",0,0,"1.50 ",10,20]
["jegesmedve bunda ","1067 ","jegesmedve bunda (#1067)","-",0,0,"2.00 ",10,20]
["bundás kabát ","1068 ","bundás kabát (#1068)","véd a hóvihar negatív hatásától, nem átadható",30,216,"4.50 ",45,0,"Köpeny"]
["rozmárfog ","1069 ","rozmárfog (#1069)","-",0,0,"0.60 ",3,6]
["yetiszív ","1070 ","yetiszív (#1070)","térutazó szerkezethez",0,0,"0.90 ",8,16]
["féregbél ","1071 ","féregbél (#1071)","térutazó szerkezethez",0,0,"1.00 ",4,8]
["ulkor gyöngy ","1072 ","ulkor gyöngy (#1072)","térutazó szerkezethez",0,0,"0.30 ",15,30]
["párducszem ","1073 ","párducszem (#1073)","-",0,0,"0.10 ",2,4]
["lidércesszencia ","1074 ","lidércesszencia (#1074)","-",0,0,"0.10 ",7,14]
["cetuszony ","1075 ","cetuszony (#1075)","-",0,0,"2.00 ",10,20]
["mágusszelence ","1076 ","mágusszelence (#1076)","-",0,0,"0.10 ",25,50]
["hókutya nyakörv ","1077 ","hókutya nyakörv (#1077)","-",0,0,"0.40 ",10,20]
["mammutbőr ","1078 ","mammutbőr (#1078)","-",0,0,"6.00 ",6,12]
["jégtörő korong ","1079 ","jégtörő korong (#1079)","-",0,0,"1.00 ",8,16]
["szélgömb ","1080 ","szélgömb (#1080)","-",0,0,"0.15 ",30,60]
["behemótköröm ","1081 ","behemótköröm (#1081)","-",0,0,"- ",10,20]
["hósárkány szív ","1082 ","hósárkány szív (#1082)","-",0,0,"3.50 ",20,40]
["eszkimó sátor ","1083 ","eszkimó sátor (#1083)","-",0,0,"- ",0,0]
["Természet Szentélye ","1084 ","Természet Szentélye (#1084)","-",0,0,"- ",0,0]
["térutazó szerkezet ","1085 ","térutazó szerkezet (#1085)","nem átadható",30,0,"- ",100,0]
["jégöltözet ","1086 ","jégöltözet (#1086)","nem átadható",50,0,"- ",100,0]
["jégisten amulett ","1087 ","jégisten amulett (#1087)","+3 AC, +50 max. ép., +8 mentődobás hideg ellen, min. szint: 30",0,0,"0.10 ",1000,10000,"Nyaklánc","30",{"$nulls":8},50,{"$nulls":12},3]
["hósárkánybőr csizma ","1088 ","hósárkánybőr csizma (#1088)","+13 AC, +5 eg., +30 max. ép., +4 mentődobás hideg ellen, min. szint: 25",0,0,"0.50 ",700,10500,"Csizma","25",{"$nulls":6},5,null,30,{"$nulls":12},13]
["ulkor kötény ","1089 ","ulkor kötény (#1089)","+2 AC, +2 erő, -1 iq",0,0,"0.40 ",200,400,"Nadrág",{"$nulls":4},2,-1,{"$nulls":16},2]
["hibátlan cetbőr ","1090 ","hibátlan cetbőr (#1090)","-",0,0,"- ",300,600]
["cetbőr vállpánt ","1091 ","cetbőr vállpánt (#1091)","+2 AC, +1 támadás, +2 mentődobás hideg ellen",10,468,"1.00 ",350,700,"Vállvédő",{"$nulls":18},1,null,null,null,2]
["királyi borosüveg ","1092 ","királyi borosüveg (#1092)","nem átadható",0,0,"- ",50,0]
["tolvaj klánjelvény ","1093 ","tolvaj klánjelvény (#1093)","-3 AC, +100 max. ép., nem átadható",0,0,"0.10 ",95,0,"Nyaklánc",{"$nulls":9},100,{"$nulls":12},-3]
["kramenta varázskő ","1094 ","kramenta varázskő (#1094)","-",0,0,"- ",100,0]
["bíborarany tolvajtőr ","1095 ",{"$f":"CONCATENATE(TRIM(A1090),\" (#\",TRIM(B1090),\")\")","v":"bíborarany tolvajtőr (#1095)"},"típus: szúró (mágikus, balkezes), sebzés: 2d9+2, min. fsz.: 20, +1 AC, +1 ügy., +8 sebzés labirintusban használva",0,0,"- ",500,1000]
["csodák kútja ","1096 ","csodák kútja (#1096)","-",0,0,"- ",0,0]
["Augur varázskönyve ","1097 ","Augur varázskönyve (#1097)","elpusztít egy szopókövet, H 1097 paranccsal",0,0,"0.20 ",500,3000]
["Baghar fétise ","1098 ","Baghar fétise (#1098)","Thargodan illúzió varázslat, H 1098 paranccsal",0,0,"- ",500,0]
["brakkara ","1099 ","brakkara (#1099)","lélek védelme varázslat, H 1099 paranccsal",0,0,"0.20 ",500,3000]
["Éjmágus tükre ","1100 ","Éjmágus tükre (#1100)","hadiszerencse II. varázslat, H1100 paranccsal",0,0,"0.20 ",500,3000]
["Niagren pálcája ","1101 ","Niagren pálcája (#1101)","tárgyvédelem varázslat, H 1101 paranccsal",0,0,"0.20 ",500,3000]
["hollókristály ","1102 ","hollókristály (#1102)","-",0,0,"0.05 ",200,1000]
["üllő ","1103 ","üllő (#1103)","fele TVP-be kerül a fém tárgyak gyártása, nem átadható",0,0,"20.00 ",50,0]
["törpe védőgyűrű ","1104 ","törpe védőgyűrű (#1104)","+8 AC",0,0,"0.01 ",180,1440,"Gyűrű",{"$nulls":22},8]
["törpe szekerce ","1105 ","törpe szekerce (#1105)","típus: vágó+ütő (mágikus), sebzés: 4D6+4, min. fsz.: 22, +3 támadás, csak törpék használhatják",0,0,"1.80 ",200,400]
["Az ősök könyve ","1106 ","Az ősök könyve (#1106)","nem átadható",0,0,"1.00 ",500,0]
["varkaudar látógömb ","1107 ","varkaudar látógömb (#1107)","-",0,0,"0.40 ",100,600]
["csorba csatabárd ","1108 ","csorba csatabárd (#1108)","típus: vágó+ütő, sebzés: 3d6+3, +2 támadás, csak törpék használhatják",0,0,"- ",50,100]
["varkaudar falu ","1109 ","varkaudar falu (#1109)","-",0,0,"- ",0,0]
["kis ónixkulcs ","1110 ","kis ónixkulcs (#1110)","-",0,0,"0.15 ",95,0]
["nagy ónixkulcs ","1111 ","nagy ónixkulcs (#1111)","nem átadható",0,0,"0.30 ",95,0]
["varkaudar che-kard ","1112 ","varkaudar che-kard (#1112)","típus: vágó, sebzés: 7d5+7, min. fsz.: 26, -2 AC, -2 támadás, ősvillámot lő (nem fixen)",0,0,"5.00 ",150,1500]
["varkaudar csont ","1113 ","varkaudar csont (#1113)","-",0,0,"0.70 ",4,8]
["che-vállszalag ","1114 ","che-vállszalag (#1114)","+4 támadás, +1 erő, min. szint: 30",0,0,"1.00 ",160,1600,"Vállvédő","30",null,null,null,1,{"$nulls":13},4]
["örökkévalóság smaragdja ","1115 ","örökkévalóság smaragdja (#1115)","+2 támadás, +1 szerencse, +50 ép. regen., +30 max. ép., +20 max. vp., +2 tárgymentő, nem átadható",0,0,"0.01 ",400,0,"Ékszer",{"$nulls":8},1,30,50,null,20,{"$nulls":5},2,{"$nulls":12},2]
["örökkévalóság zafírja ","1116 ","örökkévalóság zafírja (#1116)","+2 támadás, +1 erő, +1 iq, +1 ügy., +1 eg., +1 szer., +70 ép. regen., +40 max. ép., +40 max. vp., +2 tárgymentő, nem átadható",0,0,"0.01 ",800,0,"Ékszer",{"$nulls":4},1,1,1,1,1,40,70,null,40,{"$nulls":5},2,{"$nulls":12},2]
["párducbőr övtáska ","1117 ","párducbőr övtáska (#1117)","-5 kg. megterheltség, +2 mentődobás hideg ellen, +1 sebzés szintenként a hideg alapú varázslatokra",30,222,"- ",35,0,"Öv"]
["párducbőr pénztárca ","1118 ","párducbőr pénztárca (#1118)","-",25,192,"0.15 ",25,100]
["derit sodronynadrág ","1119 ","derit sodronynadrág (#1119)","+10 AC, +2 szer., +15 % az ellenfél varázslatának csődjére",60,717,"6.10 ",1000,0,"Nadrág",{"$nulls":8},2,{"$nulls":13},10]
["csillogó nyakék ","1120 ","csillogó nyakék (#1120)","+2 AC, lopás csökkentés",3,423,"0.09 ",100,200,"Nyaklánc",{"$nulls":22},2]
["csillogó karkötő ","1121 ","csillogó karkötő (#1121)","+2 AC, -2 erő, -2 iq, -2 ügy., -2 eg., +12 szer., nem átadható",12,453,"0.09 ",120,0,"Karkötő",{"$nulls":4},-2,-2,-2,-2,12,{"$nulls":13},2]
["csillogó fülbevaló ","1122 ","csillogó fülbevaló (#1122)","+2 AC, +5 max. ép., +5 % az ellenfél varázslatának csődjére, nem átadható",12,453,"0.06 ",120,0,"Fülbevaló",{"$nulls":9},5,{"$nulls":12},2]
["sikamlós búvárruha ","1123 ","sikamlós búvárruha (#1123)","+10 AC (vízben), -5 erő, -1 TVP/ref. pont a mozgás vízi labirintusban, nem átadható",50,264,"4.00 ",40,0]
["csontzúzó diszkosz ","1124 ","csontzúzó diszkosz (#1124)","típus: dobó (mágikus, ütő), sebzés: 5d12+12, min. fsz.: 20",2,0,"- ",12,0]
["bőrkantár ","1125 ","bőrkantár (#1125)","+2 AC (hátasnak)",27,152,"0.50 ",30,60]
["acéltűz nyílvessző ","1126 ","acéltűz nyílvessző (#1126)","típus: lövedék (szúró), sebzés: 4d6+18, nem átadható",5,0,"- ",15,0]
["acéltűz dobónyíl ","1127 ","acéltűz dobónyíl (#1127)","típus: dobó (szúró), sebzés: 4d6+18, nem átadható",5,234,"0.15 ",15,0]
["jégszilánk ","1128 ","jégszilánk (#1128)","-",0,0,"0.01 ",3,0]
["derit láncszem ","1129 ","derit láncszem (#1129)","-",0,0,"0.06 ",6,12]
["fenékkavics ","1130 ","fenékkavics (#1130)","nem átadható",0,0,"0.08 ",5,0]
["csigakagyló ","1131 ","csigakagyló (#1131)","-",0,0,"0.08 ",25,50]
["acéltűz nyílhegy ","1132 ","acéltűz nyílhegy (#1132)","nem átadható",0,0,"0.10 ",5,0]
["moa varázsdoboz ","1133 ","moa varázsdoboz (#1133)","+15 iq (következő kör elejéig)",0,0,"0.20 ",410,0]
["varkaudar korbács ","1134 ","varkaudar korbács (#1134)","típus: ütő (balkezes), sebzés: 1d20, min. fsz.: 36, +10 AC, +10 sebzés kalandozók ellen",0,0,"- ",30,60]
["inváziós amulett ","1135 ","inváziós amulett (#1135)","+15 iq, +5 % varázslatsebzés (de max. 200), nem átadható",0,0,"0.50 ",185,0,"Nyaklánc",{"$nulls":5},15,{"$nulls":22},5]
["tűzhaj diadém ","1136 ","tűzhaj diadém (#1136)","+4 AC, +8 tau., +20 mentődobás tűz ellen, 100 vp. alatti tűz alapú varázslatnak nem kell komponens, nem átadható",0,0,"1.00 ",900,0,"Sisak",{"$nulls":18},8,null,null,null,4]
["varkaudar pálinka ","1137 ","varkaudar pálinka (#1137)","-",0,0,"0.20 ",22,44]
["Khór maszkja ","1138 ","Khór maszkja (#1138)","+2 AC, -1 támadás, +2 szer., +20 max. ép.",0,0,"0.30 ",500,0,"Sisak",{"$nulls":8},2,20,{"$nulls":8},-1,null,null,null,2]
["sámán gyógykenőcs ","1139 ","sámán gyógykenőcs (#1139)","-",0,0,"0.02 ",50,300]
["királysági őrsánc ","1140 ","királysági őrsánc (#1140)","-",0,0,"- ",0,0]
["hűségérme ","1141 ","hűségérme (#1141)","-",5,0,"0.02 ",40,4800]
["kreiton agy ","1142 ","kreiton agy (#1142)","-",0,0,"0.40 ",50,500]
["tleikan életkő ","1143 ","tleikan életkő (#1143)","nem átadható",0,0,"0.10 ",800,0]
["tleikan manakő ","1144 ","tleikan manakő (#1144)","max. vp.-be tölt, nem átadható",0,0,"0.10 ",600,0]
["kreiton főzet ","1145 ","kreiton főzet (#1145)","nem átadható",5,300,"0.30 ",40,80]
["árnyszőttes ","1146 ","árnyszőttes (#1146)","nem átadható",0,0,"3.00 ",400,0,"Köpeny"]
["árnykarkötő ","1147 ","árnykarkötő (#1147)","nem átadható",0,0,"0.50 ",300,0,"Karkötő"]
["torz fülkarika ","1148 ","torz fülkarika (#1148)","-5 AC, +2 támadás, +80 max. ép., min. szint: 40",0,0,"0.50 ",250,750,"Fülbevaló","40",{"$nulls":8},80,{"$nulls":8},2,null,null,null,-5]
["Mutáns korona ","1149 ","Mutáns korona (#1149)","+10 AC, +5 szer., +100 max. ép., +100 max. vp., +2 regen. képesség (FNO-s), +10 % sebzés minden téged érő varázslatra, nem átadható",0,0,"3.00 ",500,0,"Sisak",{"$nulls":8},5,100,null,null,100,{"$nulls":9},10]
["isteni fétis ","1150 ","isteni fétis (#1150)","-",0,0,"0.10 ",1500,3000]
["tudati fétis ","1151 ","tudati fétis (#1151)","nem átadható",0,0,"0.10 ",1500,0]
["ryuku evező ","1152 ","ryuku evező (#1152)","típus: ütő, sebzés: 2d10+2, -6 AC, -6 támadás",0,0,"3.50 ",30,60]
["ryuku amfora ","1153 ","ryuku amfora (#1153)","+2-4 % kincskeresés kör végéig",0,0,"0.12 ",20,0]
["ryuku védőkenőcs ","1154 ","ryuku védőkenőcs (#1154)","+8 tárgymentő (kör végéig)",0,0,"0.14 ",24,0]
["tenger gyümölcse ","1155 ","tenger gyümölcse (#1155)","-",0,0,"0.06 ",16,32]
["ryuku ökölgyolcs ","1156 ","ryuku ökölgyolcs (#1156)","min. fsz.: 25, +1 támadás, 1-10 plusz sebzés ökölre, HM-től függően",0,0,"0.06 ",400,1200,{"$nulls":19},1,{"$nulls":6},1]
["ryuku kalózkendő ","1157 ","ryuku kalózkendő (#1157)","-1 támadás, +4 szer., sem a koordináta-meghatározáshoz, sem a szeksztánst igénylő varázslatokhoz nincs szükség többé szeksztánsra",0,0,"0.12 ",420,0,"Sisak",{"$nulls":8},4,{"$nulls":9},-1]
["ryuku vadászing ","1158 ","ryuku vadászing (#1158)","+6 szer., +2 szörnyismeret, +2 vadászat, esély 2 szörny felkutatására táborozás alatt",0,0,"1.64 ",400,800,"Köpeny",{"$nulls":8},6,{"$nulls":30},2,{"$nulls":5},2]
["ryuku harmatgyűjtő ","1159 ",{"$f":"CONCATENATE(TRIM(A1154),\" (#\",TRIM(B1154),\")\")","v":"ryuku harmatgyűjtő (#1159)"},"30 azúrharmat tárolására",0,0,"0.01 ",29,58]
["korallföveny ","1160 ","korallföveny (#1160)","-",0,0,"- ",0,0]
["azúrharmat ","1161 ","azúrharmat (#1161)","-",2,0,"0.01 ",2,4]
["ryuku rúnatekercs ","1162 ","ryuku rúnatekercs (#1162)","nem átadható",0,0,"0.05 ",50,0]
["ryuku hajóroncs ","1163 ","ryuku hajóroncs (#1163)","min. úszás: 15, vízlégzés szükséges",0,0,"- ",0,0]
["őscápafog ","1164 ","őscápafog (#1164)","-",0,0,"1.00 ",80,0]
["kráken gyűrű ","1165 ","kráken gyűrű (#1165)","+4 AC, +12 szer., min. szint: 20",0,0,"0.01 ",800,0,"Gyűrű","20",{"$nulls":7},12,{"$nulls":13},4]
["Élet gyűrűje ","1166 ","Élet gyűrűje (#1166)","-5 AC, +5 sebzés, +8 támadás, +100 max. ép., +100 max. vp., min. szint: 40",0,0,"0.01 ",5000,0,"Gyűrű","40",{"$nulls":8},100,null,null,100,{"$nulls":5},8,null,null,null,-5,null,null,5]
["Rodger üstje kezdőknek ","1167 ","Rodger üstje kezdőknek (#1167)","főzés megtanulásához, nem átadható",5,0,"1.00 ",40,0]
["Rodger üstje profiknak ","1168 ","Rodger üstje profiknak (#1168)","az enciklopédiát és a tárgyat elf kósza háznál lehet megkapni, nem átadható",5,402,"1.20 ",80,0]
["tűzrakó hely ","1169 ","tűzrakó hely (#1169)","-",0,0,"- ",0,0]
["fűszerkeverék ","1170 ","fűszerkeverék (#1170)","-",0,0,"0.03 ",10,20]
["varkaudar pecsétgyűrű ","1171 ","varkaudar pecsétgyűrű (#1171)","+1 sebzés, +3 támadás, varkaudarok ellen: +2 sebzés, +6 támadás",0,0,"0.15 ",200,1600,"Gyűrű",{"$nulls":18},3,{"$nulls":6},1]
["oldalzsák ","1172 ","oldalzsák (#1172)","+50 tárgyhely",5,0,"1.00 ",600,0]
["Leah szentélye ","1173 ","Leah szentélye (#1173)","-",0,0,"- ",0,0]
["Dornodon szentélye ","1174 ","Dornodon szentélye (#1174)","-",0,0,"- ",0,0]
["Raia szentélye ","1175 ","Raia szentélye (#1175)","-",0,0,"- ",0,0]
["Elenios szentélye ","1176 ","Elenios szentélye (#1176)","-",0,0,"- ",0,0]
["Sheran szentélye ","1177 ","Sheran szentélye (#1177)","-",0,0,"- ",0,0]
["Tharr szentélye ","1178 ","Tharr szentélye (#1178)","-",0,0,"- ",0,0]
["Fairlight szentélye ","1179 ","Fairlight szentélye (#1179)","-",0,0,"- ",0,0]
["Chara-din szentélye ","1180 ","Chara-din szentélye (#1180)","-",0,0,"- ",0,0]
["Thargodan csont ","1181 ","Thargodan csont (#1181)","-",0,0,"0.33 ",10,0]
["Thargodan koponya ","1182 ","Thargodan koponya (#1182)","-",0,0,"0.50 ",15,60]
["Notermanthi amulett ","1183 ","Notermanthi amulett (#1183)","+10 támadás kalandozók ellen",0,0,"0.19 ",800,0,"Nyaklánc"]
["negatív esszencia ","1184 ","negatív esszencia (#1184)","+4 sebzés fegyverre vagy +2 sebzés ökölre, nem átadható",0,0,"0.06 ",96,0]
["ektoplazma ","1185 ","ektoplazma (#1185)","-",0,0,"0.26 ",31,93]
["nt'lagod esszencia ","1186 ","nt'lagod esszencia (#1186)","-",0,0,"0.02 ",300,0]
["dr'thanox esszencia ","1187 ","dr'thanox esszencia (#1187)","-",0,0,"0.02 ",300,0]
["bn'oxrad esszencia ","1188 ","bn'oxrad esszencia (#1188)","-",0,0,"0.02 ",300,0]
["zg'umrad esszencia ","1189 ","zg'umrad esszencia (#1189)","-",0,0,"0.02 ",300,0]
["Urgol lángpallosa ","1190 ","Urgol lángpallosa (#1190)","típus: vágó (mágikus), sebzés: ismeretlen, nem átadható",50,3480,"10.00 ",10000,0]
["Urgol lángdárdája ","1191 ","Urgol lángdárdája (#1191)","típus: szúró (mágikus), sebzés: ismeretlen, nem átadható",50,3480,"10.00 ",10000,0]
["Urgol lángbuzogánya ","1192 ","Urgol lángbuzogánya (#1192)","típus: ütő (mágikus), sebzés: ismeretlen, nem átadható",50,3480,"10.00 ",10000,0]
["dr'thanox gyűrű ","1193 ","dr'thanox gyűrű (#1193)","+5 AC, +10 támadás, +5 szer., +220 max. ép., nem átadható",40,672,"0.07 ",700,0,"Gyűrű",{"$nulls":8},5,220,{"$nulls":8},10,null,null,null,5]
["nt'lagod karkötő ","1194 ","nt'lagod karkötő (#1194)","+7 AC, +5 erő, +150 max. ép., -30 sebzés ütésenként az éjfattyaknak, nem átadható",40,672,"0.13 ",700,0,"Karkötő",{"$nulls":4},5,{"$nulls":4},150,{"$nulls":12},7]
["Zt'tuzzarxn végzete ","1195 ","Zt'tuzzarxn végzete (#1195)","nem átadható",100,630,"1.00 ",500,0]
["og'lhobn fülbevaló ","1196 ","og'lhobn fülbevaló (#1196)","-35 AC, +15 támadás, +7 szer., +200 max. ép., nem átadható",40,768,"0.02 ",900,0,"Fülbevaló",{"$nulls":8},7,200,{"$nulls":8},15,null,null,null,-35]
["ud'mroag kulcs ","1197 ","ud'mroag kulcs (#1197)","nem átadható",50,582,"- ",400,0]
["at'htlab esszencia ","1198 ","at'htlab esszencia (#1198)","nem átadható",0,0,"0.03 ",350,0]
["en'trauk esszencia ","1199 ","en'trauk esszencia (#1199)","nem átadható",0,0,"0.03 ",350,0]
["Istenek Talizmánja ","1200 ","Istenek Talizmánja (#1200)","+10 AC, +10 erő, +10 iq, +10 ügy., +10 eg., +10 szer., +200 vp. regen., +200 max. ép., +200 max. vp, minden csatában permanens agytaposás, nem átadható",0,0,"0.05 ",15000,0,"Nyaklánc",{"$nulls":4},10,10,10,10,10,200,null,null,200,200,{"$nulls":8},10]
["ud'mroag esszencia ","1201 ","ud'mroag esszencia (#1201)","nem átadható",0,0,"0.03 ",350,0]
["og'lhobn esszencia ","1202 ","og'lhobn esszencia (#1202)","nem átadható",0,0,"0.03 ",350,0]
["éjtündér szív ","1203 ","éjtündér szív (#1203)","nem átadható",0,0,"- ",410,0]
["malom ","1204 ","malom (#1204)","-",0,0,"- ",0,0]
["malomkő ","1205 ","malomkő (#1205)","típus: dobó (ütő), sebzés: 50, min. fsz: 40, -20 támadás, 99-es alap erővel, 1 % erő TF forduló végén",0,0,"20.00 ",5,10]
["derit láncvért ","1206 ","derit láncvért (#1206)","+20 AC, +5 támadás, a vért gazdáját támadó szörnyek sebzésük 30%-át elszenvedik sérülésként, nem átadható",0,0,"7.50 ",1500,0,"Páncél",{"$nulls":18},5,null,null,null,20]
["örökkévalóság kristálya ","1207 ","örökkévalóság kristálya (#1207)","+4 támadás, +2 erő, +2 iq, +2 ügy., +2 eg., +2 szer., +90 ép. regen., +50 max. ép., +50 max. vp., +3 tárgymentő, plusz ép regen., nem átadható",0,0,"0.01 ",1000,0,"Ékszer",{"$nulls":4},2,2,2,2,2,50,90,null,50,{"$nulls":5},4,{"$nulls":12},3]
["régészeti lelőhely ","1208 ","régészeti lelőhely (#1208)","Technika Ördögei KT tárgya(?)",0,0,"- ",0,0]
["beholderfej medál ","1209 ","beholderfej medál (#1209)","+1 ügy., +1 szer., permanens pszi-ernyő, nem átadható",0,0,"- ",420,0]
["Hatalom Karkötője ","1210 ","Hatalom Karkötője (#1210)","+5 AC, +5 támadás, +5 szer., +1 MXTU, +100 max. ép., +100 max. vp., min. szint: 45",0,0,"0.05 ",7000,28000,"Karkötő","45",{"$nulls":7},5,100,null,null,100,{"$nulls":4},1,5,null,null,null,5]
["csodálatos nyaklánc ","1211 ","csodálatos nyaklánc (#1211)","+4 sebzés, +4 támadás, +4 eg., +65 max. ép., +65 max. vp., min. szint: 35",0,0,"0.05 ",4000,20000,"Nyaklánc","35",{"$nulls":6},4,null,65,null,null,65,{"$nulls":5},4,{"$nulls":6},4]
["moa nyaklánc ","1212 ","moa nyaklánc (#1212)","+5 szer., +7 MXTU, +150 max. ép., minden közelharci sebződést csökkent 10 %-al, +50 pszi pont regeneráció, min. szint: 30, nem átadható",0,0,"0.05 ",5000,0,"Nyaklánc","30",{"$nulls":7},5,150,{"$nulls":6},50,7,{"$nulls":5},10]
["moa tértorzító ","1213 ","moa tértorzító (#1213)","minden forduló elején +10 TVP, nem átadható",0,0,"0.50 ",2500,0]
["dalebgad kristálykesztyű ","1214 ","dalebgad kristálykesztyű (#1214)","+8 AC, +7 sebzés ököllel, +1 erő, +1 iq, +1 ügy., +1 eg., +1 szer., nem átadható",0,0,"- ",800,0,"Kesztyű",{"$nulls":4},1,1,1,1,1,{"$nulls":13},8,{"$nulls":4},7]
["szekérkaraván ","1215 ","szekérkaraván (#1215)","-",0,0,"- ",0,0]
["Urgol lángkesztyűje ","1216 ","Urgol lángkesztyűje (#1216)","sebzés: ismeretlen (mágikus), nem átadható",50,0,"10.00 ",10000,0,"Kesztyű"]
["ztrax kulcs ","1217 ","ztrax kulcs (#1217)","nem átadható",0,0,"0.05 ",1500,0]
["megbűvölt utazóláda ","1218 ","megbűvölt utazóláda (#1218)","-14 kg megterheltség, +20 tárgyhely, nem átadható",10,0,"2.00 ",60,0]
["káoszpulzáns ","1219 ","káoszpulzáns (#1219)","+7 MXTU, Káosz Lordjai KT tárgya",0,0,"- ",50,0]
["királyi érdemes művész kitűző ","1220 ","királyi érdemes művész kitűző (#1220)","9152 KT tárgya",0,0,"- ",0,0]
["vámpírfog ","1221 ","vámpírfog (#1221)","-",0,0,"0.02 ",3,6]
["hattyútoll ","1222 ","hattyútoll (#1222)","-",0,0,"0.01 ",1,0]
["sólyomcsőr ","1223 ",{"$f":"CONCATENATE(TRIM(A1218),\" (#\",TRIM(B1218),\")\")","v":"sólyomcsőr (#1223)"},"-",0,0,"0.05 ",5,10]
["ryuku tájoló ","1224 ","ryuku tájoló (#1224)","-",0,0,"0.10 ",300,900]
["íjászkence ","1225 ","íjászkence (#1225)","+1 támadásszám lőfegyverrel",0,0,"0.01 ",16,48]
["hattyútoll vánkos ","1226 ","hattyútoll vánkos (#1226)","nagyobb ép. regeneráció",32,309,"1.30 ",70,140]
["energialándzsa ","1227 ","energialándzsa (#1227)","típus: szúró (mágikus), sebzés: 1d4+6, min. fsz.: 28, +5 AC, energiacsóvát lő",0,0,"2.00 ",320,1280]
["ork csodaszer ","1228 ","ork csodaszer (#1228)","plusz támadás a forduló végéig",0,0,"0.05 ",18,54]
["mösze hátpáncél ","1229 ","mösze hátpáncél (#1229)","-",0,0,"3.00 ",11,22]
["bruhatagnyelv ","1230 ","bruhatagnyelv (#1230)","-",0,0,"0.14 ",7,14]
["möszehát pajzs ","1231 ","möszehát pajzs (#1231)","típus: pajzs+vágó (balkezes), +9 AC, min. fsz.: 28, fehérállomány roncsolását lő (fixen)",36,0,"- ",162,0,"Pajzs",{"$nulls":22},9]
["pondróvér ","1232 ","pondróvér (#1232)","-",0,0,"0.01 ",4,8]
["cirkuszi pergamen ","1233 ","cirkuszi pergamen (#1233)","-",0,0,"0.01 ",80,0]
["cirkuszi surranó ","1234 ","cirkuszi surranó (#1234)","-",0,0,"0.10 ",500,0,"Csizma"]
["cirkuszi kitűző ","1235 ","cirkuszi kitűző (#1235)","-",0,0,"0.02 ",400,0]
["holdbőr ","1236 ","holdbőr (#1236)","-",0,0,"0.45 ",14,28]
["Hantas karperece ","1237 ","Hantas karperece (#1237)","+4 sebzés kalandozó ellen, +4 támadás távfegyverre, nem átadható",0,0,"- ",900,0]
["Yuin gyöngysora ","1238 ","Yuin gyöngysora (#1238)","kalandozó ellenfeleid kettővel kevesebb támadásszámot adnak le rád a távfegyvereikkel, a nyilazó szörnyek feleannyi sebzést okoznak neked a távfegyver körben, nem átadható",0,0,"0.06 ",1000,0,"Nyaklánc"]
["bohócsipka ","1239 ","bohócsipka (#1239)","ellenfeled a szinted 12-ed részének megfelelő mínusz támadást és mínusz védekezést kap",0,0,"- ",400,0]
["fejsze ","1240 ","fejsze (#1240)","típus: dobó (vágó), sebzés: 1d5+12",20,0,"1.50 ",18,36]
["vaspánt ","1241 ","vaspánt (#1241)","-",0,39,"0.80 ",10,20]
["tutaj ","1242 ","tutaj (#1242)","-",100,180,"- ",3,0]
["csónak ","1243 ","csónak (#1243)","-",150,0,"- ",3,0]
["ladik ","1244 ","ladik (#1244)","-",200,0,"- ",3,0]
["vitorlás hajó ","1245 ","vitorlás hajó (#1245)","-",600,0,"- ",1200,0]
["gerdraban fa ","1246 ","gerdraban fa (#1246)","-",0,0,"- ",0,0]
["örökkévalóság topáza ","1247 ","örökkévalóság topáza (#1247)","+5 támadás, +2 erő, +2 iq, +2 ügy., +2 eg., +2 szer., +120 ép. regen., +60 max. ép., +60 max. vp., +3 tárgymentő, plusz ép regen., nem átadható",0,0,"0.01 ",1500,0,"Ékszer",{"$nulls":4},2,2,2,2,2,60,120,null,60,{"$nulls":5},5,{"$nulls":12},3]
["Fairlight nyaklánca ","1248 ","Fairlight nyaklánca (#1248)","+10 AC, +7 szer., +3 MXTU, +120 max. ép., +120 max. vp., -7 mentődobás az ellenfélnek támadó varázslat ellen",0,0,"0.05 ",8000,24000,"Nyaklánc",{"$nulls":8},7,120,null,null,120,{"$nulls":4},3,{"$nulls":4},10]
["Thargodan karkötő ","1249 ","Thargodan karkötő (#1249)","+7 AC, +3 sebzés, +3 támadás, +50 max. ép., +50 max. vp., min. szint: 28",0,0,"- ",3500,0,"Karkötő","28",{"$nulls":8},50,null,null,50,{"$nulls":5},3,null,null,null,7,null,null,3]
["Dornodon talizmánja ","1250 ","Dornodon talizmánja (#1250)","+12 AC, -5 erő, +10 szer., +150 max. ép., +150 max. vp., +25% varázslatsebzés (de max. 250), min. szint: 50",0,0,"0.05 ",9000,27000,"Nyaklánc","50",null,null,null,-5,null,null,null,10,150,null,null,150,{"$nulls":9},12,{"$nulls":5},25]
["aranyrög ","1251 ","aranyrög (#1251)","-",2,0,"0.03 ",12,24]
["csillezsálya ","1252 ","csillezsálya (#1252)","-",0,0,"- ",0,0]
["csillezsályalevél ","1253 ","csillezsályalevél (#1253)","-",3,0,"0.01 ",10,0]
["ősmatéria ","1254 ","ősmatéria (#1254)","-",0,0,"0.20 ",5,0]
["isteni gyöngysor ","1255 ","isteni gyöngysor (#1255)","+5 AC, +2 erő, +2 iq, +2 ügy., +2 eg., +2 szer., +150 max. ép., +150 max. vp., gyógyító varázslataid 20%-kal hatékonyabban működnek, elhasználódhat, nem átadható",50,4047,"- ",10000,0,"Nyaklánc",{"$nulls":4},2,2,2,2,2,150,null,null,150,{"$nulls":9},5]
["őselemi gyűrű ","1256 ","őselemi gyűrű (#1256)","+13 AC, +4 iq., +130 max. ép., +130 max. vp., +3 tárgymentő, +30 % varázslatsebzés (de max. 300), nem átadható",0,0,"- ",10000,0,"Gyűrű",{"$nulls":5},4,null,null,null,130,null,null,130,{"$nulls":9},13,{"$nulls":5},30,null,null,3]
["Gorhud gyűrűje ","1257 ","Gorhud gyűrűje (#1257)","ha viseled a gyűrűt, minden csata utána gyógyítás szakértelmed felével megegyező életerőpontot nyersz vissza",75,0,"0.01 ",600,0,"Gyűrű"]
["Leah titkos tekercse ","1258 ","Leah titkos tekercse (#1258)","+5 % hatékonyság vámpirizációra",20,234,"0.03 ",30,0]
["homokóra ","1259 ","homokóra (#1259)","nem átadható",40,471,"0.03 ",120,0]
["viharmadár totem ","1260 ","viharmadár totem (#1260)","azokra a szörnyekre is lehet távfegyvert használni, amelyek a föld alól jönnek elő",30,450,"0.01 ",200,0]
["Ramirez feszítővasa ","1261 ","Ramirez feszítővasa (#1261)","-",20,102,"1.95 ",16,0]
["Halatir kalapja ","1262 ","Halatir kalapja (#1262)","+2 AC, -2 támadás, városban zenéléskor 15%-kal több aranyat kapsz",16,165,"1.00 ",25,75,"Sisak",{"$nulls":18},-2,null,null,null,2]
["tünde tegez ","1263 ","tünde tegez (#1263)","-",20,183,"0.50 ",25,0]
["vadászkés ","1264 ","vadászkés (#1264)","típus: vágó (balkezes), sebzés: 2d4, ha egy szörnyből kaját szerzel, kétszer annyi kajához jutsz",12,90,"0.40 ",12,24]
["gyilkos méreg ","1265 ","gyilkos méreg (#1265)","méreg alapú varázslatok sebzésének növelésére",5,0,"0.01 ",40,120]
["kis mágneses bigyó ","1266 ","kis mágneses bigyó (#1266)","nem átadható",0,0,"3.00 ",65,0]
["Emberiség Ékköve ","1267 ","Emberiség Ékköve (#1267)","Humán Páholy KT tárgya",0,0,"- ",20,0]
["hollókristály prizma ","1268 ","hollókristály prizma (#1268)","-",40,1074,"1.50 ",2100,0]
["kaleidoszkóp ","1269 ","kaleidoszkóp (#1269)","nem átadható",55,462,"2.00 ",150,0]
["gyémánt okuláré ","1270 ","gyémánt okuláré (#1270)","-",120,492,"- ",340,0]
["Sheran cserepe ","1271 ","Sheran cserepe (#1271)","-",30,285,"1.00 ",50,150]
["Kaldor varázspora ","1272 ","Kaldor varázspora (#1272)","minden sikeres találat 3-mal csökkenti az ellenfél támadását, és védekezését a csata időtartamára",1,12,"0.03 ",1,3]
["ryuku őrtorony ","1273 ","ryuku őrtorony (#1273)","-",0,0,"- ",0,0]
["Utazók Gyűrűje ","1274 ","Utazók Gyűrűje (#1274)","vitorlás hajó szállítására, nem átadható",0,0,"0.03 ",10000,0,"Gyűrű"]
["destabilizátor ","1275 ","destabilizátor (#1275)","meggátolja a demező lények demezését",0,0,"0.15 ",250,750]
["teriád féreg ","1276 ","teriád féreg (#1276)","-",0,0,"0.08 ",0,0]
["teriád tőr ","1277 ","teriád tőr (#1277)","típus: dobó (mágikus, szúró), sebzés: 2d13+14, min. fsz: 40",0,0,"0.20 ",50,200]
["teriád edény ","1278 ","teriád edény (#1278)","?",0,0,"0.30 ",70,140]
["teriád ékszer ","1279 ","teriád ékszer (#1279)","-",0,0,"0.30 ",1000,2000]
["teriád háló-csapda ","1280 ","teriád háló-csapda (#1280)","-",0,264,"- ",0,0]
["teriád dobóháló ","1281 ","teriád dobóháló (#1281)","-",0,0,"7.50 ",40,80]
["teriád lándzsa ","1282 ","teriád lándzsa (#1282)","típus: szúró (mágikus), sebzés: 6d6+12, min. fsz: 35, +6 támadás",0,0,"5.00 ",200,600]
["teriád pöröly ","1283 ","teriád pöröly (#1283)","típus: ütő (mágikus), sebzés: 6d6+12, min. fsz: 35, +6 támadás",0,0,"5.00 ",200,600]
["teriád kard ","1284 ","teriád kard (#1284)","típus: vágó (mágikus), sebzés: 6d6+12, min. fsz: 35, +6 támadás",0,0,"5.00 ",200,600]
["mágikus bizsu ","1285 ","mágikus bizsu (#1285)","nem átadható",0,0,"0.10 ",500,0]
["teriád település ","1286 ","teriád település (#1286)","-",0,0,"- ",0,0]
["teriád nyílvessző ","1287 ",{"$f":"CONCATENATE(TRIM(A1282),\" (#\",TRIM(B1282),\")\")","v":"teriád nyílvessző (#1287)"},"típus: lövedék (szúró), sebzés: 3d11+8",0,0,"0.40 ",35,140]
["teriád íj ","1288 ","teriád íj (#1288)","típus: lőfegyver, min. fsz: 40",0,0,"4.00 ",600,1800]
["Kyeli maszkja ","1289 ","Kyeli maszkja (#1289)","+15 AC, +2 sebzés, +2 erő, +2 iq, +2 ügy., +2 eg., +2 szer., +150 max. ép., csökken az esélye, hogy a szörnyek ütéseitől elkábulsz, nem átadható",0,0,"1.00 ",3000,0,"Sisak",{"$nulls":4},2,2,2,2,2,150,{"$nulls":12},15,null,null,2]
["biethlan lándzsa ","1290 ","biethlan lándzsa (#1290)","típus: szúró (mágikus), sebzés: 7d6+13, min. fsz: 50, +7 támadás, +1 támadásszám jobb kézzel, őselemi savcsapást lő (nem fixen)",0,0,"15.00 ",4500,13500]
["biethlan kard ","1291 ","biethlan kard (#1291)","típus: vágó (mágikus), sebzés: 7d6+13, min. fsz: 50, +7 támadás, +1 támadásszám jobb kézzel, őselemi savcsapást lő (nem fixen)",0,0,"15.00 ",4500,13500]
["biethlan pöröly ","1292 ","biethlan pöröly (#1292)","típus: ütő (mágikus), sebzés: 7d6+13, min. fsz: 50, +7 támadás, +1 támadásszám jobb kézzel, őselemi savcsapást lő (nem fixen)",0,0,"- ",4500,13500]
["Kyeli kulcsa ","1293 ","Kyeli kulcsa (#1293)","nem átadható",0,0,"0.25 ",1000,0]
["Kyeli jegyzetfüzete ","1294 ","Kyeli jegyzetfüzete (#1294)","+10 max. ép., +10 max. vp., +10 max. pszi",0,0,"- ",1000,0]
["szaké ","1295 ","szaké (#1295)","-",0,0,"0.20 ",17,51]
["teriád fétis ","1296 ","teriád fétis (#1296)","-",0,0,"0.20 ",100,300]
["teriádbőr karkötő ","1297 ","teriádbőr karkötő (#1297)","+5 AC, +5 támadás, +5 eg., +50 max. ép., +50 max. vp., min. szint: 40",0,0,"0.50 ",1300,3900,"Karkötő","40",{"$nulls":6},5,null,50,null,null,50,{"$nulls":5},5,null,null,null,5]
["jáde ékszer ","1298 ","jáde ékszer (#1298)","+30 max. ép., +1 tárgymentő minden tárgypusztító támadás ellen, nem átadható",0,0,"0.01 ",1400,0,"Fülbevaló",{"$nulls":9},30,{"$nulls":21},1]
["fagyott kalapács ","1299 ","fagyott kalapács (#1299)","típus: ütő (balkezes, mágikus), sebzés: 6d8+5, min. fsz: 55, +3 támadás, -2 szer.",0,0,"1.50 ",1400,4200]
["draklen relikvia ","1300 ","draklen relikvia (#1300)","nem átadható",0,0,"0.50 ",400,0]
["draklen csizma ","1301 ","draklen csizma (#1301)","+16 AC, +5 támadás, +3 erő, +3 szer., +70 max. ép., min. szint: 55",0,0,"2.00 ",1220,3660,"Csizma","55",null,null,null,3,null,null,null,3,70,{"$nulls":8},5,null,null,null,16]
["draklen köpeny ","1302 ","draklen köpeny (#1302)","+7 iq, +7 szer., +100 vp. regen., szörnyek leheletei feleannyit fognak sebezni rajtad, nem átadható",0,0,"- ",1300,0,"Köpeny",{"$nulls":5},7,null,null,7,{"$nulls":4},100]
["draklen talizmán ","1303 ","draklen talizmán (#1303)","+10 eg., 20% esély, hogy a szörnyekből kinyerhető komponensekből dupla annyit találsz (ez csak a fixen eső tárgyakra vonatkozik), nem átadható",10,0,"0.30 ",4000,0,"Nyaklánc",{"$nulls":7},10]
["Zarknod fülbevalója ","1304 ","Zarknod fülbevalója (#1304)","+5 AC, +5 iq, +50 max. ép., +50 max. vp., varázsolni tudsz a mágiaimmúnis lényekre is, varázslataid +30% sebzést okoznak, nem átadható",0,0,"- ",15000,0,"Fülbevaló",{"$nulls":5},5,null,null,null,50,null,null,50,{"$nulls":9},5,{"$nulls":5},30]
["bíbor drakpikkely ","1305 ","bíbor drakpikkely (#1305)","-",0,0,"0.44 ",40,120]
["jáde drakpikkely ","1306 ","jáde drakpikkely (#1306)","-",0,0,"0.44 ",40,120]
["topáz drakpikkely ","1307 ","topáz drakpikkely (#1307)","-",0,0,"- ",40,120]
["fekete drakpikkely ","1308 ","fekete drakpikkely (#1308)","-",0,0,"0.44 ",40,120]
["zöld drakpikkely ","1309 ","zöld drakpikkely (#1309)","-",0,0,"- ",40,120]
["aszott drakpikkely ","1310 ","aszott drakpikkely (#1310)","-",0,0,"0.44 ",40,120]
["Durghal pörölye ","1311 ","Durghal pörölye (#1311)","típus: ütő (mágikus), sebzés: 10d10+20, min. fsz: 55, +10 AC, +20 támadás",0,0,"11.50 ",3300,9900]
["Méniach kardja ","1312 ","Méniach kardja (#1312)","típus: vágó (mágikus), sebzés: 10d10+20, min. fsz: 55, +10 AC, +20 támadás",0,0,"11.50 ",3300,9900]
["Fagyor övsálja ","1313 ","Fagyor övsálja (#1313)","+5 AC, +5 támadás, +1 támadás jobb- és balkézzel, nem átadható",0,0,"4.15 ",2900,0,"Öv",{"$nulls":18},5,null,null,null,5]
["Aurgir lándzsája ","1314 ","Aurgir lándzsája (#1314)","típus: szúró (mágikus), sebzés: 10d10+20, min. fsz: 55, +10 AC, +20 támadás",0,0,"11.50 ",3300,0]
["Goachan pipája ","1315 ","Goachan pipája (#1315)","tűzvarázslataid kockánként 1-gyel többet sebeznek",0,0,"0.55 ",3200,9600]
["draklen citadella ","1316 ","draklen citadella (#1316)","másznivaló, min. mászás: 40",0,0,"- ",0,0]
["ryuku remetelak ","1317 ","ryuku remetelak (#1317)","-",0,0,"- ",0,0]
["ryuku harci dárda ","1318 ","ryuku harci dárda (#1318)","típus: dobó (szúró), sebzés: 2d10+10, nem átadható",0,0,"0.20 ",35,70]
["ryuku csataszoknya ","1319 ","ryuku csataszoknya (#1319)","-2 AC, +2 sebzés, +2 támadás, -5 mászás, min. szint: 35",0,0,"4.50 ",250,750,"Nadrág","35",{"$nulls":17},2,null,null,null,-2,null,null,2,{"$nulls":16},-5]
["ryuku menetpajzs ","1320 ","ryuku menetpajzs (#1320)","+9 AC, min. szint: 25",0,0,"2.60 ",125,375,"Pajzs","25",{"$nulls":21},9]
["ryuku hüvelykgyűrű ","1321 ","ryuku hüvelykgyűrű (#1321)","+1 AC, +1 sebzés, +1 támadás, min. szint: 25",0,0,"0.10 ",140,420,"Gyűrű","25",{"$nulls":17},1,null,null,null,1,null,null,1]
["ryuku függő ","1322 ","ryuku függő (#1322)","+2 AC, +1 sebzés, +2 támadás, +1 erő, +1 iq, +1 ügy., +1 eg., +1 szer., min. szint: 25",0,0,"0.01 ",225,675,"Fülbevaló","25",null,null,null,1,1,1,1,1,{"$nulls":9},2,null,null,null,2,null,null,1]
["ryuku vállvédő ","1323 ","ryuku vállvédő (#1323)","+5 AC, immunitás ryuku átokvarázsra, min. szint: 25",0,0,"0.40 ",110,330,"Vállvédő","25",{"$nulls":21},5]
["ryuku derékszíj ","1324 ","ryuku derékszíj (#1324)","+3 AC, +30 max. ép., +30 ép. regen., min. szint: 25",0,0,"0.17 ",65,195,"Öv","30",{"$nulls":8},30,30,{"$nulls":11},3]
["ryuku nyaklánc ","1325 ","ryuku nyaklánc (#1325)","+1 AC, +10 max. vp., minden teológia és taumaturgia varázslatod alapköltsége 5 varázsponttal kevesebb lesz, min. szint: 25",0,0,"0.08 ",120,360,"Nyaklánc","25",{"$nulls":11},10,{"$nulls":9},1]
["draklen buborék ","1326 ","draklen buborék (#1326)","tárgylista bővítésére +1 tárgyhely/db, nem átadható",0,0,"0.03 ",50,0]
["molitár dob ","1327 ","molitár dob (#1327)","min. zene: 20",0,0,"1.55 ",190,570]
["moa ravatalozó ","1328 ","moa ravatalozó (#1328)","típus: vágó, sebzés: 4d10+12, min. fsz: 25, -3 AC, +6 támadás, min. iq: 80, +10 % TP/lény",0,0,"- ",490,0]
["moa munkáskesztyű ","1329 ","moa munkáskesztyű (#1329)","+5 AC, +5 sebzés ököllel, +5 támadás, -10% tárgy készítési költség",0,0,"- ",320,960,"Kesztyű",{"$nulls":18},5,null,null,null,5,{"$nulls":4},5]
["moa csiptető ","1330 ","moa csiptető (#1330)","+3 iq, csak gnómok használhatják",0,0,"- ",54,162,"Fülbevaló",null,"6",null,null,null,3]
["moa szemlencse ","1331 ","moa szemlencse (#1331)","-",0,0,"0.01 ",12,36]
["moa kulcsmásoló ","1332 ","moa kulcsmásoló (#1332)","kulcsok másolására, használatának feltétele min. 50-es iq",0,0,"0.25 ",350,1050]
["moa kémlelő ","1333 ","moa kémlelő (#1333)","-",0,0,"0.40 ",95,285]
["draklen jogi kódex ","1334 ","draklen jogi kódex (#1334)","nem átadható",0,0,"0.32 ",300,0]
["hoarián béklyó ","1335 ","hoarián béklyó (#1335)","nem átadható",0,0,"0.49 ",1000,0]
["hoarián nyereg ","1336 ","hoarián nyereg (#1336)","+4 AC, +4 támadás (hoarián sárkánybébin: +8 AC, +8 támadás)",0,0,"2.33 ",220,660]
["Horsa hagyatéka ","1337 ","Horsa hagyatéka (#1337)","pszi képességeid és mentális varázslataid kockánként eggyel többet sebeznek",0,0,"- ",800,2400]
["Horsa lámpása ","1338 ","Horsa lámpása (#1338)","-",0,0,"- ",1900,0]
["hoarián szentírás ","1339 ","hoarián szentírás (#1339)","-",0,0,"1.13 ",500,0]
["immunitáskristály ","1340 ","immunitáskristály (#1340)","nem átadható",0,0,"0.09 ",3500,0]
["hoarián bőröv ","1341 ","hoarián bőröv (#1341)","+8 ügy.",0,0,"0.14 ",10,20]
["hoarián bőrzeke ","1342 ","hoarián bőrzeke (#1342)","+8 AC, +10 ügy.",0,0,"0.46 ",16,32,"Páncél",{"$nulls":6},10,{"$nulls":15},8]
["vékony ryuku kulcs ","1343 ","vékony ryuku kulcs (#1343)","-",0,0,"0.01 ",9,27]
["vastag ryuku kulcs ","1344 ","vastag ryuku kulcs (#1344)","-",0,0,"0.01 ",12,36]
["hoarián bőrnadrág ","1345 ","hoarián bőrnadrág (#1345)","+3 AC, +4 ügy.",0,0,"0.42 ",12,24,"Nadrág",{"$nulls":6},4,{"$nulls":15},3]
["hoarián saru ","1346 ","hoarián saru (#1346)","+5 AC, +5 ügy., +5 lopás",0,0,"0.18 ",15,30,"Csizma",{"$nulls":6},5,{"$nulls":15},5,{"$nulls":11},5]
["hoarián ujjkarika ","1347 ","hoarián ujjkarika (#1347)","+15 taumaturgia",0,0,"0.04 ",60,180]
["moa fogaskerék ","1348 ","moa fogaskerék (#1348)","-",0,0,"0.01 ",14,42]
["moa kártya ","1349 ","moa kártya (#1349)","-",0,0,"0.02 ",65,195]
["ezüsttöltény ","1350 ","ezüsttöltény (#1350)","típus: lövedék (ezüst, szúró), sebzés: 6d10+15, nem átadható",0,0,"0.03 ",15,0]
["hűbéresi gyűrű ","1351 ",{"$f":"CONCATENATE(TRIM(A1346),\" (#\",TRIM(B1346),\")\")","v":"hűbéresi gyűrű (#1351)"},"+50 max. vp., +3 regen. képesség (FNO-s), nem átadható",0,0,"0.03 ",1000,0,"Gyűrű",{"$nulls":12},50]
["szamurájkard ","1352 ","szamurájkard (#1352)","típus: vágó (mágikus), sebzés: 10d11+24, min. fsz: 40, +5 AC, +23 támadás, nem átadható",150,0,"- ",3000,0]
["szamurájvért ","1353 ","szamurájvért (#1353)","+59 AC, +13 erő, +13 szer., 170 max. ép., +5 regeneráció képesség (FNO-s), immunitás öregítő szörnyképességekre, immunitás kronoérintésre, nem átadható",0,0,"- ",3500,0,"Páncél",{"$nulls":4},13,null,null,null,13,170,{"$nulls":12},59]
["Toyaki csuklópántja ","1354 ","Toyaki csuklópántja (#1354)","+13 AC, +4 támadás, +6 iq, +6 eg., +100 max. ép., +100 max. vp., nem átadható",0,0,"- ",5000,0,"Karkötő",{"$nulls":5},6,null,6,null,100,null,null,100,{"$nulls":5},4,null,null,null,13]
["moa távcső ","1355 ","moa távcső (#1355)","egyes mozgás parancsod 1 TVP-vel kevesebbe kerül",0,0,"- ",280,0]
["lótakaró ","1356 ","lótakaró (#1356)","?",0,0,"- ",67,0]
["Sárkány Amulettje ","1357 ","Sárkány Amulettje (#1357)","+3 erő, +3 iq, +3 ügy., +3 eg., +3 szer., +200 max. ép., +200 max. vp., +5% TP/lény, gyorsabb teo. és tau. fejlődés, nem átadható",0,0,"- ",15000,0,"Nyaklánc",{"$nulls":4},3,3,3,3,3,200,null,null,200]
["Toyaki kristálya ","1358 ","Toyaki kristálya (#1358)","nem átadható",0,0,"0.20 ",10000,0]
["császári parancs ","1359 ","császári parancs (#1359)","nem átadható",0,0,"- ",1000,0]
["extra takarmány ","1360 ","extra takarmány (#1360)","-",0,0,"0.10 ",12,36]
["fehér immunitáskő ","1361 ","fehér immunitáskő (#1361)","immunitást ad a hideg alapú támadások ellen, nem átadható",0,0,"0.06 ",200,0]
["fekete immunitáskő ","1362 ","fekete immunitáskő (#1362)","immunitást ad a halál alapú támadásokra, nem átadható",0,0,"0.06 ",200,0]
["rizsföld ","1363 ","rizsföld (#1363)","-",0,0,"- ",0,0]
["rizs ","1364 ","rizs (#1364)","-",0,0,"0.10 ",1,2]
["ryuku tál ","1365 ","ryuku tál (#1365)","3 véka rizs tárolására",0,0,"0.03 ",5,10]
["rizspapír-vért","1366 ","rizspapír-vért (#1366)","minden a tulajdonosát ért csapást 5-tel csökkent, min. szint: 40",0,0,"0.05 ",400,1200,"Páncél",{"$nulls":24},5]
["haramaki ","1367 ","haramaki (#1367)","+30 AC, +5 sebzés, +5 támadás, +5 ügy., +5 eg., +5 szer., +5 sebzés a ryuku szigetvilág lényei ellen, -5 sebzés a ryuku szigetvilág lényeinek, min. szint: 45",0,0,"5.00 ",400,1200,"Páncél","45",{"$nulls":5},5,5,5,{"$nulls":9},5,null,null,null,30,null,null,5]
["tradicionális öv ","1368 ","tradicionális öv (#1368)","+5 AC, +1 sebzés, +5 támadás, min. szint: 40",0,0,"0.20 ",400,1200,"Öv","40",{"$nulls":17},5,null,null,null,5,null,null,1]
["hakama ","1369 ","hakama (#1369)","+8 AC, +2 sebzés, +8 támadás, min. szint: 40",0,0,"2.50 ",400,1200,"Nadrág","40",{"$nulls":17},8,null,null,null,8,null,null,2]
["wakizashi ","1370 ","wakizashi (#1370)","típus: vágó (balkezes), sebzés: 5d9+3, min. fsz: 40, -3 támadás",0,0,"0.30 ",500,1500]
["naginata ","1371 ","naginata (#1371)","típus: szúró (balkezes), sebzés: 5d9+3, min. fsz: 40, -3 támadás",0,0,"1.00 ",500,1500]
["nunchaku ","1372 ","nunchaku (#1372)","típus: ütő (balkezes), sebzés: 5d9+3, min. fsz: 40, -3 támadás",0,0,"0.30 ",500,1500]
["kabuto ","1373 ","kabuto (#1373)","+13 AC, +13 támadás, +50 max. ép., min. szint: 40",0,0,"1.10 ",400,1200,"Sisak","40",{"$nulls":8},50,{"$nulls":8},13,null,null,null,13]
["sode ","1374 ","sode (#1374)","+4 AC, +1 sebzés, +4 támadás, min. szint: 40",0,0,"1.60 ",400,1200,"Vállvédő","40",{"$nulls":17},4,null,null,null,4,null,null,1]
["kote ","1375 ","kote (#1375)","+7 AC, +5 sebzés (ryuku szigetvilág lényei ellen), +7 támadás, min. szint: 40",0,0,"1.05 ",400,1200,"Karkötő","40",{"$nulls":17},7,null,null,null,7]
["ogwawa kulcs ","1376 ","ogwawa kulcs (#1376)","-",0,0,"0.02 ",80,240]
["draklen kulcs ","1377 ","draklen kulcs (#1377)","-",0,0,"- ",40,120]
["pókláb ","1378 ","pókláb (#1378)","?",0,0,"0.20 ",1,2]
["teriád méreg ","1379 ","teriád méreg (#1379)","-",0,0,"0.01 ",12,24]
["mérgezett teriád nyílvessző ","1380 ","mérgezett teriád nyílvessző (#1380)","típus: lövedék (mágikus, szúró), sebzés: 3d11+12, +3 támadás",0,0,"0.40 ",65,260]
["mérgezett teriád tőr ","1381 ","mérgezett teriád tőr (#1381)","típus: dobó (mágikus, szúró), sebzés: 2d13+18, +3 támadás",3,0,"0.20 ",65,260]
["anguaxin váladék ","1382 ","anguaxin váladék (#1382)","-",0,0,"0.05 ",14,28]
["aranycsináló csáp ","1383 ","aranycsináló csáp (#1383)","-",0,0,"0.25 ",30,60]
["ent pásztorbot ","1384 ","ent pásztorbot (#1384)","típus: ütő (mágikus), sebzés: 10d8, min. fsz: 35, +5 AC, +5 támadás, +5 eg., rovarfelhőt lő (fixen)",0,0,"3.00 ",990,0]
["dinó szaru ","1385 ","dinó szaru (#1385)","?",0,0,"0.85 ",11,22]
["pöfeteg tojás ","1386 ","pöfeteg tojás (#1386)","-",0,0,"1.70 ",13,26]
["titkos teleportkő ","1387 ","titkos teleportkő (#1387)","-",0,0,"0.12 ",800,4000]
["teriád klipsz ","1388 ","teriád klipsz (#1388)","+40 max. ép., +20 max. vp., védekező varázslataid többsége nem igényel komponenst, nem átadható",0,0,"0.02 ",1000,0,"Fülbevaló",{"$nulls":9},40,null,null,20]
["teriád vadászöv ","1389 ","teriád vadászöv (#1389)","-",0,0,"0.80 ",2500,5000,"Öv"]
["Gonemutlan tőre ","1390 ","Gonemutlan tőre (#1390)","típus: szúró (balkezes, mágikus), sebzés: 4d8+8, min. fsz: 50, +16 támadás",0,0,"0.50 ",1930,5790]
["a szerencse gyűrűje ","1391 ","a szerencse gyűrűje (#1391)","+14 szer., min. szint: 30",0,0,"- ",514,0,"Gyűrű","30",{"$nulls":7},14]
["sárga gyöngy ","1392 ","sárga gyöngy (#1392)","-",0,0,"- ",2500,0]
["Ting Ro Ce pajzsa ","1393 ","Ting Ro Ce pajzsa (#1393)","+33 AC, +33 sebzés, +180 max. ép., +7 szerencse, +10 mentődobás hideg ellen, immunitás kritikus ütés ellen, min. szint: 55",0,0,"- ",1900,0,"Pajzs","55",{"$nulls":7},7,180,{"$nulls":12},33,null,null,33]
["hósárkány pajzs ","1394 ","hósárkány pajzs (#1394)","+30 AC, +30 sebzés, +5 szer., +150 max. ép., +5 mentődobás hideg támadások ellen, min. szint: 45",0,0,"- ",860,0,"Pajzs","45",{"$nulls":7},5,150,{"$nulls":12},30,null,null,30]
["védőtalizmán ","1395 ","védőtalizmán (#1395)","+15 AC, +15 szer., minden közelharci sebződést csökkent 10 %-al, nem átadható",0,0,"0.22 ",840,0,"Nyaklánc",{"$nulls":8},15,{"$nulls":13},15,10]
["teknős mágiapáncél ","1396 ","teknős mágiapáncél (#1396)","+10 AC, min. szint: 45",0,0,"- ",1620,0,"Páncél","45",{"$nulls":21},10]
["Mg'thorath feje ","1397 ","Mg'thorath feje (#1397)","-",0,0,"1.27 ",3000,6000]
["Zafórion esszenciája ","1398 ","Zafórion esszenciája (#1398)","min. szint: 30",0,0,"0.30 ",1330,3990]
["Mg'thorath köve ","1399 ","Mg'thorath köve (#1399)","min. szint: 55",0,0,"1.90 ",2100,6300]
["tűzsárkány ital ","1400 ","tűzsárkány ital (#1400)","közelharci sebzéseidre az adott csata időtartamára +20-at kapsz, min szint: 50",0,0,"- ",160,0]
["quwarg nyakpánt ","1401 ","quwarg nyakpánt (#1401)","+5 AC, esélye, hogy egy szörny lefejezzen, felére csökken, min. szint: 45",0,0,"1.35 ",1700,5100,"Vállvédő",{"$nulls":22},5]
["teknős csapda ","1402 ","teknős csapda (#1402)","nem átadható",0,0,"- ",360,0]
["hajóács készlet ","1403 ","hajóács készlet (#1403)","nem átadható",0,0,"3.00 ",600,0]
["csodabazár ","1404 ","csodabazár (#1404)","-",0,0,"- ",0,0]
["erőserkentő kenőcs ","1405 ","erőserkentő kenőcs (#1405)","erő tulajdonságod az erőd alapértékével növekszik meg",5,0,"0.01 ",400,0]
["agyértágító kenőcs ","1406 ","agyértágító kenőcs (#1406)","IQ-d az alapintelligenciád értékével nő; taumaturgiád, és teológiád eme érték felével (csak az, amelyik legalább 1); a max. VP-d és VP-d pedig a háromszorosával",5,0,"- ",400,0]
["reflexélesítő kenőcs ","1407 ","reflexélesítő kenőcs (#1407)","ügyességed az alap ügyességed értékével nő; és eme érték felével nő meg a támadásod és a védekezésed",5,0,"0.01 ",400,0]
["sejtfiatalító kenőcs ","1408 ","sejtfiatalító kenőcs (#1408)","egészséged megnő az egészséged alapértékével; a max. ÉP-d pedig eme alapérték ötszörösével",5,0,"- ",400,0]
["esélynövelő kenőcs ","1409 ","esélynövelő kenőcs (#1409)","szerencséd annyival nő, mint a szerencséd alapértéke; a tárgyaid alapszerencse/5 plusz mentődobást kapnak; a nálad lévő szopókövek sem fejtik ki a hatásukat",5,0,"0.01 ",400,0]
["nagyobb phua-kúp ","1410 ","nagyobb phua-kúp (#1410)","-",0,0,"- ",0,0]
["kulcsoskönyv ","1411 ","kulcsoskönyv (#1411)","nem átadható",0,0,"0.11 ",500,0]
["titanit ","1412 ","titanit (#1412)","-",0,0,"- ",35,0]
["kincses térkép ","1413 ","kincses térkép (#1413)","-",0,0,"- ",1000,0]
["kampós kéz ","1414 ","kampós kéz (#1414)","+20 sebzés ököllel, nem átadható",0,0,"0.60 ",200,0,"Kesztyű",{"$nulls":27},20]
["papagájsíp ","1415 ",{"$f":"CONCATENATE(TRIM(A1410),\" (#\",TRIM(B1410),\")\")","v":"papagájsíp (#1415)"},"-",0,0,"- ",22,0]
["halálfejes zászló ","1416 ","halálfejes zászló (#1416)","-",0,0,"2.20 ",2000,4000]
["halálfej szimbólum ","1417 ","halálfej szimbólum (#1417)","-",0,0,"- ",42,0]
["ryuku rövidkard ","1418 ","ryuku rövidkard (#1418)","típus: vágó (balkezes), sebzés: 6d4, min. fsz: 25",0,0,"1.12 ",21,42]
["rum ","1419 ","rum (#1419)","-",0,0,"0.10 ",17,34]
["titanit nyílvessző ","1420 ","titanit nyílvessző (#1420)","típus: lövedék (szúró), sebzés: 7d8+3, csak elfek használhatják, nem átadható",13,0,"0.35 ",40,0]
["titanit dobópálca ","1421 ","titanit dobópálca (#1421)","típus: dobó (szúró), sebzés: 7d8, min. bányászat: ?, nem átadható",15,0,"- ",40,0]
["Rhoi sisakja ","1422 ","Rhoi sisakja (#1422)","+10 AC, +10 sebzés, nem átadható",150,0,"- ",400,0,"Sisak"]
["titanit vállvédő ","1423 ","titanit vállvédő (#1423)","+3 AC, +4 sebzés, nem átadható",140,0,"- ",400,0,"Vállvédő",{"$nulls":22},3,null,null,4]
["titanit szigony ","1424 ","titanit szigony (#1424)","típus: vízi, sebzés: 5d8+4, min. fsz.: 12, nem átadható",200,0,"- ",400,0]
["Dhouga kalapácsa ","1425 ","Dhouga kalapácsa (#1425)","típus: ütő, sebzés: 7d12+2, min. fsz.: 30, min. bányászat: ?, nem átadható",200,0,"- ",0,0]
["Dhouga-féle szablya ","1426 ","Dhouga-féle szablya (#1426)","típus: vágó, sebzés: 7d12+2, min. fsz: 30, nem átadható",200,0,"- ",0,0]
["kitámasztólándzsa ","1427 ","kitámasztólándzsa (#1427)","típus: szúró, sebzés: 7d12+2, min. fsz.: 30, min. bányászat: ?, nem átadható",200,0,"- ",0,0]
["titanit vért ","1428 ","titanit vért (#1428)","+35 AC, +18 sebzés, nem átadható",400,0,"7.00 ",400,0,"Páncél",{"$nulls":22},35,null,null,18]
["titanit karvédő ","1429 ","titanit karvédő (#1429)","+5 AC, +8 sebzés, nem átadható",120,0,"- ",0,0,"Karkötő",{"$nulls":22},5,null,null,8]
["titanit lábvédő ","1430 ","titanit lábvédő (#1430)","+8 AC, +8 sebzés, nem átadható",120,0,"- ",0,0,"Nadrág",{"$nulls":22},8,null,null,8]
["titanit pajzs ","1431 ","titanit pajzs (#1431)","+15 AC, +45 sebzés, nem átadható",240,0,"- ",0,0,"Pajzs",{"$nulls":22},15,null,null,45]
["halálfejes köpeny ","1432 ","halálfejes köpeny (#1432)","+3 AC, +5 támadás, minden megölt szörny után +10 % tapasztalati pont, nem átadható",0,0,"2.70 ",200,0,"Köpeny",{"$nulls":18},5,null,null,null,3]
["ryuku kalózkalap ","1433 ","ryuku kalózkalap (#1433)","+8 AC, +22 támadás, +5 erő, védelem a méreg alapú varázslatok ellen, nem átadható",0,0,"1.70 ",200,0,"Sisak",{"$nulls":4},5,{"$nulls":13},22,null,null,null,8]
["elhagyott kalózhajó ","1434 ","elhagyott kalózhajó (#1434)","-",0,0,"- ",0,0]
["draklen koponya ","1435 ","draklen koponya (#1435)","használatával összes sebed azonnal begyógyul, min. iq: 90",0,0,"0.60 ",455,1365]
["stabil mágiakő ","1436 ","stabil mágiakő (#1436)","nem átadható",0,0,"0.06 ",3000,0]
["ryuku kereskedőhajó ","1437 ","ryuku kereskedőhajó (#1437)","-",0,0,"- ",0,0]
["litu-puka páfrány ","1438 ","litu-puka páfrány (#1438)","-",0,0,"- ",0,0]
["zsizsikcsapda ","1439 ","zsizsikcsapda (#1439)","magányos zsizsik begyűjtésére",0,0,"0.03 ",25,75]
["térdeplő tülök ","1440 ","térdeplő tülök (#1440)","6 életvíz tárolására",0,0,"0.18 ",8,24]
["magányos zsizsik ","1441 ","magányos zsizsik (#1441)","-",0,0,"0.01 ",0,0]
["húsos terrathua ","1442 ","húsos terrathua (#1442)","-",0,0,"- ",0,0]
["terrathua levél ","1443 ","terrathua levél (#1443)","-",1,0,"0.02 ",2,6]
["harmatos zergenye ","1444 ","harmatos zergenye (#1444)","-",0,0,"- ",0,0]
["zergenye tölcsér ","1445 ","zergenye tölcsér (#1445)","-",2,0,"0.02 ",8,24]
["fényfaló galóca ","1446 ","fényfaló galóca (#1446)","-",0,0,"- ",0,0]
["galóca kalap ","1447 ","galóca kalap (#1447)","-",2,0,"0.04 ",7,14]
["hoarián vállkendő ","1448 ","hoarián vállkendő (#1448)","-",0,0,"0.15 ",10,20]
["hoarián drágakő ","1449 ","hoarián drágakő (#1449)","-",0,0,"0.02 ",65,195]
["kórócsapda ","1450 ","kórócsapda (#1450)","-",5,0,"- ",0,0]
["titánkóró ","1451 ","titánkóró (#1451)","-",0,0,"- ",0,0]
["láprózsa ","1452 ","láprózsa (#1452)","-",1,0,"- ",0,0]
["rózsatüske ","1453 ","rózsatüske (#1453)","-",1,0,"- ",0,0]
["gourry fészek ","1454 ","gourry fészek (#1454)","-",0,0,"- ",0,0]
["gourry tojás ","1455 ","gourry tojás (#1455)","-",2,0,"- ",3,6]
["kyorg övcsat ","1456 ","kyorg övcsat (#1456)","+1 AC, permanens esszenciavédelem, min. szint: 30",0,0,"0.03 ",300,1200,"Övcsat","30",{"$nulls":21},1]
["kajmánhús ","1457 ","kajmánhús (#1457)","-",0,0,"0.30 ",0,0]
["dzsumbujharcos bóla ","1458 ","dzsumbujharcos bóla (#1458)","típus: dobó (ütő), sebzés: 6d6+3, min. fsz: 10, +5 támadás",0,0,"0.07 ",11,33]
["őskő ","1459 ","őskő (#1459)","nem átadható",0,0,"0.02 ",500,0]
["hegymélyi varázskő ","1460 ","hegymélyi varázskő (#1460)","nem átadható",0,0,"- ",500,0]
["teriád kobak ","1461 ","teriád kobak (#1461)","-",0,0,"0.15 ",13,39]
["azuka vese ","1462 ","azuka vese (#1462)","-",0,0,"0.03 ",9,18]
["garling kristály ","1463 ","garling kristály (#1463)","nem átadható",0,0,"0.02 ",500,0]
["nyeldeklő fűz ","1464 ","nyeldeklő fűz (#1464)","-",0,0,"- ",0,0]
["angolna szálka ","1465 ","angolna szálka (#1465)","típus: szúró (balkezes), sebzés: 7d10, min. fsz: 30, villámsújtást lő (fixen)",0,0,"0.19 ",31,155]
["Hulcarhud öve ","1466 ","Hulcarhud öve (#1466)","+7 AC, +7 támadás, +5 iq, -10 mentődobás az ellenfélnek varázslatok ellen, min. szint: 55",0,0,"- ",1700,0,"Öv","55",{"$nulls":4},5,{"$nulls":12},7,null,null,null,7]
["ősi kígyóbőr öv ","1467 ","ősi kígyóbőr öv (#1467)","+5 AC, +5 támadás, +2 iq, -5 mentődobás az ellenfélnek varázslataid ellen, min. szint: 49",0,0,"- ",696,2088,"Öv","49",{"$nulls":4},2,{"$nulls":12},5,null,null,null,5]
["rémbőr kesztyű ","1468 ","rémbőr kesztyű (#1468)","+11 AC, +5 sebzés, +3 szer., +70 max. ép., min. szint: 52",0,0,"- ",740,2220,"Kesztyű","52",{"$nulls":7},3,70,{"$nulls":12},11,null,null,5]
["ősi teknőcpajzs ","1469 ","ősi teknőcpajzs (#1469)","+27 AC, +12 szer., +100 max. ép., téged ért fizikai sebződéseket ütésenként 10-el csökkenti, min. szint: 49",0,0,"12.50 ",715,2145]
["Doemon kőkarkötője ","1470 ","Doemon kőkarkötője (#1470)","+20 AC, +2 eg., +8 szer., +150 max. ép., a téged ért fizikai sebzésekből ütésenként 15 sebzést semlegesít, min. szint: 55",0,0,"- ",1550,0,"Karkötő","55",{"$nulls":6},2,8,150,{"$nulls":12},20,null,15]
["Ghudd'zilla kesztyű ","1471 ","Ghudd'zilla kesztyű (#1471)","+13 AC, +6 sebzés, +5 szer., +70 max. ép., +9 sebzés ököllel (mágikus), min. szint: 55",0,0,"- ",1750,0,"Kesztyű","55",{"$nulls":7},5,70,{"$nulls":12},13,null,null,6,null,9]
["triton szigony ","1472 ","triton szigony (#1472)","típus: vízi, sebzés: 4d10, hullámkeltést lő (nem fixen)",0,0,"3.64 ",96,288]
["kígyónyelv ","1473 ","kígyónyelv (#1473)","-",0,0,"0.04 ",6,12]
["galócapálinka ","1474 ","galócapálinka (#1474)","cheloniciták megsemmisítésére",12,0,"0.01 ",4,8]
["hajóács szerszám ","1475 ","hajóács szerszám (#1475)","-",0,0,"1.84 ",36,108]
["jokonbia fa ","1476 ","jokonbia fa (#1476)","-",0,0,"- ",0,0]
["jokonbia ág ","1477 ","jokonbia ág (#1477)","nem átadható",5,0,"0.32 ",7,0]
["édesmoha ","1478 ","édesmoha (#1478)","-",0,0,"- ",0,0]
["édesmoha csomó ","1479 ",{"$f":"CONCATENATE(TRIM(A1474),\" (#\",TRIM(B1474),\")\")","v":"édesmoha csomó (#1479)"},"-",1,0,"0.06 ",0,0]
["titanitdukát ","1480 ","titanitdukát (#1480)","nem átadható",0,0,"0.01 ",60,0]
["rúnakristály ","1481 ","rúnakristály (#1481)","+1% TP minden alkalommal, amikor egyébként is TP-t kapnál, nem átadható",0,0,"0.09 ",900,0]
["értépő sarkantyú ","1482 ","értépő sarkantyú (#1482)","+1 sebzés",0,0,"0.04 ",100,200,"Csizma",{"$nulls":25},1]
["kalóz bőrcsizma ","1483 ","kalóz bőrcsizma (#1483)","+10 AC, min. szint: 25",0,0,"0.95 ",20,60,"Csizma","25",{"$nulls":21},10]
["finom keszkenő ","1484 ","finom keszkenő (#1484)","-",0,0,"0.10 ",12,36,"Kesztyű"]
["Kjotoannam plazmája ","1485 ","Kjotoannam plazmája (#1485)","-",0,0,"0.01 ",280,560]
["pavhalka gumó ","1486 ","pavhalka gumó (#1486)","nem átadható",0,0,"- ",500,0]
["Szakamó fülgyűrűje ","1487 ","Szakamó fülgyűrűje (#1487)","+40 vp. regen., +40 max. vp., ellenfeleid -12 módosítót kapnak a varázslataid elleni mentődobásukra, megnöveli maximális életkorodat 30 %-kal, nem átadható",0,0,"0.03 ",4500,0,"Fülbevaló",{"$nulls":12},40,40]
["díszes tunika ","1488 ","díszes tunika (#1488)","+10 AC, +300 max. ép., min. szint: 30",0,0,"1.40 ",300,1500,"Páncél","30",{"$nulls":8},300,{"$nulls":12},10]
["nemesi vívópalást ","1489 ","nemesi vívópalást (#1489)","-3 AC, -3 támadás, +1 támadásszám jobb- és balkézzel, -2 támadásszám távfegyverrel, nem átadható",0,0,"0.90 ",200,0,"Köpeny",{"$nulls":18},-3,null,1,-2,-3]
["vívónadrág ","1490 ","vívónadrág (#1490)","+1 támadásszám jobb kézzel, -2 támadásszám távfegyverrel, nem átadható",0,0,"1.30 ",200,0]
["nemesi ruhadísz ","1491 ","nemesi ruhadísz (#1491)","nem átadható",0,0,"- ",400,0]
["elhagyatott ház ","1492 ","elhagyatott ház (#1492)","-",0,0,"- ",0,0]
["fűzött kagylósor ","1493 ","fűzött kagylósor (#1493)","+10 sebzés (tengeren hajózva), +10 támadás, min. szint: 30",0,0,"0.20 ",62,310,"Nyaklánc","30",{"$nulls":17},10]
["füstölő ","1494 ","füstölő (#1494)","-",0,0,"0.03 ",12,24]
["yuong tűzpikkely ","1495 ","yuong tűzpikkely (#1495)","-",0,0,"0.44 ",25,75]
["cseng hópikkely ","1496 ","cseng hópikkely (#1496)","-",0,0,"- ",25,75]
["esszenciamágnes ","1497 ","esszenciamágnes (#1497)","nem átadható",0,0,"- ",3500,0]
["reverziós prizma ","1498 ","reverziós prizma (#1498)","nem átadható",0,0,"1.50 ",1100,0]
["Xhe-po-khai gyűrűje ","1499 ","Xhe-po-khai gyűrűje (#1499)","+10 támadás, mint. szint: 40,",0,0,"- ",850,0,"Gyűrű","40",{"$nulls":17},10]
["életvíz ","1500 ","életvíz (#1500)","-",0,0,"- ",100,0]
["rechelonicitor ","1501 ","rechelonicitor (#1501)","nem átadható",0,0,"1.50 ",1800,0]
["robbanó golyóbis ","1502 ","robbanó golyóbis (#1502)","típus: lövedék (?), sebzés: 4d6, -3 támadás/db",0,0,"0.23 ",35,105]
["Radelf csizmája ","1503 ","Radelf csizmája (#1503)","+18 AC, +5 iq, +5 ügy., +50 max. ép., min. szint: 55",0,0,"- ",1430,0,"Csizma","55",{"$nulls":4},5,5,null,null,50,{"$nulls":12},18]
["teknősbőr nadrág ","1504 ","teknősbőr nadrág (#1504)","+12 AC, +2 erő, +2 iq, +2 ügy., +2 eg., +2 szer., +140 max. ép., min. szint: 50",0,0,"- ",420,0,"Nadrág","50",null,null,null,2,2,2,2,2,140,{"$nulls":12},12]
["gyöngykagyló ","1505 ","gyöngykagyló (#1505)","+1 sebzés/db (víz alatt), min. víziharc: 15",0,0,"0.03 ",32,96]
["ryuku talizmán ","1506 ","ryuku talizmán (#1506)","+1 sebzés/kocka méreg alapú varázslatokra",0,0,"- ",115,0,"Nyaklánc"]
["Tsutomu amulettje ","1507 ","Tsutomu amulettje (#1507)","+5 AC, ha draklennel találkozol támadásaidhoz +15, sebzésedhez szintén +15 járul, min. szint: 55",0,0,"- ",950,0,"Nyaklánc","55",{"$nulls":21},5]
["ryuku katonai kötszer ","1508 ","ryuku katonai kötszer (#1508)","-",0,0,"0.10 ",36,108]
["rozsomákszőr ","1510 ","rozsomákszőr (#1510)","-",0,0,"0.02 ",1,2]
["ryuku akadálypálya ","1511 ","ryuku akadálypálya (#1511)","-",0,0,"- ",0,0]
["ryuku aranybánya ","1512 ","ryuku aranybánya (#1512)","-",0,0,"- ",0,0]
["teknős territórium ","1513 ","teknős territórium (#1513)","-",0,0,"- ",0,0]
["teknőstojás ","1514 ","teknőstojás (#1514)","-",0,0,"0.40 ",15,30]
["misztikus tojás ","1515 ","misztikus tojás (#1515)","-",0,0,"- ",30,60]
["draklentojás ","1516 ","draklentojás (#1516)","-",0,0,"- ",80,160]
["nyerskulcs ","1517 ","nyerskulcs (#1517)","-",0,0,"0.30 ",30,60]
["örökkévalóság tűzopálja ","1518 ","örökkévalóság tűzopálja (#1518)","+6 támadás, +3 erő, +3 iq, +3 ügy., +3 eg., +3 szer., +150 ép. regen., +70 max. ép., +70 max. vp., +4 tárgymentő, plusz ép regen., nem átadható",0,0,"0.01 ",2000,0,"Ékszer",{"$nulls":4},3,3,3,3,3,70,150,null,70,{"$nulls":5},6,{"$nulls":12},4]
["Vlagyimir-díj ","1519 ","Vlagyimir-díj (#1519)","+1 erő, +1 iq, +1 ügy., +1 eg., +1 szer., permanens önanalízis, nem átadható",0,0,"0.02 ",1500,0,"Ékszer",{"$nulls":4},1,1,1,1,1]
["Shengoroth karma ","1520 ","Shengoroth karma (#1520)","típus: vágó (mágikus), sebzés: 6d7, min. fsz: 35, nekromanta csókját lő (fixen), felezi a rád lőtt sav alapú varázslatok sebzését",0,0,"1.85 ",420,1260]
["ryuku tűvető ","1521 ","ryuku tűvető (#1521)","típus: lőfegyver, min. fsz: 20",0,0,"0.18 ",460,2300]
["precíziós vetőtű ","1522 ","precíziós vetőtű (#1522)","típus: lövedék (szúró), sebzés: ismeretlen",0,0,"0.01 ",23,46]
["angyali medál ","1523 ","angyali medál (#1523)","energia / tűz / villám alapú varázslataid ellen a Sötét Föld lényei -5-öt kapnak mentődobásaikra, ezen varázslataid 10%-kal többet sebeznek rajtuk (de max. 100), ritkán +1 FNO Raia híveinek, min. szint: 30",0,0,"- ",720,0,"Nyaklánc"]
["angyali fétis ","1524 ","angyali fétis (#1524)","permanens fényaura, Raia papoknak dupla hatásfokkal",0,0,"- ",360,0]
["őskristály-szilánk ","1525 ","őskristály-szilánk (#1525)","-",0,0,"- ",33,99]
["Mallon botja ","1526 ","Mallon botja (#1526)","típus: ütő, sebzés: 4d6+1, min. fsz: 10, +2 támadás, jégcsóvát lő (nem fixen)",0,0,"9.00 ",180,900]
["Jerome köpenye ","1527 ","Jerome köpenye (#1527)","+2 AC, +2 szer., +3 vadászat, csökkenti az éhségérzetet mint a vasszervezet",0,0,"0.30 ",180,900,"Köpeny",{"$nulls":8},2,{"$nulls":13},2,{"$nulls":22},3]
["varkaudar szimbólum ","1528 ","varkaudar szimbólum (#1528)","+1 támadás, plusz ellenfél varkaudar faluban",0,0,"0.03 ",70,210,"Nyaklánc",{"$nulls":18},1]
["szivárványszív ","1529 ","szivárványszív (#1529)","-",0,0,"0.04 ",30,90]
["ryuku futárcsizma ","1530 ","ryuku futárcsizma (#1530)","+4 AC, +2 szer., szabadban történő mozgásaid 5 TVP-be kerülnek, min. szint: 15",0,0,"0.12 ",300,0,"Csizma","15",{"$nulls":7},2,{"$nulls":13},4]
["méregtagadó ","1531 ","méregtagadó (#1531)","típus: vágó (balkezes), sebzés: 2d6+3, min. fsz: 10, immúnitás a szörnyek mérgezésére",0,0,"0.16 ",240,1200]
["féregnyereg ","1532 ","féregnyereg (#1532)","+2 AC, +2 támadás hátason lovagolva",0,0,"- ",200,0]
["Nodonrod kitűző ","1533 ","Nodonrod kitűző (#1533)","-",0,0,"0.02 ",90,270]
["quwarg teleportgömb ","1534 ","quwarg teleportgömb (#1534)","-",0,0,"0.01 ",500,0]
["quwarg katalizátor ","1535 ","quwarg katalizátor (#1535)","-",0,0,"- ",660,0]
["trikornis nyereg ","1536 ","trikornis nyereg (#1536)","+1 mozgás, +2 TVP/mozgás",0,0,"8.40 ",240,0]
["Raia csataszoknyája ","1537 ","Raia csataszoknyája (#1537)","+5 AC, +12 teológia, energia alapú varázslataid szintenként eggyel többet sebeznek, csak jók használhatják, min. szint: 30",0,0,"- ",480,2400,"Nadrág","30",null,"1",{"$nulls":19},5,{"$nulls":9},12]
["Amélia nyaklánca ","1538 ","Amélia nyaklánca (#1538)","+2 AC, +2 támadás, +20 max ép., -2 TVP/lépés, min. szint: 20",0,0,"- ",0,0,"Nyaklánc","20",{"$nulls":8},20,{"$nulls":8},2,null,null,null,2]
["térhajlító kavics ","1539 ","térhajlító kavics (#1539)","duplájára növeli a városi teleportok és a tiltott teleport hatótávolságát",0,0,"0.03 ",230,690]
["megsemmisítő ","1540 ","megsemmisítő (#1540)","-",0,0,"0.20 ",50,0]
["Arsa potrohgyűrűje ","1541 ","Arsa potrohgyűrűje (#1541)","+10 mentődobás méreg ellen, méreg alapú varázslataidhoz nem lesz szükséged anyagi komponensre, min.szint: 25",0,0,"0.15 ",360,1080,"Karkötő","25"]
["Amélia köpenye ","1542 ","Amélia köpenye (#1542)","+4 eg., vámpirizáció varázslat minden ütés után +3%-kal többet gyógyít, min. szint: 20",0,0,"- ",210,0,"Köpeny","20",{"$nulls":6},4]
["kígyótoll ","1543 ","kígyótoll (#1543)","-",0,0,"- ",20,60]
["éjfekete kígyótoll ","1544 ",{"$f":"CONCATENATE(TRIM(A1538),\" (#\",TRIM(B1538),\")\")","v":"éjfekete kígyótoll (#1544)"},"nem átadható",0,0,"- ",200,0]
["varázskorsó ","1546 ","varázskorsó (#1546)","körönként termel egy adag varkaudar pálinkát",0,0,"0.30 ",270,1350]
["Blounther gyűrűje ","1548 ","Blounther gyűrűje (#1548)","immunitás elnyelésre",0,0,"0.02 ",600,3000,"Gyűrű"]
["balkezes gyűrű ","1549 ","balkezes gyűrű (#1549)","+1 AC, +1 támadás, permanens állatvédelem",0,0,"0.01 ",200,600,"Gyűrű",{"$nulls":18},1,null,null,null,1]
["Huddens alkarvédője ","1550 ","Huddens alkarvédője (#1550)","+2 ügy., 1 plusz sebzés ökölre, min. szint: 15",0,0,"0.40 ",170,510,"Karkötő","15",{"$nulls":5},2,{"$nulls":20},1]
["mentát karkötő ","1551 ","mentát karkötő (#1551)","-5 mentődobás az ellenfélnek a mentális varázslataid ellen (ebbe támadó pszi képességeid is beletartoznak)",0,0,"- ",90,270,"Karkötő"]
["saválló fülbevaló ","1552 ","saválló fülbevaló (#1552)","immunitás a szörnyek savleheletének és sav alapú támadó varázslatoknak a sebzésére",0,0,"- ",140,0,"Fülbevaló"]
["méregfog ","1553 ","méregfog (#1553)","típus: szúró (balkezes), sebzés: 2d6+3, min. fsz: 10, +3 támadás",0,0,"0.16 ",240,1200]
["aenouth ködkürt ","1554 ","aenouth ködkürt (#1554)","-",0,0,"- ",460,0]
["holdezüst fejpánt ","1555 ","holdezüst fejpánt (#1555)","+5 AC, +2 szer., +20 max. pszi, min. pszi: 5",0,0,"- ",180,540,"Sisak",{"$nulls":8},2,{"$nulls":6},20,{"$nulls":6},5]
["Ek'Hor pajzsa ","1556 ","Ek'Hor pajzsa (#1556)","+20 AC, +8 mentődobás mentális támadás ellen, min. szint: 17",0,0,"- ",500,2500,"Pajzs","17",{"$nulls":21},20]
["ekharion dárda ","1557 ","ekharion dárda (#1557)","típus: dobó (mágikus, szúró), sebzés: 22, min. fsz: 14, +8 támadás",0,0,"4.00 ",40,80]
["hősiesítő medál ","1558 ","hősiesítő medál (#1558)","+1 támadás, +2 erő, szintedtől és szintjüktől függetlenül megtámadod a szembejövő szörnyeket, min. szint: 15",0,0,"- ",180,540,"Nyaklánc","15",null,null,null,2,{"$nulls":13},1]
["mentát korona ","1559 ","mentát korona (#1559)","+9 AC, +60 max. pszi, min. pszi: 20, -8 mentődobás ellenfeleknek varázslatok ellen, szörny eltűnést megakadályoz,",0,0,"- ",500,0,"Sisak",{"$nulls":15},60,{"$nulls":6},9]
["légiós hátizsák ","1560 ","légiós hátizsák (#1560)","megterheltséged csökken kb. 25 kilóval",0,0,"- ",120,0]
["Krogan buzogánya ","1561 ","Krogan buzogánya (#1561)","típus: ütő, sebzés: 5d6+7, min. fsz: 20, csak trollok használhatják, +6 sebzés óriások ellen",0,0,"- ",230,690]
["Métely páncélja ","1562 ","Métely páncélja (#1562)","+8 AC, +25 max. ép., min. szint: 9",0,0,"4.50 ",120,360,"Páncél","9",{"$nulls":8},25,{"$nulls":12},8]
["bozontfonat ","1563 ","bozontfonat (#1563)","+3 erő, -2 iq",0,0,"- ",330,0,"Sisak",{"$nulls":4},3,-2]
["fattylord deréköv ","1564 ","fattylord deréköv (#1564)","+65 max. ép., min. szint: 27",0,0,"- ",320,960,"Öv","27",{"$nulls":8},65]
["Dühöngő nadrágja ","1565 ","Dühöngő nadrágja (#1565)","+4 AC, +3 iq, +3 szer., +30 max. vp., min. szint: 27",0,0,"- ",660,3300,"Nadrág","27",{"$nulls":4},3,null,null,3,null,null,null,30,{"$nulls":9},4]
["jégpasztilla ","1566 ","jégpasztilla (#1566)","típus: dobó (?), sebzés: 3d5, -4 AC/db, -4 támadás/db",0,0,"0.01 ",30,90]
["napmedál ","1567 ","napmedál (#1567)","+4 sebzés, +4 támadás, min. szint: 20",0,0,"- ",440,0,"Nyaklánc","20",{"$nulls":17},4,{"$nulls":6},4]
["kentaurusz íj ","1568 ","kentaurusz íj (#1568)","típus: lőfegyver, min. fsz: 25, +2 támadás, +1 támadásszám a fegyverrel",0,0,"- ",630,3150]
["Napsörény szarva ","1569 ","Napsörény szarva (#1569)","-",0,0,"0.25 ",440,1320]
["Krough fejdísze ","1570 ","Krough fejdísze (#1570)","+70 max. ép., immunitás félelem támadásokkal szemben, min. szint: 12",0,0,"0.15 ",270,1350,"Sisak","12",{"$nulls":8},70]
["tanulmánytekercs ","1571 ","tanulmánytekercs (#1571)","ingyen varázslat tanulás a királyság varázslótornyaiban egy alkalommal, nem átadható",0,0,"0.04 ",60,0]
["életköves gyűrű ","1572 ","életköves gyűrű (#1572)","+6 eg., +40 max. ép., immunitást ad skarlátia ellen, min. szint: 25",0,0,"0.05 ",370,1110,"Gyűrű","25",{"$nulls":6},6,null,40]
["démoni palást ","1573 ","démoni palást (#1573)","+3 AC, +3 támadás, -1 iq, minden támadást mágikussá tesz, min. szint: 30",0,0,"- ",680,3400,"Köpeny","30",{"$nulls":4},-1,{"$nulls":12},3,null,null,null,3]
["jégcsákány ","1574 ","jégcsákány (#1574)","típus: szúró, sebzés: 5d4+8, min. fsz: 12, a magashegységben való mozgás eggyel kevesebb TVP-be kerül",0,0,"1.80 ",350,0]
["jégrúna-tekercs ","1575 ","jégrúna-tekercs (#1575)","-",0,0,"0.06 ",400,0]
["fülemüle síp ","1576 ","fülemüle síp (#1576)","birtoklásakor 4-gyel alacsonyabb zene is elég a szörnyek rikácsolásának kikerüléséhez",0,0,"0.01 ",90,270]
["monstrum vállvédő ","1577 ","monstrum vállvédő (#1577)","+12 max. ép., csak trollok használhatják, min. szint: 8",0,0,"2.90 ",120,360,"Vállvédő","8",{"$nulls":8},12]
["grifftoll kesztyű ","1578 ","grifftoll kesztyű (#1578)","+2 támadás, +3 sebzést minden fegyverre, +4 sebzés ököllel, min. szint: 7",0,0,"- ",165,0,"Kesztyű","7",{"$nulls":17},2,{"$nulls":6},3,null,4]
["griff nyakék ","1579 ","griff nyakék (#1579)","+2 AC",0,0,"0.05 ",80,240,"Nyaklánc",{"$nulls":22},2]
["ryuku pecsétgyűrű ","1580 ","ryuku pecsétgyűrű (#1580)","-",0,0,"- ",300,900,"Gyűrű"]
["lényegformázó gyűrű ","1581 ","lényegformázó gyűrű (#1581)","nem átadható",0,0,"- ",500,0,"Gyűrű"]
["gyógyerejű talizmán ","1582 ","gyógyerejű talizmán (#1582)","minden gyógyító erejű tárgyad (gyógykenőcs, ryuku katonai kötszer, stb.) dupla annyi ép-t lesz képes regenerálni rajtad mint előzőleg",0,0,"- ",600,0]
["álcaruha ","1583 ","álcaruha (#1583)","+8 AC, +10 lopás, +10 rejtőzködés, min. lopás: 10, +1 támadásszám távfegyverrel, nem átadható",0,0,"- ",600,0,"Köpeny",{"$nulls":22},8,{"$nulls":11},10,null,null,10]
["különleges varkaudar tekercs ","1585 ","különleges varkaudar tekercs (#1585)","-",0,0,"0.06 ",200,0]
["fojtóhurok ","1586 ","fojtóhurok (#1586)","nem átadható",0,0,"- ",50,0]
["Elenios tündöklő szobra ","1587 ","Elenios tündöklő szobra (#1587)","-",0,0,"- ",0,0]
["manóétek ","1588 ","manóétek (#1588)","-",0,0,"- ",20,0]
["kalmárok kémgömbje ","1589 ","kalmárok kémgömbje (#1589)","nem átadható",0,0,"0.16 ",80,0]
["kábító nyilacska ","1590 ","kábító nyilacska (#1590)","típus: dobó (szúró), sebzés: 4d8, min. fsz: 25, minden sikeres találat 4-el csökkenti az ellenfél támadását és védekezését a harc időtartamára",0,0,"0.09 ",25,75]
["Inkvizítori Keresztszalag ","1591 ","Inkvizítori Keresztszalag (#1591)","+1 AC, +7 MXTU",0,0,"- ",0,0,"Öv",{"$nulls":17},7,{"$nulls":4},1]
["kamikáze fejfedő ","1592 ","kamikáze fejfedő (#1592)","-20 AC, ha életerőd a maximális 5%-a alá zuhan, akkor menekülsz el a harcokból, min. szint: 55",0,0,"0.10 ",250,750,"Sisak","55",{"$nulls":21},-20]
["lovagi sisakforgó ","1594 ","lovagi sisakforgó (#1594)","ha forgóval a sisakodon vezetsz egy csapatot TK-ba, csapatmunka szakértelmed a szokásos +20%-ával fejlődik, min. csapatmunka: 4",0,0,"- ",300,0,"Sisak"]
["illatos rózsaszál ","1595 ","illatos rózsaszál (#1595)","kevesebb eséllyel leszel rosszul a szörnyek bűzétől",30,0,"0.20 ",10,20]
["Tharr koronája ","1596 ","Tharr koronája (#1596)","+8 AC, +3 sebzés, +3 támadás, +50 max. ép., +10 gyógyítás, közelharcban, minden szörnyre leadott ütésedre van 1% esély, hogy az ütés kritikus lesz, min. szint: 50, nem átadható",0,0,"- ",3000,0,"Sisak","50",{"$nulls":8},50,{"$nulls":8},3,null,null,null,8,null,null,3,{"$nulls":14},10]
["Elenios fülbevalója ","1597 ","Elenios fülbevalója (#1597)","+5 iq, +100 vp. regen., +100 max. vp., harcban elszenvedett fizikai sebzés 10%-kal csökken, ha fejlesztési pontot kapnál, lesz 10% esélyed, hogy kapsz még egyet, min. szint: 45, nem átadható",0,0,"- ",3000,0,"Fülbevaló","45",{"$nulls":4},5,{"$nulls":6},100,100]
["csonka fülbevaló ","1598 ","csonka fülbevaló (#1598)","+3 iq, +50 vp. regen., +50 max. vp., harcban elszenvedett fizikai sebzés 5%-kal csökken, nem átadható",0,0,"- ",1500,0,"Fülbevaló",{"$nulls":5},3,{"$nulls":6},50,50]
["rubin koszorú ","1599 ","rubin koszorú (#1599)","+1 erő, +1 iq, +1 ügy., +1 eg., nem átadható",0,0,"0.30 ",500,0,"Sisak",{"$nulls":4},1,1,1,1]
["mágikus gyertya ","1600 ","mágikus gyertya (#1600)","-",50,0,"0.12 ",60,180]
["féregíz nyakpánt ","1601 ","féregíz nyakpánt (#1601)","+2 AC, -2 sebződés, min. szint: 5, nem átadható",0,0,"1.74 ",90,270,"Vállvédő","5",{"$nulls":21},2,null,2]
["ezüstszelence ","1602 ","ezüstszelence (#1602)","nem átadható",0,0,"0.20 ",600,0]
["elmevédő kristály ","1603 ","elmevédő kristály (#1603)","nem átadható",0,0,"0.05 ",150,0]
["Holtak Akarata ","1604 ","Holtak Akarata (#1604)","+3 % TP nem élőholt lényeknél, speciális hatások befogott élőholtakra, nem átadható",0,0,"0.09 ",500,0]
["Aritma ostora ","1605 ","Aritma ostora (#1605)","típus: ütő (balkezes), sebzés: 4d5, +3 szörnyidomítás",0,0,"3.00 ",130,520]
["Ouitmlen esszenciája ","1606 ","Ouitmlen esszenciája (#1606)","elhasználódás nélkül helyettesíti a thargodan esszenciát mint varázslatkomponenst",0,0,"0.10 ",190,570]
["lélekharang ","1607 ","lélekharang (#1607)","min. szint: 40",0,0,"0.10 ",800,3200]
["tl'urlang kereső ","1608 ","tl'urlang kereső (#1608)","-",0,0,"1.60 ",800,2400]
["isteni esszencia ","1609 ","isteni esszencia (#1609)","nem átadható",0,0,"- ",7000,0]
["mágusok itala ","1610 ","mágusok itala (#1610)","fordulód végéig minden sebző taumaturgia és teológia varázslatod sebzését 33%-kal növeli, nem átadható",0,0,"0.01 ",150,0]
["régészásó ","1611 ","régészásó (#1611)","típus: vágó, sebzés: 1d6, használva a tárgyat az ásás költsége: 4 TVP",0,0,"3.00 ",110,440]
["aranymosó serpenyő ","1612 ",{"$f":"CONCATENATE(TRIM(A1602),\" (#\",TRIM(B1602),\")\")","v":"aranymosó serpenyő (#1612)"},"-",0,0,"- ",110,440]
["vámpírkesztyű ","1613 ","vámpírkesztyű (#1613)","+3 AC, +3 sebzés, +9 sebzés ököllel (ezüst), +3 támadás, +25 % vámpirizáció varázslat hatékonyság, min. szint: 40",0,0,"- ",500,0,"Kesztyű","40",{"$nulls":17},3,null,null,null,3,null,null,3,null,9]
["vámpírvért ","1614 ","vámpírvért (#1614)","+24 AC, +4 sebzés, +4 eg., +40 max. ép., immunitást ad vámpirizáció és nekromanta csókja varázslatok ellen, min. szint: 40",0,0,"- ",400,0,"Páncél","40",{"$nulls":6},4,null,40,{"$nulls":12},24,null,null,4]
["keg gomba ","1615 ","keg gomba (#1615)","+50 TU, nem átadható",0,0,"- ",350,0]
["árnygyűrű ","1617 ","árnygyűrű (#1617)","+30 max. vp., másik gyűrű mellett is lehet hordani, hatása minden forduló végén eggyel csökken, nem átadható",0,0,"- ",220,0,"Gyűrű"]
["fenőkő ","1618 ","fenőkő (#1618)","+1 sebzés fegyvereknek (kivéve ütő, ököl)",0,0,"- ",100,0]
["Thargodan varázskönyv ","1619 ","Thargodan varázskönyv (#1619)","+150 max. ép. forduló végéig, 30 forduló múlva a tárgy megsemmisül",0,0,"- ",300,0]
["ragyogó övcsat ","1620 ","ragyogó övcsat (#1620)","+1 AC, ha jellemed abszolút jó, minden kapott jóságpont helyett +20 VP-t ad az övcsat, min. szint: 30",0,0,"0.03 ",300,600,"Övcsat","30",null,"1",{"$nulls":19},1]
["nekromanta övcsat ","1621 ","nekromanta övcsat (#1621)","+1 AC, +20 vp/gonoszságpont 666-os gonoszságtól, min. szint: 30",0,0,"- ",300,0,"Övcsat","30",null,"3",{"$nulls":19},1]
["vérvörös rózsa ","1622 ","vérvörös rózsa (#1622)","-",0,0,"0.05 ",1,0]
["aranyozott klipsz ","1623 ","aranyozott klipsz (#1623)","+3 szer.",0,0,"- ",32,0,"Fülbevaló",{"$nulls":8},3]
["Mamajaga kőpálcája ","1624 ","Mamajaga kőpálcája (#1624)","típus: ütő (mágikus), sebzés: 4d14, +2 regeneráció képesség (FNO-s), természet haragját lő (fixen), min. fsz: 30",0,0,"4.00 ",340,1020]
["ragyogó pelerin ","1627 ","ragyogó pelerin (#1627)","+5 AC, +5 szer., +5 tau., +5 teo., +1 MXTU, +3 fizikai hatások elleni mentődobás, min. szint: 30",0,0,"- ",400,0,"Köpeny","30",null,"1",{"$nulls":5},5,{"$nulls":13},5,{"$nulls":9},5,5]
["nekromanta csuha ","1628 ","nekromanta csuha (#1628)","+2 AC, +4 támadás, +4 ügy., +1 MXTU, +5 teológia, +3 mentő hideg- és haláltámadások ellen, csak gonoszok használhatják, min. szint: 30",0,0,"- ",400,0,"Köpeny","30",null,"3",null,null,null,4,{"$nulls":10},1,4,null,null,null,2,{"$nulls":9},5]
["koboldkorona ","1629 ","koboldkorona (#1629)","-",0,0,"0.08 ",300,900]
["Mamajaga kőcipője ","1630 ","Mamajaga kőcipője (#1630)","+8 AC, -30 max. ép., -5 rejtőzködés, -5 vadászat, -8 sebződés közelharcban, min. szint: 30",0,0,"- ",420,0,"Csizma","30",{"$nulls":8},-30,{"$nulls":12},8,null,8,{"$nulls":12},-5,{"$nulls":7},-5]
["lovagi övcsat ","1631 ","lovagi övcsat (#1631)","ha balkezedben pajzsot használsz, annyi plusz támadást kapsz, mint amennyi védelmet ad pajzsod, min. szint: 30",0,0,"- ",300,0,"Övcsat","30"]
["sárkány ékkő ","1632 ","sárkány ékkő (#1632)","nem átadható",0,0,"0.10 ",500,0]
["kisebb teleportkő ","1633 ","kisebb teleportkő (#1633)","-",0,0,"- ",200,0]
["kiképzői érdemérem ","1634 ","kiképzői érdemérem (#1634)","nem átadható",0,0,"- ",250,0]
["A hajózás krónikája ","1635 ","A hajózás krónikája (#1635)","nem átadható",0,0,"- ",250,0]
["kronokristály ","1636 ","kronokristály (#1636)","ha már elérted az egy fordulóban kapható max. TVP korlátot, 30 fordulón keresztül akkor is kaphatsz még TVP-t, fordulónként egyet, nem átadható",0,0,"0.09 ",900,0]
["hajóláda ","1637 ","hajóláda (#1637)","+20 tárgyhely, -14 kg megterheltség, nem átadható",0,0,"- ",500,0]
["díszes fegyvertok ","1638 ","díszes fegyvertok (#1638)","+1 támadás, 80 % eséllyel véd a fegyvertörés ellen (fegyvertörés pl. mint a csontpálca)",0,0,"- ",500,0]
["bűvészpálca ","1639 ","bűvészpálca (#1639)","-",0,0,"- ",110,0]
["fejlődéskő ","1640 ","fejlődéskő (#1640)","egyik nem fegyveres szakértelmed megnő azonnal egy szinttel (véletlenszerűen)",0,0,"- ",150,0]
["kentaurusz szőttes ","1641 ","kentaurusz szőttes (#1641)","távfegyver fázisban +6 támadás",0,0,"- ",220,660]
["hibátlan tűzopál ","1642 ","hibátlan tűzopál (#1642)","nem átadható",0,0,"- ",600,0]
["kentaurusz kürt ","1643 ","kentaurusz kürt (#1643)","min. zene: 10, a kürt többszemélyes csatában rajtad kívül mindenkin a maximális életerejének 8-10%-át gyógyítja (ez max. fölé nem mehet)",0,0,"- ",300,900]
["alakformáló főzet ","1644 ","alakformáló főzet (#1644)","nem átadható",30,0,"- ",60,0]
["díszes nyereg ","1645 ","díszes nyereg (#1645)","+2 AC",0,0,"5.00 ",140,420]
["ködíj ","1646 ","ködíj (#1646)","típus: lőfegyver, min. fsz: 50, nem átadható",0,0,"- ",600,0]
["ködvessző ","1647 ","ködvessző (#1647)","típus: lövedék (mágikus, szúró), sebzés: 5d4+4, +8 támadás, élőholtak ellen +20 sebzés",0,0,"- ",50,100]
["wuughee dárda ","1648 ","wuughee dárda (#1648)","típus: dobó (szúró), sebzés: 4d10+27, min. fsz: 50",0,0,"- ",120,0]
["díszes fakanál ","1649 ","díszes fakanál (#1649)","a főzés 1 TVP-vel kevesebbe kerül",0,0,"- ",60,0]
["lélekkő ","1650 ","lélekkő (#1650)","nem átadható",0,0,"- ",200,0]
["bálnaölő szigony ","1651 ","bálnaölő szigony (#1651)","típus: szúró, sebzés felszínen: 7d8, sebzés tengeren: 7d8+20, min. fsz: 30, nem átadtható",0,0,"- ",550,0]
["bálnavadász tájoló ","1652 ","bálnavadász tájoló (#1652)","-",0,0,"- ",800,0]
["a bátorság medálja ","1653 ","a bátorság medálja (#1653)","+2 harci kör többszemélyes kalandokban",0,0,"0.10 ",100,300]
["szithon vízfókusz ","1654 ","szithon vízfókusz (#1654)","azok a támadó varázslataid, melyek több személyre is hatnak, az oldaladon harcoló társaidra nem lesznek hatással, min. csapatmunka: 5",0,0,"0.30 ",200,600]
["gyöngyhalász maszk ","1655 ","gyöngyhalász maszk (#1655)","permanens vízlégzés, nem átadható",0,0,"0.28 ",200,0]
["szithon vérfókusz ","1656 ","szithon vérfókusz (#1656)","nem átadható",0,0,"- ",90,0]
["muzsikus füles ","1657 ","muzsikus füles (#1657)","+3 zene, ha városban zenélsz, 10%-kal adományozókészebbek lesznek a helyiek,",0,0,"0.06 ",35,105,"Fülbevaló",{"$nulls":38},3]
["Korrissh sisakja ","1658 ","Korrissh sisakja (#1658)","+12 AC, +6 sebzés (thargodanok és sárkányok ellen), +6 támadás, min. szint: 35",0,0,"- ",450,1350,"Sisak","35",{"$nulls":17},6,null,null,null,12]
["vérpettyes gyűrű ","1659 ","vérpettyes gyűrű (#1659)","+2 sebzés labirintusban, min. szint: 10",0,0,"0.05 ",40,120,"Gyűrű","10"]
["hópelyhes kupa ","1660 ","hópelyhes kupa (#1660)","-",0,0,"- ",600,0]
["telerótt rúnalap ","1661 ","telerótt rúnalap (#1661)","nem átadható",0,0,"0.05 ",250,0]
["tünde gyűrű ","1662 ","tünde gyűrű (#1662)","-3 AC, -3 támadás, ha természetellenes öregítő hatás ér, annak mértékétől függetlenül, csak egy évet fogsz öregedni, min. szint: 30",0,0,"- ",250,0,"Gyűrű","30",{"$nulls":17},-3,null,null,null,-3]
["bajnoki öv ","1663 ","bajnoki öv (#1663)","ha több ellenféllel küzdenél egy csatában, egy másikra is leadhatsz egy teljes támadást a jobbkezes fegyvereddel, min. szint: 30",0,0,"- ",200,600,"Öv","30"]
["próbakő ","1664 ","próbakő (#1664)","nem átadható",0,0,"- ",135,0]
["kulcsgenerátor ","1665 ","kulcsgenerátor (#1665)","-",0,0,"- ",250,0]
["méregtermő iszák ","1666 ","méregtermő iszák (#1666)","nem átadható",0,0,"- ",60,0]
["úri lábbeli ","1667 ","úri lábbeli (#1667)","+3 AC, +3 iq, +3 ügy., min. szint: 10",0,0,"- ",90,0,"Csizma","10",{"$nulls":4},3,3,{"$nulls":15},3]
["bélelt vállemez ","1668 ","bélelt vállemez (#1668)","+6 AC, -1 erő, +2 ügy., +10 max. ép., min. szint: 25",0,0,"- ",210,0,"Vállvédő","25",null,null,null,-1,null,2,null,null,10,{"$nulls":12},6]
["ezüstveretes pajzs ","1669 ","ezüstveretes pajzs (#1669)","+30 AC, +13 sebzés, min. szint: 35",0,0,"2.00 ",600,3000,"Pajzs","35",{"$nulls":21},30,null,null,13]
["zúzókesztyű ","1670 ","zúzókesztyű (#1670)","+5 sebzés ököllel, +5 támadás, +10 erő, min. szint: 20",0,0,"1.20 ",120,600,"Kesztyű","20",null,null,null,10,{"$nulls":13},5,{"$nulls":8},5]
["csodakarkötő ","1671 ","csodakarkötő (#1671)","+10 AC, +10 szer., +50 vp. regen., +50 max. vp., -10 sebződés ütésenként, permanens feltámadás, min. szint: 45, nem átadható",0,0,"- ",3500,0,"Karkötő","45",{"$nulls":7},10,null,null,null,50,50,{"$nulls":8},10,null,10]
["taumaturgikus öv ","1672 ","taumaturgikus öv (#1672)","+10 iq, +50 vp. regen., +50 max. vp., +10 taumaturgia, minden közelharci körben, amikor varázslatot nem lövő jobbkezes fegyverrel, vagy jobbkézzel ökölharccal próbálkozol, az öv az őstaumaturgia varázslatok egyikét lövi majd az ellenfélre, min. szint: 45, nem átadható",0,0,"0.20 ",3500,0,"Öv","45",{"$nulls":4},10,{"$nulls":6},50,50,{"$nulls":19},10]
["kristályszilánk ","1673 ","kristályszilánk (#1673)","-",0,0,"- ",0,0]
["genrath vérmedvefog ","1674 ","genrath vérmedvefog (#1674)","nem átadható",0,0,"0.08 ",18,0]
["medvebőr öv ","1675 ","medvebőr öv (#1675)","+15 max. ép., +6 erő, min. szint: 29",0,0,"0.50 ",200,1000,"Öv","29",null,null,null,6,{"$nulls":4},15]
["agori szegecscsizma ","1676 ","agori szegecscsizma (#1676)","+4 AC, +2 ügy., +30 max. ép., min. szint: 29",0,0,"- ",300,1500,"Csizma","29",{"$nulls":5},2,null,null,30,{"$nulls":12},4]
["díjnyertes nyereg ","1677 ","díjnyertes nyereg (#1677)","min. szint: 29, minden mozgás -2 TVP-be kerül (de legalább 5-be), szörnyidomítás szakértelem (ha már legalább 1-es) minden lépéssel fejlődni fog",0,0,"- ",400,0]
["páncélfényező ","1678 ","páncélfényező (#1678)","vértre kenve +3 támadást ad, nem átadható",0,0,"0.06 ",90,0,{"$nulls":19},3]
["medvefog nyaklánc ","1679 ",{"$f":"CONCATENATE(TRIM(A1666),\" (#\",TRIM(B1666),\")\")","v":"medvefog nyaklánc (#1679)"},"+2 támadás, +2 erő, +2 iq, +2 ügy., +2 eg., +2 szer., min. szint: 20, nem átadható",90,516,"- ",300,0,"Nyaklánc","20",null,null,null,2,2,2,2,2,{"$nulls":9},2]
["vadásznyakörv ","1680 ","vadásznyakörv (#1680)","vadászó állatod több zsákmányt ejt, nem átadható",5,0,"- ",45,0]
["oázis ","1682 ","oázis (#1682)","-",0,0,"- ",0,0]
["ork kunyhó ","1683 ","ork kunyhó (#1683)","-",0,0,"- ",0,0]
["különös vadászház ","1684 ","különös vadászház (#1684)","-",0,0,"- ",0,0]
["elhagyott bánya ","1685 ","elhagyott bánya (#1685)","-",0,0,"- ",0,150]
["extra fűszerkeverék ","1686 ","extra fűszerkeverék (#1686)","nem átadható",0,0,"- ",100,0]
["bányászlámpa ","1687 ","bányászlámpa (#1687)","fáklyát helyettesít labirintusban",0,0,"- ",0,150]
["legendás talizmán ","1688 ","legendás talizmán (#1688)","nem átadható",0,0,"0.16 ",500,0]
["égig érő pálma ","1689 ","égig érő pálma (#1689)","-",0,0,"- ",0,0]
["Földanya Gyümölcse ","1690 ","Földanya Gyümölcse (#1690)","H paranccsal 1 TVP-ért elfogyasztva max. életkorod eggyel nő, nem átadható",1,0,"- ",10,0]
["szerencsekocka ","1693 ","szerencsekocka (#1693)","+2 szerencsejáték, nem átadható",20,0,"- ",160,0,"Ékszer",{"$nulls":36},2]
["apró zsákocska ","1694 ","apró zsákocska (#1694)","-5 kg. megterheltség, +10 tárgyhely, nem átadható",0,0,"0.05 ",60,0]
["mágusgyűrű ","1695 ","mágusgyűrű (#1695)","+70 vp. regen., +70 max. vp., +7 taumaturgia, +1 vp. regen. képesség (FNO-s), nem átadható",0,0,"0.05 ",600,0,"Gyűrű",{"$nulls":12},70,70,{"$nulls":19},7]
["Numenathi laboratóriuma ","1696 ","Numenathi laboratóriuma (#1696)","-",0,0,"- ",0,0]
["boszorkánykendő ","1697 ","boszorkánykendő (#1697)","véd a bűvöléstől",5,0,"- ",40,0]
["fénytelen gyöngy ","1698 ","fénytelen gyöngy (#1698)","-",0,0,"0.01 ",6,12]
["mélysötét rubinkő ","1699 ","mélysötét rubinkő (#1699)","?",0,0,"- ",11,0]
["tengerszín smaragd ","1700 ","tengerszín smaragd (#1700)","-",0,0,"0.01 ",14,28]
["ork sör ","1701 ","ork sör (#1701)","nem átadható",5,0,"- ",16,32]
["feneketlen tó ","1702 ","feneketlen tó (#1702)","min. úszás: 5",0,0,"- ",0,0]
["trix harci totem ","1703 ","trix harci totem (#1703)","+4 támadás, nem átadható",0,0,"- ",50,0,{"$nulls":19},4]
["trix gyógypálca ","1704 ","trix gyógypálca (#1704)","szint x 2d3 életpontot gyógyulsz",0,0,"- ",10,20]
["trix fiola ","1705 ","trix fiola (#1705)","5 trix gyógypálca tárolására, nem átadható",0,0,"- ",40,0]
["avenir ","1706 ","avenir (#1706)","típus: vízi (mágikus), sebzés: 7d4+15, min. fsz.: 20, +15 támadás",0,0,"- ",800,0]
["trix amulett ","1707 ","trix amulett (#1707)","-5 AC, +2 iq., feneketlen tó mélyére úszáshoz",0,0,"0.03 ",300,600,"Övcsat",{"$nulls":5},2,{"$nulls":16},-5]
["kisebb napkorong ","1708 ","kisebb napkorong (#1708)","+2 támadás, TK-ban +6 támadás, nem átadható",0,0,"- ",300,0,"Ékszer",{"$nulls":18},2]
["esthar gyémántfétis ","1709 ","esthar gyémántfétis (#1709)","H paranccsal elhasználva: +1 csapatmunka, nem átadható",0,0,"- ",200,0]
["esthari gyöngykulcs ","1710 ","esthari gyöngykulcs (#1710)","-",0,0,"- ",70,560]
["trix mágiafókusz ","1711 ","trix mágiafókusz (#1711)","gyógyító varázslatod 10%-kal hatékonyabban fog működni, nem átadható",0,0,"- ",600,0]
["Numerinor karkötője ","1712 ","Numerinor karkötője (#1712)","+8 AC, megvédi viselőjét (90%-ban) mindenféle elhalálozástól (ahol angyalok gyűrűje kellene), immunitás szintszívásra, min. szint: 50, nem átadható",0,0,"- ",1500,7500,"Karkötő","50",{"$nulls":21},8]
["Dendeitren gyűrűje ","1713 ","Dendeitren gyűrűje (#1713)","+1 sebzés vízi lények ellen, +5% TP, min. szint: 40",0,0,"- ",300,0,"Gyűrű","40",{"$nulls":28},5]
["Manó örvénylő övcsatja ","1714 ","Manó örvénylő övcsatja (#1714)","+10 AC, +15 támadás, +3 erő, +3 iq, +3 ügy., +3 eg., +3 szer., +150 max. ép., +150 max. vp., +2% TP, +2% kritikus ütés, +2% ritka kincs találására, nem átadható",0,0,"- ",10000,0,"Övcsat",{"$nulls":4},3,3,3,3,3,150,null,null,150,{"$nulls":5},15,null,null,null,10,{"$nulls":6},2,null,2]
["jégkulcs ","1715 ","jégkulcs (#1715)","-",0,0,"- ",100,200]
["Snafall jeges öve ","1716 ","Snafall jeges öve (#1716)","+2 támadás, varázslói szintenként +2 jégsebzés jég alapú varázslatra, min. szint: 35",0,0,"- ",550,1650,"Öv","35",{"$nulls":17},2]
["Katrac káoszkönyve ","1717 ","Katrac káoszkönyve (#1717)","H paranccsal elhasználva: +15 max. ép, +15 max vp., nem átadható",0,0,"- ",700,0]
["Arutac mithrilöve ","1718 ","Arutac mithrilöve (#1718)","+11 AC, +5 eg., +20 max. ép., min. szint: 50",0,0,"- ",700,3500,"Öv","50",{"$nulls":6},5,null,20,{"$nulls":12},11]
["Virotac gyűrűje ","1719 ","Virotac gyűrűje (#1719)","+8 iq, +8 szer., a gyűrű viselésekor természetellenes öregedésnél csak egy évet öregszik a karakter, min. szint: 50",0,0,"- ",700,0,"Gyűrű","50",{"$nulls":4},8,null,null,8]
["Lordac kesztyűje ","1720 ","Lordac kesztyűje (#1720)","+6 AC, +8 sebzés, még +10 sebzés ököllel, +4 szer., min. szint: 50",0,0,"- ",700,0,"Kesztyű","50",{"$nulls":7},4,{"$nulls":13},6,null,null,8,null,10]
["Gotac kősisakja ","1721 ","Gotac kősisakja (#1721)","+5 AC, +100 max. ép., -10 sebződés, min. szint: 50",0,0,"- ",700,0,"Sisak","50",{"$nulls":8},100,{"$nulls":12},5,null,10]
["Zortac méregfoga ","1722 ","Zortac méregfoga (#1722)","-",0,0,"- ",2500,12500]
["Iniac nyaklánca ","1723 ","Iniac nyaklánca (#1723)","+20 szer., +200 max. vp., +3% esély kincs találására, többszemélyes kalandokban minden szakértelemre, amelyet legalább 1-es szinten ismer, +3 jár, min. szint: 50",0,0,"- ",700,0,"Nyaklánc","50",{"$nulls":7},20,null,null,null,200,{"$nulls":17},3]
["Baurtac kristálya ","1724 ","Baurtac kristálya (#1724)","+100 vp regen.",0,0,"- ",700,0]
["krónika ","1725 ","krónika (#1725)","fordulónként +1 TVP minden krónika után, minden krónika kettővel csökkenti az ősteológia és őstaumaturgia megvásárlásához szükséges teológia és taumaturgia szinteket, +1% TP, nem átadható",0,0,"- ",400,0]
["Erdauin gyűrű ","1726 ","Erdauin gyűrű (#1726)","+40 támadás kalandozókkal szemben, 100-zal kisebb teológia és taumaturgia szakértelem is elegendő az ősteológia és őstaumaturgia varázslatok megtanulásához",0,0,"- ",5000,0,"Gyűrű"]
["a gátlástalanság öve ","1727 ","a gátlástalanság öve (#1727)","+5 támadás, min. lopás: 30",0,0,"- ",400,0,"Öv",{"$nulls":18},5]
["merénylő köpenye ","1728 ","merénylő köpenye (#1728)","+3 AC, +8 támadás, +5 ügy., +5 rejtőzködés",0,0,"- ",100,0,"Köpeny",{"$nulls":6},5,{"$nulls":11},8,null,null,null,3,{"$nulls":14},5]
["gárdista övcsat ","1729 ","gárdista övcsat (#1729)","+4 AC, +10 max. ép., +5 csapdaészlelés, +5 felderítés, min. szint: 40",0,0,"- ",400,0,"Övcsat","40",{"$nulls":8},10,{"$nulls":12},4,{"$nulls":12},5,{"$nulls":5},5]
["tolvajkesztyű ","1730 ","tolvajkesztyű (#1730)","+8 lopás, +8 zárnyitás, +2 csapdaészlelés",0,0,"- ",0,0,"Kesztyű",{"$nulls":34},8,{"$nulls":6},2,null,8]
["T'vadar tőre ","1731 ","T'vadar tőre (#1731)","típus: szúró (mágikus, balkezes), sebzés: 5d8+8, min. fsz.:30, +15 sebzés labirintusokban, +1 támadásszám balkézzel",0,0,"- ",2500,0]
["vérkristály ","1732 ","vérkristály (#1732)","-",0,0,"- ",2000,0]
["koponya gyűrű ","1733 ","koponya gyűrű (#1733)","+2 támadás, nem átadható",0,0,"- ",150,0,"Gyűrű",{"$nulls":18},2]
["fejvadász medál ","1734 ","fejvadász medál (#1734)","+4 támadás, +8 max. ép., nem átadható",0,0,"- ",200,0,"Ékszer",{"$nulls":9},8,{"$nulls":8},4]
["Brod buzogánya ","1735 ","Brod buzogánya (#1735)","típus: ütő, sebzés: 4d6+8, min. fsz.: 12",0,0,"- ",50,100]
["Kudral ostora ","1736 ","Kudral ostora (#1736)","típus: ütő, sebzés: 2d40, hangcsapást lő (nem fixen), min. fsz: 38",0,0,"- ",1500,4500]
["árnyékpáncél ","1737 ","árnyékpáncél (#1737)","+6 AC, nem átadható",0,0,"0.01 ",420,0,"Páncél",{"$nulls":22},6]
["Kudral feje ","1738 ","Kudral feje (#1738)","-",0,0,"- ",50,100]
["harci maszk ","1739 ","harci maszk (#1739)","+3 AC, +3 támadás, +3 erő, +3 ügy.",0,0,"- ",50,0,"Sisak",{"$nulls":4},3,null,3,{"$nulls":11},3,null,null,null,3]
["quwarg ikerboly ","1740 ","quwarg ikerboly (#1740)","másznivaló, min. AC: 90, min. mászás: 28",0,0,"- ",0,0]
["rubin dragnit ","1741 ","rubin dragnit (#1741)","+6 AC, +6 támadás, +3 sebzés, nem átadható",0,0,"- ",600,0]
["quwarg dragnit ","1742 ","quwarg dragnit (#1742)","+5 max. ép., nem átadható",0,0,"- ",600,0]
["smaragd dragnit ","1743 ","smaragd dragnit (#1743)","+10 AC, +10 támadás, +10 max. ép., nem átadható",0,0,"- ",600,0]
["vörös dragnit ","1744 ","vörös dragnit (#1744)","+5 AC, +5 támadás, nem átadható",0,0,"- ",600,0]
["jég dragnit ","1745 ","jég dragnit (#1745)","+5 max. ép., +5 mentődobás(?) tűz ellen, nem átadható",0,0,"- ",550,0]
["Khór kesztyűje ","1746 ",{"$f":"CONCATENATE(TRIM(A1730),\" (#\",TRIM(B1730),\")\")","v":"Khór kesztyűje (#1746)"},"+8 AC, +5 erő, nem átadható",0,0,"- ",1000,0,"Kesztyű",{"$nulls":4},5,{"$nulls":17},8]
["topáz dragnit ","1748 ","topáz dragnit (#1748)","+3 sebzés szúró, vágó, ütő és vízifegyverben, nem átadható",0,0,"- ",450,0]
["az örökkévalóság igazgyöngye ","1749 ","az örökkévalóság igazgyöngye (#1749)","+7 támadás, +3 erő, +3 iq, +3 ügy., +3 eg., +3 szer., +80 max. ép., +80 max. vp., +4 tárgymentő, plusz ép regen., nem átadható",0,0,"- ",2500,0,"Ékszer",{"$nulls":4},3,3,3,3,3,80,null,null,80,{"$nulls":5},7,{"$nulls":12},4]
["fekete karvédő ","1750 ","fekete karvédő (#1750)","+28 AC, -1 szer., +180 max. ép., +100 max. vp., -25 ép. közelharci sebződés szörnyektől, min. szint: 30, nem átadható",0,0,"- ",800,0,"Karkötő","30",{"$nulls":7},-1,180,null,null,100,{"$nulls":11},25]
["füst öv ","1751 ","füst öv (#1751)","+1 erő, +1 iq, +1 ügy., +1 eg., +1 szer., nem átadható",0,0,"- ",800,0,"Öv",{"$nulls":4},1,1,1,1,1]
["Beansidhe dragnitja ","1752 ","Beansidhe dragnitja (#1752)","+10 szer., nem átadható",0,0,"- ",600,0]
["lajstrom medál ","1753 ","lajstrom medál (#1753)","+10 max. ép., +10 max. vp., +2 MXTU, nem átadható",0,0,"- ",150,0,"Ékszer",{"$nulls":9},10,null,null,10,{"$nulls":4},2]
["kétfejű csatabárd ","1754 ","kétfejű csatabárd (#1754)","típus: ütő, sebzés: 3d12+6, min. fsz.: 15, min. bányászat: 10",50,0,"- ",35,0]
["aranyfaló ládikó ","1755 ","aranyfaló ládikó (#1755)","-",0,0,"- ",2000,0]
["lebegő erőd ","1756 ","lebegő erőd (#1756)","másznivaló, min. mászás: ?",0,0,"- ",0,0]
["leviatán gumó ","1757 ","leviatán gumó (#1757)","-10 kg. megterheltség",0,0,"- ",200,0]
["mocsárivércszem ","1758 ","mocsárivércszem (#1758)","-",0,0,"- ",5,0]
["Lucius szerencsepénze ","1759 ","Lucius szerencsepénze (#1759)","+5 iq, +5 szer., +5 szerencsejáték, permanens gondolatolvasás",0,0,"- ",120,0]
["isteni kehely ","1760 ","isteni kehely (#1760)","H parancsot használva, 3 isteni könnycsepp és 3 TVP felhasználásával fordulónként egyszer max. ép-be gyógyít, nem átaható",0,0,"- ",400,0]
["szent kézigránát ","1761 ","szent kézigránát (#1761)","típus: dobó (mágikus), sebzés: 5d10+20",0,0,"- ",1000,0]
["og'khor esszencia ","1762 ","og'khor esszencia (#1762)","nem átadható",0,0,"- ",300,0]
["iz'gribbor esszencia ","1763 ","iz'gribbor esszencia (#1763)","nem átadható",0,0,"- ",300,0]
["krg'humán esszencia ","1764 ","krg'humán esszencia (#1764)","nem átadható",0,0,"- ",300,0]
["pr'queztoor esszencia ","1765 ","pr'queztoor esszencia (#1765)","nem átadható",0,0,"- ",300,0]
["gl'gtremp esszencia ","1766 ","gl'gtremp esszencia (#1766)","nem átadható",0,0,"- ",300,0]
["zg'vzung esszencia ","1767 ","zg'vzung esszencia (#1767)","nem átadható",0,0,"- ",300,0]
["hentelő bőr ","1768 ","hentelő bőr (#1768)","nem átadható",0,0,"- ",220,0]
["iz'gribbor karom ","1769 ","iz'gribbor karom (#1769)","-",0,0,"- ",200,400]
["krg'humán fullánk ","1770 ","krg'humán fullánk (#1770)","nem átadható",0,0,"- ",140,280]
["karomkesztyű ","1771 ","karomkesztyű (#1771)","+5 AC, +10 sebzés ököllel, +20 max. ép., min. szint: 20, +10 sebzés éjfattyak ellen",50,0,"- ",500,0,"Kesztyű","20",{"$nulls":8},20,{"$nulls":12},5,{"$nulls":4},10]
["Thargodan agyfókusz ","1772 ","Thargodan agyfókusz (#1772)","a megölt éjfattyak után nem csak tapasztalati, hanem 1 fejlesztési pontot is kapsz, nem átadható",0,0,"- ",400,0,"Sisak"]
["dimenziórés ","1773 ","dimenziórés (#1773)","-",0,0,"- ",0,0]
["manakút ","1774 ","manakút (#1774)","-",1000,0,"- ",0,0]
["tl'urlang határozó ","1775 ","tl'urlang határozó (#1775)","nem átadható",0,0,"- ",1000,0]
["tl'urlang tájoló ","1776 ","tl'urlang tájoló (#1776)","megmutatja a legközelebbi dimenziórés irányát, nem átadható",0,0,"- ",1000,0]
["éjkulcs ","1777 ","éjkulcs (#1777)","-",30,0,"- ",45,0]
["kristálykard ","1778 ","kristálykard (#1778)","típus: vágó (mágikus?), sebzés: 10d10+30, min. fsz.: 40, +20 AC, +25 támadás, +99 sebzés ganüidok ellen, nem átadható",150,0,"- ",3500,0]
["kristálypajzs ","1779 ","kristálypajzs (#1779)","+25 AC, megvéd a ganüidok pusztító leheletétől",50,0,"- ",3000,0,"Pajzs",{"$nulls":22},25]
["kristálypáncél ","1780 ","kristálypáncél (#1780)","+60 AC, +100 max. ép., csökkenti a ganüidok közelharci sebzését, nem átadható",200,0,"- ",4200,0,"Páncél",{"$nulls":9},100,{"$nulls":12},60]
["ganüid masszakaptár ","1781 ","ganüid masszakaptár (#1781)","másznivaló, min. eg.: 90, min. mászás: 40",0,0,"- ",0,0]
["tl'urlang gömb ","1783 ","tl'urlang gömb (#1783)","-",0,0,"- ",150,0]
["kristálynyíl ","1784 ","kristálynyíl (#1784)","típus: lövedék (mágikus, szúró), sebzés: 5d8+22, plusz sebzés ganüidok ellen",0,0,"- ",0,0]
["az örökkévalóság ametisztje ","1785 ","az örökkévalóság ametisztje (#1785)","+8 támadás, +3 erő, +3 iq, +3 ügy., +3 eg., +3 szer., +90 max. ép., +90 max. vp., +5 tárgymentő, plusz ép regen., nem átadható",0,0,"- ",2700,0,"Ékszer",{"$nulls":4},3,3,3,3,3,90,null,null,90,{"$nulls":5},8,{"$nulls":12},5]
["olimpiai vasmedál ","1786 ","olimpiai vasmedál (#1786)","+1 erő, +1 ügy., nem átadható",0,0,"- ",0,0,"Ékszer",{"$nulls":4},1,null,1]
["olimpiai rézmedál ","1787 ","olimpiai rézmedál (#1787)","+1 erő, +1 ügy., +5 max. ép., nem átadható",0,0,"- ",1500,0,"Ékszer",{"$nulls":4},1,null,1,null,null,5]
["olimpiai ezüstmedál ","1788 ","olimpiai ezüstmedál (#1788)","+1 erő, +1 ügy., +10 max. ép., nem átadható",0,0,"- ",0,0,"Ékszer",{"$nulls":4},1,null,1,null,null,10]
["olimpiai aranymedál ","1789 ","olimpiai aranymedál (#1789)","+1 erő, +1 iq, +1 ügy., +1 eg., +1 szer., +20 max. ép., nem átadható",0,0,"- ",0,0,"Ékszer",{"$nulls":4},1,1,1,1,1,20]
["olimpiai titanitmedál ","1790 ","olimpiai titanitmedál (#1790)","+2 erő, +2 iq, +2 ügy., +2 eg., +2 szer., +20 max. ép., nem átadható",0,0,"- ",1500,0,"Ékszer",{"$nulls":4},2,2,2,2,2,20]
["olimpiai rubinmedál ","1791 ","olimpiai rubinmedál (#1791)","+3 erő, +3 iq, +3 ügy., +3 eg., +3 szer., +30 max. ép., nem átadható",0,0,"- ",0,0,"Ékszer",{"$nulls":4},3,3,3,3,3,30]
["olimpiai gyémántmedál ","1792 ","olimpiai gyémántmedál (#1792)","+3 erő, +3 iq, +3 ügy., +3 eg., +3 szer., +50 max. ép., nem átadható",0,0,"- ",1500,0,"Ékszer",{"$nulls":4},3,3,3,3,3,50]
["olimpiai smaragdmedál ","1793 ","olimpiai smaragdmedál (#1793)","+4 erő, +4 iq, +4 ügy., +4 eg., +4 szer., +60 max. ép., nem átadható",0,0,"- ",1500,0,"Ékszer",{"$nulls":4},4,4,4,4,4,60]
["Mesterek érme ","1794 ","Mesterek érme (#1794)","+1 erő, +1 iq, +1 ügy., +1 eg., +1 szer., +30 max. ép., nem átadható",0,0,"- ",1500,0,"Ékszer",{"$nulls":4},1,1,1,1,1,30]
["Harcosok érme ","1795 ","Harcosok érme (#1795)","+2 erő, +2 iq, +2 ügy., +2 eg., +2 szer., +30 max. ép., nem átadható",0,0,"- ",1500,0,"Ékszer",{"$nulls":4},2,2,2,2,2,30]
["Tökéletesség érme ","1796 ","Tökéletesség érme (#1796)","+3 erő, +3 iq, +3 ügy., +3 eg., +3 szer., +40 max. ép., nem átadható",0,0,"- ",1500,0,"Ékszer",{"$nulls":4},3,3,3,3,3,40]
["tűzopál érem ","1797 ","tűzopál érem (#1797)","+3 erő, +3 iq, +3 ügy., +3 eg., +3 szer., +60 max. ép., nem átadható",0,0,"- ",0,0,"Ékszer",{"$nulls":4},3,3,3,3,3,60]
["Félisteni érem ","1798 ","Félisteni érem (#1798)","+6 erő, +6 iq, +6 ügy., +6 eg., +6 szer., +150 max. ép., nem átadható",0,0,"- ",0,0,"Ékszer",{"$nulls":4},6,6,6,6,6,150]
["zg'vzung csatoló ","1799 ","zg'vzung csatoló (#1799)","90 % eséllyel véd a pr'queztoor testőrök KF-elt tárgyat leverő ütése ellen, nem átadható",0,0,"- ",500,0]
["Vetrox vérpörölye ","1800 ","Vetrox vérpörölye (#1800)","típus: ütő (mágikus), sebzés: 10d10+20, +15 támadás",0,0,"- ",120,0]
["Bufa dragnitja ","1801 ","Bufa dragnitja (#1801)","+10 erő, nem átadható",0,0,"- ",600,0]
["kristály dragnit ","1803 ","kristály dragnit (#1803)","minden fegyvered +5 sebzést ad ganüidok ellen, nem átadható",80,0,"- ",800,0]
["Romboló kalapácsa ","1804 ","Romboló kalapácsa (#1804)","típus: ütő (mágikus), sebzés: 10d10+30, min. fsz: 55, +25 támadás, +10 sebzés kalandozók ellen, +50 sebzés ganüidok ellen",0,0,"- ",3400,0]
["pusztító lándzsa ","1805 ","pusztító lándzsa (#1805)","típus: szúró (mágikus), sebzés: 10d10+30, min. fsz: 55, +50 sebzés ganüidok ellen",0,0,"11.00 ",3400,10200]
["Romboló kesztyűje ","1806 ","Romboló kesztyűje (#1806)","+15 sebzés ököllel (mágikus), +25 támadás, min. fsz: 55, +50 sebzés ganüidok ellen",0,0,"- ",1100,0,"Kesztyű",{"$nulls":18},25,{"$nulls":8},15]
["hatalmasok nyaklánca ","1807 ","hatalmasok nyaklánca (#1807)","nyakba akasztva nem összesen 20, hanem 30 tapasztalatkövet nyelhetsz le, nem átadható",0,0,"- ",800,0,"Nyaklánc"]
["mágikus hentesbárd ","1808 ","mágikus hentesbárd (#1808)","típus: ütő (mágikus, balkezes), sebzés: 5d10+5, min. fsz.: 45, +10 támadás, +5 AC",0,0,"- ",0,0]
["lovagi kard ","1809 ","lovagi kard (#1809)","típus: vágó (mágikus), sebzés: 10d10+30, min. fsz.: 55, +10 AC, +25 támadás",0,0,"- ",2500,0]
["manadefilátor ","1810 ","manadefilátor (#1810)","vp kinyerése manakútból",0,0,"- ",1000,2000]
["titanit kulcs ","1811 ","titanit kulcs (#1811)","-",0,0,"- ",50,0]
["Khór kardja ","1812 ","Khór kardja (#1812)","nem átadható",0,0,"- ",0,0]
["kristály vállvédő ","1813 ",{"$f":"CONCATENATE(TRIM(A1794),\" (#\",TRIM(B1794),\")\")","v":"kristály vállvédő (#1813)"},"+8 AC, +80 max. ép., immunitást ad a szörnyek TU/pszi pont szívó képességei ellen",0,0,"- ",0,0,"Vállvédő",{"$nulls":9},80,{"$nulls":12},8]
["ganüid származék ","1814 ","ganüid származék (#1814)","nem átadható",0,0,"- ",400,0]
["ganüid pulzáns ","1815 ","ganüid pulzáns (#1815)","nem átadható",0,0,"- ",0,0]
["ganüid gyilok ","1816 ","ganüid gyilok (#1816)","típus: szúró (mágikus), sebzés: 11d11+32, min. fsz: 60, +30 támadás, nem átadható",0,0,"- ",0,0]
["ganüid masszapáncél ","1817 ","ganüid masszapáncél (#1817)","+4 AC, min. szint: 45, nem átadható",80,0,"- ",0,0,"Páncél","45",{"$nulls":21},4]
["kristály kulcs ","1818 ","kristály kulcs (#1818)","-",0,0,"- ",0,0]
["ganüid tájológömb ","1819 ","ganüid tájológömb (#1819)","-",0,0,"- ",0,3000]
["hősi övcsat ","1820 ","hősi övcsat (#1820)","+5 max. ép., nem átadható",0,0,"- ",100,0,"Övcsat",{"$nulls":9},5]
["varkaudar fellegvár ","1821 ","varkaudar fellegvár (#1821)","-",0,0,"- ",0,0]
["varkaudar dragnit ","1822 ","varkaudar dragnit (#1822)","+5 max. ép., nem átadható",0,0,"- ",500,0]
["olimpiai fáklya ","1823 ","olimpiai fáklya (#1823)","-",0,0,"- ",0,0]
["Khór szobra ","1824 ","Khór szobra (#1824)","-",0,0,"- ",0,0]
["ganüidölő buzogány ","1825 ","ganüidölő buzogány (#1825)","típus: ütő (mágikus), sebzés: ?, min. fsz.: 50, bónusz sebzést ad az éjfattyak és a ganüidek ellen",50,0,"- ",2800,0]
["varkaudar fétis ","1826 ","varkaudar fétis (#1826)","minden közelharci kör végén a tapasztalati szinted egyharmadának megfelelő ÉP-t fogsz gyógyulni, nem átadható",0,0,"- ",150,0,"Nyaklánc"]
["tektonikus gömb ","1827 ","tektonikus gömb (#1827)","földrengés varázslat, nem átadható",0,0,"- ",200,0]
["kvatáns pikkely ","1828 ","kvatáns pikkely (#1828)","-",0,0,"- ",0,0]
["kvatáns pajzs ","1829 ","kvatáns pajzs (#1829)","+8 AC, +1-et ad minden energia, hideg, és fizikai alapú támadó varázslat elleni mentődobásra, valamint +1-et a tárgyaid mentődobásaira",40,0,"- ",0,0,"Pajzs",{"$nulls":22},8,{"$nulls":8},1]
["az örökkévalóság holdköve ","1830 ","az örökkévalóság holdköve (#1830)","+9 támadás, +4 erő, +4 iq, +4 ügy., +4 eg., +4 szer., +100 max. ép., +100 max. vp., +5 tárgymentő, plusz ép regen., nem átadható",0,0,"- ",0,0,"Ékszer",{"$nulls":4},4,4,4,4,4,100,null,null,100,{"$nulls":5},9,{"$nulls":12},5]
["vámpír talizmán ","1831 ","vámpír talizmán (#1831)","min. szint: 60, nem átadható",250,0,"- ",1000,0,"Nyaklánc","60"]
["lánghordozó gyűrű ","1832 ","lánghordozó gyűrű (#1832)","szintnek megfelelő varázspont regeneráció minden forduló elején, nem átadható",0,0,"- ",100,0,"Gyűrű"]
["entitás esszencia ","1833 ","entitás esszencia (#1833)","nem átadható",0,0,"- ",0,0]
["Zekhartax köpenye ","1834 ","Zekhartax köpenye (#1834)","harc közben 2-vel növeli a ganüidvadászat és a ganüid rezisztencia képességet (ekkor 10 fölé is nőhet), ganüidek leheletének hatását és fizikai sebzésüket is csökkenti, min. szint: 45, nem átadható",0,0,"- ",1500,0,"Köpeny","45"]
["Zekhartax gyűrűje ","1835 ","Zekhartax gyűrűje (#1835)","+20 AC, +10 támadás, +100 max. ép.",0,0,"- ",0,0,"Karkötő",{"$nulls":9},100,{"$nulls":8},10,null,null,null,20]
["fekete vállvédő ","1836 ","fekete vállvédő (#1836)","+10 AC, -1 szer., +80 max. ép., +50 max. vp., +10 sebzés kalandozók ellen, min. szint: 30, nem átadható",0,0,"- ",0,0,"Vállvédő","30",{"$nulls":7},-1,80,null,null,50,{"$nulls":9},10]
["kristálybuzogány ","1838 ","kristálybuzogány (#1838)","típus: ütő (mágikus?), sebzés: 10d10+30, +20 AC, +25 támadás, +70 sebzés ganüidok ellen",150,0,"- ",0,0]
["sárkánypenge ","1840 ","sárkánypenge (#1840)","típus: vágó (mágikus, balkezes), sebzés: 5d8+5, min. fsz.: 55, +6 támadás, +3 AC, +2 szer.",0,0,"1.50 ",1400,4200]
["éjsötét rémcsizma ","1841 ","éjsötét rémcsizma (#1841)","+11 AC, +7 támadás, +7 sebzés, -20 iq, +80 max. ép., +80 max. vp., -40 % sebzés minden téged érő varázslatra, min. szint: 65, nem átadható",0,0,"- ",0,0,"Csizma","65",{"$nulls":4},-20,null,null,null,80,null,null,80,{"$nulls":5},7,null,null,null,11,null,null,7]
["törpe ékkő ","1842 ","törpe ékkő (#1842)","-",0,0,"- ",0,200]
["gron vállvédő ","1843 ","gron vállvédő (#1843)","támadás, regeneráció, kincskeresés, és sebzés bónusz FNO-s képességeid 2-vel növekednek, -12 kg. megterheltség, min. szint: 55",0,0,"- ",0,0,"Vállvédő","55",{"$nulls":17},2,{"$nulls":11},2]
["Quinthyn szeme ","1844 ","Quinthyn szeme (#1844)","5% eséllyel kritikusat ütsz (ha már képes vagy kritikus ütésre, akkor annak esélye 5%-kal nő), ropogtatás ellen az erőd 20-szal nagyobbnak számít, nem átadható",0,0,"- ",0,0]
["Obarraan köpenye ","1845 ","Obarraan köpenye (#1845)","+250 vp. regen., +10% sebzés minden ősi varázslatodra, +2 varázslat sebzés és mágiaerő FNO-s képesség, nem átadható",0,0,"- ",0,0,"Köpeny",{"$nulls":13},250]
["névjegykártya ","1846 ","névjegykártya (#1846)","-",1,0,"- ",0,0]
["opál karkötő ","1847 ","opál karkötő (#1847)","+20 AC, +4 sebzés, +4 támadás, +10 erő, -5 iq, +10 ügy., -5 szer., +150 max. ép., +150 max. vp., immunitás max. vp. szívásra, nem átadható",0,0,"- ",0,0,"Karkötő",{"$nulls":4},10,-5,10,null,-5,150,null,null,150,{"$nulls":5},4,null,null,null,20,null,null,4]
["szférikus pulzáns ","1848 ","szférikus pulzáns (#1848)","ha ékszerként viseled, teológiád 50-el nagyobbnak számít ősteológia varázslatok tanulásakor, Káosz Harmóniája KT tárgya",0,0,"- ",0,0]
["őselemi pulzár ","1849 ","őselemi pulzár (#1849)","őstaumaturgia varázslatok tanulásánál 50-nel alacsonyabb taumaturgia szint is elég, Mágia Örökösei KT tárgya",0,0,"- ",0,0]
["díszes nemesi ruha ","1850 ","díszes nemesi ruha (#1850)","-",0,0,"- ",2000,4000,"Páncél"]
["gyöngyfűzős szandál ","1851 ","gyöngyfűzős szandál (#1851)","-",0,0,"- ",1000,2000,"Csizma"]
["fűzött igazgyöngysor ","1852 ","fűzött igazgyöngysor (#1852)","-",0,0,"- ",2000,4000,"Nyaklánc"]
["zafír gyűrű ","1853 ","zafír gyűrű (#1853)","-",0,0,"- ",2000,4000,"Gyűrű"]
["gyémánt gyűrű ","1854 ","gyémánt gyűrű (#1854)","-",0,0,"- ",100,1000,"Gyűrű"]
["opál karperec ","1855 ","opál karperec (#1855)","-",0,0,"- ",0,0,"Karkötő"]
["díszkatana ","1856 ","díszkatana (#1856)","típus: vágó, sebzés: d6",0,0,"- ",0,0]
["díszbuzogány ","1857 ","díszbuzogány (#1857)","típus: ütő, sebzés: d6",0,0,"- ",500,1000]
["díszszai ","1858 ","díszszai (#1858)","típus: szúró, sebzés: d6",0,0,"- ",0,0]
["császári kolostor ","1859 ","császári kolostor (#1859)","-",0,0,"- ",0,0]
["aprófaforgács ","1860 ","aprófaforgács (#1860)","-",0,0,"- ",0,0]
["moa harci nadrág ","1862 ","moa harci nadrág (#1862)","+15 AC, +10 támadás, +1 erő, +1 iq, +1 ügy., +1 eg., +1 szer., +200 max. ép., immúnis leszel a kisebb és nagyobb max. ép. szívásra, +10 támadás kalandozók ellen, min. szint: 50, nem átadható",0,0,"- ",0,0,"Nadrág","50",null,null,null,1,1,1,1,1,200,{"$nulls":8},10,null,null,null,15]
["tépett lobogó ","1864 ","tépett lobogó (#1864)","Szabad Kompánia KT tárgya",10,0,"- ",0,0]
["örökkévalóság jádeköve","2041","örökkévalóság jádeköve (#2041)","+10 támadás, +30 ép. regen., +110 max. ép., +110 max. vp., +4 erő, +4 IQ, +4 ügyesség, +4 egészség, +4 szerencse, +5 tárgymentő, nem átadható!",0,0,"0.01 ",300,0,"Ékszer",{"$nulls":4},4,4,4,4,4,110,null,null,110,{"$nulls":5},10,{"$nulls":12},5]
["quwarg ékkő","2064","quwarg ékkő (#2064)",{"$nulls":25},2,{"$nulls":6},1,{"$nulls":18},4]
["q. végbélnyúlvány","2065","q. végbélnyúlvány (#2065)",{"$nulls":15},1,20]
["qwarg opáldragnit","2066","qwarg opáldragnit (#2066)",{"$nulls":16},40,{"$nulls":7},2]
["q. demoralizátor","2067","q. demoralizátor (#2067)"]
["quwargpusztító érem","2086","quwargpusztító érem (#2086)","+3 támadás, +20 max. ép",{"$nulls":15},20,{"$nulls":8},3]
["Sztázisköpeny","2129","Sztázisköpeny (#2129)","+10 AC, +10 támadás, +1 támadásszám minden támadásra, vámpirizációval 20 % helyett 25 %-át gyógyulhatod vissza az okozott sebzésednek, 10 % esély +1 FNO-ra, +10 % tapasztalati pont minden megölt szörny után, minden varázslatod ellen -5 mentődobást az ellenfélnek (a halál alapú varázslataid ellen további -10-et, a halálvarázsoknak pedig +10 esélye van a sikerre)",{"$nulls":5},"Köpeny",{"$nulls":18},10,10,1,null,10]
["varkaudar ékkő","2168","varkaudar ékkő (#2168)","+1 támadás, +1 sebzés, -1 védekezés",{"$nulls":5},"Ékszer",{"$nulls":18},1,null,null,null,-1,null,null,1]
["ryuku mágiafókusz","2173","ryuku mágiafókusz (#2173)","+10 teológia, +10 taumaturgia, -10 szerencse a varázslataid ellen, +10 % (max. 500) sebzés a sebző varázslatokkal",{"$nulls":5},"Ékszer",{"$nulls":28},10,null,null,null,10,10]
["ősi csillagfókusz","2376","ősi csillagfókusz (#2376)","+5 teológia, +5 taumaturgia, -5 szerencse a varázslataid ellen, +5 % (max. 250) sebzés a sebző varázslatokkal",{"$nulls":5},"Ékszer",{"$nulls":28},5,null,null,null,5,5]
["ryuku védőfókusz","2377","ryuku védőfókusz (#2377)","+4 védő, +40 max. ép., +4 szerencse",{"$nulls":5},"Ékszer",{"$nulls":8},4,40,{"$nulls":12},4]
["klasszikus kitűző","2514","klasszikus kitűző (#2514)","+1% tapasztalati pont",{"$nulls":5},"Ékszer",{"$nulls":29},1]
["mindenség igazgyöngye","2694","mindenség igazgyöngye (#2694)","+21 támadás, +330 ép. regen., +220 max. ép., +220 max. vp., +10 erő, +10 IQ, +10 ügyesség, +10 egészség, +10 szerencse, +16 tárgymentő, nem átadható!",{"$nulls":5},"Ékszer",{"$nulls":4},10,10,10,10,10,220,null,null,220,{"$nulls":5},21,{"$nulls":12},16]
["mindenség smaragdja","2750","mindenség smaragdja (#2750)","+22 támadás, +440 ép. regen., +230 max. ép., +230 max. vp., +10 erő, +10 IQ, +10 ügyesség, +10 egészség, +10 szerencse, +17 tárgymentő, nem átadható!",{"$nulls":5},"Ékszer",{"$nulls":4},10,10,10,10,10,230,null,null,230,{"$nulls":5},22,{"$nulls":12},17]
["ezüst kalandérem","2853","ezüst kalandérem (#2853)","+3 támadás, + 3 védettség és +30 max. ÉP",{"$nulls":5},"Ékszer",{"$nulls":9},30,{"$nulls":8},3,null,null,null,3]
["fénymedál","2859","fénymedál (#2859)","+1 támadás",{"$nulls":5},"Ékszer",{"$nulls":18},1]

{"sheet":"Páncél","index":2,"n_rows":53,"n_cols":6,"rows_kept":53,"cut":false,"hidden":false,"merged":[]}
["adamantit páncél ",{"$f":"VLOOKUP(A1,Törzsadat!A:B,2,0)","v":"628 "},{"$f":"CONCATENATE(TRIM(A1),\" (#\",TRIM(B1),\")\")","v":"adamantit páncél (#628)"},24,0,"+24 AC, min. bányászat: 30, nem átadható"]
["arany pikkelyvért ",{"$f":"VLOOKUP(A2,Törzsadat!A:B,2,0)","v":"456 "},"arany pikkelyvért (#456)",20,18,"+20 AC, +4 mentődobás energia ellen, min. szint: 18"]
["arany sárkányvért ",{"$f":"VLOOKUP(A3,Törzsadat!A:B,2,0)","v":"1036 "},"arany sárkányvért (#1036)",44,0,"zarknod piramisában alakváltóknak készül"]
["árnyékpáncél ",{"$f":"VLOOKUP(A4,Törzsadat!A:B,2,0)","v":"1737 "},"árnyékpáncél (#1737)",6,0,"+6 AC, nem átadható"]
["Batharak vértje ",{"$f":"VLOOKUP(A5,Törzsadat!A:B,2,0)","v":"739 "},"Batharak vértje (#739)",35,40,"+35 AC, +5 erő, -5 ügy., +50 max. ép., min. szint: 40"]
["bőrpáncél ",{"$f":"VLOOKUP(A6,Törzsadat!A:B,2,0)","v":"51 "},"bőrpáncél (#51)",2,0,"+2 AC"]
["bronzpáncél ",{"$f":"VLOOKUP(A7,Törzsadat!A:B,2,0)","v":"90 "},"bronzpáncél (#90)",7,0,"+7 AC"]
["Bufa páncélja ",{"$f":"VLOOKUP(A8,Törzsadat!A:B,2,0)","v":"538 "},"Bufa páncélja (#538)",24,20,"+24 AC, +2 szer., -1 iq, -1 eg., -1 ügy., +2 mászás, min. szint: 20"]
["dalebgad kristályvért ",{"$f":"VLOOKUP(A9,Törzsadat!A:B,2,0)","v":"564 "},"dalebgad kristályvért (#564)",30,24,"+30 AC, +2 erő, +2 iq, +2 ügy., +2 eg., +2 szer., min. szint: 24, nem átadható"]
["Dantor vértje ",{"$f":"VLOOKUP(A10,Törzsadat!A:B,2,0)","v":"469 "},"Dantor vértje (#469)",2,0,"+2 AC, kisebb quwarg isten ellen a 78. labirintusban"]
["dentor vért ",{"$f":"VLOOKUP(A11,Törzsadat!A:B,2,0)","v":"573 "},"dentor vért (#573)",16,18,"+16 AC, +30 max. ép., -10 % sebzés minden téged érő varázslatra, min. szint: 18, nem átadható"]
["derit láncvért ",{"$f":"VLOOKUP(A12,Törzsadat!A:B,2,0)","v":"1206 "},"derit láncvért (#1206)",20,0,"+20 AC, +5 támadás, a vért gazdáját támadó szörnyek sebzésük 30%-át elszenvedik sérülésként, nem átadható"]
["díszes nemesi ruha ",{"$f":"VLOOKUP(A13,Törzsadat!A:B,2,0)","v":"1850 "},"díszes nemesi ruha (#1850)",0,0,"-"]
["díszes tunika ",{"$f":"VLOOKUP(A14,Törzsadat!A:B,2,0)","v":"1488 "},"díszes tunika (#1488)",10,30,"+10 AC, +300 max. ép., min. szint: 30"]
["drag'kór vért ",{"$f":"VLOOKUP(A15,Törzsadat!A:B,2,0)","v":"872 "},"drag'kór vért (#872)",25,0,"+25 AC, -3 szer., +250 max. ép., nem átadható"]
["drako pikkelyvért ",{"$f":"VLOOKUP(A16,Törzsadat!A:B,2,0)","v":"293 "},"drako pikkelyvért (#293)",40,25,"+40 AC, +3 erő, +3 iq, +3 ügy., +3 eg., +3 szer., -20% tűz sebződés, min. szint: 25, nem átadható"]
["drakolit páncél ",{"$f":"VLOOKUP(A17,Törzsadat!A:B,2,0)","v":"1000 "},"drakolit páncél (#1000)",42,0,"zarknod piramisában törpéknek készül"]
["Éjvadász ruha ",{"$f":"VLOOKUP(A18,Törzsadat!A:B,2,0)","v":"851 "},"Éjvadász ruha (#851)",30,35,"+30 AC, +10 ügy., +3 sebzés, +3 támadás, -5 iq, min. szint: 35"]
["elit csatavért ",{"$f":"VLOOKUP(A19,Törzsadat!A:B,2,0)","v":"295 "},"elit csatavért (#295)",8,0,"+8 AC"]
["ezüsttölgy mellény ",{"$f":"VLOOKUP(A20,Törzsadat!A:B,2,0)","v":"991 "},"ezüsttölgy mellény (#991)",47,0,"zarknod piramisában elfeknek készül"]
["ganüid masszapáncél ",{"$f":"VLOOKUP(A21,Törzsadat!A:B,2,0)","v":"1817 "},"ganüid masszapáncél (#1817)",4,45,"+4 AC, min. szint: 45, nem átadható"]
["gromak páncél ",{"$f":"VLOOKUP(A22,Törzsadat!A:B,2,0)","v":"270 "},"gromak páncél (#270)",9,0,"+9 AC"]
["haramaki ",{"$f":"VLOOKUP(A23,Törzsadat!A:B,2,0)","v":"1367 "},"haramaki (#1367)",30,45,"+30 AC, +5 sebzés, +5 támadás, +5 ügy., +5 eg., +5 szer., +5 sebzés a ryuku szigetvilág lényei ellen, -5 sebzés a ryuku szigetvilág lényeinek, min. szint: 45"]
["hoarián bőrzeke ",{"$f":"VLOOKUP(A24,Törzsadat!A:B,2,0)","v":"1342 "},"hoarián bőrzeke (#1342)",8,0,"+8 AC, +10 ügy."]
["játékmesteri palást ",{"$f":"VLOOKUP(A25,Törzsadat!A:B,2,0)","v":"824 "},"játékmesteri palást (#824)",40,0,"cirkuszi fődíj, +40 AC, +10 erő, +10 iq, +10 ügy., +10 eg., +10 szer., +150 vp. regen., +200 max. ép., +5 % kincskeresés, nem átadható"]
["Kabol irhája ",{"$f":"VLOOKUP(A26,Törzsadat!A:B,2,0)","v":"903 "},"Kabol irhája (#903)",30,30,"+30 AC, +3 erő, +100 max. ép., csak trollok hordhatják, min. szint: 30"]
["kristálypáncél ",{"$f":"VLOOKUP(A27,Törzsadat!A:B,2,0)","v":"1780 "},"kristálypáncél (#1780)",60,0,"+60 AC, +100 max. ép., csökkenti a ganüidok közelharci sebzését, nem átadható"]
["kvazár páncél ",{"$f":"VLOOKUP(A28,Törzsadat!A:B,2,0)","v":"251 "},"kvazár páncél (#251)",12,0,"+12 AC"]
["láncing ",{"$f":"VLOOKUP(A29,Törzsadat!A:B,2,0)","v":"222 "},"láncing (#222)",8,0,"+8 AC"]
["mahagóni vért ",{"$f":"VLOOKUP(A30,Törzsadat!A:B,2,0)","v":"982 "},"mahagóni vért (#982)",45,0,"zarknod piramisában embereknek készül"]
["mélybíbor páncél ",{"$f":"VLOOKUP(A31,Törzsadat!A:B,2,0)","v":"1054 "},"mélybíbor páncél (#1054)",43,0,"zarknod piramisában mutánsoknak készül"]
["Métely páncélja ",{"$f":"VLOOKUP(A32,Törzsadat!A:B,2,0)","v":"1562 "},"Métely páncélja (#1562)",8,9,"+8 AC, +25 max. ép., min. szint: 9"]
["mithril láncing ",{"$f":"VLOOKUP(A33,Törzsadat!A:B,2,0)","v":"457 "},{"$f":"CONCATENATE(TRIM(A33),\" (#\",TRIM(B33),\")\")","v":"mithril láncing (#457)"},18,17,"+18 AC, +1 ügy., min. szint: 17"]
["moa védőmellény ",{"$f":"VLOOKUP(A34,Törzsadat!A:B,2,0)","v":"1027 "},"moa védőmellény (#1027)",46,0,"zarknod piramisában gnómoknak készül"]
["mordaith mellény ",{"$f":"VLOOKUP(A35,Törzsadat!A:B,2,0)","v":"1009 "},"mordaith mellény (#1009)",47,0,"zarknod piramisában árnymanóknak készül"]
["ősi páncél ",{"$f":"VLOOKUP(A36,Törzsadat!A:B,2,0)","v":"809 "},"ősi páncél (#809)",50,0,"+50 AC, +5 erő, +5 iq, +5 ügy., +5 eg., +5 szer., +100 max. ép., nem átadható"]
["páncélfényező ",{"$f":"VLOOKUP(A37,Törzsadat!A:B,2,0)","v":"1678 "},{"$f":"CONCATENATE(TRIM(A37),\" (#\",TRIM(B37),\")\")","v":"páncélfényező (#1678)"},0,0]
["rézpáncél ",{"$f":"VLOOKUP(A38,Törzsadat!A:B,2,0)","v":"71 "},"rézpáncél (#71)",5,0,"+5 AC"]
["Rhatt páncélja ",{"$f":"VLOOKUP(A39,Törzsadat!A:B,2,0)","v":"458 "},"Rhatt páncélja (#458)",25,20,"+25 AC, -2 erő, +4 mentődobás halál és hideg ellen, -2 mentődobás energia ellen, min. szint: 20"]
["rizspapír-vért",{"$f":"VLOOKUP(A40,Törzsadat!A:B,2,0)","v":"1366 "},"rizspapír-vért (#1366)"]
["rőtmanó kacagány ",{"$f":"VLOOKUP(A41,Törzsadat!A:B,2,0)","v":"714 "},"rőtmanó kacagány (#714)",4,0,"+4 AC, +1 szer."]
["ryuku mellvért ",{"$f":"VLOOKUP(A42,Törzsadat!A:B,2,0)","v":"689 "},"ryuku mellvért (#689)",8,12,"+8 AC, +1 erő, +5 max. ép., min. szint: 12"]
["szamurájvért ",{"$f":"VLOOKUP(A43,Törzsadat!A:B,2,0)","v":"1353 "},"szamurájvért (#1353)",59,0,"+59 AC, +13 erő, +13 szer., 170 max. ép., +5 regeneráció képesség (FNO-s), immunitás öregítő szörnyképességekre, immunitás kronoérintésre, nem átadható"]
["szöges páncél ",{"$f":"VLOOKUP(A44,Törzsadat!A:B,2,0)","v":"65 "},"szöges páncél (#65)",4,0,"+4 AC"]
["tatuködmön ",{"$f":"VLOOKUP(A45,Törzsadat!A:B,2,0)","v":"255 "},"tatuködmön (#255)",2,0,"+2 AC"]
["teknős mágiapáncél ",{"$f":"VLOOKUP(A46,Törzsadat!A:B,2,0)","v":"1396 "},"teknős mágiapáncél (#1396)",10,45,"+10 AC, min. szint: 45"]
["titanit vért ",{"$f":"VLOOKUP(A47,Törzsadat!A:B,2,0)","v":"1428 "},"titanit vért (#1428)",35,0,"+35 AC, +18 sebzés, nem átadható"]
["tükörpáncél ",{"$f":"VLOOKUP(A48,Törzsadat!A:B,2,0)","v":"519 "},"tükörpáncél (#519)",22,20,"+22 AC, +5 szer., +5 felderítés, min. szint: 20"]
["uglaok páncél ",{"$f":"VLOOKUP(A49,Törzsadat!A:B,2,0)","v":"1018 "},"uglaok páncél (#1018)",40,0,"zarknod piramisában trolloknak készül"]
["vámpírvért ",{"$f":"VLOOKUP(A50,Törzsadat!A:B,2,0)","v":"1614 "},"vámpírvért (#1614)",24,40,"+24 AC, +4 sebzés, +4 eg., +40 max. ép., immunitást ad vámpirizáció és nekromanta csókja varázslatok ellen, min. szint: 40"]
["varkaudar páncél ",{"$f":"VLOOKUP(A51,Törzsadat!A:B,2,0)","v":"294 "},"varkaudar páncél (#294)",6,0,"+6 AC"]
["vasvért ",{"$f":"VLOOKUP(A52,Törzsadat!A:B,2,0)","v":"164 "},"vasvért (#164)",10,0,"+10 AC, min. bányászat: 6"]
["yiang mellény ",{"$f":"VLOOKUP(A53,Törzsadat!A:B,2,0)","v":"1045 "},"yiang mellény (#1045)",45,0,"zarknod piramisában kobuderáknak készül"]

{"sheet":"Pajzs","index":3,"n_rows":36,"n_cols":6,"rows_kept":36,"cut":false,"hidden":false,"merged":[]}
["adamantit pajzs ",{"$f":"VLOOKUP(A1,Törzsadat!A:B,2,0)","v":"630 "},{"$f":"CONCATENATE(TRIM(A1),\" (#\",TRIM(B1),\")\")","v":"adamantit pajzs (#630)"},9,0,"típus: pajzs+vágó (mágikus, balkezes), sebzés: 3d4+3, min. fsz: 18, +9 AC, min. bányászat: 28, nem átadható"]
["arany sárkánypajzs ",{"$f":"VLOOKUP(A2,Törzsadat!A:B,2,0)","v":"1038 "},"arany sárkánypajzs (#1038)",14,0,"zarknod piramisában alakváltóknak készül"]
["bronzpajzs ",{"$f":"VLOOKUP(A3,Törzsadat!A:B,2,0)","v":"89 "},"bronzpajzs (#89)",5,0,"+5 AC"]
["díszes rézpajzs ",{"$f":"VLOOKUP(A4,Törzsadat!A:B,2,0)","v":"84 "},"díszes rézpajzs (#84)",4,0,"+4 AC"]
["drakolit pajzs ",{"$f":"VLOOKUP(A5,Törzsadat!A:B,2,0)","v":"1002 "},"drakolit pajzs (#1002)",12,0,"zarknod piramisában törpéknek készül"]
["Ek'Hor pajzsa ",{"$f":"VLOOKUP(A6,Törzsadat!A:B,2,0)","v":"1556 "},"Ek'Hor pajzsa (#1556)",20,17,"+20 AC, +8 mentődobás mentális támadás ellen, min. szint: 17"]
["energiapajzs ",{"$f":"VLOOKUP(A7,Törzsadat!A:B,2,0)","v":"290 "},"energiapajzs (#290)",20,25,"+20 AC, leheletek fele sebzést okoznak, min. szint: 25"]
["ezüsttölgy pajzs ",{"$f":"VLOOKUP(A8,Törzsadat!A:B,2,0)","v":"993 "},"ezüsttölgy pajzs (#993)",20,0,"zarknod piramisában elfeknek készül"]
["ezüstveretes pajzs ",{"$f":"VLOOKUP(A9,Törzsadat!A:B,2,0)","v":"1669 "},"ezüstveretes pajzs (#1669)",30,35,"+30 AC, +13 sebzés, min. szint: 35"]
["hósárkány pajzs ",{"$f":"VLOOKUP(A10,Törzsadat!A:B,2,0)","v":"1394 "},"hósárkány pajzs (#1394)",30,45,"+30 AC, +30 sebzés, +5 szer., +150 max. ép., +5 mentődobás hideg támadások ellen, min. szint: 45"]
["kis bőrpajzs ",{"$f":"VLOOKUP(A11,Törzsadat!A:B,2,0)","v":"45 "},"kis bőrpajzs (#45)",1,0,"+1 AC"]
["kis vaspajzs ",{"$f":"VLOOKUP(A12,Törzsadat!A:B,2,0)","v":"159 "},"kis vaspajzs (#159)",6,0,"+6 AC, min. bányászat: 3"]
["kristálypajzs ",{"$f":"VLOOKUP(A13,Törzsadat!A:B,2,0)","v":"1779 "},"kristálypajzs (#1779)",25,0,"+25 AC, megvéd a ganüidok pusztító leheletétől"]
["kvatáns pajzs ",{"$f":"VLOOKUP(A14,Törzsadat!A:B,2,0)","v":"1829 "},"kvatáns pajzs (#1829)",8,0,"+8 AC, +1-et ad minden energia, hideg, és fizikai alapú támadó varázslat elleni mentődobásra, valamint +1-et a tárgyaid mentődobásaira"]
["kvazár pajzs ",{"$f":"VLOOKUP(A15,Törzsadat!A:B,2,0)","v":"296 "},"kvazár pajzs (#296)",9,0,"+9 AC"]
["mahagóni pajzs ",{"$f":"VLOOKUP(A16,Törzsadat!A:B,2,0)","v":"984 "},"mahagóni pajzs (#984)",12,0,"zarknod piramisában embereknek készül"]
["mélybíbor pajzs ",{"$f":"VLOOKUP(A17,Törzsadat!A:B,2,0)","v":"1056 "},"mélybíbor pajzs (#1056)",15,0,"zarknod piramisában mutánsoknak készül"]
["mithril pajzs ",{"$f":"VLOOKUP(A18,Törzsadat!A:B,2,0)","v":"460 "},"mithril pajzs (#460)",11,17,"+11 AC, +1 ügy, min. szint: 17"]
["moa hárítópajzs ",{"$f":"VLOOKUP(A19,Törzsadat!A:B,2,0)","v":"1029 "},"moa hárítópajzs (#1029)",23,0,"zarknod piramisában gnómoknak készül"]
["mordaith pajzs ",{"$f":"VLOOKUP(A20,Törzsadat!A:B,2,0)","v":"1011 "},"mordaith pajzs (#1011)",20,0,"zarknod piramisában árnymanóknak készül"]
["möszehát pajzs ",{"$f":"VLOOKUP(A21,Törzsadat!A:B,2,0)","v":"1231 "},"möszehát pajzs (#1231)",9,0,"típus: pajzs+vágó (balkezes), +9 AC, min. fsz.: 28, fehérállomány roncsolását lő (fixen)"]
["nagy vaspajzs ",{"$f":"VLOOKUP(A22,Törzsadat!A:B,2,0)","v":"161 "},"nagy vaspajzs (#161)",8,0,"+8 AC, min. bányászat: 3"]
["pengepajzs ",{"$f":"VLOOKUP(A23,Törzsadat!A:B,2,0)","v":"425 "},"pengepajzs (#425)",8,0,"típus: pajzs+vágó (mágikus, balkezes), sebzés: 2d4+4, min. fsz.: 15, +8 AC"]
["rákpajzs ",{"$f":"VLOOKUP(A24,Törzsadat!A:B,2,0)","v":"98 "},"rákpajzs (#98)",4,0,"+4 AC"]
["rézpajzs ",{"$f":"VLOOKUP(A25,Törzsadat!A:B,2,0)","v":"73 "},"rézpajzs (#73)",3,0,"+3 AC"]
["ryuku menetpajzs ",{"$f":"VLOOKUP(A26,Törzsadat!A:B,2,0)","v":"1320 "},"ryuku menetpajzs (#1320)",9,25,"+9 AC, min. szint: 25"]
["szellempajzs ",{"$f":"VLOOKUP(A27,Törzsadat!A:B,2,0)","v":"461 "},"szellempajzs (#461)",15,20,"+15 AC, -3 erő, +3 mentődobás méreg és mentális támadás ellen, min. szint: 20"]
["szöges bőrpajzs ",{"$f":"VLOOKUP(A28,Törzsadat!A:B,2,0)","v":"66 "},"szöges bőrpajzs (#66)",2,0,"+2 AC"]
["teknőcpajzs ",{"$f":"VLOOKUP(A29,Törzsadat!A:B,2,0)","v":"417 "},"teknőcpajzs (#417)",8,0,"+8 AC, +2 szer."]
["Tharr pajzsa ",{"$f":"VLOOKUP(A30,Törzsadat!A:B,2,0)","v":"459 "},"Tharr pajzsa (#459)",13,19,"+13 AC, +2 erő, -2 iq, -1 ügy., +3 gyógyítás, min. szint: 19"]
["Ting Ro Ce pajzsa ",{"$f":"VLOOKUP(A31,Törzsadat!A:B,2,0)","v":"1393 "},"Ting Ro Ce pajzsa (#1393)",33,55,"+33 AC, +33 sebzés, +180 max. ép., +7 szerencse, +10 mentődobás hideg ellen, immunitás kritikus ütés ellen, min. szint: 55"]
["titanit pajzs ",{"$f":"VLOOKUP(A32,Törzsadat!A:B,2,0)","v":"1431 "},"titanit pajzs (#1431)",15,0,"+15 AC, +45 sebzés, nem átadható"]
["uglaok nehéz pajzs ",{"$f":"VLOOKUP(A33,Törzsadat!A:B,2,0)","v":"1020 "},"uglaok nehéz pajzs (#1020)",11,0,"zarknod piramisában trolloknak készül"]
["Urgol káoszpajzsa ",{"$f":"VLOOKUP(A34,Törzsadat!A:B,2,0)","v":"826 "},"Urgol káoszpajzsa (#826)",20,30,"+20 AC, +15 szer., +30 sebzés, +150 max. ép., min. szint: 30, nem átadható"]
["yiang hárítópajzs ",{"$f":"VLOOKUP(A35,Törzsadat!A:B,2,0)","v":"1047 "},"yiang hárítópajzs (#1047)",16,0,"zarknod piramisában kobuderáknak készül"]
["Zarknod szeme ",{"$f":"VLOOKUP(A36,Törzsadat!A:B,2,0)","v":"740 "},"Zarknod szeme (#740)",10,0,"típus: pajzs+ütő, sebzés: 3d6+4, min. fsz.: 30, +10 AC, +5 eg., káoszcsapást lő (fixen)"]

{"sheet":"Sisak","index":4,"n_rows":61,"n_cols":6,"rows_kept":61,"cut":false,"hidden":false,"merged":[]}
["adamantit sisak ",{"$f":"VLOOKUP(A1,Törzsadat!A:B,2,0)","v":"629 "},{"$f":"CONCATENATE(TRIM(A1),\" (#\",TRIM(B1),\")\")","v":"adamantit sisak (#629)"},8,0,"+8 AC, min. bányászat: 26, nem átadható"]
["angyali sisak ",{"$f":"VLOOKUP(A2,Törzsadat!A:B,2,0)","v":"971 "},"angyali sisak (#971)",12,35,"+12 AC, +5 erő, +80 max. ép., csak jók használhatják, min. szint: 35"]
["arany sárkánysisak ",{"$f":"VLOOKUP(A3,Törzsadat!A:B,2,0)","v":"1037 "},"arany sárkánysisak (#1037)",11,0,"zarknod piramisában alakváltóknak készül"]
["bo'adhun tiara ",{"$f":"VLOOKUP(A4,Törzsadat!A:B,2,0)","v":"744 "},"bo'adhun tiara (#744)",6,35,"+6 AC, +3 erő, +3 ügy., +3 eg., +50 max. vp., +6 teo., min. szint: 35"]
["bozontfonat ","1563 ","bozontfonat (#1563)",0,0,"+3 erő, -2 iq"]
["bőrsisak ",{"$f":"VLOOKUP(A6,Törzsadat!A:B,2,0)","v":"57 "},"bőrsisak (#57)",1,0,"+1 AC"]
["bronz fejpánt ",{"$f":"VLOOKUP(A7,Törzsadat!A:B,2,0)","v":"407 "},"bronz fejpánt (#407)",2,0,"+2 AC"]
["bronzsisak ",{"$f":"VLOOKUP(A8,Törzsadat!A:B,2,0)","v":"88 "},"bronzsisak (#88)",3,0,"+3 AC"]
["drakolit sisak ",{"$f":"VLOOKUP(A9,Törzsadat!A:B,2,0)","v":"1001 "},"drakolit sisak (#1001)",10,0,"zarknod piramisában törpéknek készül"]
["ezüsttölgy sapka ",{"$f":"VLOOKUP(A10,Törzsadat!A:B,2,0)","v":"992 "},"ezüsttölgy sapka (#992)",14,0,"zarknod piramisában elfeknek készül"]
["Gotac kősisakja ",{"$f":"VLOOKUP(A11,Törzsadat!A:B,2,0)","v":"1721 "},"Gotac kősisakja (#1721)",5,50,"+5 AC, +100 max. ép., -10 sebződés, min. szint: 50"]
["gyémántsisak ",{"$f":"VLOOKUP(A12,Törzsadat!A:B,2,0)","v":"467 "},"gyémántsisak (#467)",8,19,"+8 AC, +1 támadás, +1 erő, -1 iq, +1 szer., -2 teo., -2 tau., +3 csapdaészlelés, +3 felderítés, min. szint: 19"]
["Halatir kalapja ",{"$f":"VLOOKUP(A13,Törzsadat!A:B,2,0)","v":"1262 "},"Halatir kalapja (#1262)",2,0,"+2 AC, -2 támadás, városban zenéléskor 15%-kal több aranyat kapsz"]
["harci maszk ",{"$f":"VLOOKUP(A14,Törzsadat!A:B,2,0)","v":"1739 "},"harci maszk (#1739)",3,0,"+3 AC, +3 támadás, +3 erő, +3 ügy."]
["holdezüst fejpánt ",{"$f":"VLOOKUP(A15,Törzsadat!A:B,2,0)","v":"1555 "},"holdezüst fejpánt (#1555)",5,0,"+5 AC, +2 szer., +20 max. pszi, min. pszi: 5"]
["jing-jang fejpánt ",{"$f":"VLOOKUP(A16,Törzsadat!A:B,2,0)","v":"556 "},"jing-jang fejpánt (#556)",5,12,"+5 AC, csak kobuderák használhatják, min. szint: 12"]
["kabuto ",{"$f":"VLOOKUP(A17,Törzsadat!A:B,2,0)","v":"1373 "},"kabuto (#1373)",13,40,"+13 AC, +13 támadás, +50 max. ép., min. szint: 40"]
["kamikáze fejfedő ",{"$f":"VLOOKUP(A18,Törzsadat!A:B,2,0)","v":"1592 "},"kamikáze fejfedő (#1592)",-20,55,"-20 AC, ha életerőd a maximális 5%-a alá zuhan, akkor menekülsz el a harcokból, min. szint: 55"]
["Khór maszkja ",{"$f":"VLOOKUP(A19,Törzsadat!A:B,2,0)","v":"1138 "},"Khór maszkja (#1138)",2,0,"+2 AC, -1 támadás, +2 szer., +20 max. ép."]
["Korrissh sisakja ",{"$f":"VLOOKUP(A20,Törzsadat!A:B,2,0)","v":"1658 "},"Korrissh sisakja (#1658)",12,35,"+12 AC, +6 sebzés (thargodanok és sárkányok ellen), +6 támadás, min. szint: 35"]
["Krough fejdísze ",{"$f":"VLOOKUP(A21,Törzsadat!A:B,2,0)","v":"1570 "},"Krough fejdísze (#1570)",0,12,"+70 max. ép., immunitás félelem támadásokkal szemben, min. szint: 12"]
["kvazár sisak ",{"$f":"VLOOKUP(A22,Törzsadat!A:B,2,0)","v":"266 "},"kvazár sisak (#266)",5,0,"+5 AC"]
["Kyeli maszkja ",{"$f":"VLOOKUP(A23,Törzsadat!A:B,2,0)","v":"1289 "},"Kyeli maszkja (#1289)",15,0,"+15 AC, +2 sebzés, +2 erő, +2 iq, +2 ügy., +2 eg., +2 szer., +150 max. ép., csökken az esélye, hogy a szörnyek ütéseitől elkábulsz, nem átadható"]
["lidérckorona ",{"$f":"VLOOKUP(A24,Törzsadat!A:B,2,0)","v":"531 "},"lidérckorona (#531)",10,25,"+10 AC, +10 teo., +10 tau., +20 vp. regen., min. szint: 25"]
["lovagi sisakforgó ",{"$f":"VLOOKUP(A25,Törzsadat!A:B,2,0)","v":"1594 "},"lovagi sisakforgó (#1594)",0,0,"ha forgóval a sisakodon vezetsz egy csapatot TK-ba, csapatmunka szakértelmed a szokásos +20%-ával fejlődik, min. csapatmunka: 4"]
["Mágikus Koponya ",{"$f":"VLOOKUP(A26,Törzsadat!A:B,2,0)","v":"279 "},"Mágikus Koponya (#279)",0,0,"felezi a harci papi varázslatok költségét, csak Leah hívei hordhatják"]
["mahagóni korona ",{"$f":"VLOOKUP(A27,Törzsadat!A:B,2,0)","v":"983 "},"mahagóni korona (#983)",12,0,"zarknod piramisában embereknek készül"]
["mélybíbor álarc ",{"$f":"VLOOKUP(A28,Törzsadat!A:B,2,0)","v":"1055 "},"mélybíbor álarc (#1055)",14,0,"zarknod piramisában mutánsoknak készül"]
["mentát korona ",{"$f":"VLOOKUP(A29,Törzsadat!A:B,2,0)","v":"1559 "},"mentát korona (#1559)",9,0,"+9 AC, +60 max. pszi, min. pszi: 20, -8 mentődobás ellenfeleknek varázslatok ellen, szörny eltűnést megakadályoz,"]
["mihlanil sisak ",{"$f":"VLOOKUP(A30,Törzsadat!A:B,2,0)","v":"596 "},"mihlanil sisak (#596)",6,0,"+6 AC, +10 max. ép., min. bányászat: 15, nem átadható"]
["mirtuszkoszorú ",{"$f":"VLOOKUP(A31,Törzsadat!A:B,2,0)","v":"330 "},"mirtuszkoszorú (#330)",2,0,"+2 AC, +2 zene, bárdverseny vándor díj"]
["mithril sisak ",{"$f":"VLOOKUP(A32,Törzsadat!A:B,2,0)","v":"465 "},"mithril sisak (#465)",7,17,"+7 AC, +1 ügy., min. szint: 17"]
["moa sisak ",{"$f":"VLOOKUP(A33,Törzsadat!A:B,2,0)","v":"1028 "},"moa sisak (#1028)",10,0,"zarknod piramisában gnómoknak készül"]
["mordaith álarc ",{"$f":"VLOOKUP(A34,Törzsadat!A:B,2,0)","v":"1010 "},{"$f":"CONCATENATE(TRIM(A34),\" (#\",TRIM(B34),\")\")","v":"mordaith álarc (#1010)"},13,0,"zarknod piramisában árnymanóknak készül"]
["Morgan sipkája ",{"$f":"VLOOKUP(A35,Törzsadat!A:B,2,0)","v":"466 "},"Morgan sipkája (#466)",6,20,"+6 AC, -2 támadás, -2 erő, +1 iq, +10 vp. regen., +2 tau., harci védő varázslatoknak nem kell komponens"]
["Mutáns korona ",{"$f":"VLOOKUP(A36,Törzsadat!A:B,2,0)","v":"1149 "},"Mutáns korona (#1149)",10,0,"+10 AC, +5 szer., +100 max. ép., +100 max. vp., +2 regen. képesség (FNO-s), +10 % sebzés minden téged érő varázslatra, nem átadható"]
["optiri agysisak ",{"$f":"VLOOKUP(A37,Törzsadat!A:B,2,0)","v":"315 "},"optiri agysisak (#315)",1,0,"+1 AC, iq fejlesztés hatékonyságának növelése"]
["ősi sisak ",{"$f":"VLOOKUP(A38,Törzsadat!A:B,2,0)","v":"807 "},"ősi sisak (#807)",12,0,"+12 AC, +5 erő, +3 sebzés, +100 max. ép., nem átadható"]
["pszi katalizátor ",{"$f":"VLOOKUP(A39,Törzsadat!A:B,2,0)","v":"610 "},"pszi katalizátor (#610)",0,0,"-"]
["quwarg korona ",{"$f":"VLOOKUP(A40,Törzsadat!A:B,2,0)","v":"787 "},"quwarg korona (#787)",9,0,"+9 AC, +3 iq, +3 ügy., +3 eg., +3 szer., nem átadható"]
["rémbőr tarkóvédő ",{"$f":"VLOOKUP(A41,Törzsadat!A:B,2,0)","v":"737 "},"rémbőr tarkóvédő (#737)",16,0,"+16 AC"]
["réz fejpánt ",{"$f":"VLOOKUP(A42,Törzsadat!A:B,2,0)","v":"406 "},"réz fejpánt (#406)",1,0,"+1 AC"]
["rézsisak ",{"$f":"VLOOKUP(A43,Törzsadat!A:B,2,0)","v":"72 "},"rézsisak (#72)",2,0,"+2 AC"]
["Rhoi sisakja ",{"$f":"VLOOKUP(A44,Törzsadat!A:B,2,0)","v":"1422 "},"Rhoi sisakja (#1422)",10,0,"+10 AC, +10 sebzés, nem átadható"]
["rubin koszorú ",{"$f":"VLOOKUP(A45,Törzsadat!A:B,2,0)","v":"1599 "},"rubin koszorú (#1599)",0,0,"+1 erő, +1 iq, +1 ügy., +1 eg., nem átadható"]
["ryuku kalózkalap ",{"$f":"VLOOKUP(A46,Törzsadat!A:B,2,0)","v":"1433 "},"ryuku kalózkalap (#1433)",8,0,"+8 AC, +22 támadás, +5 erő, védelem a méreg alapú varázslatok ellen, nem átadható"]
["ryuku kalózkendő ",{"$f":"VLOOKUP(A47,Törzsadat!A:B,2,0)","v":"1157 "},"ryuku kalózkendő (#1157)",0,0,"-1 támadás, +4 szer., sem a koordináta-meghatározáshoz, sem a szeksztánst igénylő varázslatokhoz nincs szükség többé szeksztánsra"]
["ryuku sisak ",{"$f":"VLOOKUP(A48,Törzsadat!A:B,2,0)","v":"688 "},"ryuku sisak (#688)",4,12,"+4 AC, +1 eg., min. szint: 12"]
["smaragd koszorú ",{"$f":"VLOOKUP(A49,Törzsadat!A:B,2,0)","v":"252 "},"smaragd koszorú (#252)",3,0,"+3 AC, +1 iq"]
["szélkorona ",{"$f":"VLOOKUP(A50,Törzsadat!A:B,2,0)","v":"558 "},"szélkorona (#558)",4,0,"+4 AC, szépségverseny fődíja"]
["Teremtő koronája ",{"$f":"VLOOKUP(A51,Törzsadat!A:B,2,0)","v":"918 "},"Teremtő koronája (#918)",0,0,"+1 támadás, -3 erő, +3 szer., +30 max. ép., +4 sebzés árnytündérek ellen"]
["Thargodan agyfókusz ",{"$f":"VLOOKUP(A52,Törzsadat!A:B,2,0)","v":"1772 "},"Thargodan agyfókusz (#1772)",0,0,"a megölt éjfattyak után nem csak tapasztalati, hanem 1 fejlesztési pontot is kapsz, nem átadható"]
["Thargodan korona ",{"$f":"VLOOKUP(A53,Törzsadat!A:B,2,0)","v":"543 "},"Thargodan korona (#543)",6,0,"+6 AC, +20 max. ép."]
["Tharr koronája ",{"$f":"VLOOKUP(A54,Törzsadat!A:B,2,0)","v":"1596 "},"Tharr koronája (#1596)",8,50,"+8 AC, +3 sebzés, +3 támadás, +50 max. ép., +10 gyógyítás, közelharcban, minden szörnyre leadott ütésedre van 1% esély, hogy az ütés kritikus lesz, min. szint: 50, nem átadható"]
["törp sisak ",{"$f":"VLOOKUP(A55,Törzsadat!A:B,2,0)","v":"897 "},"törp sisak (#897)",6,30,"+6 AC, +2 sebzés, +2 támadás, +20 max. ép., csak törpék, gnómok vagy árnymanók hordhatják, min. szint: 30"]
["tűzhaj diadém ",{"$f":"VLOOKUP(A56,Törzsadat!A:B,2,0)","v":"1136 "},"tűzhaj diadém (#1136)",4,0,"+4 AC, +8 tau., +20 mentődobás tűz ellen, 100 vp. alatti tűz alapú varázslatnak nem kell komponens, nem átadható"]
["uglaok harci maszk ",{"$f":"VLOOKUP(A57,Törzsadat!A:B,2,0)","v":"1019 "},"uglaok harci maszk (#1019)",10,0,"zarknod piramisában trolloknak készül"]
["vas fejpánt ",{"$f":"VLOOKUP(A58,Törzsadat!A:B,2,0)","v":"408 "},"vas fejpánt (#408)",3,0,"+3 AC, min. bányászat: 4"]
["vassisak ",{"$f":"VLOOKUP(A59,Törzsadat!A:B,2,0)","v":"160 "},"vassisak (#160)",4,0,"+4 AC, min. bányászat: 4"]
["yiang sapka ",{"$f":"VLOOKUP(A60,Törzsadat!A:B,2,0)","v":"1046 "},"yiang sapka (#1046)",13,0,"zarknod piramisában kobuderáknak készül"]
["Zu'lit koronája ",{"$f":"VLOOKUP(A61,Törzsadat!A:B,2,0)","v":"821 "},"Zu'lit koronája (#821)",5,0,"cirkuszi rész-díj, +5 AC, +5 iq, +5 teo., +5 tau., +100 vp. regen., nem átadható"]

{"sheet":"Csizma","index":5,"n_rows":40,"n_cols":7,"rows_kept":40,"cut":false,"hidden":false,"merged":[]}
["adamantit csizma ",{"$f":"VLOOKUP(A1,Törzsadat!A:B,2,0)","v":"631 "},{"$f":"CONCATENATE(TRIM(A1),\" (#\",TRIM(B1),\")\")","v":"adamantit csizma (#631)"},9,0,"+9 AC, min. bányászat: 31, nem átadható"]
["agori szegecscsizma ",{"$f":"VLOOKUP(A2,Törzsadat!A:B,2,0)","v":"1676 "},"agori szegecscsizma (#1676)",4,29,"+4 AC, +2 ügy., +30 max. ép., min. szint: 29"]
["alligátorbőr cipő ",{"$f":"VLOOKUP(A3,Törzsadat!A:B,2,0)","v":"662 "},"alligátorbőr cipő (#662)",3,0,"+3 AC"]
["arany sárkánycsizma ",{"$f":"VLOOKUP(A4,Törzsadat!A:B,2,0)","v":"1040 "},"arany sárkánycsizma (#1040)",10,0,"zarknod piramisában alakváltóknak készül"]
["bakkura csizma ",{"$f":"VLOOKUP(A5,Törzsadat!A:B,2,0)","v":"96 "},"bakkura csizma (#96)",2,0,"+2 AC"]
["bűzölgő csizma ",{"$f":"VLOOKUP(A6,Törzsadat!A:B,2,0)","v":"898 "},"bűzölgő csizma (#898)",4,0,"+4 AC, +4 sebzés, nem átadható"]
["cápabőr csizma ",{"$f":"VLOOKUP(A7,Törzsadat!A:B,2,0)","v":"832 "},"cápabőr csizma (#832)",8,25,"+8 AC, +1 eg., +20 max. vp., min. szint: 25"]
["cirkuszi surranó ",{"$f":"VLOOKUP(A8,Törzsadat!A:B,2,0)","v":"1234 "},"cirkuszi surranó (#1234)",0,0,"-"]
["dalebgad kristálycsizma ",{"$f":"VLOOKUP(A9,Törzsadat!A:B,2,0)","v":"674 "},"dalebgad kristálycsizma (#674)",6,0,"+6 AC, +1 erő, +1 iq, +1 ügy., +1 eg., +1 szer., nem átadható"]
["draklen csizma ",{"$f":"VLOOKUP(A10,Törzsadat!A:B,2,0)","v":"1301 "},"draklen csizma (#1301)",16,55,"+16 AC, +5 támadás, +3 erő, +3 szer., +70 max. ép., min. szint: 55"]
["drakolit csizma ",{"$f":"VLOOKUP(A11,Törzsadat!A:B,2,0)","v":"1004 "},"drakolit csizma (#1004)",10,0,"zarknod piramisában törpéknek készül"]
["éjsötét rémcsizma ",{"$f":"VLOOKUP(A12,Törzsadat!A:B,2,0)","v":"1841 "},"éjsötét rémcsizma (#1841)",11,65,"+11 AC, +7 támadás, +7 sebzés, -20 iq, +80 max. ép., +80 max. vp., -40 % sebzés minden téged érő varázslatra, min. szint: 65, nem átadható"]
["értépő sarkantyú ","1482 ","értépő sarkantyú (#1482)",0,0,"+1 sebzés"]
["ezüsttölgy surranó ",{"$f":"VLOOKUP(A14,Törzsadat!A:B,2,0)","v":"995 "},"ezüsttölgy surranó (#995)",10,0,"zarknod piramisában elfeknek készül"]
["fekete bőrcsizma ",{"$f":"VLOOKUP(A15,Törzsadat!A:B,2,0)","v":"247 "},"fekete bőrcsizma (#247)",3,0,"+3 AC"]
["gyöngyfűzős szandál ",{"$f":"VLOOKUP(A16,Törzsadat!A:B,2,0)","v":"1851 "},"gyöngyfűzős szandál (#1851)",0,0,"-"]
["hoarián saru ",{"$f":"VLOOKUP(A17,Törzsadat!A:B,2,0)","v":"1346 "},"hoarián saru (#1346)",5,0,"+5 AC, +5 ügy., +5 lopás"]
["hósárkánybőr csizma ",{"$f":"VLOOKUP(A18,Törzsadat!A:B,2,0)","v":"1088 "},"hósárkánybőr csizma (#1088)",13,25,"+13 AC, +5 eg., +30 max. ép., +4 mentődobás hideg ellen, min. szint: 25"]
["kalóz bőrcsizma ",{"$f":"VLOOKUP(A19,Törzsadat!A:B,2,0)","v":"1483 "},"kalóz bőrcsizma (#1483)",10,25,"+10 AC, min. szint: 25"]
["mahagóni csizma ",{"$f":"VLOOKUP(A20,Törzsadat!A:B,2,0)","v":"986 "},"mahagóni csizma (#986)",10,0,"zarknod piramisában embereknek készül"]
["Mamajaga kőcipője ",{"$f":"VLOOKUP(A21,Törzsadat!A:B,2,0)","v":"1630 "},"Mamajaga kőcipője (#1630)",8,30,"+8 AC, -30 max. ép., -5 rejtőzködés, -5 vadászat, -8 sebződés közelharcban, min. szint: 30"]
["mélybíbor csizma ",{"$f":"VLOOKUP(A22,Törzsadat!A:B,2,0)","v":"1058 "},"mélybíbor csizma (#1058)",10,0,"zarknod piramisában mutánsoknak készül"]
["mihlanil csizma ",{"$f":"VLOOKUP(A23,Törzsadat!A:B,2,0)","v":"602 "},"mihlanil csizma (#602)",6,0,"+6 AC, +10 max. ép., min. bányászat: 18, nem átadható"]
["moa cipő ",{"$f":"VLOOKUP(A24,Törzsadat!A:B,2,0)","v":"1031 "},"moa cipő (#1031)",10,0,"zarknod piramisában gnómoknak készül"]
["mordaith cipő ",{"$f":"VLOOKUP(A25,Törzsadat!A:B,2,0)","v":"1013 "},"mordaith cipő (#1013)",10,0,"zarknod piramisában árnymanóknak készül"]
["ősi csizma ",{"$f":"VLOOKUP(A26,Törzsadat!A:B,2,0)","v":"804 "},"ősi csizma (#804)",13,0,"+13 AC, +1 támadás, +5 eg., +100 max. ép., nem átadható"]
["Radelf csizmája ",{"$f":"VLOOKUP(A27,Törzsadat!A:B,2,0)","v":"1503 "},"Radelf csizmája (#1503)",18,55,"+18 AC, +5 iq, +5 ügy., +50 max. ép., min. szint: 55"]
["ryuku csizma ",{"$f":"VLOOKUP(A28,Törzsadat!A:B,2,0)","v":"692 "},"ryuku csizma (#692)",2,12,"+2 AC, +1 szer., min. szint: 12"]
["ryuku futárcsizma ",{"$f":"VLOOKUP(A29,Törzsadat!A:B,2,0)","v":"1530 "},"ryuku futárcsizma (#1530)",4,15,"+4 AC, +2 szer., szabadban történő mozgásaid 5 TVP-be kerülnek, min. szint: 15"]
["Ssszissszenő csizma ",{"$f":"VLOOKUP(A30,Törzsadat!A:B,2,0)","v":"954 "},"Ssszissszenő csizma (#954)",10,30,"+10 AC, +30 max. ép., +2 csapdaészlelés, min. szint: 30"]
["taposó tappancs ",{"$f":"VLOOKUP(A31,Törzsadat!A:B,2,0)","v":"318 "},"taposó tappancs (#318)",1,0,"+1 AC, +7 MXTU, Vasalt Bunkók KT tárgya"]
["törpe bakancs ",{"$f":"VLOOKUP(A32,Törzsadat!A:B,2,0)","v":"475 "},"törpe bakancs (#475)",2,0,"+2 AC, -2 TVP","ref. pont a mozgás labirintusban"]
["tűzúr csizmája ",{"$f":"VLOOKUP(A33,Törzsadat!A:B,2,0)","v":"533 "},"tűzúr csizmája (#533)",8,25,"+8 AC, +8 tau., +1 sebzés szintenként a tűzvarázslatokra, min. szint: 25"]
["uglaok szöges csizma ",{"$f":"VLOOKUP(A34,Törzsadat!A:B,2,0)","v":"1022 "},"uglaok szöges csizma (#1022)",10,0,"zarknod piramisában trolloknak készül"]
["úri lábbeli ",{"$f":"VLOOKUP(A35,Törzsadat!A:B,2,0)","v":"1667 "},"úri lábbeli (#1667)",3,10,"+3 AC, +3 iq, +3 ügy., min. szint: 10"]
["varkaudar csizma ",{"$f":"VLOOKUP(A36,Törzsadat!A:B,2,0)","v":"317 "},"varkaudar csizma (#317)",4,0,"+4 AC"]
["vascarai csizma ",{"$f":"VLOOKUP(A37,Törzsadat!A:B,2,0)","v":"370 "},"vascarai csizma (#370)",2,0,"+2 AC, 10 lépés, -1 TVP","mozgás"]
["yeti mokasszin ",{"$f":"VLOOKUP(A38,Törzsadat!A:B,2,0)","v":"710 "},"yeti mokasszin (#710)",9,0,"+9 AC"]
["yiang surranó ",{"$f":"VLOOKUP(A39,Törzsadat!A:B,2,0)","v":"1049 "},"yiang surranó (#1049)",10,0,"zarknod piramisában kobuderáknak készül"]
["zangrozi csizma ",{"$f":"VLOOKUP(A40,Törzsadat!A:B,2,0)","v":"451 "},"zangrozi csizma (#451)",4,0,"+4 AC"]

{"sheet":"Kesztyű","index":6,"n_rows":44,"n_cols":7,"rows_kept":44,"cut":false,"hidden":false,"merged":[]}
["adamantit kesztyű ",{"$f":"VLOOKUP(A1,Törzsadat!A:B,2,0)","v":"306 "},{"$f":"CONCATENATE(TRIM(A1),\" (#\",TRIM(B1),\")\")","v":"adamantit kesztyű (#306)"},8,0,"+8 AC, +5 sebzés ököllel (mágikus), min. bányászat: 27, nem átadható"]
["arany sárkánykesztyű ",{"$f":"VLOOKUP(A2,Törzsadat!A:B,2,0)","v":"1039 "},"arany sárkánykesztyű (#1039)",9,0,"zarknod piramisában alakváltóknak készül"]
["Buqqe karma ",{"$f":"VLOOKUP(A3,Törzsadat!A:B,2,0)","v":"899 "},"Buqqe karma (#899)",7,35,"+7 AC, +12 sebzés ököllel (mágikus), +20 max. ép., min. szint: 35"]
["császári kesztyű ",{"$f":"VLOOKUP(A4,Törzsadat!A:B,2,0)","v":"723 "},"császári kesztyű (#723)",4,0,"+4 AC, +6 sebzés ököllel"]
["dalebgad kristálykesztyű ",{"$f":"VLOOKUP(A5,Törzsadat!A:B,2,0)","v":"1214 "},"dalebgad kristálykesztyű (#1214)",8,0,"+8 AC, +7 sebzés ököllel, +1 erő, +1 iq, +1 ügy., +1 eg., +1 szer., nem átadható"]
["drakolder kesztyű ",{"$f":"VLOOKUP(A6,Törzsadat!A:B,2,0)","v":"972 "},"drakolder kesztyű (#972)",2,0,"+2 AC, +3 zárnyitás, +5 csapdaészlelés, -1 TVP","ref. pont a mozgás labirintusban, nem átadható"]
["drakolit kesztyű ",{"$f":"VLOOKUP(A7,Törzsadat!A:B,2,0)","v":"1003 "},"drakolit kesztyű (#1003)",8,0,"zarknod piramisában törpéknek készül"]
["ezüsttölgy kesztyű ",{"$f":"VLOOKUP(A8,Törzsadat!A:B,2,0)","v":"994 "},"ezüsttölgy kesztyű (#994)",12,0,"zarknod piramisában elfeknek készül"]
["finom keszkenő ",{"$f":"VLOOKUP(A9,Törzsadat!A:B,2,0)","v":"1484 "},"finom keszkenő (#1484)",0,0,"-"]
["Ghudd'zilla kesztyű ",{"$f":"VLOOKUP(A10,Törzsadat!A:B,2,0)","v":"1471 "},"Ghudd'zilla kesztyű (#1471)",13,55,"+13 AC, +6 sebzés, +5 szer., +70 max. ép., +9 sebzés ököllel (mágikus), min. szint: 55"]
["grifftoll kesztyű ",{"$f":"VLOOKUP(A11,Törzsadat!A:B,2,0)","v":"1578 "},"grifftoll kesztyű (#1578)",0,7,"+2 támadás, +3 sebzést minden fegyverre, +4 sebzés ököllel, min. szint: 7"]
["Huddens kesztyűje ",{"$f":"VLOOKUP(A12,Törzsadat!A:B,2,0)","v":"649 "},"Huddens kesztyűje (#649)",5,20,"+5 AC, +10 sebzés ököllel (mágikus), min. szint: 20"]
["kampós kéz ",{"$f":"VLOOKUP(A13,Törzsadat!A:B,2,0)","v":"1414 "},"kampós kéz (#1414)",0,0,"+20 sebzés ököllel, nem átadható"]
["karomkesztyű ",{"$f":"VLOOKUP(A14,Törzsadat!A:B,2,0)","v":"1771 "},"karomkesztyű (#1771)",5,0,"+5 AC, +10 sebzés ököllel, +20 max. ép., min. szint: 20, +10 sebzés éjfattyak ellen"]
["Khór kesztyűje ",{"$f":"VLOOKUP(A15,Törzsadat!A:B,2,0)","v":"1746 "},"Khór kesztyűje (#1746)",8,0,"+8 AC, +5 erő, nem átadható"]
["kígyóbőr kesztyű ",{"$f":"VLOOKUP(A16,Törzsadat!A:B,2,0)","v":"49 "},"kígyóbőr kesztyű (#49)",1,0,"+1 AC"]
["kvazár kesztyű ",{"$f":"VLOOKUP(A17,Törzsadat!A:B,2,0)","v":"445 "},"kvazár kesztyű (#445)",3,0,"+3 AC, +3 sebzés ököllel"]
["lánckesztyű ",{"$f":"VLOOKUP(A18,Törzsadat!A:B,2,0)","v":"230 "},"lánckesztyű (#230)",3,0,"+3 AC"]
["Lordac kesztyűje ",{"$f":"VLOOKUP(A19,Törzsadat!A:B,2,0)","v":"1720 "},"Lordac kesztyűje (#1720)",6,50,"+6 AC, +8 sebzés, még +10 sebzés ököllel, +4 szer., min. szint: 50"]
["mahagóni kesztyű ",{"$f":"VLOOKUP(A20,Törzsadat!A:B,2,0)","v":"985 "},"mahagóni kesztyű (#985)",10,0,"zarknod piramisában embereknek készül"]
["mászókarom ",{"$f":"VLOOKUP(A21,Törzsadat!A:B,2,0)","v":"78 "},"mászókarom (#78)",0,0,"+4 sebzés ököllel"]
["mélybíbor kesztyű ",{"$f":"VLOOKUP(A22,Törzsadat!A:B,2,0)","v":"1057 "},"mélybíbor kesztyű (#1057)",9,0,"zarknod piramisában mutánsoknak készül"]
["mihlanil kesztyű ",{"$f":"VLOOKUP(A23,Törzsadat!A:B,2,0)","v":"603 "},"mihlanil kesztyű (#603)",6,0,"+1d6+1 sebzés ököllel (mágikus), +6 AC, +10 max. ép., min. bányászat: 15, nem átadható"]
["mithril kesztyű ",{"$f":"VLOOKUP(A24,Törzsadat!A:B,2,0)","v":"463 "},"mithril kesztyű (#463)",5,17,"+5 AC, +1 ügy., min. szint: 17"]
["moa munkáskesztyű ",{"$f":"VLOOKUP(A25,Törzsadat!A:B,2,0)","v":"1329 "},"moa munkáskesztyű (#1329)",5,0,"+5 AC, +5 sebzés ököllel, +5 támadás, -10% tárgy készítési költség"]
["moa védőkesztyű ",{"$f":"VLOOKUP(A26,Törzsadat!A:B,2,0)","v":"1030 "},"moa védőkesztyű (#1030)",10,0,"zarknod piramisában gnómoknak készül"]
["mordaith kesztyű ",{"$f":"VLOOKUP(A27,Törzsadat!A:B,2,0)","v":"1012 "},"mordaith kesztyű (#1012)",12,0,"zarknod piramisában árnymanóknak készül"]
["Muezli aranykeze ",{"$f":"VLOOKUP(A28,Törzsadat!A:B,2,0)","v":"442 "},"Muezli aranykeze (#442)",0,0,"viselésével KF 3-as tágy is lopható"]
["nehéz harci kesztyű ",{"$f":"VLOOKUP(A29,Törzsadat!A:B,2,0)","v":"464 "},"nehéz harci kesztyű (#464)",7,18,"+7AC, +4 sebzés ököllel, -2 támadás, +2 erő, -1 szer., min. szint: 18"]
["rémbőr kesztyű ",{"$f":"VLOOKUP(A30,Törzsadat!A:B,2,0)","v":"1468 "},"rémbőr kesztyű (#1468)",11,52,"+11 AC, +5 sebzés, +3 szer., +70 max. ép., min. szint: 52"]
["Romboló kesztyűje ",{"$f":"VLOOKUP(A31,Törzsadat!A:B,2,0)","v":"1806 "},"Romboló kesztyűje (#1806)",0,0,"+15 sebzés ököllel (mágikus), +25 támadás, min. fsz: 55, +50 sebzés ganüidok ellen"]
["ryuku kesztyű ",{"$f":"VLOOKUP(A32,Törzsadat!A:B,2,0)","v":"690 "},"ryuku kesztyű (#690)",2,12,"+2 AC, +3 sebzés ököllel, +1 támadás, min. szint: 12"]
["ryuku ökölgyolcs ",{"$f":"VLOOKUP(A33,Törzsadat!A:B,2,0)","v":"1156 "},{"$f":"CONCATENATE(TRIM(A33),\" (#\",TRIM(B33),\")\")","v":"ryuku ökölgyolcs (#1156)"},0,0]
["sárhajító kesztyű ",{"$f":"VLOOKUP(A34,Törzsadat!A:B,2,0)","v":"846 "},"sárhajító kesztyű (#846)",11,30,"+11 AC, +2 sebzés, +2 erő, min. szint: 30"]
["szürke bőrkesztyű ",{"$f":"VLOOKUP(A35,Törzsadat!A:B,2,0)","v":"271 "},"szürke bőrkesztyű (#271)",2,0,"+2 AC"]
["tankány karom ",{"$f":"VLOOKUP(A36,Törzsadat!A:B,2,0)","v":"237 "},"tankány karom (#237)",1,0,"+1 AC, +5 sebzés ököllel"]
["tleikan kesztyű ",{"$f":"VLOOKUP(A37,Törzsadat!A:B,2,0)","v":"893 "},"tleikan kesztyű (#893)",5,0,"+5 AC, +5 sebzés ököllel (mágikus), +30 max. ép., plusz sebzés fegyverszakértelem nagyságától függően, nem átadható"]
["tolvajkesztyű ",{"$f":"VLOOKUP(A38,Törzsadat!A:B,2,0)","v":"1730 "},"tolvajkesztyű (#1730)",0,0,"+8 lopás, +8 zárnyitás, +2 csapdaészlelés"]
["uglaok lánckesztyű ",{"$f":"VLOOKUP(A39,Törzsadat!A:B,2,0)","v":"1021 "},"uglaok lánckesztyű (#1021)",8,0,"zarknod piramisában trolloknak készül"]
["Urgod kesztyűje ",{"$f":"VLOOKUP(A40,Törzsadat!A:B,2,0)","v":"462 "},"Urgod kesztyűje (#462)",6,21,"+6 AC, -3 támadás, +1 iq, +1 szer., +2 tau., min. szint: 21"]
["Urgol lángkesztyűje ",{"$f":"VLOOKUP(A41,Törzsadat!A:B,2,0)","v":"1216 "},"Urgol lángkesztyűje (#1216)",0,0,"sebzés: ismeretlen (mágikus), nem átadható"]
["vámpírkesztyű ",{"$f":"VLOOKUP(A42,Törzsadat!A:B,2,0)","v":"1613 "},"vámpírkesztyű (#1613)",3,40,"+3 AC, +3 sebzés, +9 sebzés ököllel (ezüst), +3 támadás, +25 % vámpirizáció varázslat hatékonyság, min. szint: 40"]
["yiang kesztyű ",{"$f":"VLOOKUP(A43,Törzsadat!A:B,2,0)","v":"1048 "},"yiang kesztyű (#1048)",7,0,"zarknod piramisában kobuderáknak készül"]
["zúzókesztyű ",{"$f":"VLOOKUP(A44,Törzsadat!A:B,2,0)","v":"1670 "},"zúzókesztyű (#1670)",0,20,"+5 sebzés ököllel, +5 támadás, +10 erő, min. szint: 20"]

{"sheet":"Köpeny","index":7,"n_rows":43,"n_cols":6,"rows_kept":43,"cut":false,"hidden":false,"merged":[]}
["álcaruha ",{"$f":"VLOOKUP(A1,Törzsadat!A:B,2,0)","v":"1583 "},{"$f":"CONCATENATE(TRIM(A1),\" (#\",TRIM(B1),\")\")","v":"álcaruha (#1583)"},8,0,"+8 AC, +10 lopás, +10 rejtőzködés, min. lopás: 10, +1 támadásszám távfegyverrel, nem átadható"]
["Amélia köpenye ",{"$f":"VLOOKUP(A2,Törzsadat!A:B,2,0)","v":"1542 "},"Amélia köpenye (#1542)",0,20,"+4 eg., vámpirizáció varázslat minden ütés után +3%-kal többet gyógyít, min. szint: 20"]
["arany sárkányköpeny ",{"$f":"VLOOKUP(A3,Törzsadat!A:B,2,0)","v":"1041 "},"arany sárkányköpeny (#1041)",-10,0,"zarknod piramisában alakváltóknak készül"]
["árnyékköpeny ",{"$f":"VLOOKUP(A4,Törzsadat!A:B,2,0)","v":"362 "},"árnyékköpeny (#362)",7,0,"+7 AC, +3 szer., +4 rejtőzködés, +2 lopás, energia varázslatok sebzését felezi"]
["árnyszőttes ",{"$f":"VLOOKUP(A5,Törzsadat!A:B,2,0)","v":"1146 "},"árnyszőttes (#1146)",0,0,"nem átadható"]
["áspis védőköpeny ",{"$f":"VLOOKUP(A6,Törzsadat!A:B,2,0)","v":"479 "},"áspis védőköpeny (#479)",4,0,"+4 AC, védelem tűz és páncélbezúzás ellen, A Korona Bajnokai KT tárgya"]
["bundás kabát ",{"$f":"VLOOKUP(A7,Törzsadat!A:B,2,0)","v":"1068 "},"bundás kabát (#1068)",0,0,"véd a hóvihar negatív hatásától, nem átadható"]
["démoni palást ",{"$f":"VLOOKUP(A8,Törzsadat!A:B,2,0)","v":"1573 "},"démoni palást (#1573)",3,30,"+3 AC, +3 támadás, -1 iq, minden támadást mágikussá tesz, min. szint: 30"]
["draklen köpeny ",{"$f":"VLOOKUP(A9,Törzsadat!A:B,2,0)","v":"1302 "},"draklen köpeny (#1302)",0,0,"+7 iq, +7 szer., +100 vp. regen., szörnyek leheletei feleannyit fognak sebezni rajtad, nem átadható"]
["drakolit köpeny ",{"$f":"VLOOKUP(A10,Törzsadat!A:B,2,0)","v":"1005 "},"drakolit köpeny (#1005)",-10,0,"zarknod piramisában törpéknek készül"]
["ezüsttölgy köpeny ",{"$f":"VLOOKUP(A11,Törzsadat!A:B,2,0)","v":"996 "},"ezüsttölgy köpeny (#996)",-10,0,"zarknod piramisában elfeknek készül"]
["Fairlight köpenye ",{"$f":"VLOOKUP(A12,Törzsadat!A:B,2,0)","v":"303 "},"Fairlight köpenye (#303)",0,0,"+3 felderítés, csak Fairlight hívei hordhatják"]
["fekete csuha ",{"$f":"VLOOKUP(A13,Törzsadat!A:B,2,0)","v":"375 "},"fekete csuha (#375)",0,0,"-"]
["halálfejes köpeny ",{"$f":"VLOOKUP(A14,Törzsadat!A:B,2,0)","v":"1432 "},"halálfejes köpeny (#1432)",3,0,"+3 AC, +5 támadás, minden megölt szörny után +10 % tapasztalati pont, nem átadható"]
["hótarantula köpeny ",{"$f":"VLOOKUP(A15,Törzsadat!A:B,2,0)","v":"842 "},"hótarantula köpeny (#842)",4,30,"+4 AC, +4 iq, +4 szer., +30 max. ép., min. szint: 30, immunitás hálóra"]
["Jerome köpenye ",{"$f":"VLOOKUP(A16,Törzsadat!A:B,2,0)","v":"1527 "},"Jerome köpenye (#1527)",2,0,"+2 AC, +2 szer., +3 vadászat, csökkenti az éhségérzetet mint a vasszervezet"]
["kreiton palást ",{"$f":"VLOOKUP(A17,Törzsadat!A:B,2,0)","v":"888 "},"kreiton palást (#888)",2,0,"+2 AC, -5 erő, -5 szer., +3 sebzés, +80 max. ép., +80 max. vp., nem átadható"]
["kyorg köpeny ",{"$f":"VLOOKUP(A18,Törzsadat!A:B,2,0)","v":"741 "},"kyorg köpeny (#741)",6,30,"+6 AC, +3 ügy., +3 eg., +3 MXTU, +20 max. ép., min. szint: 30"]
["láthatatlanság köpenye ",{"$f":"VLOOKUP(A19,Törzsadat!A:B,2,0)","v":"441 "},"láthatatlanság köpenye (#441)",3,0,"+3 AC, 7 vp-ért láthatatlanság"]
["lovagi tabard ",{"$f":"VLOOKUP(A20,Törzsadat!A:B,2,0)","v":"349 "},"lovagi tabard (#349)",2,0,"+2 AC, +3 szer., Naplovagok KT tárgya"]
["mágusköpeny ",{"$f":"VLOOKUP(A21,Törzsadat!A:B,2,0)","v":"453 "},"mágusköpeny (#453)",4,0,"+4 AC, +10 vp. regen., -2 szerencse az ellenfélnek támadó varázslat ellen"]
["mahagóni köpeny ",{"$f":"VLOOKUP(A22,Törzsadat!A:B,2,0)","v":"987 "},"mahagóni köpeny (#987)",-10,0,"zarknod piramisában embereknek készül"]
["mélybíbor köpeny ",{"$f":"VLOOKUP(A23,Törzsadat!A:B,2,0)","v":"1059 "},"mélybíbor köpeny (#1059)",-10,0,"zarknod piramisában mutánsoknak készül"]
["merénylő köpenye ",{"$f":"VLOOKUP(A24,Törzsadat!A:B,2,0)","v":"1728 "},"merénylő köpenye (#1728)",3,0,"+3 AC, +8 támadás, +5 ügy., +5 rejtőzködés"]
["moa köntös ",{"$f":"VLOOKUP(A25,Törzsadat!A:B,2,0)","v":"1032 "},"moa köntös (#1032)",-10,0,"zarknod piramisában gnómoknak készül"]
["mordaith köpeny ",{"$f":"VLOOKUP(A26,Törzsadat!A:B,2,0)","v":"1014 "},"mordaith köpeny (#1014)",-10,0,"zarknod piramisában árnymanóknak készül"]
["nekromanta csuha ",{"$f":"VLOOKUP(A27,Törzsadat!A:B,2,0)","v":"1628 "},"nekromanta csuha (#1628)",2,30,"+2 AC, +4 támadás, +4 ügy., +1 MXTU, +5 teológia, +3 mentő hideg- és haláltámadások ellen, csak gonoszok használhatják, min. szint: 30"]
["nemesi vívópalást ",{"$f":"VLOOKUP(A28,Törzsadat!A:B,2,0)","v":"1489 "},"nemesi vívópalást (#1489)",-3,0,"-3 AC, -3 támadás, +1 támadásszám jobb- és balkézzel, -2 támadásszám távfegyverrel, nem átadható"]
["Obarraan köpenye ",{"$f":"VLOOKUP(A29,Törzsadat!A:B,2,0)","v":"1845 "},"Obarraan köpenye (#1845)",0,0,"+250 vp. regen., +10% sebzés minden ősi varázslatodra, +2 varázslat sebzés és mágiaerő FNO-s képesség, nem átadható"]
["őselemek köpenye ",{"$f":"VLOOKUP(A30,Törzsadat!A:B,2,0)","v":"560 "},"őselemek köpenye (#560)",2,22,"+2 AC, -40 % sebzés minden téged érő varázslatra, min. szint: 22"]
["ragyogó pelerin ",{"$f":"VLOOKUP(A31,Törzsadat!A:B,2,0)","v":"1627 "},"ragyogó pelerin (#1627)",5,30,"+5 AC, +5 szer., +5 tau., +5 teo., +1 MXTU, +3 fizikai hatások elleni mentődobás, min. szint: 30"]
["Raia papi palástja ",{"$f":"VLOOKUP(A32,Törzsadat!A:B,2,0)","v":"371 "},"Raia papi palástja (#371)",0,0,"+3 teo., kb. +10 hit pont, csak Raia hívei hordhatják, Lélektisztító Irgalmas Nővérek KT tárgya"]
["rejtőköpeny ",{"$f":"VLOOKUP(A33,Törzsadat!A:B,2,0)","v":"277 "},"rejtőköpeny (#277)",0,0,"+2 rejtőzködés"]
["Rettegés Köpenye ",{"$f":"VLOOKUP(A34,Törzsadat!A:B,2,0)","v":"960 "},"Rettegés Köpenye (#960)",8,0,"+8 AC, -4 eg., -15 mentődobás halál ellen ellenfelednek, 22%-os vámpirizáció, 220+ -on 10% esély +1 fejlesztési pont szerzésére szörnyek leölésekor, nem átadható"]
["ryuku köpeny ",{"$f":"VLOOKUP(A35,Törzsadat!A:B,2,0)","v":"693 "},"ryuku köpeny (#693)",2,12,"+2 AC, +1 iq, min. szint: 12"]
["ryuku vadászing ",{"$f":"VLOOKUP(A36,Törzsadat!A:B,2,0)","v":"1158 "},"ryuku vadászing (#1158)",0,0,"+6 szer., +2 szörnyismeret, +2 vadászat, esély 2 szörny felkutatására táborozás alatt"]
["sötét kámzsa ",{"$f":"VLOOKUP(A37,Törzsadat!A:B,2,0)","v":"699 "},"sötét kámzsa (#699)",0,0,"-"]
["Sztázisköpeny","2129","Sztázisköpeny (#2129)",10,0,"+10 AC, +10 támadás, +1 támadásszám minden támadásra, vámpirizációval 20 % helyett 25 %-át gyógyulhatod vissza az okozott sebzésednek, 10 % esély +1 FNO-ra, +10 % tapasztalati pont minden megölt szörny után, minden varázslatod ellen -5 mentődobást az ellenfélnek (a halál alapú varázslataid ellen további -10-et, a halálvarázsoknak pedig +10 esélye van a sikerre)"]
["szirén köpenye ",{"$f":"VLOOKUP(A39,Törzsadat!A:B,2,0)","v":"820 "},"szirén köpenye (#820)",5,0,"+5 AC, +2 iq, +2 teo., +2 % kincskeresés, nem átadható"]
["uglaok láncköpeny ",{"$f":"VLOOKUP(A40,Törzsadat!A:B,2,0)","v":"1023 "},"uglaok láncköpeny (#1023)",-10,0,"zarknod piramisában trolloknak készül"]
["vérvörös köpeny ",{"$f":"VLOOKUP(A41,Törzsadat!A:B,2,0)","v":"412 "},"vérvörös köpeny (#412)",0,0,"Vérvörös Légió KT tárgya"]
["yiang köpeny ",{"$f":"VLOOKUP(A42,Törzsadat!A:B,2,0)","v":"1050 "},"yiang köpeny (#1050)",-10,0,"zarknod piramisában kobuderáknak készül"]
["Zekhartax köpenye ",{"$f":"VLOOKUP(A43,Törzsadat!A:B,2,0)","v":"1834 "},"Zekhartax köpenye (#1834)",0,45,"harc közben 2-vel növeli a ganüidvadászat és a ganüid rezisztencia képességet (ekkor 10 fölé is nőhet), ganüidek leheletének hatását és fizikai sebzésüket is csökkenti, min. szint: 45, nem átadható"]

{"sheet":"Nadrág","index":8,"n_rows":26,"n_cols":6,"rows_kept":26,"cut":false,"hidden":false,"merged":[]}
["arany sárkánynadrág ",{"$f":"VLOOKUP(A1,Törzsadat!A:B,2,0)","v":"1044 "},{"$f":"CONCATENATE(TRIM(A1),\" (#\",TRIM(B1),\")\")","v":"arany sárkánynadrág (#1044)"},7,0,"zarknod piramisában alakváltóknak készül"]
["derit sodronynadrág ",{"$f":"VLOOKUP(A2,Törzsadat!A:B,2,0)","v":"1119 "},"derit sodronynadrág (#1119)",10,0,"+10 AC, +2 szer., +15 % az ellenfél varázslatának csődjére"]
["drag'kór lábvédő ",{"$f":"VLOOKUP(A3,Törzsadat!A:B,2,0)","v":"870 "},"drag'kór lábvédő (#870)",8,0,"+8 AC, +30 max. vp., nem átadható"]
["drakolit lábszárvédő ",{"$f":"VLOOKUP(A4,Törzsadat!A:B,2,0)","v":"1008 "},"drakolit lábszárvédő (#1008)",7,0,"zarknod piramisában törpéknek készül"]
["Dühöngő nadrágja ",{"$f":"VLOOKUP(A5,Törzsadat!A:B,2,0)","v":"1565 "},"Dühöngő nadrágja (#1565)",4,27,"+4 AC, +3 iq, +3 szer., +30 max. vp., min. szint: 27"]
["Emma köténye ",{"$f":"VLOOKUP(A6,Törzsadat!A:B,2,0)","v":"835 "},"Emma köténye (#835)",7,30,"+7 AC, +3 erő, -3 szer., +50 max. ép., min. szint: 30"]
["ezüsttölgy nadrág ",{"$f":"VLOOKUP(A7,Törzsadat!A:B,2,0)","v":"999 "},"ezüsttölgy nadrág (#999)",10,0,"zarknod piramisában elfeknek készül"]
["gyakorlónadrág ",{"$f":"VLOOKUP(A8,Törzsadat!A:B,2,0)","v":"894 "},"gyakorlónadrág (#894)",4,0,"+4 AC, +30 max. ép., plusz sebzés fegyverszakértelem nagyságától függően, nem átadható"]
["hakama ",{"$f":"VLOOKUP(A9,Törzsadat!A:B,2,0)","v":"1369 "},"hakama (#1369)",8,40,"+8 AC, +2 sebzés, +8 támadás, min. szint: 40"]
["hoarián bőrnadrág ",{"$f":"VLOOKUP(A10,Törzsadat!A:B,2,0)","v":"1345 "},"hoarián bőrnadrág (#1345)",3,0,"+3 AC, +4 ügy."]
["légiós nadrág ",{"$f":"VLOOKUP(A11,Törzsadat!A:B,2,0)","v":"646 "},"légiós nadrág (#646)",3,0,"+3 AC, +2 erő, Vérvörös Légió KT tárgya"]
["mahagóni lábszárvédő ",{"$f":"VLOOKUP(A12,Törzsadat!A:B,2,0)","v":"990 "},"mahagóni lábszárvédő (#990)",8,0,"zarknod piramisában embereknek készül"]
["mélybíbor lábszárvédő ",{"$f":"VLOOKUP(A13,Törzsadat!A:B,2,0)","v":"1062 "},"mélybíbor lábszárvédő (#1062)",8,0,"zarknod piramisában mutánsoknak készül"]
["moa harci nadrág ",{"$f":"VLOOKUP(A14,Törzsadat!A:B,2,0)","v":"1862 "},"moa harci nadrág (#1862)",15,50,"+15 AC, +10 támadás, +1 erő, +1 iq, +1 ügy., +1 eg., +1 szer., +200 max. ép., immúnis leszel a kisebb és nagyobb max. ép. szívásra, +10 támadás kalandozók ellen, min. szint: 50, nem átadható"]
["moa nadrág ",{"$f":"VLOOKUP(A15,Törzsadat!A:B,2,0)","v":"1035 "},"moa nadrág (#1035)",10,0,"zarknod piramisában gnómoknak készül"]
["mordaith nadrág ",{"$f":"VLOOKUP(A16,Törzsadat!A:B,2,0)","v":"1017 "},"mordaith nadrág (#1017)",12,0,"zarknod piramisában árnymanóknak készül"]
["Raia csataszoknyája ",{"$f":"VLOOKUP(A17,Törzsadat!A:B,2,0)","v":"1537 "},"Raia csataszoknyája (#1537)",5,30,"+5 AC, +12 teológia, energia alapú varázslataid szintenként eggyel többet sebeznek, csak jók használhatják, min. szint: 30"]
["rózsaszín bugyogó ",{"$f":"VLOOKUP(A18,Törzsadat!A:B,2,0)","v":"346 "},"rózsaszín bugyogó (#346)",2,0,"+2 AC, +3 szer., Serény Múmiák KT tárgya"]
["ryuku csataszoknya ","1319 ","ryuku csataszoknya (#1319)",-2,35,"-2 AC, +2 sebzés, +2 támadás, -5 mászás, min. szint: 35"]
["ryuku nadrág ",{"$f":"VLOOKUP(A20,Törzsadat!A:B,2,0)","v":"691 "},"ryuku nadrág (#691)",3,12,"+3 AC, min. szint: 12"]
["teknősbőr nadrág ",{"$f":"VLOOKUP(A21,Törzsadat!A:B,2,0)","v":"1504 "},"teknősbőr nadrág (#1504)",12,50,"+12 AC, +2 erő, +2 iq, +2 ügy., +2 eg., +2 szer., +140 max. ép., min. szint: 50"]
["titanit lábvédő ",{"$f":"VLOOKUP(A22,Törzsadat!A:B,2,0)","v":"1430 "},"titanit lábvédő (#1430)",8,0,"+8 AC, +8 sebzés, nem átadható"]
["topáz erényöv ",{"$f":"VLOOKUP(A23,Törzsadat!A:B,2,0)","v":"731 "},"topáz erényöv (#731)",1,0,"+1 AC"]
["uglaok lábszárvédő ",{"$f":"VLOOKUP(A24,Törzsadat!A:B,2,0)","v":"1026 "},"uglaok lábszárvédő (#1026)",8,0,"zarknod piramisában trolloknak készül"]
["ulkor kötény ",{"$f":"VLOOKUP(A25,Törzsadat!A:B,2,0)","v":"1089 "},"ulkor kötény (#1089)",2,0,"+2 AC, +2 erő, -1 iq"]
["yiang nadrág ",{"$f":"VLOOKUP(A26,Törzsadat!A:B,2,0)","v":"1053 "},"yiang nadrág (#1053)",9,0,"zarknod piramisában kobuderáknak készül"]

{"sheet":"Vállvédő","index":9,"n_rows":25,"n_cols":7,"rows_kept":25,"cut":false,"hidden":false,"merged":[]}
["arany sárkányvállap ",{"$f":"VLOOKUP(A1,Törzsadat!A:B,2,0)","v":"1042 "},{"$f":"CONCATENATE(TRIM(A1),\" (#\",TRIM(B1),\")\")","v":"arany sárkányvállap (#1042)"},5,0,"zarknod piramisában alakváltóknak készül"]
["Batharak vállemeze ",{"$f":"VLOOKUP(A2,Törzsadat!A:B,2,0)","v":"831 "},"Batharak vállemeze (#831)",3,25,"+3 AC, +1 ügy, +10 max. ép., min. szint: 25"]
["bélelt vállemez ",{"$f":"VLOOKUP(A3,Törzsadat!A:B,2,0)","v":"1668 "},"bélelt vállemez (#1668)",6,25,"+6 AC, -1 erő, +2 ügy., +10 max. ép., min. szint: 25"]
["Bropxat vállvédője ",{"$f":"VLOOKUP(A4,Törzsadat!A:B,2,0)","v":"920 "},"Bropxat vállvédője (#920)",0,0,"+1 erő, +2 ügy., +3 sebzés árnytündérek ellen, immunitás kritikus ütés ellen, nem átadható"]
["cetbőr vállpánt ",{"$f":"VLOOKUP(A5,Törzsadat!A:B,2,0)","v":"1091 "},"cetbőr vállpánt (#1091)",2,0,"+2 AC, +1 támadás, +2 mentődobás hideg ellen"]
["che-vállszalag ",{"$f":"VLOOKUP(A6,Törzsadat!A:B,2,0)","v":"1114 "},"che-vállszalag (#1114)",0,30,"+4 támadás, +1 erő, min. szint: 30"]
["drakolit vállvédő ",{"$f":"VLOOKUP(A7,Törzsadat!A:B,2,0)","v":"1006 "},"drakolit vállvédő (#1006)",2,0,"zarknod piramisában törpéknek készül"]
["ezüsttölgy vállvédő ",{"$f":"VLOOKUP(A8,Törzsadat!A:B,2,0)","v":"997 "},"ezüsttölgy vállvédő (#997)",5,0,"zarknod piramisában elfeknek készül"]
["fekete vállvédő ",{"$f":"VLOOKUP(A9,Törzsadat!A:B,2,0)","v":"1836 "},"fekete vállvédő (#1836)",10,30,"+10 AC, -1 szer., +80 max. ép., +50 max. vp., +10 sebzés kalandozók ellen, min. szint: 30, nem átadható"]
["féregíz nyakpánt ",{"$f":"VLOOKUP(A10,Törzsadat!A:B,2,0)","v":"1601 "},"féregíz nyakpánt (#1601)",2,5,"+2 AC, -2 sebződés, min. szint: 5, nem átadható"]
["gron vállvédő ",{"$f":"VLOOKUP(A11,Törzsadat!A:B,2,0)","v":"1843 "},"gron vállvédő (#1843)",0,55,"támadás, regeneráció, kincskeresés, és sebzés bónusz FNO-s képességeid 2-vel növekednek, -12 kg. megterheltség, min. szint: 55"]
["kristály vállvédő ",{"$f":"VLOOKUP(A12,Törzsadat!A:B,2,0)","v":"1813 "},"kristály vállvédő (#1813)",8,0,"+8 AC, +80 max. ép., immunitást ad a szörnyek TU","pszi pont szívó képességei ellen"]
["kyorg vállpánt ",{"$f":"VLOOKUP(A13,Törzsadat!A:B,2,0)","v":"901 "},"kyorg vállpánt (#901)",3,30,"+3 AC, +2 támadás, +2 szer., csak elfek hordhatják, min. szint: 30"]
["mahagóni vállvédő ",{"$f":"VLOOKUP(A14,Törzsadat!A:B,2,0)","v":"988 "},"mahagóni vállvédő (#988)",4,0,"zarknod piramisában embereknek készül"]
["mélybíbor vállpánt ",{"$f":"VLOOKUP(A15,Törzsadat!A:B,2,0)","v":"1060 "},"mélybíbor vállpánt (#1060)",4,0,"zarknod piramisában mutánsoknak készül"]
["moa vállap ",{"$f":"VLOOKUP(A16,Törzsadat!A:B,2,0)","v":"1033 "},"moa vállap (#1033)",4,0,"zarknod piramisában gnómoknak készül"]
["monstrum vállvédő ",{"$f":"VLOOKUP(A17,Törzsadat!A:B,2,0)","v":"1577 "},"monstrum vállvédő (#1577)",0,8,"+12 max. ép., csak trollok használhatják, min. szint: 8"]
["mordaith vállvédő ",{"$f":"VLOOKUP(A18,Törzsadat!A:B,2,0)","v":"1015 "},"mordaith vállvédő (#1015)",6,0,"zarknod piramisában árnymanóknak készül"]
["ősi vállvédő ",{"$f":"VLOOKUP(A19,Törzsadat!A:B,2,0)","v":"805 "},"ősi vállvédő (#805)",5,0,"+5 AC, +1 erő, +1 iq, +1 ügy., +1 eg., +1 szer., +50 max. ép., nem átadható"]
["quwarg nyakpánt ",{"$f":"VLOOKUP(A20,Törzsadat!A:B,2,0)","v":"1401 "},"quwarg nyakpánt (#1401)",5,45,"+5 AC, esélye, hogy egy szörny lefejezzen, felére csökken, min. szint: 45"]
["ryuku vállvédő ",{"$f":"VLOOKUP(A21,Törzsadat!A:B,2,0)","v":"1323 "},"ryuku vállvédő (#1323)",5,25,"+5 AC, immunitás ryuku átokvarázsra, min. szint: 25"]
["sode ",{"$f":"VLOOKUP(A22,Törzsadat!A:B,2,0)","v":"1374 "},"sode (#1374)",4,40,"+4 AC, +1 sebzés, +4 támadás, min. szint: 40"]
["titanit vállvédő ",{"$f":"VLOOKUP(A23,Törzsadat!A:B,2,0)","v":"1423 "},"titanit vállvédő (#1423)",3,0,"+3 AC, +4 sebzés, nem átadható"]
["uglaok vállvédő ",{"$f":"VLOOKUP(A24,Törzsadat!A:B,2,0)","v":"1024 "},"uglaok vállvédő (#1024)",2,0,"zarknod piramisában trolloknak készül"]
["yiang vállvédő ",{"$f":"VLOOKUP(A25,Törzsadat!A:B,2,0)","v":"1051 "},"yiang vállvédő (#1051)",6,0,"zarknod piramisában kobuderáknak készül"]

{"sheet":"Öv","index":10,"n_rows":32,"n_cols":7,"rows_kept":32,"cut":false,"hidden":false,"merged":[]}
["a gátlástalanság öve ",{"$f":"VLOOKUP(A1,Törzsadat!A:B,2,0)","v":"1727 "},{"$f":"CONCATENATE(TRIM(A1),\" (#\",TRIM(B1),\")\")","v":"a gátlástalanság öve (#1727)"},0,0,"+5 támadás, min. lopás: 30"]
["Arutac mithrilöve ",{"$f":"VLOOKUP(A2,Törzsadat!A:B,2,0)","v":"1718 "},"Arutac mithrilöve (#1718)",11,50,"+11 AC, +5 eg., +20 max. ép., min. szint: 50"]
["bajnoki öv ",{"$f":"VLOOKUP(A3,Törzsadat!A:B,2,0)","v":"1663 "},"bajnoki öv (#1663)",0,30,"ha több ellenféllel küzdenél egy csatában, egy másikra is leadhatsz egy teljes támadást a jobbkezes fegyvereddel, min. szint: 30"]
["bársony övsál ",{"$f":"VLOOKUP(A4,Törzsadat!A:B,2,0)","v":"746 "},"bársony övsál (#746)",-10,35,"-10 AC, -5 támadás, -5 erő, +1 támadásszám jobb- és balkézzel, min. szint: 35, nem átadható"]
["bíbor erőöv ",{"$f":"VLOOKUP(A5,Törzsadat!A:B,2,0)","v":"291 "},"bíbor erőöv (#291)",0,0,"+2 erő"]
["Fagyor övsálja ",{"$f":"VLOOKUP(A6,Törzsadat!A:B,2,0)","v":"1313 "},"Fagyor övsálja (#1313)",5,0,"+5 AC, +5 támadás, +1 támadás jobb- és balkézzel, nem átadható"]
["Fairlight öve ",{"$f":"VLOOKUP(A7,Törzsadat!A:B,2,0)","v":"559 "},"Fairlight öve (#559)",4,25,"+4 AC, +4 teo., +4 tau., +10 vp. regen., +1 sebzés szintenként a villámvarázslatokra, min. szint: 25"]
["fattylord deréköv ",{"$f":"VLOOKUP(A8,Törzsadat!A:B,2,0)","v":"1564 "},"fattylord deréköv (#1564)",0,27,"+65 max. ép., min. szint: 27"]
["füst öv ",{"$f":"VLOOKUP(A9,Törzsadat!A:B,2,0)","v":"1751 "},"füst öv (#1751)",0,0,"+1 erő, +1 iq, +1 ügy., +1 eg., +1 szer., nem átadható"]
[]
["Gravia öve ",{"$f":"VLOOKUP(A11,Törzsadat!A:B,2,0)","v":"594 "},"Gravia öve (#594)",0,0,"+2 erő, FU-nál nem kell egy mezőn táborozni, nem átadható"]
["hadilobogó ",{"$f":"VLOOKUP(A12,Törzsadat!A:B,2,0)","v":"340 "},"hadilobogó (#340)",0,0,"+4 támadás, +2 szer., Viharlégió KT tárgya"]
["Hulcarhud öve ",{"$f":"VLOOKUP(A13,Törzsadat!A:B,2,0)","v":"1466 "},"Hulcarhud öve (#1466)",7,55,"+7 AC, +7 támadás, +5 iq, -10 mentődobás az ellenfélnek varázslatok ellen, min. szint: 55"]
["Inkvizítori Keresztszalag ",{"$f":"VLOOKUP(A14,Törzsadat!A:B,2,0)","v":"1591 "},"Inkvizítori Keresztszalag (#1591)",1,0,"+1 AC, +7 MXTU"]
["kígyóbőr öv ",{"$f":"VLOOKUP(A15,Törzsadat!A:B,2,0)","v":"410 "},"kígyóbőr öv (#410)",0,0,"plusz egy KF 3-as tárgyhely"]
["lordok öve ",{"$f":"VLOOKUP(A16,Törzsadat!A:B,2,0)","v":"530 "},"lordok öve (#530)",5,25,"+5 AC, minden közelharci sebződést csökkent 33 %-al, min. szint: 25, nem átadható"]
["medvebőr öv ",{"$f":"VLOOKUP(A17,Törzsadat!A:B,2,0)","v":"1675 "},"medvebőr öv (#1675)",0,29,"+15 max. ép., +6 erő, min. szint: 29"]
["mihlanil öv ",{"$f":"VLOOKUP(A18,Törzsadat!A:B,2,0)","v":"604 "},"mihlanil öv (#604)",3,0,"+3 AC, +1 erő, +1 iq, +1 ügy., +1 eg., +1 szer., min. bányászat: 25, nem átadható"]
["ogre öv ",{"$f":"VLOOKUP(A19,Törzsadat!A:B,2,0)","v":"834 "},"ogre öv (#834)",2,25,"+2 AC, +2 erő, +1 sebzés, min. szint: 25"]
["óriások öve ",{"$f":"VLOOKUP(A20,Törzsadat!A:B,2,0)","v":"613 "},"óriások öve (#613)",2,0,"+2 AC, +6 erő, nem átadható"]
["ősi kígyóbőr öv ",{"$f":"VLOOKUP(A21,Törzsadat!A:B,2,0)","v":"1467 "},"ősi kígyóbőr öv (#1467)",5,49,"+5 AC, +5 támadás, +2 iq, -5 mentődobás az ellenfélnek varázslataid ellen, min. szint: 49"]
["párducbőr övtáska ",{"$f":"VLOOKUP(A22,Törzsadat!A:B,2,0)","v":"1117 "},"párducbőr övtáska (#1117)",0,0,"-5 kg. megterheltség, +2 mentődobás hideg ellen, +1 sebzés szintenként a hideg alapú varázslatokra"]
["regeneráló öv ",{"$f":"VLOOKUP(A23,Törzsadat!A:B,2,0)","v":"882 "},"regeneráló öv (#882)",3,0,"+3 AC, +3 erő, +100-300 ép. gyógyulás kör elején, nem átadható"]
["rinóbőr öv ",{"$f":"VLOOKUP(A24,Törzsadat!A:B,2,0)","v":"685 "},"rinóbőr öv (#685)",3,0,"+3 AC, +20 max. ép."]
["ritualista öv ",{"$f":"VLOOKUP(A25,Törzsadat!A:B,2,0)","v":"709 "},"ritualista öv (#709)",1,0,"+1 AC, +1 vp. regen.","szint"]
["ryuku derékszíj ",{"$f":"VLOOKUP(A26,Törzsadat!A:B,2,0)","v":"1324 "},"ryuku derékszíj (#1324)",3,25,"+3 AC, +30 max. ép., +30 ép. regen., min. szint: 25"]
["sárga erőöv ",{"$f":"VLOOKUP(A27,Törzsadat!A:B,2,0)","v":"276 "},"sárga erőöv (#276)",0,0,"+1 erő"]
["Snafall jeges öve ",{"$f":"VLOOKUP(A28,Törzsadat!A:B,2,0)","v":"1716 "},"Snafall jeges öve (#1716)",0,35,"+2 támadás, varázslói szintenként +2 jégsebzés jég alapú varázslatra, min. szint: 35"]
["taumaturgikus öv ",{"$f":"VLOOKUP(A29,Törzsadat!A:B,2,0)","v":"1672 "},"taumaturgikus öv (#1672)",0,45,"+10 iq, +50 vp. regen., +50 max. vp., +10 taumaturgia, minden közelharci körben, amikor varázslatot nem lövő jobbkezes fegyverrel, vagy jobbkézzel ökölharccal próbálkozol, az öv az őstaumaturgia varázslatok egyikét lövi majd az ellenfélre, min. szint: 45,"]
["teriád vadászöv ",{"$f":"VLOOKUP(A30,Törzsadat!A:B,2,0)","v":"1389 "},"teriád vadászöv (#1389)",0,0,"-"]
["tradicionális öv ",{"$f":"VLOOKUP(A31,Törzsadat!A:B,2,0)","v":"1368 "},"tradicionális öv (#1368)",5,40,"+5 AC, +1 sebzés, +5 támadás, min. szint: 40"]
["zafír erőöv ",{"$f":"VLOOKUP(A32,Törzsadat!A:B,2,0)","v":"397 "},"zafír erőöv (#397)",0,0,"+3 erő"]

{"sheet":"Övcsat","index":11,"n_rows":8,"n_cols":6,"rows_kept":8,"cut":false,"hidden":false,"merged":[]}
["gárdista övcsat",1729,{"$f":"CONCATENATE(TRIM(A1),\" (#\",TRIM(B1),\")\")","v":"gárdista övcsat (#1729)"},4,40,"+4 AC, +10 max. ép., +5 csapdaészlelés, +5 felderítés, min. szint: 40"]
["hősi övcsat",1820,"hősi övcsat (#1820)",0,0,"+5 max. ép., nem átadható"]
["kyorg övcsat",1456,"kyorg övcsat (#1456)",1,30,"+1 AC, permanens esszenciavédelem, min. szint: 30"]
["lovagi övcsat",1631,"lovagi övcsat (#1631)",0,30,"ha balkezedben pajzsot használsz, annyi plusz támadást kapsz, mint amennyi védelmet ad pajzsod, min. szint: 30"]
["Manó örvénylő övcsatja",1714,"Manó örvénylő övcsatja (#1714)",10,0,"+10 AC, +15 támadás, +3 erő, +3 iq, +3 ügy., +3 eg., +3 szer., +150 max. ép., +150 max. vp., +2% TP, +2% kritikus ütés, +2% ritka kincs találására, nem átadható"]
["nekromanta övcsat",1621,"nekromanta övcsat (#1621)",1,30,"+1 AC, +20 vp/gonoszságpont 666-os gonoszságtól, min. szint: 30"]
["trix amulett ","1707 ",{"$f":"CONCATENATE(TRIM(A7),\" (#\",TRIM(B7),\")\")","v":"trix amulett (#1707)"},-5,0,"-5 AC, +2 iq., feneketlen tó mélyére úszáshoz"]
["ragyogó övcsat",1620,"ragyogó övcsat (#1620)",1,30,"+1 AC, ha jellemed abszolút jó, minden kapott jóságpont helyett +20 VP-t ad az övcsat, min. szint: 30"]

{"sheet":"Gyűrű","index":12,"n_rows":45,"n_cols":7,"rows_kept":45,"cut":false,"hidden":false,"merged":[]}
["a szerencse gyűrűje ",{"$f":"VLOOKUP(A1,Törzsadat!A:B,2,0)","v":"1391 "},{"$f":"CONCATENATE(TRIM(A1),\" (#\",TRIM(B1),\")\")","v":"a szerencse gyűrűje (#1391)"},0,30,"+14 szer., min. szint: 30"]
["angyalok gyűrűje ",{"$f":"VLOOKUP(A2,Törzsadat!A:B,2,0)","v":"529 "},"angyalok gyűrűje (#529)",0,0,"kivéd egy halálvarázslatot"]
["árnyékharcos gyűrű ",{"$f":"VLOOKUP(A3,Törzsadat!A:B,2,0)","v":"409 "},"árnyékharcos gyűrű (#409)",3,0,"+3 AC, +2 szer., Két Kard Testvérisége KT tárgya"]
["árnygyűrű ",{"$f":"VLOOKUP(A4,Törzsadat!A:B,2,0)","v":"1617 "},"árnygyűrű (#1617)",0,0,"+30 max. vp., másik gyűrű mellett is lehet hordani, hatása minden forduló végén eggyel csökken, nem átadható"]
["balkezes gyűrű ",{"$f":"VLOOKUP(A5,Törzsadat!A:B,2,0)","v":"1549 "},"balkezes gyűrű (#1549)",1,0,"+1 AC, +1 támadás, permanens állatvédelem"]
["Blounther gyűrűje ",{"$f":"VLOOKUP(A6,Törzsadat!A:B,2,0)","v":"1548 "},"Blounther gyűrűje (#1548)",0,0,"immunitás elnyelésre"]
["bo'adhun gyűrű ",{"$f":"VLOOKUP(A7,Törzsadat!A:B,2,0)","v":"743 "},"bo'adhun gyűrű (#743)",-5,25,"-5 AC, +5 támadás, +5 erő, -5 ügy., min. 25. szint"]
["Dendeitren gyűrűje ",{"$f":"VLOOKUP(A8,Törzsadat!A:B,2,0)","v":"1713 "},"Dendeitren gyűrűje (#1713)",0,40,"+1 sebzés vízi lények ellen, +5% TP, min. szint: 40"]
["drakolder gyűrű ",{"$f":"VLOOKUP(A9,Törzsadat!A:B,2,0)","v":"969 "},"drakolder gyűrű (#969)",0,35,"+3 iq, +3 szer., +50 vp. regen., +50 max. vp., +5 teo., +5 tau., min. szint: 35"]
["dr'thanox gyűrű ",{"$f":"VLOOKUP(A10,Törzsadat!A:B,2,0)","v":"1193 "},"dr'thanox gyűrű (#1193)",5,0,"+5 AC, +10 támadás, +5 szer., +220 max. ép., nem átadható"]
["Élet gyűrűje ",{"$f":"VLOOKUP(A11,Törzsadat!A:B,2,0)","v":"1166 "},"Élet gyűrűje (#1166)",-5,40,"-5 AC, +5 sebzés, +8 támadás, +100 max. ép., +100 max. vp., min. szint: 40"]
["életköves gyűrű ",{"$f":"VLOOKUP(A12,Törzsadat!A:B,2,0)","v":"1572 "},"életköves gyűrű (#1572)",0,25,"+6 eg., +40 max. ép., immunitást ad skarlátia ellen, min. szint: 25"]
["Erdauin gyűrű ",{"$f":"VLOOKUP(A13,Törzsadat!A:B,2,0)","v":"1726 "},"Erdauin gyűrű (#1726)",0,0,"+40 támadás kalandozókkal szemben, 100-zal kisebb teológia és taumaturgia szakértelem is elegendő az ősteológia és őstaumaturgia varázslatok megtanulásához"]
["gólemgyűrű ",{"$f":"VLOOKUP(A14,Törzsadat!A:B,2,0)","v":"866 "},"gólemgyűrű (#866)",9,0,"+9 AC, +20 max. ép., nem átadható"]
["Gorhud gyűrűje ",{"$f":"VLOOKUP(A15,Törzsadat!A:B,2,0)","v":"1257 "},"Gorhud gyűrűje (#1257)",0,0,"ha viseled a gyűrűt, minden csata utána gyógyítás szakértelmed felével megegyező életerőpontot nyersz vissza"]
["gyémánt gyűrű ",{"$f":"VLOOKUP(A16,Törzsadat!A:B,2,0)","v":"1854 "},"gyémánt gyűrű (#1854)",0,0,"-"]
["gyémánt védőgyűrű ",{"$f":"VLOOKUP(A17,Törzsadat!A:B,2,0)","v":"726 "},"gyémánt védőgyűrű (#726)",5,0,"+5 AC, +5 szer."]
["háború gyűrűje ",{"$f":"VLOOKUP(A18,Törzsadat!A:B,2,0)","v":"722 "},"háború gyűrűje (#722)",4,0,"+4 AC, +4 támadás, +20 max. ép."]
["hűbéresi gyűrű ",{"$f":"VLOOKUP(A19,Törzsadat!A:B,2,0)","v":"1351 "},"hűbéresi gyűrű (#1351)",0,0,"+50 max. vp., +3 regen. képesség (FNO-s), nem átadható"]
["Kabol gyűrűje ",{"$f":"VLOOKUP(A20,Törzsadat!A:B,2,0)","v":"904 "},"Kabol gyűrűje (#904)",-2,35,"-2 AC, +7 eg., +70 max. ép., +1 vp. regen. képesség (FNO-s), min. szint: 35"]
["koponya gyűrű ",{"$f":"VLOOKUP(A21,Törzsadat!A:B,2,0)","v":"1733 "},"koponya gyűrű (#1733)",0,0,"+2 támadás, nem átadható"]
["kráken gyűrű ",{"$f":"VLOOKUP(A22,Törzsadat!A:B,2,0)","v":"1165 "},"kráken gyűrű (#1165)",4,20,"+4 AC, +12 szer., min. szint: 20"]
["lánghordozó gyűrű ",{"$f":"VLOOKUP(A23,Törzsadat!A:B,2,0)","v":"1832 "},"lánghordozó gyűrű (#1832)",0,0,"szintnek megfelelő varázspont regeneráció minden forduló elején, nem átadható"]
["lényegformázó gyűrű ",{"$f":"VLOOKUP(A24,Törzsadat!A:B,2,0)","v":"1581 "},"lényegformázó gyűrű (#1581)",0,0,"nem átadható"]
["mágusgyűrű ",{"$f":"VLOOKUP(A25,Törzsadat!A:B,2,0)","v":"1695 "},"mágusgyűrű (#1695)",0,0,"+70 vp. regen., +70 max. vp., +7 taumaturgia, +1 vp. regen. képesség (FNO-s), nem átadható"]
["őselemi gyűrű ",{"$f":"VLOOKUP(A26,Törzsadat!A:B,2,0)","v":"1256 "},"őselemi gyűrű (#1256)",13,0,"+13 AC, +4 iq., +130 max. ép., +130 max. vp., +3 tárgymentő, +30 % varázslatsebzés (de max. 300), nem átadható"]
["regeneráló gyűrű ",{"$f":"VLOOKUP(A27,Törzsadat!A:B,2,0)","v":"254 "},"regeneráló gyűrű (#254)",0,0,"+20% ép regen."]
["Rughar gyűrűje ",{"$f":"VLOOKUP(A28,Törzsadat!A:B,2,0)","v":"518 "},"Rughar gyűrűje (#518)",0,0,"-3 mentődobás az ellenfélnek sebző varázslat ellen, +1 sebzés","kocka"]
["ryuku hüvelykgyűrű ",{"$f":"VLOOKUP(A29,Törzsadat!A:B,2,0)","v":"1321 "},"ryuku hüvelykgyűrű (#1321)",1,25,"+1 AC, +1 sebzés, +1 támadás, min. szint: 25"]
["ryuku pecsétgyűrű ",{"$f":"VLOOKUP(A30,Törzsadat!A:B,2,0)","v":"1580 "},"ryuku pecsétgyűrű (#1580)",0,0,"-"]
["qwarg opáldragnit",{"$f":"VLOOKUP(A31,Törzsadat!A:B,2,0)","v":"2066"},"qwarg opáldragnit (#2066)",0,0]
["q. végbélnyúlvány",{"$f":"VLOOKUP(A32,Törzsadat!A:B,2,0)","v":"2065"},"q. végbélnyúlvány (#2065)",0,0]
["smaragd védőgyűrű ",{"$f":"VLOOKUP(A33,Törzsadat!A:B,2,0)","v":"223 "},"smaragd védőgyűrű (#223)",2,0,"+2 AC, +2 szer."]
["sziréngyűrű ",{"$f":"VLOOKUP(A34,Törzsadat!A:B,2,0)","v":"948 "},"sziréngyűrű (#948)",0,30,"+30 max. ép., +30 max. vp, +5 teológia, +5 mentődobás mentális varázslatokra, -10 mentődobás az ellenfélnek mentális támadás ellen, csak Elenios hívei hordhatják, min. szint: 30"]
["törpe védőgyűrű ",{"$f":"VLOOKUP(A35,Törzsadat!A:B,2,0)","v":"1104 "},"törpe védőgyűrű (#1104)",8,0,"+8 AC"]
["troglodita gyűrű ",{"$f":"VLOOKUP(A36,Törzsadat!A:B,2,0)","v":"907 "},"troglodita gyűrű (#907)",-5,30,"-5 AC, +4 támadás (lőfegyver használatakor még +6), -30 max. ép., min. szint: 30"]
["tünde gyűrű ",{"$f":"VLOOKUP(A37,Törzsadat!A:B,2,0)","v":"1662 "},"tünde gyűrű (#1662)",-3,30,"-3 AC, -3 támadás, ha természetellenes öregítő hatás ér, annak mértékétől függetlenül, csak egy évet fogsz öregedni, min. szint: 30"]
["Utazók Gyűrűje ",{"$f":"VLOOKUP(A38,Törzsadat!A:B,2,0)","v":"1274 "},"Utazók Gyűrűje (#1274)",0,0,"vitorlás hajó szállítására, nem átadható"]
["varkaudar pecsétgyűrű ",{"$f":"VLOOKUP(A39,Törzsadat!A:B,2,0)","v":"1171 "},"varkaudar pecsétgyűrű (#1171)",0,0,"+1 sebzés, +3 támadás, varkaudarok ellen: +2 sebzés, +6 támadás"]
["vérpettyes gyűrű ",{"$f":"VLOOKUP(A40,Törzsadat!A:B,2,0)","v":"1659 "},"vérpettyes gyűrű (#1659)",0,10,"+2 sebzés labirintusban, min. szint: 10"]
["Virotac gyűrűje ",{"$f":"VLOOKUP(A41,Törzsadat!A:B,2,0)","v":"1719 "},"Virotac gyűrűje (#1719)",0,50,"+8 iq, +8 szer., a gyűrű viselésekor természetellenes öregedésnél csak egy évet öregszik a karakter, min. szint: 50"]
["Vlagyimir gyűrűje ",{"$f":"VLOOKUP(A42,Törzsadat!A:B,2,0)","v":"822 "},"Vlagyimir gyűrűje (#822)",5,0,"cirkuszi rész-díj, +5 AC, +5 sebzés, +5 támadás, +5 erő, +50 max. ép., nem átadható"]
["Xhe-po-khai gyűrűje ",{"$f":"VLOOKUP(A43,Törzsadat!A:B,2,0)","v":"1499 "},"Xhe-po-khai gyűrűje (#1499)",0,40,"+10 támadás, mint. szint: 40,"]
["zafír gyűrű ",{"$f":"VLOOKUP(A44,Törzsadat!A:B,2,0)","v":"1853 "},"zafír gyűrű (#1853)",0,0,"-"]
["zafír védőgyűrű ",{"$f":"VLOOKUP(A45,Törzsadat!A:B,2,0)","v":"532 "},"zafír védőgyűrű (#532)",4,0,"+4 AC, +4 szer."]

{"sheet":"Fülbevaló","index":13,"n_rows":29,"n_cols":6,"rows_kept":29,"cut":false,"hidden":false,"merged":[]}
["aranyozott klipsz ",{"$f":"VLOOKUP(A1,Törzsadat!A:B,2,0)","v":"1623 "},{"$f":"CONCATENATE(TRIM(A1),\" (#\",TRIM(B1),\")\")","v":"aranyozott klipsz (#1623)"},0,0,"+3 szer."]
["csillagrubin ",{"$f":"VLOOKUP(A2,Törzsadat!A:B,2,0)","v":"715 "},"csillagrubin (#715)",0,0,"+15 vágófegyver thargodan berzerker ellen, nem átadható"]
["csillogó fülbevaló ",{"$f":"VLOOKUP(A3,Törzsadat!A:B,2,0)","v":"1122 "},"csillogó fülbevaló (#1122)",2,0,"+2 AC, +5 max. ép., +5 % az ellenfél varázslatának csődjére, nem átadható"]
["csonka fülbevaló ",{"$f":"VLOOKUP(A4,Törzsadat!A:B,2,0)","v":"1598 "},"csonka fülbevaló (#1598)",0,0,"+3 iq, +50 vp. regen., +50 max. vp., harcban elszenvedett fizikai sebzés 5%-kal csökken, nem átadható"]
["drag'kór fülkarika ",{"$f":"VLOOKUP(A5,Törzsadat!A:B,2,0)","v":"871 "},"drag'kór fülkarika (#871)",0,0,"+2 sebzés, -2 szer., +20 max. ép., +1 fülbevaló SLOT, nem átadható"]
["Eldaran ékköve ",{"$f":"VLOOKUP(A6,Törzsadat!A:B,2,0)","v":"647 "},"Eldaran ékköve (#647)",0,0,"+2 ügy., +5 szörnyismeret, Erdők Vándorai KT tárgya"]
["Eldereth kristály ",{"$f":"VLOOKUP(A7,Törzsadat!A:B,2,0)","v":"511 "},"Eldereth kristály (#511)",0,0,"+1 TU regen."]
["Elenios fülbevalója ",{"$f":"VLOOKUP(A8,Törzsadat!A:B,2,0)","v":"1597 "},"Elenios fülbevalója (#1597)",0,45,"+5 iq, +100 vp. regen., +100 max. vp., harcban elszenvedett fizikai sebzés 10%-kal csökken, ha fejlesztési pontot kapnál, lesz 10% esélyed, hogy kapsz még egyet, min. szint: 45, nem átadható"]
["hatalom fülbevalója ",{"$f":"VLOOKUP(A9,Törzsadat!A:B,2,0)","v":"817 "},"hatalom fülbevalója (#817)",0,0,"+2 erő, +2 iq, +2 ügy., +2 eg., +2 szer., nem átadható"]
["hókereszt ",{"$f":"VLOOKUP(A10,Törzsadat!A:B,2,0)","v":"843 "},"hókereszt (#843)",1,30,"+1 AC, +1 sebzés, +2 iq, +20 max. vp., min. szint: 30"]
["jáde ékszer ",{"$f":"VLOOKUP(A11,Törzsadat!A:B,2,0)","v":"1298 "},"jáde ékszer (#1298)",0,0,"+30 max. ép., +1 tárgymentő minden tárgypusztító támadás ellen, nem átadható"]
["kiválasztottak éke ",{"$f":"VLOOKUP(A12,Törzsadat!A:B,2,0)","v":"672 "},"kiválasztottak éke (#672)",0,0,"+3 ügy., +2 szer., MAFFIA KT tárgya"]
["kristályrend ",{"$f":"VLOOKUP(A13,Törzsadat!A:B,2,0)","v":"545 "},"kristályrend (#545)",0,0,"-3 sebződés ütésenként kalandozóval vívott harcban, nem átadható"]
["moa csiptető ",{"$f":"VLOOKUP(A14,Törzsadat!A:B,2,0)","v":"1330 "},"moa csiptető (#1330)",0,0,"+3 iq, csak gnómok használhatják"]
["muzsikus füles ",{"$f":"VLOOKUP(A15,Törzsadat!A:B,2,0)","v":"1657 "},"muzsikus füles (#1657)",0,0,"+3 zene, ha városban zenélsz, 10%-kal adományozókészebbek lesznek a helyiek,"]
["og'lhobn fülbevaló ",{"$f":"VLOOKUP(A16,Törzsadat!A:B,2,0)","v":"1196 "},"og'lhobn fülbevaló (#1196)",-35,0,"-35 AC, +15 támadás, +7 szer., +200 max. ép., nem átadható"]
["óriás fülbevaló ",{"$f":"VLOOKUP(A17,Törzsadat!A:B,2,0)","v":"614 "},"óriás fülbevaló (#614)",2,0,"+2 AC, +6 támadás, nem átadható"]
["ősmágus fülbevalója ",{"$f":"VLOOKUP(A18,Törzsadat!A:B,2,0)","v":"608 "},"ősmágus fülbevalója (#608)",0,0,"varázsolhatsz antimágikus lényre is"]
["ősplazma ",{"$f":"VLOOKUP(A19,Törzsadat!A:B,2,0)","v":"839 "},"ősplazma (#839)",0,30,"+2 erő, +2 iq, +2 ügy., +2 eg., +2 szer., +50 max. ép., +50 max. vp., min. szint: 30"]
["roxati üvegszem ",{"$f":"VLOOKUP(A20,Törzsadat!A:B,2,0)","v":"443 "},"roxati üvegszem (#443)",0,0,"permanens tolvajszem"]
["rubin fülbevaló ",{"$f":"VLOOKUP(A21,Törzsadat!A:B,2,0)","v":"673 "},"rubin fülbevaló (#673)",3,0,"+3 AC, +30 max. ép."]
["ryuku függő ",{"$f":"VLOOKUP(A22,Törzsadat!A:B,2,0)","v":"1322 "},"ryuku függő (#1322)",2,25,"+2 AC, +1 sebzés, +2 támadás, +1 erő, +1 iq, +1 ügy., +1 eg., +1 szer., min. szint: 25"]
["saválló fülbevaló ",{"$f":"VLOOKUP(A23,Törzsadat!A:B,2,0)","v":"1552 "},"saválló fülbevaló (#1552)",0,0,"immunitás a szörnyek savleheletének és sav alapú támadó varázslatoknak a sebzésére"]
["Szakamó fülgyűrűje ",{"$f":"VLOOKUP(A24,Törzsadat!A:B,2,0)","v":"1487 "},"Szakamó fülgyűrűje (#1487)",0,0,"+40 vp. regen., +40 max. vp., ellenfeleid -12 módosítót kapnak a varázslataid elleni mentődobásukra, megnöveli maximális életkorodat 30 %-kal, nem átadható"]
["teriád klipsz ",{"$f":"VLOOKUP(A25,Törzsadat!A:B,2,0)","v":"1388 "},"teriád klipsz (#1388)",0,0,"+40 max. ép., +20 max. vp., védekező varázslataid többsége nem igényel komponenst, nem átadható"]
["torz fülkarika ",{"$f":"VLOOKUP(A26,Törzsadat!A:B,2,0)","v":"1148 "},"torz fülkarika (#1148)",-5,40,"-5 AC, +2 támadás, +80 max. ép., min. szint: 40"]
["zafír fülbevaló ",{"$f":"VLOOKUP(A27,Törzsadat!A:B,2,0)","v":"477 "},"zafír fülbevaló (#477)",4,0,"+4 AC"]
["Zarknod fülbevalója ",{"$f":"VLOOKUP(A28,Törzsadat!A:B,2,0)","v":"1304 "},"Zarknod fülbevalója (#1304)",5,0,"+5 AC, +5 iq, +50 max. ép., +50 max. vp., varázsolni tudsz a mágiaimmúnis lényekre is, varázslataid +30% sebzést okoznak, nem átadható"]
["Zu'lit fülkarikája ",{"$f":"VLOOKUP(A29,Törzsadat!A:B,2,0)","v":"727 "},"Zu'lit fülkarikája (#727)",0,24,"+6 teo., +6 tau., min. szint: 24"]

{"sheet":"Karkötő","index":14,"n_rows":49,"n_cols":7,"rows_kept":49,"cut":false,"hidden":false,"merged":[]}
["arany masszariasztó ",{"$f":"VLOOKUP(A1,Törzsadat!A:B,2,0)","v":"437 "},{"$f":"CONCATENATE(TRIM(A1),\" (#\",TRIM(B1),\")\")","v":"arany masszariasztó (#437)"},0,0,"masszaerősség csökkentő"]
["arany papi karkötő ",{"$f":"VLOOKUP(A2,Törzsadat!A:B,2,0)","v":"309 "},"arany papi karkötő (#309)",0,0,"+5 papi erő, +10 vp regen."]
["arany sárkánykarperec ",{"$f":"VLOOKUP(A3,Törzsadat!A:B,2,0)","v":"1043 "},"arany sárkánykarperec (#1043)",8,0,"zarknod piramisában alakváltóknak készül"]
["árnykarkötő ",{"$f":"VLOOKUP(A4,Törzsadat!A:B,2,0)","v":"1147 "},"árnykarkötő (#1147)",0,0,"nem átadható"]
["Arsa potrohgyűrűje ",{"$f":"VLOOKUP(A5,Törzsadat!A:B,2,0)","v":"1541 "},"Arsa potrohgyűrűje (#1541)",0,25,"+10 mentődobás méreg ellen, méreg alapú varázslataidhoz nem lesz szükséged anyagi komponensre, min.szint: 25"]
["átkozott karkötő ",{"$f":"VLOOKUP(A6,Törzsadat!A:B,2,0)","v":"962 "},"átkozott karkötő (#962)",5,0,"+5 AC, +5 erő, +5 szer., +50 max. ép., nem átadható"]
["csillogó karkötő ",{"$f":"VLOOKUP(A7,Törzsadat!A:B,2,0)","v":"1121 "},"csillogó karkötő (#1121)",2,0,"+2 AC, -2 erő, -2 iq, -2 ügy., -2 eg., +12 szer., nem átadható"]
["csodakarkötő ",{"$f":"VLOOKUP(A8,Törzsadat!A:B,2,0)","v":"1671 "},"csodakarkötő (#1671)",10,45,"+10 AC, +10 szer., +50 vp. regen., +50 max. vp., -10 sebződés ütésenként, permanens feltámadás, min. szint: 45, nem átadható"]
["Doemon kőkarkötője ",{"$f":"VLOOKUP(A9,Törzsadat!A:B,2,0)","v":"1470 "},"Doemon kőkarkötője (#1470)",20,55,"+20 AC, +2 eg., +8 szer., +150 max. ép., a téged ért fizikai sebzésekből ütésenként 15 sebzést semlegesít, min. szint: 55"]
["drakolit karvédő ",{"$f":"VLOOKUP(A10,Törzsadat!A:B,2,0)","v":"1007 "},"drakolit karvédő (#1007)",5,0,"zarknod piramisában törpéknek készül"]
["Eldaran karkötője ",{"$f":"VLOOKUP(A11,Törzsadat!A:B,2,0)","v":"373 "},"Eldaran karkötője (#373)",0,0,"ügyesség TF +20% hatékonyság, elfeknek +40%"]
["ezüst papi karkötő ",{"$f":"VLOOKUP(A12,Törzsadat!A:B,2,0)","v":"308 "},"ezüst papi karkötő (#308)",0,0,"+3 papi erő, +6 vp regen."]
["ezüsttölgy karkötő ",{"$f":"VLOOKUP(A13,Törzsadat!A:B,2,0)","v":"998 "},"ezüsttölgy karkötő (#998)",8,0,"zarknod piramisában elfeknek készül"]
["fekete karvédő ",{"$f":"VLOOKUP(A14,Törzsadat!A:B,2,0)","v":"1750 "},"fekete karvédő (#1750)",28,30,"+28 AC, -1 szer., +180 max. ép., +100 max. vp., -25 ép. közelharci sebződés szörnyektől, min. szint: 30, nem átadható"]
["halálhozó karkötője ",{"$f":"VLOOKUP(A15,Törzsadat!A:B,2,0)","v":"816 "},"halálhozó karkötője (#816)",3,0,"+3 AC, +2 sebzés, nem átadható"]
["Hatalom Karkötője ",{"$f":"VLOOKUP(A16,Törzsadat!A:B,2,0)","v":"1210 "},"Hatalom Karkötője (#1210)",5,45,"+5 AC, +5 támadás, +5 szer., +1 MXTU, +100 max. ép., +100 max. vp., min. szint: 45"]
["Huddens alkarvédője ",{"$f":"VLOOKUP(A17,Törzsadat!A:B,2,0)","v":"1550 "},"Huddens alkarvédője (#1550)",0,15,"+2 ügy., 1 plusz sebzés ökölre, min. szint: 15"]
["kote ",{"$f":"VLOOKUP(A18,Törzsadat!A:B,2,0)","v":"1375 "},"kote (#1375)",7,40,"+7 AC, +5 sebzés (ryuku szigetvilág lényei ellen), +7 támadás, min. szint: 40"]
["kyorg karkötő ",{"$f":"VLOOKUP(A19,Törzsadat!A:B,2,0)","v":"913 "},"kyorg karkötő (#913)",1,0,"+1 AC, +3 támadás (lőfegyverre), +5 teo., +5 tau., +1 regen. képesség (FNO-s), nem átadható"]
["Luthius karkötője ",{"$f":"VLOOKUP(A20,Törzsadat!A:B,2,0)","v":"527 "},"Luthius karkötője (#527)",0,0,"+8 % TP","db, nem átadható"]
["mahagóni karvédő ",{"$f":"VLOOKUP(A21,Törzsadat!A:B,2,0)","v":"989 "},"mahagóni karvédő (#989)",7,0,"zarknod piramisában embereknek készül"]
["mélybíbor karvédő ",{"$f":"VLOOKUP(A22,Törzsadat!A:B,2,0)","v":"1061 "},"mélybíbor karvédő (#1061)",7,0,"zarknod piramisában mutánsoknak készül"]
["mentát karkötő ",{"$f":"VLOOKUP(A23,Törzsadat!A:B,2,0)","v":"1551 "},"mentát karkötő (#1551)",0,0,"-5 mentődobás az ellenfélnek a mentális varázslataid ellen (ebbe támadó pszi képességeid is beletartoznak)"]
["moa karkötő ",{"$f":"VLOOKUP(A24,Törzsadat!A:B,2,0)","v":"1034 "},"moa karkötő (#1034)",8,0,"zarknod piramisában gnómoknak készül"]
["mordaith karkötő ",{"$f":"VLOOKUP(A25,Törzsadat!A:B,2,0)","v":"1016 "},"mordaith karkötő (#1016)",5,0,"zarknod piramisában árnymanóknak készül"]
["Natharion karkötő ",{"$f":"VLOOKUP(A26,Törzsadat!A:B,2,0)","v":"738 "},"Natharion karkötő (#738)",2,30,"+2 AC, -5 erő, +5 iq, +5 teo., min. szint: 30"]
["nt'lagod karkötő ",{"$f":"VLOOKUP(A27,Törzsadat!A:B,2,0)","v":"1194 "},"nt'lagod karkötő (#1194)",7,0,"+7 AC, +5 erő, +150 max. ép., -30 sebzés ütésenként az éjfattyaknak, nem átadható"]
["Numerinor karkötője ",{"$f":"VLOOKUP(A28,Törzsadat!A:B,2,0)","v":"1712 "},"Numerinor karkötője (#1712)",8,50,"+8 AC, megvédi viselőjét (90%-ban) mindenféle elhalálozástól (ahol angyalok gyűrűje kellene), immunitás szintszívásra, min. szint: 50, nem átadható"]
["obszidián karkötő ",{"$f":"VLOOKUP(A29,Törzsadat!A:B,2,0)","v":"229 "},"obszidián karkötő (#229)",0,0,"+4 támadás távolsági fegyverrel"]
["ónix masszavadító ",{"$f":"VLOOKUP(A30,Törzsadat!A:B,2,0)","v":"438 "},"ónix masszavadító (#438)",0,0,"masszaerősség növelő"]
["opál karkötő ",{"$f":"VLOOKUP(A31,Törzsadat!A:B,2,0)","v":"1847 "},"opál karkötő (#1847)",20,0,"+20 AC, +4 sebzés, +4 támadás, +10 erő, -5 iq, +10 ügy., -5 szer., +150 max. ép., +150 max. vp., immunitás max. vp. szívásra, nem átadható"]
["opál karperec ",{"$f":"VLOOKUP(A32,Törzsadat!A:B,2,0)","v":"1855 "},"opál karperec (#1855)",0,0,"-"]
["ősi karkötő ",{"$f":"VLOOKUP(A33,Törzsadat!A:B,2,0)","v":"803 "},{"$f":"CONCATENATE(TRIM(A33),\" (#\",TRIM(B33),\")\")","v":"ősi karkötő (#803)"},8,0,"+8 AC, +5 szer., +1 sebzés, +100 max. ép., nem átadható"]
["réz masszariasztó ",{"$f":"VLOOKUP(A34,Törzsadat!A:B,2,0)","v":"436 "},"réz masszariasztó (#436)",0,0,"masszaerősség csökkentő"]
["réz papi karkötő ",{"$f":"VLOOKUP(A35,Törzsadat!A:B,2,0)","v":"307 "},"réz papi karkötő (#307)",0,0,"+2 papi erő, +4 vp regen."]
["ro'galhal csuklópánt ",{"$f":"VLOOKUP(A36,Törzsadat!A:B,2,0)","v":"891 "},"ro'galhal csuklópánt (#891)",2,30,"+2 AC, +1 támadás, -2 erő, -1 szer., +40 max. ép., min. szint: 30"]
["ryuku karvédő ",{"$f":"VLOOKUP(A37,Törzsadat!A:B,2,0)","v":"687 "},"ryuku karvédő (#687)",2,12,"+2 AC, min. szint: 12"]
["smaragd karkötő ",{"$f":"VLOOKUP(A38,Törzsadat!A:B,2,0)","v":"707 "},"smaragd karkötő (#707)",0,0,"nem átadható"]
["teriadan karkötő ",{"$f":"VLOOKUP(A39,Törzsadat!A:B,2,0)","v":"844 "},"teriadan karkötő (#844)",4,30,"+4 AC, +3 sebzés, +4 támadás, -4 szer., min. szint: 30"]
["teriádbőr karkötő ",{"$f":"VLOOKUP(A40,Törzsadat!A:B,2,0)","v":"1297 "},"teriádbőr karkötő (#1297)",5,40,"+5 AC, +5 támadás, +5 eg., +50 max. ép., +50 max. vp., min. szint: 40"]
["Thargodan karkötő ",{"$f":"VLOOKUP(A41,Törzsadat!A:B,2,0)","v":"1249 "},"Thargodan karkötő (#1249)",7,28,"+7 AC, +3 sebzés, +3 támadás, +50 max. ép., +50 max. vp., min. szint: 28"]
["titanit karvédő ",{"$f":"VLOOKUP(A42,Törzsadat!A:B,2,0)","v":"1429 "},"titanit karvédő (#1429)",5,0,"+5 AC, +8 sebzés, nem átadható"]
["tleikan karkötő ",{"$f":"VLOOKUP(A43,Törzsadat!A:B,2,0)","v":"895 "},"tleikan karkötő (#895)",0,0,"+1 támadás, +2 erő, +2 ügy., plusz sebzés fegyverszakértelem nagyságától függően, nem átadható"]
["Toyaki csuklópántja ",{"$f":"VLOOKUP(A44,Törzsadat!A:B,2,0)","v":"1354 "},"Toyaki csuklópántja (#1354)",13,0,"+13 AC, +4 támadás, +6 iq, +6 eg., +100 max. ép., +100 max. vp., nem átadható"]
["uglaok karvédő ",{"$f":"VLOOKUP(A45,Törzsadat!A:B,2,0)","v":"1025 "},"uglaok karvédő (#1025)",6,0,"zarknod piramisában trolloknak készül"]
["umbatari karkötő ",{"$f":"VLOOKUP(A46,Törzsadat!A:B,2,0)","v":"278 "},"umbatari karkötő (#278)",0,0,"+1 ügy."]
["Xanathal karkötője ",{"$f":"VLOOKUP(A47,Törzsadat!A:B,2,0)","v":"956 "},"Xanathal karkötője (#956)",0,30,"+30 vp. regen., +10% varázslatsebzés (de max. 50), min. szint: 30"]
["yiang csuklópánt ",{"$f":"VLOOKUP(A48,Törzsadat!A:B,2,0)","v":"1052 "},"yiang csuklópánt (#1052)",8,0,"zarknod piramisában kobuderáknak készül"]
["Zekhartax gyűrűje ",{"$f":"VLOOKUP(A49,Törzsadat!A:B,2,0)","v":"1835 "},"Zekhartax gyűrűje (#1835)",20,0,"+20 AC, +10 támadás, +100 max. ép."]

{"sheet":"Nyaklánc","index":15,"n_rows":66,"n_cols":8,"rows_kept":66,"cut":false,"hidden":false,"merged":[]}
["Amélia nyaklánca ",{"$f":"VLOOKUP(A1,Törzsadat!A:B,2,0)","v":"1538 "},{"$f":"CONCATENATE(TRIM(A1),\" (#\",TRIM(B1),\")\")","v":"Amélia nyaklánca (#1538)"},2,20,"+2 AC, +2 támadás, +20 max ép., -2 TVP","lépés, min. szint: 20"]
["angyali medál ",{"$f":"VLOOKUP(A2,Törzsadat!A:B,2,0)","v":"1523 "},"angyali medál (#1523)",0,30,"energia "," tűz "," villám alapú varázslataid ellen a Sötét Föld lényei -5-öt kapnak mentődobásaikra, ezen varázslataid 10%-kal többet sebeznek rajtuk (de max. 100), ritkán +1 FNO Raia híveinek, min. szint: 30"]
["csillogó nyakék ",{"$f":"VLOOKUP(A3,Törzsadat!A:B,2,0)","v":"1120 "},"csillogó nyakék (#1120)",2,0,"+2 AC, lopás csökkentés"]
["csodálatos nyaklánc ",{"$f":"VLOOKUP(A4,Törzsadat!A:B,2,0)","v":"1211 "},"csodálatos nyaklánc (#1211)",0,35,"+4 sebzés, +4 támadás, +4 eg., +65 max. ép., +65 max. vp., min. szint: 35"]
["csontamulett ",{"$f":"VLOOKUP(A5,Törzsadat!A:B,2,0)","v":"711 "},"csontamulett (#711)",1,0,"+1 AC, +2 szer., tolvajnak -25% lopás, lápi hajléknál"]
["Dantor amulettje ",{"$f":"VLOOKUP(A6,Törzsadat!A:B,2,0)","v":"468 "},"Dantor amulettje (#468)",0,0,"kisebb quwarg isten ellen a 78. labirintusban"]
["denevér szimbólum ",{"$f":"VLOOKUP(A7,Törzsadat!A:B,2,0)","v":"140 "},"denevér szimbólum (#140)",0,0,"csak Dornodon hívei hordhatják, +2 iq"]
["Dornodon talizmánja ",{"$f":"VLOOKUP(A8,Törzsadat!A:B,2,0)","v":"1250 "},"Dornodon talizmánja (#1250)",12,50,"+12 AC, -5 erő, +10 szer., +150 max. ép., +150 max. vp., +25% varázslatsebzés (de max. 250), min. szint: 50"]
["draklen talizmán ",{"$f":"VLOOKUP(A9,Törzsadat!A:B,2,0)","v":"1303 "},"draklen talizmán (#1303)",0,0,"+10 eg., 20% esély, hogy a szörnyekből kinyerhető komponensekből dupla annyit találsz (ez csak a fixen eső tárgyakra vonatkozik), nem átadható"]
["ében talizmán ",{"$f":"VLOOKUP(A10,Törzsadat!A:B,2,0)","v":"944 "},"ében talizmán (#944)",0,35,"+3 iq, +10 teo., +10 tau., +40 max. vp., +10 % varázslatsebzés (de max. 50), csak gonoszok használhatják, min. szint: 35"]
["fagyöngy fűzér ",{"$f":"VLOOKUP(A11,Törzsadat!A:B,2,0)","v":"342 "},"fagyöngy fűzér (#342)",0,0,"+30% vp regen., de max. 20 vp, +3 szörnyismeret, csak Sheran hívei hordhatják"]
["Fairlight nyaklánca ",{"$f":"VLOOKUP(A12,Törzsadat!A:B,2,0)","v":"1248 "},"Fairlight nyaklánca (#1248)",10,48,"+10 AC, +7 szer., +3 MXTU, +120 max. ép., +120 max. vp., -7 mentődobás az ellenfélnek támadó varázslat ellen"]
["Fekete Kard Nyaklánc ",{"$f":"VLOOKUP(A13,Törzsadat!A:B,2,0)","v":"450 "},"Fekete Kard Nyaklánc (#450)",0,0,"+3 támadás"]
["fűzött igazgyöngysor ",{"$f":"VLOOKUP(A14,Törzsadat!A:B,2,0)","v":"1852 "},"fűzött igazgyöngysor (#1852)",0,0,"-"]
["fűzött kagylósor ",{"$f":"VLOOKUP(A15,Törzsadat!A:B,2,0)","v":"1493 "},"fűzött kagylósor (#1493)",0,30,"+10 sebzés (tengeren hajózva), +10 támadás, min. szint: 30"]
["gólem talizmán ",{"$f":"VLOOKUP(A16,Törzsadat!A:B,2,0)","v":"811 "},"gólem talizmán (#811)",0,0,"+2 erő, nem átadható"]
["griff nyakék ",{"$f":"VLOOKUP(A17,Törzsadat!A:B,2,0)","v":"1579 "},"griff nyakék (#1579)",2,0,"+2 AC"]
["halálhozó talizmán ",{"$f":"VLOOKUP(A18,Törzsadat!A:B,2,0)","v":"813 "},"halálhozó talizmán (#813)",0,0,"+2 ügy., nem átadható"]
["hatalmasok nyaklánca ",{"$f":"VLOOKUP(A19,Törzsadat!A:B,2,0)","v":"1807 "},"hatalmasok nyaklánca (#1807)",0,0,"nyakba akasztva nem összesen 20, hanem 30 tapasztalatkövet nyelhetsz le, nem átadható"]
["hősiesítő medál ",{"$f":"VLOOKUP(A20,Törzsadat!A:B,2,0)","v":"1558 "},"hősiesítő medál (#1558)",0,15,"+1 támadás, +2 erő, szintedtől és szintjüktől függetlenül megtámadod a szembejövő szörnyeket, min. szint: 15"]
["Iniac nyaklánca ",{"$f":"VLOOKUP(A21,Törzsadat!A:B,2,0)","v":"1723 "},"Iniac nyaklánca (#1723)",0,50,"+20 szer., +200 max. vp., +3% esély kincs találására, többszemélyes kalandokban minden szakértelemre, amelyet legalább 1-es szinten ismer, +3 jár, min. szint: 50"]
["inváziós amulett ",{"$f":"VLOOKUP(A22,Törzsadat!A:B,2,0)","v":"1135 "},"inváziós amulett (#1135)",0,0,"+15 iq, +5 % varázslatsebzés (de max. 200), nem átadható"]
["Istenek Talizmánja ",{"$f":"VLOOKUP(A23,Törzsadat!A:B,2,0)","v":"1200 "},"Istenek Talizmánja (#1200)",10,0,"+10 AC, +10 erő, +10 iq, +10 ügy., +10 eg., +10 szer., +200 vp. regen., +200 max. ép., +200 max. vp, minden csatában permanens agytaposás, nem átadható"]
["isteni gyöngysor ",{"$f":"VLOOKUP(A24,Törzsadat!A:B,2,0)","v":"1255 "},"isteni gyöngysor (#1255)",5,0,"+5 AC, +2 erő, +2 iq, +2 ügy., +2 eg., +2 szer., +150 max. ép., +150 max. vp., gyógyító varázslataid 20%-kal hatékonyabban működnek, elhasználódhat, nem átadható"]
["jégisten amulett ",{"$f":"VLOOKUP(A25,Törzsadat!A:B,2,0)","v":"1087 "},"jégisten amulett (#1087)",3,30,"+3 AC, +50 max. ép., +8 mentődobás hideg ellen, min. szint: 30"]
["káosz szimbólum ",{"$f":"VLOOKUP(A26,Törzsadat!A:B,2,0)","v":"361 "},"káosz szimbólum (#361)",1,0,"+1 AC, +2 támadás, csak Chara-din hívei hordhatják"]
["két kard szimbólum ",{"$f":"VLOOKUP(A27,Törzsadat!A:B,2,0)","v":"144 "},"két kard szimbólum (#144)",0,0,"csak Tharr hívei hordhatják, +2 erő"]
["koponya szimbólum ",{"$f":"VLOOKUP(A28,Törzsadat!A:B,2,0)","v":"139 "},"koponya szimbólum (#139)",0,0,"csak Leah hívei hordhatják, +4 mentődobás halál és hideg ellen"]
["korinthai talizmán ",{"$f":"VLOOKUP(A29,Törzsadat!A:B,2,0)","v":"814 "},"korinthai talizmán (#814)",0,0,"+2 eg., nem átadható"]
["kreiton fókusz ",{"$f":"VLOOKUP(A30,Törzsadat!A:B,2,0)","v":"853 "},"kreiton fókusz (#853)",0,0,"+2 iq, +1 teo., +1 tau., kreiton bűvölő demezését gátolja"]
["medvefog nyaklánc ",{"$f":"VLOOKUP(A31,Törzsadat!A:B,2,0)","v":"1679 "},"medvefog nyaklánc (#1679)",0,20,"+2 támadás, +2 erő, +2 iq, +2 ügy., +2 eg., +2 szer., min. szint: 20, nem átadható"]
["mihlanil medál ",{"$f":"VLOOKUP(A32,Törzsadat!A:B,2,0)","v":"823 "},"mihlanil medál (#823)",0,0,"cirkuszi rész-díj, +5 ügy., +5 eg. , +5 szer., +5 MXTU, +50 max. ép., nem átadható"]
["moa nyaklánc ",{"$f":"VLOOKUP(A33,Törzsadat!A:B,2,0)","v":"1212 "},{"$f":"CONCATENATE(TRIM(A33),\" (#\",TRIM(B33),\")\")","v":"moa nyaklánc (#1212)"},0,30,"+5 szer., +7 MXTU, +150 max. ép., minden közelharci sebződést csökkent 10 %-al, +50 pszi pont regeneráció, min. szint: 30, nem átadható"]
["nap szimbólum ",{"$f":"VLOOKUP(A34,Törzsadat!A:B,2,0)","v":"141 "},"nap szimbólum (#141)",0,0,"csak Raia hívei hordhatják, +4 mentődobás energia ellen"]
["napmedál ",{"$f":"VLOOKUP(A35,Törzsadat!A:B,2,0)","v":"1567 "},"napmedál (#1567)",0,20,"+4 sebzés, +4 támadás, min. szint: 20"]
["Natharion amulett ",{"$f":"VLOOKUP(A36,Törzsadat!A:B,2,0)","v":"742 "},"Natharion amulett (#742)",3,25,"+3 iq, +3 ügy., +3 eg., +3 szer., -20 max. ép., min. szint: 25"]
["natharion gömb ",{"$f":"VLOOKUP(A37,Törzsadat!A:B,2,0)","v":"865 "},"natharion gömb (#865)",2,0,"+2 AC, +6 eg., +40 max. ép."]
["natharion talizmán ",{"$f":"VLOOKUP(A38,Törzsadat!A:B,2,0)","v":"867 "},"natharion talizmán (#867)",0,0,"+3 sebzés, +3 támadás, nem átadható"]
["nekrofun medál ",{"$f":"VLOOKUP(A39,Törzsadat!A:B,2,0)","v":"253 "},"nekrofun medál (#253)",0,0,"+30% vp regen., de max. 20 vp"]
["Notermanthi amulett ",{"$f":"VLOOKUP(A40,Törzsadat!A:B,2,0)","v":"1183 "},"Notermanthi amulett (#1183)",0,0,"+10 támadás kalandozók ellen"]
["Ovgun nyaklánca ",{"$f":"VLOOKUP(A41,Törzsadat!A:B,2,0)","v":"615 "},"Ovgun nyaklánca (#615)",0,0,"+6 támadás, +2 eg., +20 max. ép."]
["ősi nyaklánc ",{"$f":"VLOOKUP(A42,Törzsadat!A:B,2,0)","v":"806 "},"ősi nyaklánc (#806)",0,0,"+5 iq, +50 max. ép., +100 max. vp., permanens áldott kő hatás, nem átadható"]
["rd'alv amulett ",{"$f":"VLOOKUP(A43,Törzsadat!A:B,2,0)","v":"796 "},"rd'alv amulett (#796)",0,0,"megvéd a rd'alv tárgyégetésétől, nem átadható"]
["ritualista amulett ",{"$f":"VLOOKUP(A44,Törzsadat!A:B,2,0)","v":"708 "},"ritualista amulett (#708)",0,0,"+1 sze."]
["rothasztó talizmán ",{"$f":"VLOOKUP(A45,Törzsadat!A:B,2,0)","v":"815 "},"rothasztó talizmán (#815)",0,0,"+2 szer., nem átadható"]
["ryuku nyaklánc ",{"$f":"VLOOKUP(A46,Törzsadat!A:B,2,0)","v":"1325 "},"ryuku nyaklánc (#1325)",1,25,"+1 AC, +10 max. vp., minden teológia és taumaturgia varázslatod alapköltsége 5 varázsponttal kevesebb lesz, min. szint: 25"]
["ryuku talizmán ",{"$f":"VLOOKUP(A47,Törzsadat!A:B,2,0)","v":"1506 "},"ryuku talizmán (#1506)",0,0,"+1 sebzés","kocka méreg alapú varázslatokra"]
["Sárkány Amulettje ",{"$f":"VLOOKUP(A48,Törzsadat!A:B,2,0)","v":"1357 "},"Sárkány Amulettje (#1357)",0,0,"+3 erő, +3 iq, +3 ügy., +3 eg., +3 szer., +200 max. ép., +200 max. vp., +5% TP","lény, gyorsabb teo. és tau. fejlődés, nem átadható"]
["Sshreakza amulettje ",{"$f":"VLOOKUP(A49,Törzsadat!A:B,2,0)","v":"836 "},"Sshreakza amulettje (#836)",0,30,"+20 % varázslatsebzés (de max. 200), min. szint: 30"]
["szem szimbólum ",{"$f":"VLOOKUP(A50,Törzsadat!A:B,2,0)","v":"142 "},"szem szimbólum (#142)",0,0,"csak Elenios hívei hordhatják, +4 mentődobás mentális támadás ellen"]
["szerencsetalizmán ",{"$f":"VLOOKUP(A51,Törzsadat!A:B,2,0)","v":"366 "},"szerencsetalizmán (#366)",0,0,"+2 szer., +4 szerencsejáték"]
["Thargodan amulett ",{"$f":"VLOOKUP(A52,Törzsadat!A:B,2,0)","v":"536 "},"Thargodan amulett (#536)",0,0,"thargodan lényeket erősíti, thg. csatamezőn és táborban, kb. 30%-al, nem átadható"]
["Tharr keresztje ",{"$f":"VLOOKUP(A53,Törzsadat!A:B,2,0)","v":"287 "},"Tharr keresztje (#287)",0,0,"+1 támadás, +1 erő, +1 szer."]
["tolvaj klánjelvény ",{"$f":"VLOOKUP(A54,Törzsadat!A:B,2,0)","v":"1093 "},"tolvaj klánjelvény (#1093)",-3,0,"-3 AC, +100 max. ép., nem átadható"]
["Tsutomu amulettje ",{"$f":"VLOOKUP(A55,Törzsadat!A:B,2,0)","v":"1507 "},"Tsutomu amulettje (#1507)",5,55,"+5 AC, ha draklennel találkozol támadásaidhoz +15, sebzésedhez szintén +15 járul, min. szint: 55"]
["Urgod fétise ",{"$f":"VLOOKUP(A56,Törzsadat!A:B,2,0)","v":"561 "},"Urgod fétise (#561)",0,20,"-5 mentődobás szörnyeknek a varázslataid ellen, -8 mentődobás kalandozóknak a varázslataid ellen, min. szint: 20"]
["vámpír talizmán ",{"$f":"VLOOKUP(A57,Törzsadat!A:B,2,0)","v":"1831 "},"vámpír talizmán (#1831)",0,60,"min. szint: 60, nem átadható"]
["varkaudar fétis ",{"$f":"VLOOKUP(A58,Törzsadat!A:B,2,0)","v":"1826 "},"varkaudar fétis (#1826)",0,0,"minden közelharci kör végén a tapasztalati szinted egyharmadának megfelelő ÉP-t fogsz gyógyulni, nem átadható"]
["varkaudar szimbólum ",{"$f":"VLOOKUP(A59,Törzsadat!A:B,2,0)","v":"1528 "},"varkaudar szimbólum (#1528)",0,0,"+1 támadás, plusz ellenfél varkaudar faluban"]
["védőtalizmán ",{"$f":"VLOOKUP(A60,Törzsadat!A:B,2,0)","v":"1395 "},"védőtalizmán (#1395)",15,0,"+15 AC, +15 szer., minden közelharci sebződést csökkent 10 %-al, nem átadható"]
["viharamulett ",{"$f":"VLOOKUP(A61,Törzsadat!A:B,2,0)","v":"611 "},"viharamulett (#611)",0,0,"viharóriásokkal való kereskedéshez"]
["villám szimbólum ",{"$f":"VLOOKUP(A62,Törzsadat!A:B,2,0)","v":"145 "},"villám szimbólum (#145)",0,0,"csak Fairlight hívei hordhatják, +2 ügy."]
["virág szimbólum ",{"$f":"VLOOKUP(A63,Törzsadat!A:B,2,0)","v":"143 "},"virág szimbólum (#143)",0,0,"csak Sheran hívei hordhatják, +2 eg."]
["vortex amulettje ",{"$f":"VLOOKUP(A64,Törzsadat!A:B,2,0)","v":"607 "},"vortex amulettje (#607)",0,0,"varázsolhatsz ősvortexen állva is"]
["vortex talizmán ",{"$f":"VLOOKUP(A65,Törzsadat!A:B,2,0)","v":"812 "},{"$f":"CONCATENATE(TRIM(A65),\" (#\",TRIM(B65),\")\")","v":"vortex talizmán (#812)"},0,0,"+2 iq, nem átadható"]
["Yuin gyöngysora ",{"$f":"VLOOKUP(A66,Törzsadat!A:B,2,0)","v":"1238 "},"Yuin gyöngysora (#1238)",0,0,"kalandozó ellenfeleid kettővel kevesebb támadásszámot adnak le rád a távfegyvereikkel, a nyilazó szörnyek feleannyi sebzést okoznak neked a távfegyver körben, nem átadható"]

{"sheet":"Ékszer","index":16,"n_rows":42,"n_cols":6,"rows_kept":42,"cut":false,"hidden":false,"merged":[]}
["az örökkévalóság ametisztje ",{"$f":"VLOOKUP(A1,Törzsadat!A:B,2,0)","v":"1785 "},{"$f":"CONCATENATE(TRIM(A1),\" (#\",TRIM(B1),\")\")","v":"az örökkévalóság ametisztje (#1785)"},0,0,"+8 támadás, +3 erő, +3 iq, +3 ügy., +3 eg., +3 szer., +90 max. ép., +90 max. vp., +5 tárgymentő, plusz ép regen., nem átadható"]
["az örökkévalóság holdköve ",{"$f":"VLOOKUP(A2,Törzsadat!A:B,2,0)","v":"1830 "},"az örökkévalóság holdköve (#1830)",0,0,"+9 támadás, +4 erő, +4 iq, +4 ügy., +4 eg., +4 szer., +100 max. ép., +100 max. vp., +5 tárgymentő, plusz ép regen., nem átadható"]
["az örökkévalóság igazgyöngye ",{"$f":"VLOOKUP(A3,Törzsadat!A:B,2,0)","v":"1749 "},"az örökkévalóság igazgyöngye (#1749)",0,0,"+7 támadás, +3 erő, +3 iq, +3 ügy., +3 eg., +3 szer., +80 max. ép., +80 max. vp., +4 tárgymentő, plusz ép regen., nem átadható"]
["ezüst kalandérem",{"$f":"VLOOKUP(A4,Törzsadat!A:B,2,0)","v":"2853"},{"$f":"CONCATENATE(TRIM(A4),\" (#\",TRIM(B4),\")\")","v":"ezüst kalandérem (#2853)"},0,0,"+3 támadás, + 3 védettség és +30 max. ÉP"]
["fejvadász medál ",{"$f":"VLOOKUP(A5,Törzsadat!A:B,2,0)","v":"1734 "},"fejvadász medál (#1734)",0,0,"+4 támadás, +8 max. ép., nem átadható"]
["fénymedál",{"$f":"VLOOKUP(A6,Törzsadat!A:B,2,0)","v":"2859"},{"$f":"CONCATENATE(TRIM(A6),\" (#\",TRIM(B6),\")\")","v":"fénymedál (#2859)"},0,0,"+1 támadás"]
["Félisteni érem ",{"$f":"VLOOKUP(A7,Törzsadat!A:B,2,0)","v":"1798 "},"Félisteni érem (#1798)",0,0,"+6 erő, +6 iq, +6 ügy., +6 eg., +6 szer., +150 max. ép., nem átadható"]
["Harcosok érme ",{"$f":"VLOOKUP(A8,Törzsadat!A:B,2,0)","v":"1795 "},"Harcosok érme (#1795)",0,0,"+2 erő, +2 iq, +2 ügy., +2 eg., +2 szer., +30 max. ép., nem átadható"]
["kisebb napkorong ",{"$f":"VLOOKUP(A9,Törzsadat!A:B,2,0)","v":"1708 "},"kisebb napkorong (#1708)",0,0,"+2 támadás, TK-ban +6 támadás, nem átadható"]
["klasszikus kitűző",{"$f":"VLOOKUP(A10,Törzsadat!A:B,2,0)","v":"2514"},{"$f":"CONCATENATE(TRIM(A10),\" (#\",TRIM(B10),\")\")","v":"klasszikus kitűző (#2514)"},0,0,"+1% tapasztalati pont"]
["lajstrom medál ",{"$f":"VLOOKUP(A11,Törzsadat!A:B,2,0)","v":"1753 "},"lajstrom medál (#1753)",0,0,"+10 max. ép., +10 max. vp., +2 MXTU, nem átadható"]
["Mesterek érme ",{"$f":"VLOOKUP(A12,Törzsadat!A:B,2,0)","v":"1794 "},"Mesterek érme (#1794)",0,0,"+1 erő, +1 iq, +1 ügy., +1 eg., +1 szer., +30 max. ép., nem átadható"]
["mindenség igazgyöngye","2694","mindenség igazgyöngye (#2694)",0,0,"+21 támadás, +330 ép. regen., +220 max. ép., +220 max. vp., +10 erő, +10 IQ, +10 ügyesség, +10 egészség, +10 szerencse, +16 tárgymentő, nem átadható!"]
["mindenség smaragdja","2750","mindenség smaragdja (#2750)",0,0,"+22 támadás, +440 ép. regen., +230 max. ép., +230 max. vp., +10 erő, +10 IQ, +10 ügyesség, +10 egészség, +10 szerencse, +17 tárgymentő, nem átadható!"]
["olimpiai aranymedál ",{"$f":"VLOOKUP(A15,Törzsadat!A:B,2,0)","v":"1789 "},"olimpiai aranymedál (#1789)",0,0,"+1 erő, +1 iq, +1 ügy., +1 eg., +1 szer., +20 max. ép., nem átadható"]
["olimpiai ezüstmedál ",{"$f":"VLOOKUP(A16,Törzsadat!A:B,2,0)","v":"1788 "},"olimpiai ezüstmedál (#1788)",0,0,"+1 erő, +1 ügy., +10 max. ép., nem átadható"]
["olimpiai gyémántmedál ",{"$f":"VLOOKUP(A17,Törzsadat!A:B,2,0)","v":"1792 "},"olimpiai gyémántmedál (#1792)",0,0,"+3 erő, +3 iq, +3 ügy., +3 eg., +3 szer., +50 max. ép., nem átadható"]
["olimpiai rézmedál ",{"$f":"VLOOKUP(A18,Törzsadat!A:B,2,0)","v":"1787 "},"olimpiai rézmedál (#1787)",0,0,"+1 erő, +1 ügy., +5 max. ép., nem átadható"]
["olimpiai rubinmedál ",{"$f":"VLOOKUP(A19,Törzsadat!A:B,2,0)","v":"1791 "},"olimpiai rubinmedál (#1791)",0,0,"+3 erő, +3 iq, +3 ügy., +3 eg., +3 szer., +30 max. ép., nem átadható"]
["olimpiai smaragdmedál ",{"$f":"VLOOKUP(A20,Törzsadat!A:B,2,0)","v":"1793 "},"olimpiai smaragdmedál (#1793)",0,0,"+4 erő, +4 iq, +4 ügy., +4 eg., +4 szer., +60 max. ép., nem átadható"]
["olimpiai titanitmedál ",{"$f":"VLOOKUP(A21,Törzsadat!A:B,2,0)","v":"1790 "},"olimpiai titanitmedál (#1790)",0,0,"+2 erő, +2 iq, +2 ügy., +2 eg., +2 szer., +20 max. ép., nem átadható"]
["olimpiai vasmedál ",{"$f":"VLOOKUP(A22,Törzsadat!A:B,2,0)","v":"1786 "},"olimpiai vasmedál (#1786)",0,0,"+1 erő, +1 ügy., nem átadható"]
["örökkévalóság gyémántja ",{"$f":"VLOOKUP(A23,Törzsadat!A:B,2,0)","v":"1065 "},"örökkévalóság gyémántja (#1065)",0,0,"+2 támadás, +30 ép. regen., +10 max. ép., +2 tárgymentő, nem átadható"]
["örökkévalóság jádeköve","2041","örökkévalóság jádeköve (#2041)",0,0,"+10 támadás, +30 ép. regen., +110 max. ép., +110 max. vp., +4 erő, +4 IQ, +4 ügyesség, +4 egészség, +4 szerencse, +5 tárgymentő, nem átadható!"]
["örökkévalóság kristálya ",{"$f":"VLOOKUP(A25,Törzsadat!A:B,2,0)","v":"1207 "},"örökkévalóság kristálya (#1207)",0,0,"+4 támadás, +2 erő, +2 iq, +2 ügy., +2 eg., +2 szer., +90 ép. regen., +50 max. ép., +50 max. vp., +3 tárgymentő, plusz ép regen., nem átadható"]
["örökkévalóság rubinja ",{"$f":"VLOOKUP(A26,Törzsadat!A:B,2,0)","v":"900 "},"örökkévalóság rubinja (#900)",0,0,"+1 támadás, +30 ép. regen., +5 max. ép., +1 tárgymentő, nem átadható!"]
["örökkévalóság smaragdja ",{"$f":"VLOOKUP(A27,Törzsadat!A:B,2,0)","v":"1115 "},"örökkévalóság smaragdja (#1115)",0,0,"+2 támadás, +1 szerencse, +50 ép. regen., +30 max. ép., +20 max. vp., +2 tárgymentő, nem átadható"]
["örökkévalóság topáza ",{"$f":"VLOOKUP(A28,Törzsadat!A:B,2,0)","v":"1247 "},"örökkévalóság topáza (#1247)",0,0,"+5 támadás, +2 erő, +2 iq, +2 ügy., +2 eg., +2 szer., +120 ép. regen., +60 max. ép., +60 max. vp., +3 tárgymentő, plusz ép regen., nem átadható"]
["örökkévalóság tűzopálja ",{"$f":"VLOOKUP(A29,Törzsadat!A:B,2,0)","v":"1518 "},"örökkévalóság tűzopálja (#1518)",0,0,"+6 támadás, +3 erő, +3 iq, +3 ügy., +3 eg., +3 szer., +150 ép. regen., +70 max. ép., +70 max. vp., +4 tárgymentő, plusz ép regen., nem átadható"]
["örökkévalóság zafírja ",{"$f":"VLOOKUP(A30,Törzsadat!A:B,2,0)","v":"1116 "},"örökkévalóság zafírja (#1116)",0,0,"+2 támadás, +1 erő, +1 iq, +1 ügy., +1 eg., +1 szer., +70 ép. regen., +40 max. ép., +40 max. vp., +2 tárgymentő, nem átadható"]
["ősi csillagfókusz",{"$f":"VLOOKUP(A31,Törzsadat!A:B,2,0)","v":"2376"},{"$f":"CONCATENATE(TRIM(A31),\" (#\",TRIM(B31),\")\")","v":"ősi csillagfókusz (#2376)"},0,0,"+5 teológia, +5 taumaturgia, -5 szerencse a varázslataid ellen, +5 % (max. 250) sebzés a sebző varázslatokkal"]
["quwarg ékkő",{"$f":"VLOOKUP(A32,Törzsadat!A:B,2,0)","v":"2064"},{"$f":"CONCATENATE(TRIM(A32),\" (#\",TRIM(B32),\")\")","v":"quwarg ékkő (#2064)"},0,0]
["q. demoralizátor",{"$f":"VLOOKUP(A33,Törzsadat!A:B,2,0)","v":"2067"},"q. demoralizátor (#2067)",0,0]
["quwargpusztító érem",{"$f":"VLOOKUP(A34,Törzsadat!A:B,2,0)","v":"2086"},"quwargpusztító érem (#2086)",0,0,"+3 támadás, +20 max. ép"]
["ryuku mágiafókusz","2173",{"$f":"CONCATENATE(TRIM(A35),\" (#\",TRIM(B35),\")\")","v":"ryuku mágiafókusz (#2173)"},0,0,"+10 teológia, +10 taumaturgia, -10 szerencse a varázslataid ellen, +10 % (max. 500) sebzés a sebző varázslatokkal"]
["ryuku védőfókusz",{"$f":"VLOOKUP(A36,Törzsadat!A:B,2,0)","v":"2377"},"ryuku védőfókusz (#2377)",0,0,"+4 védő, +40 max. ép., +4 szerencse"]
["szerencsekocka ",{"$f":"VLOOKUP(A37,Törzsadat!A:B,2,0)","v":"1693 "},{"$f":"CONCATENATE(TRIM(A37),\" (#\",TRIM(B37),\")\")","v":"szerencsekocka (#1693)"},0,0,"+2 szerencsejáték, nem átadható"]
["Tökéletesség érme ",{"$f":"VLOOKUP(A38,Törzsadat!A:B,2,0)","v":"1796 "},"Tökéletesség érme (#1796)",0,0,"+3 erő, +3 iq, +3 ügy., +3 eg., +3 szer., +40 max. ép., nem átadható"]
["trix harci totem ",{"$f":"VLOOKUP(A39,Törzsadat!A:B,2,0)","v":"1703 "},"trix harci totem (#1703)",0,0,"+4 támadás, nem átadható"]
["tűzopál érem ",{"$f":"VLOOKUP(A40,Törzsadat!A:B,2,0)","v":"1797 "},"tűzopál érem (#1797)",0,0,"+3 erő, +3 iq, +3 ügy., +3 eg., +3 szer., +60 max. ép., nem átadható"]
["varkaudar ékkő",{"$f":"VLOOKUP(A41,Törzsadat!A:B,2,0)","v":"2168"},"varkaudar ékkő (#2168)",0,0,"+1 támadás, +1 sebzés, -1 védekezés"]
["Vlagyimir-díj ",{"$f":"VLOOKUP(A42,Törzsadat!A:B,2,0)","v":"1519 "},"Vlagyimir-díj (#1519)",0,0,"+1 erő, +1 iq, +1 ügy., +1 eg., +1 szer., permanens önanalízis, nem átadható"]

{"sheet":"Ügyesség bónusz","index":17,"n_rows":97,"n_cols":2,"rows_kept":97,"cut":false,"hidden":false,"merged":[]}
["Ügyesség","Védő"]
[16,1]
[18,2]
[20,3]
[21,4]
[22,5]
[23,6]
[24,7]
[25,8]
[26,9]
[28,10]
[30,11]
[32,12]
[34,13]
[36,14]
[38,15]
[40,16]
[42,17]
[44,18]
[46,19]
[48,20]
[50,21]
[52,22]
[54,23]
[56,24]
[58,25]
[60,26]
[62,27]
[64,28]
[66,29]
[68,30]
[70,31]
[72,32]
[74,33]
[76,34]
[78,35]
[80,36]
[82,37]
[84,38]
[86,39]
[88,40]
[90,41]
[92,42]
[94,43]
[96,44]
[98,45]
[100,46]
[102,47]
[104,48]
[106,49]
[108,50]
[110,51]
[112,52]
[114,53]
[116,54]
[118,55]
[120,56]
[122,57]
[124,58]
[126,59]
[128,60]
[130,61]
[132,62]
[134,63]
[136,64]
[138,65]
[140,66]
[142,67]
[144,68]
[146,69]
[148,70]
[150,71]
[152,72]
[154,73]
[156,74]
[158,75]
[160,76]
[162,77]
[164,78]
[166,79]
[168,80]
[170,81]
[172,82]
[174,83]
[176,84]
[178,85]
[180,86]
[182,87]
[184,88]
[186,89]
[188,90]
[190,91]
[192,92]
[194,93]
[196,94]
[198,95]
[200,96]